{"text_format":"1","workbook":"xlsx","n_sheets":14,"sheets":["Manuel","Dossier administratif","DÉMARRER","RÉSULTATS","Générateurs de chaleur","Demandeurs de chaleur","Déperditions linéaires","Déperditions locales","Aux Circulateurs","Aux Générateurs","Listes de sélection","fp,dh et balance énergétique","Q_del,j et Q_del,dh","Qlossdist,dh"],"not_rendered":{"charts":0,"images":4,"macros":1,"external_links":2,"defined_names":113,"comments":0,"pivot_tables":0},"unopened":[],"bounds":{"document_bytes":16777216,"sheet_cells":100000,"rows_first":2000,"rows_last":500,"rows_between":2000,"halvings":0,"cell_chars":16384,"cell_head_chars":4096},"cells_cut":0,"cells_raw":0,"read":"whole","date_system":"1900"}

{"sheet":"Manuel","index":0,"n_rows":684,"n_cols":11,"rows_kept":684,"cut":false,"hidden":false,"merged":[[426,1,426,3],[520,1,520,3],[567,1,567,4],[605,1,605,4],[0,0,0,13],[1,0,1,13],[71,1,71,2],[98,1,98,3],[288,1,288,3]]}
["Feuille de calcul 'Fourniture de chaleur externe'"]
["version 1.0 - janvier 2019"]
[]
["Cette feuille de calcul doit être utilisée avec le manuel pour des systèmes de fourniture de chaleur externe. "]
["Vous trouverez le manuel pour introduction des données dans le logiciel sur le site de Bruxelles Environnement:"]
["https://environnement.brussels/thematiques/batiment/la-performance-energetique-des-batiments-peb/construction-et-renovation-7"]
[]
["La méthode de calcul est décrite à l'Annexe 4 de l'AM du 18 janvier 2019. Par facilité, elle sera dénommée ci-dessous par 'Annexe 4'."]
["En cas de question sur cette feuille de calcul, vous pouvez prendre contact avec epbdossierpeb@environnement.brussels"]
[]
["Ce manuel comprend les sections suivantes :"]
["1. Que calculez-vous avec cette feuille de calcul ? Pouvez-vous utiliser une valeur par défaut ? "]
["2. Possibilités et limites de la feuille de calcul"]
["3. Convention de couleur de la feuille de calcul"]
["4. Encodage pas-à-pas des données dans la feuille de calcul"]
["5. Gestion de version"]
[]
["1. Que calculez-vous avec cette feuille de calcul ? Pouvez-vous utiliser une valeur par défaut ? ",null,null,null,null,null,null,null,null,null," "]
[]
["Les éléments suivants peuvent être calculés via cette feuille de calcul :"]
[null,"- le facteur en énergie primaire équivalent du système de fourniture de chaleur externe ;"]
[null,"- le rendement pour, le cas échéant, le chauffage des locaux, l'eau chaude sanitaire, l'humidification ou le refroidissement"]
[null,"pour chaque demandeur de chaleur."]
[]
[null,"Attention !"]
[null,"L'utilisation de cette feuille de calcul n'est pas nécessaire si vous avez recours aux valeurs par défaut suivantes dans l'encodage PEB :"]
[null,null,"- Le facteur en énergie primaire équivalent du système de fourniture de chaleur externe  fp,dh = 2,0 [-]"]
[null,null,"- Le rendement pour, le cas échéant, le chauffage des locaux, l'eau chaude sanitaire, l'humidification ou le refroidissement"]
[null,null,"pour chaque demandeur de chaleur, calculé sur base de ηequiv,heat,dh = 0,97 [-] = 97 %"]
[]
["2. Possibilités et limites de la feuille de calcul"]
[]
["Cette feuille de calcul permet de calculer la performance énergétique d'une système de fourniture de chaleur externe."]
[]
["Ce formulaire est basé sur les données requises à l'annexe 4 de l'AM du 18 janvier 2019. Le dossier de demande doit contenir au moins toutes les données qui y figurent."]
[]
["Restrictions : "]
["- Dans cette feuille de calcul, il n'est pas possible de déterminer la production de chaleur issue de producteurs dépendant de l'environnement"]
["(par exemple, système solaire thermique) ;"]
["- Dans cette feuille de calcul, il n'est pas possible d'introduire la production de chaleur d'une pompe à chaleur utilisant un autre fluide caloporteur que l'eau."]
[]
["3. Convention de couleur de la feuille de calcul"]
[]
["Cellules dont le contenu peut être modifié : "]
[]
[null,"Dans les cellules encadrées en vert, les données doivent être collées à partir du fichier *.PEB (copier les données + collage spécial"]
[null,"Valeurs (V)')."]
[]
[null,"Dans les cellules vertes, un texte (par ex. un nom) ou un nombre (par ex. une longueur) peut être introduit."]
[]
[null,"Dans les cellules jaunes, une sélection à partir d'une liste déroulante peut être faite. Cette liste de sélection s'affiche en cliquant sur la cellule"]
[null,"correspondante."]
[]
["Cellules dont le contenu ne peut être modifié :"]
[]
[null,"Les cellules noires contiennent des informations non pertinentes, et donc non utilisées, pour la configuration choisie. En fonction des valeurs"]
[null,"d'autres cellules, les cellules noires peuvent redevenir visibles, de tel sorte que leur contenu peut être complété ou qu'un choix peut y être fait."]
[null,"Inversément, certaines cellules peuvent devenir noires en raison d'un choix effectué dans une autre cellule."]
[]
[null,"Les cellules rouges indiquent le résultat final qui doit être encodé dans le Logiciel PEB."]
[]
[null,"Les cellules bleues fournissent des résultats intermédiaires."]
[]
[null,"Les autres cellules sont blanches et contiennent soit des titres, soit des descriptions."]
[]
["4. Encodage pas-à-pas des données dans la feuille de calcul"]
[]
[null,"Guide rapide - Encodage pas-à-pas"]
[null,"Il est fortement conseillé de réaliser less actions suivantes étape par étape (et dans l'ordre donné)."]
[]
[null,"1. Accédez à l'onglet 'START'"]
[null,"DÉMARRER"]
[]
[null,"Vous devez d'abord indiquer les informations suivantes correctement : "]
[null,null,"- la méthode de détermination de la consommation annuelle d'énergie pour la production de chaleur : via des valeurs issues"]
[null,null,"de mesure(s) ou de facture(s) ou via des valeurs de calcul. Vous choisissez comment vous voulez déterminer le paramètre Egen,i [MJ]"]
[null,null,"(voir §5.3.2 de l'Annexe 4) : soit via des valeurs issues de mesure(s) ou de facture(s), sur base de données pour la consommation"]
[null,null,"annuelle d'énergie du vecteur énergétique i pour la production de chaleur du générateur k (terme central de la formule du §5.3.2 de"]
[null,null,"l'Annexe 4), soit via une valeur de calcul (terme de droite de la formule du §5.3.2 de l'Annexe 4). "]
[null,null,"- la méthode de détermination de la quantité de chaleur produite annuellement par les générateurs de chaleur dans le"]
[null,null,"système de fourniture de chaleur externe : via des valeurs issues de mesure(s) ou via des valeurs de calcul. Vous choisissez"]
[null,null,"comment vous voulez déterminer le paramètre Qgen,dh [MJ] : soit via des valeurs issues de mesure(s) (à encoder par générateur, onglet"]
[null,null,"'Générateurs de chaleur', ligne 36), soit via la méthode de calcul du §5.3.3 de l'Annexe 4 (encodage de plusieurs données dans"]
[null,null,"les onglets 'Demande de chaleur', 'Déperditions linéaires' et 'Déperditions locales'). "]
[null,null,"- la méthode de détermination des déperditions locales et linéaires : via une valeur par défaut ou via calcul détaillé. Ce champ"]
[null,null,"est noir si la quantité de chaleur générée annuellement par le système de fourniture de chaleur externe est déterminée sur base de"]
[null,null,"valeurs mesurées. "]
[null,null,"- la méthode de détermination pour la consommation en énergie auxiliaire des circulateurs et des générateurs de chaleur :"]
[null,null,"via une valeur par défaut ou via un calcul détaillé."]
[]
[null,"Cliquez ensuite sur le bouton \"Créer une feuille de calcul correcte selon ces données d'entrée\""]
[]
[]
[]
[]
[]
[null,"2. Complétez les données nécessaires dans les onglets correspondants"]
[]
[null,"Générateurs de chaleur"]
[]
[null,null,"A. Contenu de l'onglet"]
[null,null,"Dans cet onglet, vous pouvez encoder tous les générateurs de chaleur du système de fourniture de chaleur externe."]
[null,null,"Dans le calcul, tous les générateurs de chaleur 'as-built' qui injectent de la chaleur dans le système de fourniture de chaleur externe"]
[null,null,"doivent être pris en compte "]
[null,null,"L'onglet se compose de 2 parties :"]
[null,null,null,"1. Description des caractéristiques des générateurs de chaleur ;"]
[null,null,null,"2. Affichage des résultats pour ces générateurs de chaleur. "]
[null,null,"Vous encodez les différents générateurs de chaleur les uns à côté des autres, un par colonne. Vous utilisez le nombre de colonnes"]
[null,null,"nécessaire, en fonction du nombre de générateurs de chaleur présents dans le système de fourniture de chaleur externe. Vous laissez"]
[null,null,"les autres colonnes vides. Jusqu'à 10 colonnes sont prévues dans l'onglet."]
[]
[null,null,"B. Méthode"]
[null,null,"En présence de plusieurs générateurs de chaleur différents dans le système de fourniture de chaleur externe, la part de chaleur"]
[null,null,"fournie par chaque générateur de chaleur au système de fourniture de chaleur externe est déterminée. Celle-ci est exprimée,"]
[null,null,"pour chaque générateur spécifique, par la fraction de la quantité totale de chaleur fournie par ce générateur, fheat,k. "]
[]
[null,null,"S'il n'y a qu'un seul générateur de chaleur ou un groupe de générateurs de chaleur identiques (décrit alors comme un générateur de"]
[null,null,"chaleur unique dont la puissance nominale totale vaut la somme des puissances nominales des générateurs du groupe), la fraction de"]
[null,null,"la quantité totale de chaleur fournie par le générateur est égale à 1."]
[]
[null,null,"Pour déterminer cette fraction, une disctinction est faite entre les générateurs suivants :"]
[null,null,"- systèmes de fourniture de chaleur externe pré-existant et qui sont utilisés comme générateurs de chaleur pour le système"]
[null,null,"étudié ; "]
[null,null,"- générateurs de chaleur indépendants de l'environnement, pour lesquels la capacité de chaleur est toujours disponible "]
[null,null,"(donc indépendante des conditions extérieures ou de processus industriels internes) et où seule la demande de chaleur du système"]
[null,null,"de fourniture de chaleur externe est assurée, comme par exemple :"]
[null,null,null,"- générateur de chaleur résiduelle ;"]
[null,null,null,"- chaudière à condensation ;"]
[null,null,null,"- chaudière non à condensation ;"]
[null,null,null,"- cogénération ;"]
[null,null,null,"- chauffage par résistance électrique ;"]
[null,null,null,"- géothermie profonde ;"]
[null,null,null,"- pompe à chaleur électrique. "]
[]
[null,null,"Attention !"]
[null,null,"Lorsque vous encodez les générateurs de chaleur, vous devez respecter les prescriptions suivantes :"]
[null,null,"- vous encodez tous les systèmes de fourniture de chaleur externe pré-existants dans les colonnes les plus à gauche (numéros de"]
[null,null,"rang les plus bas) ;"]
[null,null,"- vous encodez tous les générateurs de chaleur indépendants de l'environnement dans les colonnes les plus à droite (numéros de rang"]
[null,null,"les plus haut)."]
[null,null,"L'ordre avec lequel les différents générateurs sont décrits aura une influence sur le résultat final."]
[]
[]
[]
[]
[]
[]
[null,null,"C. Champs d'encodage pour chaque générateur de chaleur"]
[null,null,"- Nom / Description"]
[null,null,null,"Décrivez le générateur de chaleur de manière explicite."]
[null,null,"- Générateur de chaleur existant ou neuf ?"]
[null,null,null,"Choisissez : "]
[null,null,null,"- Existant ;"]
[null,null,null,"- Neuf."]
[null,null,"- Pour un nouveau générateur : timing de l'installation"]
[null,null,null,"Indiquez la date réelle ou prévue pour l'installation du nouveau générateur."]
[null,null,"- Type de générateur"]
[null,null,null,"Choisissez : "]
[null,null,null,"- réseau de chaleur pré-existant ;"]
[null,null,null,"- générateur de chaleur résiduelle ;"]
[null,null,null,"- chaudière à condensation ;"]
[null,null,null,"- chaudière non à condensation ;"]
[null,null,null,"- cogénération ;"]
[null,null,null,"- chauffage par résistance électrique ;"]
[null,null,null,"- géothermie profonde ;"]
[null,null,null,"- pompe à chaleur électrique. "]
[null,null,"- Vecteur énergétique"]
[null,null,null,"Choisissez : "]
[null,null,null,"- gaz naturel ;"]
[null,null,null,"- propane ;"]
[null,null,null,"- butane ;"]
[null,null,null,"- GPL ;"]
[null,null,null,"- mazout ;"]
[null,null,null,"- charbon ;"]
[null,null,null,"- biomasse."]
[null,null,"- Puissance thermique [kW]"]
[null,null,null,"- générateur de chaleur résiduelle : pour les échangeurs de chaleur, la puissance s'applique aux conditions de conception"]
[null,null,null,"telles que déterminées sur la fiche technique de l'échangeur ; lorsque la chaleur résiduelle est dissipée sans échangeur de"]
[null,null,null,"chaleur, la puissance s'applique aux conditions de conception."]
[null,null,null,"- autres générateurs : la puissance thermique nominale, déterminée selon le § 7.3.1 de l'Annexe PEN de l'arrêté "]
[null,null,null,"gouvernemental RBC déterminant les exigences PEB"]
[null,null,"- Consommation annuelle d'énergie du vecteur énergétique pour la production de chaleur du générateur k sur base de valeur(s) issue(s)"]
[null,null,"de mesure(s) ou de facture(s) Egen,i,k [MJ]"]
[null,null,null,"Ce champ est seulement actif si, dans l'onglet 'DÉMARRER', vous avez choisi 'Valeur(s) issue(s) de mesure(s) ou de"]
[null,null,null,"facture(s)' pour le champ 'Méthode de détermination de la consommation annuelle d'énergie pour la production de chaleur"]
[null,null,null,"Egen,i [MJ]'. Pour l'utilisation de valeur(s) issue(s) de mesure(s) ou de facture(s), vous devez suivre les instructions des"]
[null,null,null,"§5.3.9 et § 5.3.10 de l'Annexe 4."]
[null,null,"- Utilisation de la valeur par défaut pour le rendement de production ?"]
[null,null,null,"Choisissez : "]
[null,null,null,"- Oui ;"]
[null,null,null,"- Non. "]
[null,null,"- Générateur de chaleur résiduelle : Le générateur est-il une usine d'incinération des déchets telle que définie dans l'Annexe 4"]
[null,null,null,"Choisissez : "]
[null,null,null,"- Oui ;"]
[null,null,null,"- Non. "]
[null,null,"- Réseau de chaleur pré-existant : Puissance de l'échangeur ou de la sous-station pour le transfert de chaleur du système pré-existant"]
[null,null,"vers le projet et basée sur des fiches techniques [kW]"]
[null,null,null,"Indiquez la puissance de l'échangeur de chaleur ou de la sous-station, qui se situe entre le système de fourniture de"]
[null,null,null,"chaleur externe pré-existant et le système unique de fourniture de chaleur externe étudié, déterminée dans les conditions"]
[null,null,null,"de projet et reprise sur les fiches techniques."]
[null,null,"- Réseau de chaleur pré-existant : Facteur de conversion en énergie primaire équivalent du système de fourniture de chaleur externe"]
[null,null,"pré-existant [-]"]
[null,null,null,"Indiquez le facteur de conversion en énergie primaire équivalent du système de fourniture de chaleur externe pré-existant,"]
[null,null,null,"déterminé comme suit : fp,dh = ( Ep,dh / Qdel,dh ), sans appliquer la limite inférieure de 0,7. "]
[null,null,"- Réseau de chaleur pré-existant : Part d'énergie renouvelable du système de fourniture de chaleur externe pré-existant [-]"]
[null,null,null,"Indiquez la part d'énergie renouvelable du système de fourniture de chaleur externe pré-existant."]
[null,null,null,"Si cette part n'est pas connue une valeur de 0% peut être remplie."]
[null,null,"- Réseau de chaleur situé pré-existant : Présence d'un échangeur ou d'une sous-station pour le transfert de chaleur à partir du système"]
[null,null,"pré-existant ?"]
[null,null,null,"Choisissez : "]
[null,null,null,"- Oui ;"]
[null,null,null,"- Non. "]
[null,null,"- Réseau de chaleur pré-existant : L'échangeur ou la sous-station utilisée pour le transfert de chaleur à partir du système pré-existant"]
[null,null,"est-il suffisament isolé ?"]
[null,null,null,"Choisissez : "]
[null,null,null,"- Oui, si les conditions reprises au § 5.3.11 de l'Annexe 4 sont remplies ;"]
[null,null,null,"- Non, si les conditions reprises au § 5.3.11 de l'Annexe 4 ne sont pas remplies ;"]
[null,null,"- Chaudière : Rendement à 30% de charge [-]"]
[null,null,null,"Indiquez le rendement à 30% de charge. "]
[null,null,"- Chaudière : Température de retour à 30% de charge [°C]"]
[null,null,null,"Indiquez la température de retour à laquelle le rendement à 30% de charge a été déterminé."]
[null,null,"- Chaudière : Température de retour de conception du système d'émission [°C]"]
[null,null,null,"Indiquez la température de retour de conception de l'eau qui s'écoule des éléments de distribution vers la chaudière. "]
[null,null,"- Chaudière/Cogénération : Part du combustible utilisé par la chaudière ou par la cogénération issue de matières bio-organiques [-]"]
[null,null,null,"La part du combustible utilisé par la chaudière ou par la cogénération issue de matières bio-organiques, déterminée lors"]
[null,null,null," de la conception des nouvelles installations, ou pour une installation existante, déterminée sur base des 3 dernières"]
[null,null,null,"années civiles, à condition que le mélange de combustible utilisé pendant cette période soit représentatif du mélange de"]
[null,null,null,"combustible de l'installation étudiée."]
[null,null,"- Cogénération : Type "]
[null,null,null,"Choisissez : "]
[null,null,null,"- Moteur à combustion interne au gaz naturel ;"]
[null,null,null,"- Moteur à combustion interne au gaz provenant de la biomasse ;"]
[null,null,null,"- Moteur à combustion interne au mazout ;"]
[null,null,null,"- Moteur à combustion interne à l'huile végétale ;"]
[null,null,null,"- Autre. "]
[null,null,"- Cogénération : Méthode de détermination de la production annuelle d'électricité par la cogénération"]
[null,null,null,"La détermination de Eprod,el,cogen peut se faire sur base de valeurs issues de mesure(s) ou de valeurs de calcul (voir § 5.3.8"]
[null,null,null,"de l'Annexe 4). "]
[null,null,null,"Choisissez : "]
[null,null,null,"- Valeur(s) issue(s) de mesure(s) ;"]
[null,null,null,"- Valeur(s) de calcul."]
[null,null,"- Cogénération : Production annuelle d'électricité par la cogénération sur base d'une valeur issue de mesure(s) [MJ]"]
[null,null,null,"Indiquez la valeur mesurée de la production annuelle d'électricité par la cogénération, Eprod,el,cogen [MJ]."]
[null,null,null,"Pour l'utilisation d'une valeur issue de mesure(s), vous devez suivre les instructions du § 5.3.9 de l'Annexe 4. "]
[null,null,"- Cogénération : Puissance électrique connue ?"]
[null,null,null,"Choisissez : "]
[null,null,null,"- Oui ;"]
[null,null,null,"- Non. "]
[null,null,"- Cogénération : Puissance électrique [kW]"]
[null,null,null,"Indiquez la puissance électrique de l'installation de cogénération. "]
[null,null,"- Cogénération : Puissance électrique [kW] (Résultat)"]
[null,null,null,"Ce champ affiche un résultat (intermédiaire)."]
[null,null,"- Pompe à chaleur : Le coefficient de performance dans les conditions de test (COPtest)"]
[null,null,null,"Indiquez le coefficient de performance (COP) de la pompe à chaleur, déterminé selon le § 10.2.3.3 de l'Annexe PER de"]
[null,null,null,"l'arrêté Exigences."]
[null,null,"- Pompe à chaleur : Source de chaleur"]
[null,null,null,"Choisissez : "]
[null,null,null,"- Sol ;"]
[null,null,null,"- Sol (évaporation directe) ;"]
[null,null,null,"- Eau souterraine ;"]
[null,null,null,"- Eau de surface ;"]
[null,null,null,"- Air neuf (extérieur) uniquement."]
[null,null,"- Pompe à chaleur : Température de départ de conception vers le système de fourniture de chaleur externe [°C]"]
[null,null,null,"Indiquez la température de départ vers le système de fourniture de chaleur externe à partir de la pompe à chaleur, dans les"]
[null,null,null,"conditions de conception. "]
[null,null,"- Pompe à chaleur : Écart de température entre le départ et le retour vers le système de fourniture de chaleur externe, dans les"]
[null,null,"conditions de conception [°C]"]
[null,null,null,"Indiquez l'écart de température entre la température de départ vers les éléments de distribution à partir de la pompe"]
[null,null,null,"à chaleur et la température de retour des éléments de distribution vers la pompe à chaleur, dans les conditions de"]
[null,null,null,"conception."]
[null,null,"- Pompe à chaleur : Augmentation de la température de l'eau à travers le condenseur, déterminée selon la NBN EN 14511 [°C]"]
[null,null,null,"Indiquez l'augmentation de température de l'eau à travers le condenseur, déterminée selon la norme NBN EN 14511. "]
[null,null,"- Pompe(s) de l'évaporateur de la pompe à chaleur : Puissance électrique de la pompe connue ? "]
[null,null,null,"Choisissez : "]
[null,null,null,"- Oui ;"]
[null,null,null,"- Non. "]
[null,null,"- Pompe(s) sur le circuit vers l'évaporateur de la pompe à chaleur : Puissance électrique de la pompe [kW]"]
[null,null,null,"Indiquez la puissance électrique de la pompe sur le circuit vers l'évaporateur. "]
[null,null,"- Pompe à chaleur : Puissance électrique de la pompe à chaleur selon la NBN EN 14511, dans les mêmes conditions de tests que"]
[null,null,null,"celles pour lesquelles le COPtest a été déterminé [kW]"]
[null,null,null,"Indiquez la puissance électrique de la pompe à chaleur, déterminée selon la NBN EN 14511 dans les mêmes conditions de"]
[null,null,null,"tests que celles pour lesquelles le coefficient de performance de la pompe à chaleur (COPtest) a été déterminé. "]
[null,null,"- La quantité de chaleur qui est produite annuellement par le générateur de chaleur pour le système de fourniture de chaleur externe sur"]
[null,null,"base d'une valeur issue de mesure(s) [MJ]"]
[null,null,null,"Indiquez la valeur issue de mesure(s) de la quantité de chaleur qui est produite annuellement par le générateur de chaleur"]
[null,null,null,"pour le système de fourniture de chaleur externe. Pour l'utilisation d'une valeur issue de mesure(s), vous devez suivre les"]
[null,null,null,"instructions du § 5.3.9 de l'Annexe 4."]
[]
[null,"Demandeurs de chaleur"]
[]
[null,null,"A. Contenu de l'onglet"]
[null,null,"Dans cet onglet, vous pouvez encoder tous les demandeurs de chaleur du système de fourniture de chaleur externe."]
[null,null,"Les demandeurs de chaleur suivants doivent être considérés dans le calcul : "]
[null,null,null,"- tous les demandeurs de chaleur qui, via une connexion de chaleur existante ou nouvellement installée,"]
[null,null,null,"consomment de la chaleur du système de fourniture de chaleur externe ;"]
[null,null,null,"- tous les demandeurs de chaleur qui dans un avenir proche consommeront de la chaleur du système de"]
[null,null,null,"fourniture de chaleur externe et qui seront construits dans la phase de travaux pour laquelle la déclaration est"]
[null,null,null,"sollicitée."]
[null,null,"En haut de l'onglet, la cellule B4 indique la quantité de chaleur qui est délivrée annuellement à tous les demandeurs de chaleur du"]
[null,null,"système de fourniture de chaleur externe. "]
[null,null,"Pour chaque demandeur de chaleur, il y a 2 parties :"]
[null,null,null,"1. Sur le dessus de l'onglet, les données générales du demandeur de chaleur ;"]
[null,null,null,"2. Sur le dessous de l'onglet, les données nécessaires à l'estimation de la demande de chaleur du demandeur de"]
[null,null,null,"chaleur. "]
[]
[null,null,"Vous décrivez les différents demandeurs de chaleur dans les colonnes, les uns à côté des autres. Vous utilisez le nombre de colonnes"]
[null,null,"nécessaires, en fonction du nombre de demandeurs de chaleur présents dans le système de fourniture de chaleur externe."]
[null,null,"Jusqu'à 200 colonnes sont prévues dans l'onglet. Vous laissez les autres colonnes vides."]
[]
[null,null,"B. Méthode"]
[null,null,"La quantité de chaleur qui est délivrée annuellement au demandeur de chaleur j, Qdel,j, doit être déterminée selon l'une des 4 méthodes"]
[null,null,"suivantes :"]
[null,null,null,"- Utilisation de valeur(s) issue(s) de mesure(s) ou de facture(s) ;"]
[null,null,null,"- Utilisation de valeur(s) de calcul ;"]
[null,null,null,"- Utilisation de la surface plancher ; "]
[null,null,null,"- Utilisation de valeur(s) par défaut. "]
[]
[null,null,"C. Champs d'encodage / Champs de résultats pour chaque demandeur de chaleur"]
[null,null,"- Nom / Description"]
[null,null,null,"Décrivez le demandeur de chaleur de manière explicite."]
[null,null,"- Demandeur de chaleur existant ou neuf ?"]
[null,null,null,"Choisissez : "]
[null,null,null,"- Existant ;"]
[null,null,null,"- Neuf."]
[null,null,"- Pour une nouvelle construction : timing de la construction"]
[null,null,null,"Indiquez une date pour la construction du nouveau demandeur de chaleur."]
[null,null,"- Le demandeur de chaleur est-il soumis à la PEB ?"]
[null,null,null,"Choisissez : "]
[null,null,null,"- Oui ;"]
[null,null,null,"- Non. "]
[null,null,"- Type d'unité PEB"]
[null,null,null,"Ce champ n'est actif que si le demandeur de chaleur est soumis à la PEB."]
[null,null,null,"Choisissez : "]
[null,null,null,"- Unité PER : s'il s'agit d'un bâtiment résidentiel ;"]
[null,null,null,"- Unité PEN : s'il s'agit d'un bâtiment non résidentiel ;"]
[]
[null,null,"- Il y a un échangeur de chaleur ou une sous-station insuffisamment isolée près du demandeur de chaleur (donc à l'extérieur des"]
[null,null,"limites du système de fourniture de chaleur externe) ?"]
[null,null,null,"Choisissez : "]
[null,null,null,"- Oui, s'il y a un échangeur de chaleur ou une sous-station près du demandeur de chaleur (donc à l'extérieur des limites du"]
[null,null,null,"système de fourniture de chaleur externe), et si pour cet échangeur de chaleur ou cette sous-station les conditions reprises"]
[null,null,null,"au § 5.3.11 de l'Annexe 4 ne sont pas remplies."]
[null,null,null,"- Non, si : "]
[null,null,null,null,"- il n'y a pas d'échangeur de chaleur ou de sous-station ;"]
[null,null,null,null,"- l'échangeur de chaleur ou la sous-station est déjà comprise dans le système de fourniture de chaleur externe ;"]
[null,null,null,null,"- pour l'échangeur de chaleur ou la sous-station qui est présente près du demandeur de chaleur, les conditions"]
[null,null,null,null,"reprises au § 5.3.11 de l'Annexe 4 sont remplies."]
[null,null,"- La chaleur du réseau de chaleur est-elle utilisée pour le chauffage ?"]
[null,null,null,"Ce champ n'est actif que si vous avez indiqué que le demandeur de chaleur est soumis à la PEB."]
[null,null,null,"Choisissez : "]
[null,null,null,"- Oui ;"]
[null,null,null,"- Non. "]
[null,null,"- La chaleur du réseau de chaleur est-elle utilisée pour l'eau chaude sanitaire ?"]
[null,null,null,"Ce champ n'est actif que si vous avez indiqué que le demandeur de chaleur est soumis à la PEB"]
[null,null,null,"Choisissez : "]
[null,null,null,"- Oui ;"]
[null,null,null,"- Non. "]
[null,null,"- La chaleur du réseau de chaleur est-elle utilisée pour le refroidissement ?"]
[null,null,null,"Ce champ n'est actif que si vous avez indiqué que le demandeur de chaleur est soumis à la PEB et qu'il s'agit d'une unité"]
[null,null,null,"PER ou PEN."]
[null,null,null,"Choisissez : "]
[null,null,null,"- Oui ;"]
[null,null,null,"- Non. "]
[null,null,"- La chaleur du réseau de chaleur est-elle utilisée pour l'humidification ?"]
[null,null,null,"Ce champ n'est actif que si vous avez indiqué que le demandeur de chaleur est soumis à la PEB et qu'il s'agit d'une unité"]
[null,null,null,"PEN."]
[null,null,null,"Choisissez : "]
[null,null,null,"- Oui ;"]
[null,null,null,"- Non. "]
[null,null,"- Limites du réseau de chaleur"]
[null,null,null,"Choisissez : "]
[null,null,null,"- Il y a un compteur de chaleur : dans ce cas, le compteur de chaleur constitue la limite entre le système de fourniture de"]
[null,null,null,"chaleur externe et le demandeur de chaleur."]
[null,null,null,"- Il y a plusieurs compteurs de chaleur : dans ce cas, il y a plusieurs compteurs de chaleur placés en série. La limite entre"]
[null,null,null,"le système de fourniture de chaleur externe et le demandeur de chaleur est le compteur de chaleur de référence qui est"]
[null,null,null,"utilisé pour le calcul du coût de la chaleur fournie au demandeur de chaleur. Vous pouvez indiquer clairement de quel"]
[null,null,null,"compteur de chaleur il s'agit dans le champ : 'Description du compteur de chaleur sur base duquel le calcul du coût de la"]
[null,null,null,"chaleur est réalisé'. "]
[null,null,null,"- Il n'y a pas de compteur de chaleur, mais il y a bien une sous-station près du demandeur de chaleur : dans ce cas, la"]
[null,null,null,"sous-station (ou l'échangeur de chaleur) constitue la limite entre le système de fourniture de chaleur externe et le"]
[null,null,null,"demandeur de chaleur. "]
[null,null,null,"- Il n'y a ni compteur de chaleur, ni sous-station au demandeur de chaleur : dans ce cas, l'entrée dans le bâtiment constitue"]
[null,null,null,"la limite entre le système de fourniture de chaleur externe et le demandeur de chaleur."]
[null,null,"- Description du compteur de chaleur sur base duquel le calcul du coût de la chaleur est réalisé"]
[null,null,null,"Ce champ n'est actif que si vous avez indiqué 'Il y a plusieurs compteurs de chaleur' pour le champ 'Limites du réseau de"]
[null,null,null,"chaleur'. "]
[null,null,null,"Dans le cas où il y a plusieurs compteurs de chaleur placés en série, la limite entre le système de fourniture de chaleur"]
[null,null,null,"externe et le demandeur de chaleur est le compteur de chaleur de référence qui est utilisé pour le calcul du coût de la"]
[null,null,null,"chaleur fournie au demandeur de chaleur. Ce champ vous permet d'indiquer clairement de quel compteur de chaleur il s'agit."]
[null,null,"- Calcul de la chaleur délivrée sur base de :"]
[null,null,null,"Choisissez : "]
[null,null,null,"- Valeur(s) issue(s) de mesure(s) ;"]
[null,null,null,"- Valeur(s) issue(s) de facture(s) ;"]
[null,null,null,"- Valeur(s) PEB ;"]
[null,null,null,"- Surface plancher ;"]
[null,null,null,"- Valeur(s) par défaut."]
[null,null,"- Chaleur délivrée au demandeur de chaleur sur base de valeur(s) issue(s) de mesure(s) [MJ]"]
[null,null,null,"Indiquez la chaleur délivrée au demandeur de chaleur, conformément aux indications du § 5.3.9 de l'Annexe 4. "]
[null,null,"- Chaleur délivrée au demandeur de chaleur sur base de valeur(s) issue(s) de facture(s) [MJ]"]
[null,null,null,"Indiquez la chaleur délivrée au demandeur de chaleur, conformément aux indications du § 5.3.10 de l'Annexe 4. "]
[null,null,"- Consommation finale d'énergie pour le chauffage des locaux"]
[null,null,null,"Indiquez ici la consommation finale d'énergie totale annuelle pour le chauffage des locaux, issue du Logiciel PEB."]
[null,null,"- Consommation finale d'énergie pour l'ECS pour tous les points de puisage"]
[null,null,null,"Indiquez ici la consommation finale d'énergie totale annuelle pour l'ECS pour tous les points de puisage, issue du"]
[null,null,null,"Logiciel PEB."]
[null,null,"- Consommation finale d'énergie pour l'humidification"]
[null,null,null,"Indiquez ici la consommation finale d'énergie totale annuelle pour l'humidification, issue du Logiciel PEB."]
[null,null,"- Consommation finale d'énergie pour le refroidissement"]
[null,null,null,"Indiquez ici la consommation finale d'énergie totale annuelle pour le refroidissement, issue du Logiciel PEB."]
[null,null,"- Type de demandeur de chaleur"]
[null,null,null,"Choisissez : "]
[null,null,null,"- Appartement;"]
[null,null,null,"- Maison mitoyenne ;"]
[null,null,null,"- Maison 3 façades ;"]
[null,null,null,"- Maison 4 façades ;"]
[null,null,null,"- Autres unités."]
[null,null,"- Surface plancher connue ?"]
[null,null,null,"Choisissez : "]
[null,null,null,"- Oui : un champ apparait alors pour vous permettre d'y indiquer la valeur de la surface plancher ;"]
[null,null,null,"- Non : la surface plancher est alors déterminée sur base du Tableau 2 du § 5.2.3 de l'Annexe 4. "]
[null,null,"- Surface plancher [m²]"]
[null,null,null,"Indiquez ici la surface plancher du demandeur de chaleur, telle que définie à l'annexe 2 de l'arrêté Lignes Directrices."]
[null,null,"- Résultat partiel : Qdel,j [MJ]"]
[null,null,null,"Ce champ affiche le résultat des besoins du demandeur de chaleur, déterminée sur base des données renseignées dans les"]
[null,null,null,"les champs précédents. "]
[]
[null,"Déperditions linéaires"]
[]
[null,null,"Cet onglet n'est actif que si, dans l'onglet 'DÉMARRER', vous avez opté pour les choix 'Méthode de détermination de la quantité de"]
[null,null,"chaleur produite annuellement par les générateurs de chaleur dans le système de fourniture de chaleur externe Qgen,dh [MJ]' : 'Valeur"]
[null,null,"de calcul' et 'Méthode de détermination des déperditions locales et linéaires' : 'Calcul détaillé'. "]
[]
[null,null,"A. Contenu de l'onglet"]
[null,null,"Dans cet onglet, vous pouvez indiquer les propriétés de tous les segments de conduite qui se trouvent dans le système de fourniture"]
[null,null,"de chaleur externe."]
[null,null,"Tous les segments de conduite du réseau de distribution de chaleur doivent être décrits ; autrement dit, tous les segments de conduite"]
[null,null,"situés entre les connexions au(x) générateur(s) de chaleur et les limites du système de fourniture de chaleur externe. "]
[null,null,"Le système de fourniture de chaleur externe contient au minimum 1 segment. A la moindre différence pour le mode de fonctionnement,"]
[null,null,"le diamètre de la conduite isolée, le diamètre de la conduite non isolée, le matériau isolant, la distance entre le centre de la conduite"]
[null,null,"et la surface du sol, l'emplacement de la conduite, le coefficient de transfert thermique de la conduite vers l'environnement, l'épaisseur"]
[null,null,"de l'isolation, la hauteur et la largeur de la gaine, ... ou selon la présence ou non d'un ballon de stockage ou d'un échangeur de chaleur,"]
[null,null,"un nouveau segment doit être décrit. "]
[null,null,"En haut de l'onglet, la cellule B4 indique la quantité de chaleur qui est perdue annuellement dans le système de fourniture de chaleur"]
[null,null,"externe, en raison des déperditions de chaleur linéaires."]
[null,null,"Vous décrivez les différents segments de conduite dans les colonnes, les uns à côté des autres. Vous utilisez le nombre de colonnes"]
[null,null,"nécessaires, en fonction du nombre de segments de conduite présents dans le système de fourniture de chaleur externe."]
[null,null,"Jusqu'à 50 colonnes sont prévues dans l'onglet. Vous laissez les autres colonnes vides."]
[]
[null,null,"B. Champs d'encodage"]
[null,null,"- Nom / Description"]
[null,null,null,"Décrivez le segment de conduite de manière explicite."]
[null,null,"- Segment de conduite existant ou neuf ?"]
[null,null,null,"Choisissez :"]
[null,null,null,"- Existant ;"]
[null,null,null,"- Neuf. "]
[null,null,"- Pour un nouveau segment : timing de l'installation"]
[null,null,null,"Indiquez une date pour l'installation du nouveau segment de conduite. (Ceux-ci doivent être construits dans "]
[null,null,null,"la phase de travaux pour laquelle la déclaration est sollicitée)."]
[null,null,"- Conduite souterraine ?"]
[null,null,null,"Choisissez :"]
[null,null,null,"- Oui ;"]
[null,null,null,"- Non. "]
[null,null,"- Mode de placement de la conduite souterraine"]
[null,null,null,"Ce champ n'est actif que pour les conduites souterraines."]
[null,null,null,"Choisissez :"]
[null,null,null,"- 2 ou plusieurs conduites parallèles en pleine terre ;"]
[null,null,null,"- une seule conduite placée en pleine terre;"]
[null,null,null,"- 2 conduites, placées en parallèle dans un tubage de conduite souterrain commun;"]
[null,null,null,"- Autre mode de placement. "]
[null,null,null,"Une illustration du mode de placement des conduites souterraines se trouve au Tableau 3 du § 5.3.4 de l'Annexe 4."]
[null,null,"- Forme de la conduite"]
[null,null,null,"Ce champ n'est actif que pour les conduites aériennes (non souterraines). "]
[null,null,null,"Choisissez :"]
[null,null,null,"- Conduite / Gaine circulaire ;"]
[null,null,null,"- Gaine rectangulaire. "]
[null,null,"- Environnement de la conduite"]
[null,null,null,"Ce champ n'est actif que pour les conduites aériennes (non souterraines). "]
[null,null,null,"Choisissez :"]
[null,null,null,"- A l'intérieur du volume protégé ;"]
[null,null,null,"- Dans un EANC du demandeur de chaleur ;"]
[null,null,null,"- A l'extérieur."]
[null,null,"- Longueur : lj [m]"]
[null,null,null,"Indiquez la longueur du segment de conduite j, en m. "]
[null,null,"- Coefficient de conductivité thermique de l'isolant : λinsul,j [W/m.K]"]
[null,null,null,"Indiquez le coefficient de conductivité thermique de l'isolant placé autour du segment de conduite j."]
[null,null,"- Diamètre extérieur de la conduite isolée : De,j [m]"]
[null,null,null,"Ce champ n'est actif que pour les conduites ou gaines aériennes rondes et pour les conduites enterrées."]
[null,null,null,"Indiquez le diamètre extérieur du segment de conduite isolé. "]
[null,null,"- Diamètre extérieur de la conduite non isolée : Di,j [m]"]
[null,null,null,"Ce champ n'est actif que pour les conduites ou gaines aériennes rondes et pour les conduites enterrées."]
[null,null,null,"Indiquez le diamètre extérieur du segment de conduite non isolé. "]
[null,null,"- Épaisseur de l'isolation thermique autour de la gaine : dinsul,j [m]"]
[null,null,null,"Ce champ n'est actif que pour les gaines aériennes rectangulaires."]
[null,null,null,"Indiquez l'épaisseur de l'isolant placé autour du segment de conduite j. "]
[null,null,"- Hauteur de la gaine isolée (dimensions extérieures) : Hj [m]"]
[null,null,null,"Ce champ n'est actif que pour les gaines aériennes rectangulaires."]
[null,null,null,"Indiquez la hauteur du segment de conduite j (mesures extérieures), en m. "]
[null,null,"- Largeur de la gaine isolée (dimensions extérieures) : Bj [m]"]
[null,null,null,"Ce champ n'est actif que pour les gaines aériennes rectangulaires."]
[null,null,null,"Indiquez la largeur du segment de conduite j (mesures extérieures), en m. "]
[null,null,"- Distance entre le centre de la conduite et la surface du sol : HE,j [m]"]
[null,null,null,"Ce champ n'est actif que pour les conduites enterrées."]
[null,null,null,"Indiquez la distance entre le centre du segment de conduite et la surface du sol, en m. "]
[null,null,"- Facteur de correction pour l'impact des ponts thermiques : finsul,netw nj [-]"]
[null,null,"(déterminé de la même manière que finsul,circ k [-] selon le § 9.3.2.2 de l'Annexe PER de l'arrêté gouvernemental RBC "]
[null,null,"déterminant les exigences PEB)"]
[null,null,null,"Choisissez :"]
[null,null,null,"- Cas 1 ;"]
[null,null,null,"- Cas 2 ;"]
[null,null,null,"- Cas 3."]
[null,null,"- Température moyenne du fluide caloporteur : θc,netw n,m [°C]"]
[null,null,null,"Indiquez la température moyenne du fluide caloporteur dans le réseau de distribution n. Cette valeur est identique pour tous"]
[null,null,null,"les mois de l'année. Pour la déterminer, vous devez faire la moyenne arithmétique entre les températures de départ et de"]
[null,null,null,"retour de conception applicables au générateur de chaleur. S'il y a plusieurs générateurs et que ces générateurs"]
[null,null,null,"fonctionnent avec des températures de départ et de retour différentes, il faut considérer pour l'ensemble du réseau de"]
[null,null,null,"distribution la valeur la plus élevée parmi les différentes moyennes arithmétiques. "]
[null,null,"- Résultat partiel : Qdistr,heat,netw n,m [MJ]"]
[null,null,null,"Ce champ affiche le résultat des déperditions de chaleur linéaires de chaque segment de conduite j, déterminées sur base"]
[null,null,null,"des données renseignées dans les champs précédents. "]
[]
[null,"Déperditions locales"]
[]
[null,null,"Cet onglet n'est actif que si, dans l'onglet 'DÉMARRER', vous avez opté pour les choix 'Méthode de détermination de la quantité de"]
[null,null,"chaleur produite annuellement par les générateurs de chaleur dans le système de fourniture de chaleur externe Qgen,dh [MJ]' : 'Valeur"]
[null,null,"de calcul' et 'Méthode de détermination des déperditions locales et linéaires' : 'Calcul détaillé'. "]
[]
[null,null,"A. Contenu de l'onglet"]
[null,null,"Dans cet onglet, vous pouvez indiquer les propriétés de tous les ballons de stockage et échangeurs de chaleur qui se trouvent dans le"]
[null,null,"système de fourniture de chaleur externe."]
[null,null,"En haut de l'onglet, la cellule B4 indique la quantité de chaleur qui est perdue annuellement dans le système de fourniture de chaleur"]
[null,null,"externe, en raison des déperditions locales."]
[null,null,"Vous décrivez les différents ballons de stockage ou échangeurs de chaleur dans les colonnes, les uns à côté des autres. Vous utilisez"]
[null,null,"le nombre de colonnes nécessaires, en fonction du nombre de ballons de stockage et d'échangeurs de chaleur présents dans le"]
[null,null,"système de fourniture de chaleur externe. Jusqu'à 50 colonnes sont prévues dans l'onglet. Vous laissez les autres colonnes vides."]
[]
[null,null,"B. Méthode"]
[null,null,"La quantité de chaleur perdue annuellement dans le système de fourniture de chaleur, en raison des déperditions locales dues au"]
[null,null,"ballon de stockage ou à l'échangeur de chaleur l, Qlossloc,l [MJ], est :"]
[null,null,null,"- égale à '0' si le ballon de stockage ou l'échangeur de chaleur est suffisamment isolé ; autrement dit, si les conditions"]
[null,null,null,"reprises au § 5.3.11 de l'Annexe 4 sont remplies ;"]
[null,null,null,"- différente de '0', et doit alors être déterminée, si le ballon de stockage ou l'échangeur de chaleur n'est pas suffisamment"]
[null,null,null,"isolé ; autrement dit, si les conditions reprises au § 5.3.11 de l'Annexe 4 ne sont pas remplies. "]
[]
[null,null,"C. Champs d'encodage"]
[null,null,"- Le ballon de stockage / L'échangeur de chaleur est-il suffisamment isolé ? "]
[null,null,null,"Choisissez :"]
[null,null,null,"- Oui, si les conditions reprises au § 5.3.11 de l'Annexe 4 sont remplies ;"]
[null,null,null,"- Non, si les conditions reprises au § 5.3.11 de l'Annexe 4 ne sont pas remplies. "]
[null,null,"- Le segment est-il situé en aval du ballon de stockage ou de l'échangeur de chaleur ? "]
[null,null,null,"Complétez ce champ pour tous les segments de conduite présents dans le système de fourniture de chaleur externe. Vous"]
[null,null,null,"devez respecter la même numérotation que celle utilisée dans l'onglet 'Déperditions linéaires'."]
[null,null,null,"Choisissez :"]
[null,null,null,"- Oui ;"]
[null,null,null,"- Non. "]
[null,null,null,"'En aval' signifie généralement 'le côté vers lequel s'écoule le flux' ; le flux évoqué ici est le flux de chaleur. Un flux de chaleur"]
[null,null,null,"est un flux d'énergie qui s'établit entre un endroit ayant une température plus élevée vers un endroit ayant une température"]
[null,null,null,"plus basse. 'En aval' prend donc ici le sens de 'vers la température la plus basse'."]
[null,null,"- Le demandeur de chaleur est-il situé en aval du ballon de stockage ou de l'échangeur de chaleur ? "]
[null,null,null,"Complétez ce champ pour tous les demandeurs de chaleur présents dans le système de fourniture de chaleur externe."]
[null,null,null,"Vous devez respecter la même numérotation que celle utilisée dans l'onglet 'Demandeurs de chaleur'."]
[null,null,null,"Choisissez :"]
[null,null,null,"- Oui ;"]
[null,null,null,"- Non. "]
[null,null,null,"'En aval' signifie généralement 'le côté vers lequel s'écoule le flux' ; le flux évoqué ici est le flux de chaleur. Un flux de chaleur"]
[null,null,null,"est un flux d'énergie qui s'établit entre un endroit ayant une température plus élevée vers un endroit ayant une température"]
[null,null,null,"plus basse. 'En aval' prend donc ici le sens de 'vers la température la plus basse'."]
[]
[null,"Énergie auxiliaire des circulateurs"]
[]
[null,null,"Cet onglet n'est actif que si, dans l'onglet 'DÉMARRER', vous avez opté pour le choix 'Méthode de détermination pour la consommation"]
[null,null,"en énergie auxiliaire des circulateurs et des générateurs' : 'Calcul détaillé'. "]
[]
[null,null,"A. Contenu de l'onglet"]
[null,null,"Dans cet onglet, vous pouvez encoder tous les circulateurs du système de fourniture de chaleur externe. "]
[null,null,null,"Attention !"]
[null,null,null,"Pour les circulateurs doubles de secours, seul le circulateur ayant la puissance électrique la plus élevée doit être décrit. Si"]
[null,null,null,"une pompe d'alimentation d'un générateur de chaleur sert également de circulateur pour le système de fourniture de chaleur"]
[null,null,null,"externe, cette pompe ne doit être décrite qu'une seule fois, à savoir en tant que circulateur. "]
[null,null,"En haut de l'onglet, la cellule B4 indique la consommation finale électrique annuelle due à l'énergie auxiliaire de tous les circulateurs"]
[null,null,"décrits dans l'onglet."]
[null,null,"Vous décrivez les différents circulateurs dans les colonnes, les uns à côté des autres. Vous utilisez le nombre de colonnes"]
[null,null,"nécessaires, en fonction du nombre de circulateurs présents dans le système de fourniture de chaleur externe."]
[null,null,"Jusqu'à 10 colonnes sont prévues dans l'onglet. Vous laissez les autres colonnes vides."]
[]
[null,null,"B. Méthode"]
[null,null,"La consommation finale électrique annuelle due à l'énergie auxiliaire du circulateur j, Eauxdist,el,j, doit être déterminée au choix selon"]
[null,null,"l'une des méthodes suivantes :"]
[null,null,null,"- Utilisation de valeur(s) issue(s) de mesure(s) ou de facture(s) ;"]
[null,null,null,"- Utilisation de valeur(s) de calcul. "]
[]
[null,null,"C. Champs d'encodage"]
[null,null,"- Détermination de la consommation en énergie auxiliaire sur base de :"]
[null,null,null,"Choisissez :"]
[null,null,null,"- Valeur(s) issue(s) de mesure(s) ;"]
[null,null,null,"- Valeur(s) issue(s) de facture(s) ;"]
[null,null,null,"- Valeur(s) de calcul."]
[null,null,"- Énergie auxiliaire du circulateur sur base de valeur(s) issue(s) de mesure(s) [MJ]"]
[null,null,null,"Indiquez la consommation finale annuelle du circulateur j, déterminée selon le § 5.3.9 de l'Annexe 4. "]
[null,null,"- Énergie auxiliaire du circulateur sur base de valeur(s) issue(s) de facture(s) [MJ]"]
[null,null,null,"Indiquez la consommation finale annuelle du circulateur j, déterminée selon le § 5.3.10 de l'Annexe 4. "]
[null,null,"- Puissance électrique du circulateur [W]"]
[null,null,null,"Indiquez la puissance électrique du circulateur j, déterminée comme la puissance électrique absorbée au point de"]
[null,null,null,"fonctionnement pour lequel le circulateur est configuré, tel que repris sur la fiche technique. Si cette valeur n'est pas"]
[null,null,null,"connue, vous devez indiquer la puissance électrique nominale du circulateur. "]
[]
[null,"Énergie auxiliaire des générateurs"]
[]
[null,null,"Cet onglet n'est actif que si, dans l'onglet 'DÉMARRER', vous avez opté pour le choix 'Méthode de détermination pour la consommation"]
[null,null,"en énergie auxiliaire des circulateurs et des générateurs' : 'Calcul détaillé'. "]
[]
[null,null,"A. Contenu de l'onglet"]
[null,null,"Dans cet onglet, vous pouvez encoder, pour tous les générateurs du système de fourniture de chaleur externe, la consommation"]
[null,null,"électrique due à l'énergie auxiliaire."]
[null,null,null,"Attention !"]
[null,null,null,"Pour les pompes doubles de secours, seul la pompe ayant la puissance électrique la plus élevée doit être décrite. Si une"]
[null,null,null,"pompe d'alimentation d'un générateur de chaleur sert également de circulateur pour le système de fourniture de chaleur"]
[null,null,null,"externe, cette pompe ne doit être décrite qu'une seule fois, à savoir en tant que circulateur. "]
[null,null,"En haut de l'onglet, la cellule B4 indique la consommation finale électrique annuelle due à l'énergie auxiliaire de tous les générateurs"]
[null,null,"décrits dans l'onglet."]
[null,null,"Vous décrivez les différents générateurs dans les colonnes, les uns à côté des autres. Les générateurs ont déjà reçu un numéro"]
[null,null,"d'ordre. Assurez-vous d'encoder les données correctes pour le générateur approprié, conformément à l'ordre des générateurs défini"]
[null,null,"dans l'onglet 'Générateurs de chaleur'. Jusqu'à 10 colonnes sont prévues dans l'onglet. Vous laissez les autres colonnes vides."]
[]
[null,null,"B. Méthode"]
[null,null,"La consommation finale électrique annuelle due à l'énergie auxiliaire du générateur k, Eauxprod,el,j, doit être déterminée au choix selon"]
[null,null,"l'une des méthodes suivantes :"]
[null,null,null,"- Utilisation de valeur(s) issue(s) de mesure(s) ou de facture(s) ;"]
[null,null,null,"- Utilisation de valeur(s) de calcul. "]
[]
[null,null,"C. Champs d'encodage"]
[null,null,"- Détermination de la consommation en énergie auxiliaire sur base de :"]
[null,null,null,"Choisissez :"]
[null,null,null,"- Valeur(s) issue(s) de mesure(s) ;"]
[null,null,null,"- Valeur(s) issue(s) de facture(s) ;"]
[null,null,null,"- Valeur(s) de calcul."]
[null,null,"- Énergie auxiliaire du générateur sur base de valeur(s) issue(s) de mesure(s) [MJ]"]
[null,null,null,"Indiquez la consommation finale annuelle du générateur k, déterminée selon le § 5.3.9 de l'Annexe 4. "]
[null,null,"- Énergie auxiliaire du générateur sur base de valeur(s) issue(s) de facture(s) [MJ]"]
[null,null,null,"Indiquez la consommation finale annuelle du générateur k, déterminée selon le § 5.3.10 de l'Annexe 4. "]
[null,null,"- Puissance électrique totale des circulateurs, moteurs et fonctions auxiliaires du générateur [W]"]
[null,null,null,"Indiquez la puissance électrique totale des circulateurs, moteurs et fonctions auxiliaires assignées au générateur de chaleur\n\n"]
[null,null,null,"k. La puissance du circulateur est déterminée comme la puissance électrique absorbée au point de fonctionnement pour"]
[null,null,null,"lequel le circulateur est configuré, tel que repris sur la fiche technique. Si cette valeur n'est pas connue, vous devez indiquer"]
[null,null,null,"la puissance électrique nominale du circulateur. Pour tous les autres éléments auxiliaires, vous devez indiquer la puissance"]
[null,null,null,"nominale."]
[null,null,"- Détermination du temps de fonctionnement annuel équivalent"]
[null,null,null,"Choisissez :"]
[null,null,null,"- Valeurs issues de mesure(s) ;"]
[null,null,null,"- Valeurs de calcul."]
[null,null,"- Temps de fonctionnement annuel équivalent sur base de valeurs issues de mesure(s) [Ms]"]
[null,null,null,"Indiquez le temps de fonctionnement annuel équivalent du générateur k, déterminée selon le § 5.3.9 de l'Annexe 4."]
[]
[null,"3. Consultez l'onglet 'RÉSULTATS'"]
[null,"RÉSULTATS"]
[]
[null,null,"Les données de l'onglet 'RÉSULTATS' peuvent être utilisées par le Responsable PEB dans l'encodage du projet dans le Logiciel PEB."]
[]
[]
[null,null,"L'onglet 'RÉSULTATS' se compose de 2 parties :"]
[null,null,null,"- Une 1e partie reprend les résultats principaux relatifs au système de fourniture de chaleur externe, dont la donnée d'entrée"]
[null,null,null,"à encoder dans le Logiciel PEB : le facteur en énergie primaire équivalent du système de fourniture de chaleur externe."]
[null,null,null,"- Une 2e partie reprend les données d'entrée à encoder dans le Logiciel PEB, pour chacun des demandeurs de chaleur :"]
[null,null,null,null,"- le nom ;"]
[null,null,null,null,"- les rendements de production, par poste (chauffage, ECS, humidification) ;"]
[null,null,null,null,"- les informations sur les limites du réseau de chaleur :"]
[null,null,null,null,null,"- Il y a un compteur de chaleur : dans ce cas, le compteur de chaleur constitue la limite entre le"]
[null,null,null,null,null,"système de fourniture de chaleur externe et le demandeur de chaleur ;"]
[null,null,null,null,null,"- Il y a plusieurs compteurs de chaleur + Description du compteur de chaleur sur base duquel le"]
[null,null,null,null,null,"calcul du coût de la chaleur est réalisé' : dans ce cas, il y a plusieurs compteurs de chaleur placés"]
[null,null,null,null,null,"en série. La limite entre le système de fourniture de chaleur externe et le demandeur de chaleur est le"]
[null,null,null,null,null,"compteur de chaleur de référence qui est utilisé pour le calcul du coût de la chaleur fournie au"]
[null,null,null,null,null,"demandeur de chaleur ;"]
[null,null,null,null,null,"- Il n'y a pas de compteur de chaleur, mais il y a bien une sous-station près du demandeur de"]
[null,null,null,null,null,"chaleur : dans ce cas, la sous-station (ou l'échangeur de chaleur) constitue la limite entre le système"]
[null,null,null,null,null,"de fourniture de chaleur externe et le demandeur de chaleur ; "]
[null,null,null,null,null,"- Il n'y a ni compteur de chaleur, ni sous-station au demandeur de chaleur : dans ce cas, l'entrée dans"]
[null,null,null,null,null,"le bâtiment constitue la limite entre le système de fourniture de chaleur externe et le demandeur de"]
[null,null,null,null,null,"chaleur."]
[]
[]
[]
[]
["5. Gestion de version"]
["Version 1 - janvier 2019"]

{"sheet":"Dossier administratif","index":1,"n_rows":36,"n_cols":3,"rows_kept":36,"cut":false,"hidden":false,"merged":[[32,1,32,8],[33,1,33,8],[34,3,34,8],[35,3,35,8],[30,3,30,8],[29,1,29,8],[26,3,26,8],[24,3,24,8],[25,3,25,8],[4,3,4,6],[5,3,5,6],[6,3,6,6],[7,3,7,6],[8,3,8,6],[9,3,9,6],[10,3,10,6],[11,3,11,6],[12,3,12,6],[14,3,14,6],[15,3,15,6],[18,3,18,6],[0,0,0,8],[3,1,3,8],[21,1,21,8],[4,1,4,2],[5,1,5,2],[6,1,6,2],[8,1,8,2],[9,1,9,2],[10,1,10,2],[11,1,11,2],[12,1,12,2],[14,1,14,2],[15,1,15,2],[18,1,18,2],[19,1,19,2],[22,1,22,8],[23,3,23,8],[17,1,17,8],[28,1,28,8],[19,3,19,6]]}
["Formulaire administratif"]
[]
[]
[null,"1. DONNÉES DU DEMANDEUR"]
[null,"Nom"]
[null,"Prénom"]
[null,"Adresse"]
[]
[null,"Personne morale ?"]
[null,"Nom ou dénomination commerciale"]
[null,"Forme juridique"]
[null,"Siège social"]
[null,"Qualité du signataire"]
[]
[null,"Lien entre le demandeur et le système de fourniture de chaleur externe"]
[null,"Précision si 'Autre'"]
[]
[null,"2. SYSTÈME DE FOURNITURE DE CHALEUR EXTERNE"]
[null,"Nom"]
[null,"Type"]
[]
[null,"3. LOCALISATION DU SYSTÈME DE FOURNITURE DE CHALEUR EXTERNE"]
[null,"Ajoutez les annexes ci-dessous à la déclaration PEB"]
[null,null,"Plans d'implantation, plans de masse, plans de situation"]
[null,null,"Plans avec indication claire des générateurs de chaleur et leur numérotation"]
[null,null,"Plans avec indication claire des éléments du circuit de distribution et leur numérotation"]
[null,null,"Plans avec indication claire demandeurs de chaleur et leur numérotation"]
[]
[null,"4. CARACTÉRISTIQUES DES DEMANDEURS DE CHALEUR"]
[null,"Ajoutez les annexes ci-dessous à la déclaration PEB"]
[null,null,"Les plans de chaque demandeur de chaleur, si la demande en chaleur est déterminée sur base de la surface totale de plancher chauffée (Ach)"]
[]
[null,"5. PREUVES ACCEPTABLES"]
[null,"Ajoutez les annexes à la déclaration PEB"]
[null,null,"Données issues de mesures, si le calcul se fait sur base de données mesurées"]
[null,null,"Données issues de factures, si le calcul se fait sur base de factures de consommation"]

{"sheet":"DÉMARRER","index":2,"n_rows":10,"n_cols":14,"rows_kept":10,"cut":false,"hidden":false,"merged":[]}
["Démarrer"]
[null,null,null,null,null,null,null,null,null,null,null,null,"Masquer","Encodage complet ?"]
[null,"DONNÉES DU PROJET",null,null,null,null,null,null,null,null,null,null,null,{"$f":"AND(N5:N8)","v":false}]
[null,null,null,null,null,null,null,null,null,null,null,null,"Index"]
[null,"Méthode de détermination de la consommation annuelle d'énergie pour la production de chaleur Egen,i [MJ]",null,null,null,null,null,null,null,null,null,null,{"$f":"IF(C5=\"\",0,VLOOKUP(C5,T_meetfact_of_reken,2,FALSE))","v":0},{"$f":"NOT(ISBLANK(C5))","v":false}]
[null,"Méthode de détermination de la quantité de chaleur produite annuellement par les générateurs de chaleur dans le système de fourniture de chaleur externe Qgen,dh [MJ]",null,null,null,null,null,null,null,null,null,null,{"$f":"IF(C6=\"\",0,VLOOKUP(C6,T_tonk,2,FALSE))","v":0},{"$f":"NOT(ISBLANK(C6))","v":false}]
[null,"Méthode de détermination des déperditions locales et linéaires",null,null,null,null,null,null,null,null,null,null,{"$f":"IF(M6=1,0,IF(C7=\"\",0,VLOOKUP(C7,T_BerekeningVerliezen,2,FALSE)))","v":0},{"$f":"IF(M6=1,TRUE,NOT(ISBLANK(C7)))","v":false}]
[null,"Méthode de détermination de la consommation annuelle d'énergie auxiliaire des circulateurs et des générateurs",null,null,null,null,null,null,null,null,null,null,{"$f":"IF(C8=\"\",0,VLOOKUP(C8,T_BerekeningVerliezen,2,FALSE))","v":0},{"$f":"NOT(ISBLANK(C8))","v":false}]
[]
[null,"DÉMARRER =>"]

{"sheet":"RÉSULTATS","index":3,"n_rows":215,"n_cols":8,"rows_kept":215,"cut":false,"hidden":false,"merged":[[13,3,13,6],[5,1,5,2],[7,1,7,2],[8,1,8,2]]}
["Résultats "]
[]
[null,"RÉSULTATS : Système de fourniture de chaleur externe"]
[]
[null,"Consommation en énergie primaire : Ep,dh [MJ]",null,{"$f":"'fp,dh et balance énergétique'!$B$8","v":0}]
[null,"Quantité de chaleur délivrée annuellement aux demandeurs de chaleur : Qdel,dh [MJ]",null,{"$f":"'fp,dh et balance énergétique'!$B$3","v":0}]
[]
[null,"Données à encoder pour le Logiciel PEB"]
[null,"Facteur en énergie primaire équivalent : fp,dh [-]",null,{"$f":"'fp,dh et balance énergétique'!$B$9","v":{"$error":"#DIV/0!"}}]
[]
[]
[]
[null,"RÉSULTATS : Demandeurs de chaleur"]
[null,null,null,"Données à encoder pour le Logiciel PEB\nRendement pour … [%]"]
[null,null,"Nom","Chauffage","Eau chaude sanitaire","Humidification","Refroidissement","Limite du réseau de chaleur"]
[1,{"$f":"\"Demandeur de chaleur \"&A16","v":"Demandeur de chaleur 1"},{"$f":"IF($A16=\"\",\"\",OFFSET('Demandeurs de chaleur'!$C$7,2,$A16-1,1,1))","v":0},{"$f":"IF($A16=\"\",\"\",'Q_del,j et Q_del,dh'!K8)*100","v":100},{"$f":"D16","v":100},{"$f":"D16","v":100},{"$f":"D16","v":100},{"$f":"'Q_del,j et Q_del,dh'!L8","v":0}]
[{"$f":"A16+1","v":2},"Demandeur de chaleur 2",{"$f":"IF($A17=\"\",\"\",OFFSET('Demandeurs de chaleur'!$C$7,2,$A17-1,1,1))","v":0},{"$f":"IF($A17=\"\",\"\",'Q_del,j et Q_del,dh'!K9)*100","v":100},{"$f":"D17","v":100},{"$f":"D17","v":100},{"$f":"D17","v":100},{"$f":"'Q_del,j et Q_del,dh'!L9","v":0}]
[{"$f":"A17+1","v":3},"Demandeur de chaleur 3",{"$f":"IF($A18=\"\",\"\",OFFSET('Demandeurs de chaleur'!$C$7,2,$A18-1,1,1))","v":0},{"$f":"IF($A18=\"\",\"\",'Q_del,j et Q_del,dh'!K10)*100","v":100},100,100,100,{"$f":"'Q_del,j et Q_del,dh'!L10","v":0}]
[4,"Demandeur de chaleur 4",{"$f":"IF($A19=\"\",\"\",OFFSET('Demandeurs de chaleur'!$C$7,2,$A19-1,1,1))","v":0},{"$f":"IF($A19=\"\",\"\",'Q_del,j et Q_del,dh'!K11)*100","v":100},100,100,100,{"$f":"'Q_del,j et Q_del,dh'!L11","v":0}]
[5,"Demandeur de chaleur 5",{"$f":"IF($A20=\"\",\"\",OFFSET('Demandeurs de chaleur'!$C$7,2,$A20-1,1,1))","v":0},{"$f":"IF($A20=\"\",\"\",'Q_del,j et Q_del,dh'!K12)*100","v":100},100,100,100,{"$f":"'Q_del,j et Q_del,dh'!L12","v":0}]
[6,"Demandeur de chaleur 6",{"$f":"IF($A21=\"\",\"\",OFFSET('Demandeurs de chaleur'!$C$7,2,$A21-1,1,1))","v":0},{"$f":"IF($A21=\"\",\"\",'Q_del,j et Q_del,dh'!K13)*100","v":100},100,100,100,{"$f":"'Q_del,j et Q_del,dh'!L13","v":0}]
[7,"Demandeur de chaleur 7",{"$f":"IF($A22=\"\",\"\",OFFSET('Demandeurs de chaleur'!$C$7,2,$A22-1,1,1))","v":0},{"$f":"IF($A22=\"\",\"\",'Q_del,j et Q_del,dh'!K14)*100","v":100},100,100,100,{"$f":"'Q_del,j et Q_del,dh'!L14","v":0}]
[8,"Demandeur de chaleur 8",{"$f":"IF($A23=\"\",\"\",OFFSET('Demandeurs de chaleur'!$C$7,2,$A23-1,1,1))","v":0},{"$f":"IF($A23=\"\",\"\",'Q_del,j et Q_del,dh'!K15)*100","v":100},100,100,100,{"$f":"'Q_del,j et Q_del,dh'!L15","v":0}]
[9,"Demandeur de chaleur 9",{"$f":"IF($A24=\"\",\"\",OFFSET('Demandeurs de chaleur'!$C$7,2,$A24-1,1,1))","v":0},{"$f":"IF($A24=\"\",\"\",'Q_del,j et Q_del,dh'!K16)*100","v":100},100,100,100,{"$f":"'Q_del,j et Q_del,dh'!L16","v":0}]
[10,"Demandeur de chaleur 10",{"$f":"IF($A25=\"\",\"\",OFFSET('Demandeurs de chaleur'!$C$7,2,$A25-1,1,1))","v":0},{"$f":"IF($A25=\"\",\"\",'Q_del,j et Q_del,dh'!K17)*100","v":100},100,100,100,{"$f":"'Q_del,j et Q_del,dh'!L17","v":0}]
[11,"Demandeur de chaleur 11",{"$f":"IF($A26=\"\",\"\",OFFSET('Demandeurs de chaleur'!$C$7,2,$A26-1,1,1))","v":0},{"$f":"IF($A26=\"\",\"\",'Q_del,j et Q_del,dh'!K18)*100","v":100},100,100,100,{"$f":"'Q_del,j et Q_del,dh'!L18","v":0}]
[12,"Demandeur de chaleur 12",{"$f":"IF($A27=\"\",\"\",OFFSET('Demandeurs de chaleur'!$C$7,2,$A27-1,1,1))","v":0},{"$f":"IF($A27=\"\",\"\",'Q_del,j et Q_del,dh'!K19)*100","v":100},100,100,100,{"$f":"'Q_del,j et Q_del,dh'!L19","v":0}]
[13,"Demandeur de chaleur 13",{"$f":"IF($A28=\"\",\"\",OFFSET('Demandeurs de chaleur'!$C$7,2,$A28-1,1,1))","v":0},{"$f":"IF($A28=\"\",\"\",'Q_del,j et Q_del,dh'!K20)*100","v":100},100,100,100,{"$f":"'Q_del,j et Q_del,dh'!L20","v":0}]
[14,"Demandeur de chaleur 14",{"$f":"IF($A29=\"\",\"\",OFFSET('Demandeurs de chaleur'!$C$7,2,$A29-1,1,1))","v":0},{"$f":"IF($A29=\"\",\"\",'Q_del,j et Q_del,dh'!K21)*100","v":100},100,100,100,{"$f":"'Q_del,j et Q_del,dh'!L21","v":0}]
[15,"Demandeur de chaleur 15",{"$f":"IF($A30=\"\",\"\",OFFSET('Demandeurs de chaleur'!$C$7,2,$A30-1,1,1))","v":0},{"$f":"IF($A30=\"\",\"\",'Q_del,j et Q_del,dh'!K22)*100","v":100},100,100,100,{"$f":"'Q_del,j et Q_del,dh'!L22","v":0}]
[16,"Demandeur de chaleur 16",{"$f":"IF($A31=\"\",\"\",OFFSET('Demandeurs de chaleur'!$C$7,2,$A31-1,1,1))","v":0},{"$f":"IF($A31=\"\",\"\",'Q_del,j et Q_del,dh'!K23)*100","v":100},100,100,100,{"$f":"'Q_del,j et Q_del,dh'!L23","v":0}]
[17,"Demandeur de chaleur 17",{"$f":"IF($A32=\"\",\"\",OFFSET('Demandeurs de chaleur'!$C$7,2,$A32-1,1,1))","v":0},{"$f":"IF($A32=\"\",\"\",'Q_del,j et Q_del,dh'!K24)*100","v":100},100,100,100,{"$f":"'Q_del,j et Q_del,dh'!L24","v":0}]
[18,"Demandeur de chaleur 18",{"$f":"IF($A33=\"\",\"\",OFFSET('Demandeurs de chaleur'!$C$7,2,$A33-1,1,1))","v":0},{"$f":"IF($A33=\"\",\"\",'Q_del,j et Q_del,dh'!K25)*100","v":100},100,100,100,{"$f":"'Q_del,j et Q_del,dh'!L25","v":0}]
[19,"Demandeur de chaleur 19",{"$f":"IF($A34=\"\",\"\",OFFSET('Demandeurs de chaleur'!$C$7,2,$A34-1,1,1))","v":0},{"$f":"IF($A34=\"\",\"\",'Q_del,j et Q_del,dh'!K26)*100","v":100},100,100,100,{"$f":"'Q_del,j et Q_del,dh'!L26","v":0}]
[20,"Demandeur de chaleur 20",{"$f":"IF($A35=\"\",\"\",OFFSET('Demandeurs de chaleur'!$C$7,2,$A35-1,1,1))","v":0},{"$f":"IF($A35=\"\",\"\",'Q_del,j et Q_del,dh'!K27)*100","v":100},100,100,100,{"$f":"'Q_del,j et Q_del,dh'!L27","v":0}]
[21,"Demandeur de chaleur 21",{"$f":"IF($A36=\"\",\"\",OFFSET('Demandeurs de chaleur'!$C$7,2,$A36-1,1,1))","v":0},{"$f":"IF($A36=\"\",\"\",'Q_del,j et Q_del,dh'!K28)*100","v":100},100,100,100,{"$f":"'Q_del,j et Q_del,dh'!L28","v":0}]
[22,"Demandeur de chaleur 22",{"$f":"IF($A37=\"\",\"\",OFFSET('Demandeurs de chaleur'!$C$7,2,$A37-1,1,1))","v":0},{"$f":"IF($A37=\"\",\"\",'Q_del,j et Q_del,dh'!K29)*100","v":100},100,100,100,{"$f":"'Q_del,j et Q_del,dh'!L29","v":0}]
[23,"Demandeur de chaleur 23",{"$f":"IF($A38=\"\",\"\",OFFSET('Demandeurs de chaleur'!$C$7,2,$A38-1,1,1))","v":0},{"$f":"IF($A38=\"\",\"\",'Q_del,j et Q_del,dh'!K30)*100","v":100},100,100,100,{"$f":"'Q_del,j et Q_del,dh'!L30","v":0}]
[24,"Demandeur de chaleur 24",{"$f":"IF($A39=\"\",\"\",OFFSET('Demandeurs de chaleur'!$C$7,2,$A39-1,1,1))","v":0},{"$f":"IF($A39=\"\",\"\",'Q_del,j et Q_del,dh'!K31)*100","v":100},100,100,100,{"$f":"'Q_del,j et Q_del,dh'!L31","v":0}]
[25,"Demandeur de chaleur 25",{"$f":"IF($A40=\"\",\"\",OFFSET('Demandeurs de chaleur'!$C$7,2,$A40-1,1,1))","v":0},{"$f":"IF($A40=\"\",\"\",'Q_del,j et Q_del,dh'!K32)*100","v":100},100,100,100,{"$f":"'Q_del,j et Q_del,dh'!L32","v":0}]
[26,"Demandeur de chaleur 26",{"$f":"IF($A41=\"\",\"\",OFFSET('Demandeurs de chaleur'!$C$7,2,$A41-1,1,1))","v":0},{"$f":"IF($A41=\"\",\"\",'Q_del,j et Q_del,dh'!K33)*100","v":100},100,100,100,{"$f":"'Q_del,j et Q_del,dh'!L33","v":0}]
[27,"Demandeur de chaleur 27",{"$f":"IF($A42=\"\",\"\",OFFSET('Demandeurs de chaleur'!$C$7,2,$A42-1,1,1))","v":0},{"$f":"IF($A42=\"\",\"\",'Q_del,j et Q_del,dh'!K34)*100","v":100},100,100,100,{"$f":"'Q_del,j et Q_del,dh'!L34","v":0}]
[28,"Demandeur de chaleur 28",{"$f":"IF($A43=\"\",\"\",OFFSET('Demandeurs de chaleur'!$C$7,2,$A43-1,1,1))","v":0},{"$f":"IF($A43=\"\",\"\",'Q_del,j et Q_del,dh'!K35)*100","v":100},100,100,100,{"$f":"'Q_del,j et Q_del,dh'!L35","v":0}]
[29,"Demandeur de chaleur 29",{"$f":"IF($A44=\"\",\"\",OFFSET('Demandeurs de chaleur'!$C$7,2,$A44-1,1,1))","v":0},{"$f":"IF($A44=\"\",\"\",'Q_del,j et Q_del,dh'!K36)*100","v":100},100,100,100,{"$f":"'Q_del,j et Q_del,dh'!L36","v":0}]
[30,"Demandeur de chaleur 30",{"$f":"IF($A45=\"\",\"\",OFFSET('Demandeurs de chaleur'!$C$7,2,$A45-1,1,1))","v":0},{"$f":"IF($A45=\"\",\"\",'Q_del,j et Q_del,dh'!K37)*100","v":100},100,100,100,{"$f":"'Q_del,j et Q_del,dh'!L37","v":0}]
[31,"Demandeur de chaleur 31",{"$f":"IF($A46=\"\",\"\",OFFSET('Demandeurs de chaleur'!$C$7,2,$A46-1,1,1))","v":0},{"$f":"IF($A46=\"\",\"\",'Q_del,j et Q_del,dh'!K38)*100","v":100},100,100,100,{"$f":"'Q_del,j et Q_del,dh'!L38","v":0}]
[32,"Demandeur de chaleur 32",{"$f":"IF($A47=\"\",\"\",OFFSET('Demandeurs de chaleur'!$C$7,2,$A47-1,1,1))","v":0},{"$f":"IF($A47=\"\",\"\",'Q_del,j et Q_del,dh'!K39)*100","v":100},100,100,100,{"$f":"'Q_del,j et Q_del,dh'!L39","v":0}]
[33,{"$f":"\"Demandeur de chaleur \"&A48","v":"Demandeur de chaleur 33"},{"$f":"IF($A48=\"\",\"\",OFFSET('Demandeurs de chaleur'!$C$7,2,$A48-1,1,1))","v":0},{"$f":"IF($A48=\"\",\"\",'Q_del,j et Q_del,dh'!K40)*100","v":100},100,100,100,{"$f":"'Q_del,j et Q_del,dh'!L40","v":0}]
[34,"Demandeur de chaleur 34",{"$f":"IF($A49=\"\",\"\",OFFSET('Demandeurs de chaleur'!$C$7,2,$A49-1,1,1))","v":0},{"$f":"IF($A49=\"\",\"\",'Q_del,j et Q_del,dh'!K41)*100","v":100},100,100,100,{"$f":"'Q_del,j et Q_del,dh'!L41","v":0}]
[35,"Demandeur de chaleur 35",{"$f":"IF($A50=\"\",\"\",OFFSET('Demandeurs de chaleur'!$C$7,2,$A50-1,1,1))","v":0},{"$f":"IF($A50=\"\",\"\",'Q_del,j et Q_del,dh'!K42)*100","v":100},100,100,100,{"$f":"'Q_del,j et Q_del,dh'!L42","v":0}]
[36,"Demandeur de chaleur 36",{"$f":"IF($A51=\"\",\"\",OFFSET('Demandeurs de chaleur'!$C$7,2,$A51-1,1,1))","v":0},{"$f":"IF($A51=\"\",\"\",'Q_del,j et Q_del,dh'!K43)*100","v":100},100,100,100,{"$f":"'Q_del,j et Q_del,dh'!L43","v":0}]
[37,"Demandeur de chaleur 37",{"$f":"IF($A52=\"\",\"\",OFFSET('Demandeurs de chaleur'!$C$7,2,$A52-1,1,1))","v":0},{"$f":"IF($A52=\"\",\"\",'Q_del,j et Q_del,dh'!K44)*100","v":100},100,100,100,{"$f":"'Q_del,j et Q_del,dh'!L44","v":0}]
[38,"Demandeur de chaleur 38",{"$f":"IF($A53=\"\",\"\",OFFSET('Demandeurs de chaleur'!$C$7,2,$A53-1,1,1))","v":0},{"$f":"IF($A53=\"\",\"\",'Q_del,j et Q_del,dh'!K45)*100","v":100},100,100,100,{"$f":"'Q_del,j et Q_del,dh'!L45","v":0}]
[39,"Demandeur de chaleur 39",{"$f":"IF($A54=\"\",\"\",OFFSET('Demandeurs de chaleur'!$C$7,2,$A54-1,1,1))","v":0},{"$f":"IF($A54=\"\",\"\",'Q_del,j et Q_del,dh'!K46)*100","v":100},100,100,100,{"$f":"'Q_del,j et Q_del,dh'!L46","v":0}]
[40,"Demandeur de chaleur 40",{"$f":"IF($A55=\"\",\"\",OFFSET('Demandeurs de chaleur'!$C$7,2,$A55-1,1,1))","v":0},{"$f":"IF($A55=\"\",\"\",'Q_del,j et Q_del,dh'!K47)*100","v":100},100,100,100,{"$f":"'Q_del,j et Q_del,dh'!L47","v":0}]
[41,"Demandeur de chaleur 41",{"$f":"IF($A56=\"\",\"\",OFFSET('Demandeurs de chaleur'!$C$7,2,$A56-1,1,1))","v":0},{"$f":"IF($A56=\"\",\"\",'Q_del,j et Q_del,dh'!K48)*100","v":100},100,100,100,{"$f":"'Q_del,j et Q_del,dh'!L48","v":0}]
[42,"Demandeur de chaleur 42",{"$f":"IF($A57=\"\",\"\",OFFSET('Demandeurs de chaleur'!$C$7,2,$A57-1,1,1))","v":0},{"$f":"IF($A57=\"\",\"\",'Q_del,j et Q_del,dh'!K49)*100","v":100},100,100,100,{"$f":"'Q_del,j et Q_del,dh'!L49","v":0}]
[43,"Demandeur de chaleur 43",{"$f":"IF($A58=\"\",\"\",OFFSET('Demandeurs de chaleur'!$C$7,2,$A58-1,1,1))","v":0},{"$f":"IF($A58=\"\",\"\",'Q_del,j et Q_del,dh'!K50)*100","v":100},100,100,100,{"$f":"'Q_del,j et Q_del,dh'!L50","v":0}]
[44,"Demandeur de chaleur 44",{"$f":"IF($A59=\"\",\"\",OFFSET('Demandeurs de chaleur'!$C$7,2,$A59-1,1,1))","v":0},{"$f":"IF($A59=\"\",\"\",'Q_del,j et Q_del,dh'!K51)*100","v":100},100,100,100,{"$f":"'Q_del,j et Q_del,dh'!L51","v":0}]
[45,"Demandeur de chaleur 45",{"$f":"IF($A60=\"\",\"\",OFFSET('Demandeurs de chaleur'!$C$7,2,$A60-1,1,1))","v":0},{"$f":"IF($A60=\"\",\"\",'Q_del,j et Q_del,dh'!K52)*100","v":100},100,100,100,{"$f":"'Q_del,j et Q_del,dh'!L52","v":0}]
[46,"Demandeur de chaleur 46",{"$f":"IF($A61=\"\",\"\",OFFSET('Demandeurs de chaleur'!$C$7,2,$A61-1,1,1))","v":0},{"$f":"IF($A61=\"\",\"\",'Q_del,j et Q_del,dh'!K53)*100","v":100},100,100,100,{"$f":"'Q_del,j et Q_del,dh'!L53","v":0}]
[47,"Demandeur de chaleur 47",{"$f":"IF($A62=\"\",\"\",OFFSET('Demandeurs de chaleur'!$C$7,2,$A62-1,1,1))","v":0},{"$f":"IF($A62=\"\",\"\",'Q_del,j et Q_del,dh'!K54)*100","v":100},100,100,100,{"$f":"'Q_del,j et Q_del,dh'!L54","v":0}]
[48,"Demandeur de chaleur 48",{"$f":"IF($A63=\"\",\"\",OFFSET('Demandeurs de chaleur'!$C$7,2,$A63-1,1,1))","v":0},{"$f":"IF($A63=\"\",\"\",'Q_del,j et Q_del,dh'!K55)*100","v":100},100,100,100,{"$f":"'Q_del,j et Q_del,dh'!L55","v":0}]
[49,"Demandeur de chaleur 49",{"$f":"IF($A64=\"\",\"\",OFFSET('Demandeurs de chaleur'!$C$7,2,$A64-1,1,1))","v":0},{"$f":"IF($A64=\"\",\"\",'Q_del,j et Q_del,dh'!K56)*100","v":100},100,100,100,{"$f":"'Q_del,j et Q_del,dh'!L56","v":0}]
[50,"Demandeur de chaleur 50",{"$f":"IF($A65=\"\",\"\",OFFSET('Demandeurs de chaleur'!$C$7,2,$A65-1,1,1))","v":0},{"$f":"IF($A65=\"\",\"\",'Q_del,j et Q_del,dh'!K57)*100","v":100},100,100,100,{"$f":"'Q_del,j et Q_del,dh'!L57","v":0}]
[51,"Demandeur de chaleur 51",{"$f":"IF($A66=\"\",\"\",OFFSET('Demandeurs de chaleur'!$C$7,2,$A66-1,1,1))","v":0},{"$f":"IF($A66=\"\",\"\",'Q_del,j et Q_del,dh'!K58)*100","v":100},100,100,100,{"$f":"'Q_del,j et Q_del,dh'!L58","v":0}]
[52,"Demandeur de chaleur 52",{"$f":"IF($A67=\"\",\"\",OFFSET('Demandeurs de chaleur'!$C$7,2,$A67-1,1,1))","v":0},{"$f":"IF($A67=\"\",\"\",'Q_del,j et Q_del,dh'!K59)*100","v":100},100,100,100,{"$f":"'Q_del,j et Q_del,dh'!L59","v":0}]
[53,"Demandeur de chaleur 53",{"$f":"IF($A68=\"\",\"\",OFFSET('Demandeurs de chaleur'!$C$7,2,$A68-1,1,1))","v":0},{"$f":"IF($A68=\"\",\"\",'Q_del,j et Q_del,dh'!K60)*100","v":100},100,100,100,{"$f":"'Q_del,j et Q_del,dh'!L60","v":0}]
[54,"Demandeur de chaleur 54",{"$f":"IF($A69=\"\",\"\",OFFSET('Demandeurs de chaleur'!$C$7,2,$A69-1,1,1))","v":0},{"$f":"IF($A69=\"\",\"\",'Q_del,j et Q_del,dh'!K61)*100","v":100},100,100,100,{"$f":"'Q_del,j et Q_del,dh'!L61","v":0}]
[55,"Demandeur de chaleur 55",{"$f":"IF($A70=\"\",\"\",OFFSET('Demandeurs de chaleur'!$C$7,2,$A70-1,1,1))","v":0},{"$f":"IF($A70=\"\",\"\",'Q_del,j et Q_del,dh'!K62)*100","v":100},100,100,100,{"$f":"'Q_del,j et Q_del,dh'!L62","v":0}]
[56,"Demandeur de chaleur 56",{"$f":"IF($A71=\"\",\"\",OFFSET('Demandeurs de chaleur'!$C$7,2,$A71-1,1,1))","v":0},{"$f":"IF($A71=\"\",\"\",'Q_del,j et Q_del,dh'!K63)*100","v":100},100,100,100,{"$f":"'Q_del,j et Q_del,dh'!L63","v":0}]
[57,"Demandeur de chaleur 57",{"$f":"IF($A72=\"\",\"\",OFFSET('Demandeurs de chaleur'!$C$7,2,$A72-1,1,1))","v":0},{"$f":"IF($A72=\"\",\"\",'Q_del,j et Q_del,dh'!K64)*100","v":100},100,100,100,{"$f":"'Q_del,j et Q_del,dh'!L64","v":0}]
[58,"Demandeur de chaleur 58",{"$f":"IF($A73=\"\",\"\",OFFSET('Demandeurs de chaleur'!$C$7,2,$A73-1,1,1))","v":0},{"$f":"IF($A73=\"\",\"\",'Q_del,j et Q_del,dh'!K65)*100","v":100},100,100,100,{"$f":"'Q_del,j et Q_del,dh'!L65","v":0}]
[59,"Demandeur de chaleur 59",{"$f":"IF($A74=\"\",\"\",OFFSET('Demandeurs de chaleur'!$C$7,2,$A74-1,1,1))","v":0},{"$f":"IF($A74=\"\",\"\",'Q_del,j et Q_del,dh'!K66)*100","v":100},100,100,100,{"$f":"'Q_del,j et Q_del,dh'!L66","v":0}]
[60,"Demandeur de chaleur 60",{"$f":"IF($A75=\"\",\"\",OFFSET('Demandeurs de chaleur'!$C$7,2,$A75-1,1,1))","v":0},{"$f":"IF($A75=\"\",\"\",'Q_del,j et Q_del,dh'!K67)*100","v":100},100,100,100,{"$f":"'Q_del,j et Q_del,dh'!L67","v":0}]
[61,"Demandeur de chaleur 61",{"$f":"IF($A76=\"\",\"\",OFFSET('Demandeurs de chaleur'!$C$7,2,$A76-1,1,1))","v":0},{"$f":"IF($A76=\"\",\"\",'Q_del,j et Q_del,dh'!K68)*100","v":100},100,100,100,{"$f":"'Q_del,j et Q_del,dh'!L68","v":0}]
[62,"Demandeur de chaleur 62",{"$f":"IF($A77=\"\",\"\",OFFSET('Demandeurs de chaleur'!$C$7,2,$A77-1,1,1))","v":0},{"$f":"IF($A77=\"\",\"\",'Q_del,j et Q_del,dh'!K69)*100","v":100},100,100,100,{"$f":"'Q_del,j et Q_del,dh'!L69","v":0}]
[63,"Demandeur de chaleur 63",{"$f":"IF($A78=\"\",\"\",OFFSET('Demandeurs de chaleur'!$C$7,2,$A78-1,1,1))","v":0},{"$f":"IF($A78=\"\",\"\",'Q_del,j et Q_del,dh'!K70)*100","v":100},100,100,100,{"$f":"'Q_del,j et Q_del,dh'!L70","v":0}]
[64,"Demandeur de chaleur 64",{"$f":"IF($A79=\"\",\"\",OFFSET('Demandeurs de chaleur'!$C$7,2,$A79-1,1,1))","v":0},{"$f":"IF($A79=\"\",\"\",'Q_del,j et Q_del,dh'!K71)*100","v":100},100,100,100,{"$f":"'Q_del,j et Q_del,dh'!L71","v":0}]
[65,{"$f":"\"Demandeur de chaleur \"&A80","v":"Demandeur de chaleur 65"},{"$f":"IF($A80=\"\",\"\",OFFSET('Demandeurs de chaleur'!$C$7,2,$A80-1,1,1))","v":0},{"$f":"IF($A80=\"\",\"\",'Q_del,j et Q_del,dh'!K72)*100","v":100},100,100,100,{"$f":"'Q_del,j et Q_del,dh'!L72","v":0}]
[66,"Demandeur de chaleur 66",{"$f":"IF($A81=\"\",\"\",OFFSET('Demandeurs de chaleur'!$C$7,2,$A81-1,1,1))","v":0},{"$f":"IF($A81=\"\",\"\",'Q_del,j et Q_del,dh'!K73)*100","v":100},{"$f":"D81","v":100},{"$f":"D81","v":100},{"$f":"D81","v":100},{"$f":"'Q_del,j et Q_del,dh'!L73","v":0}]
[{"$f":"A81+1","v":67},"Demandeur de chaleur 67",{"$f":"IF($A82=\"\",\"\",OFFSET('Demandeurs de chaleur'!$C$7,2,$A82-1,1,1))","v":0},{"$f":"IF($A82=\"\",\"\",'Q_del,j et Q_del,dh'!K74)*100","v":100},100,100,100,{"$f":"'Q_del,j et Q_del,dh'!L74","v":0}]
[68,"Demandeur de chaleur 68",{"$f":"IF($A83=\"\",\"\",OFFSET('Demandeurs de chaleur'!$C$7,2,$A83-1,1,1))","v":0},{"$f":"IF($A83=\"\",\"\",'Q_del,j et Q_del,dh'!K75)*100","v":100},100,100,100,{"$f":"'Q_del,j et Q_del,dh'!L75","v":0}]
[69,"Demandeur de chaleur 69",{"$f":"IF($A84=\"\",\"\",OFFSET('Demandeurs de chaleur'!$C$7,2,$A84-1,1,1))","v":0},{"$f":"IF($A84=\"\",\"\",'Q_del,j et Q_del,dh'!K76)*100","v":100},100,100,100,{"$f":"'Q_del,j et Q_del,dh'!L76","v":0}]
[70,"Demandeur de chaleur 70",{"$f":"IF($A85=\"\",\"\",OFFSET('Demandeurs de chaleur'!$C$7,2,$A85-1,1,1))","v":0},{"$f":"IF($A85=\"\",\"\",'Q_del,j et Q_del,dh'!K77)*100","v":100},100,100,100,{"$f":"'Q_del,j et Q_del,dh'!L77","v":0}]
[71,"Demandeur de chaleur 71",{"$f":"IF($A86=\"\",\"\",OFFSET('Demandeurs de chaleur'!$C$7,2,$A86-1,1,1))","v":0},{"$f":"IF($A86=\"\",\"\",'Q_del,j et Q_del,dh'!K78)*100","v":100},100,100,100,{"$f":"'Q_del,j et Q_del,dh'!L78","v":0}]
[72,"Demandeur de chaleur 72",{"$f":"IF($A87=\"\",\"\",OFFSET('Demandeurs de chaleur'!$C$7,2,$A87-1,1,1))","v":0},{"$f":"IF($A87=\"\",\"\",'Q_del,j et Q_del,dh'!K79)*100","v":100},100,100,100,{"$f":"'Q_del,j et Q_del,dh'!L79","v":0}]
[73,"Demandeur de chaleur 73",{"$f":"IF($A88=\"\",\"\",OFFSET('Demandeurs de chaleur'!$C$7,2,$A88-1,1,1))","v":0},{"$f":"IF($A88=\"\",\"\",'Q_del,j et Q_del,dh'!K80)*100","v":100},100,100,100,{"$f":"'Q_del,j et Q_del,dh'!L80","v":0}]
[74,"Demandeur de chaleur 74",{"$f":"IF($A89=\"\",\"\",OFFSET('Demandeurs de chaleur'!$C$7,2,$A89-1,1,1))","v":0},{"$f":"IF($A89=\"\",\"\",'Q_del,j et Q_del,dh'!K81)*100","v":100},100,100,100,{"$f":"'Q_del,j et Q_del,dh'!L81","v":0}]
[75,"Demandeur de chaleur 75",{"$f":"IF($A90=\"\",\"\",OFFSET('Demandeurs de chaleur'!$C$7,2,$A90-1,1,1))","v":0},{"$f":"IF($A90=\"\",\"\",'Q_del,j et Q_del,dh'!K82)*100","v":100},100,100,100,{"$f":"'Q_del,j et Q_del,dh'!L82","v":0}]
[76,"Demandeur de chaleur 76",{"$f":"IF($A91=\"\",\"\",OFFSET('Demandeurs de chaleur'!$C$7,2,$A91-1,1,1))","v":0},{"$f":"IF($A91=\"\",\"\",'Q_del,j et Q_del,dh'!K83)*100","v":100},100,100,100,{"$f":"'Q_del,j et Q_del,dh'!L83","v":0}]
[77,"Demandeur de chaleur 77",{"$f":"IF($A92=\"\",\"\",OFFSET('Demandeurs de chaleur'!$C$7,2,$A92-1,1,1))","v":0},{"$f":"IF($A92=\"\",\"\",'Q_del,j et Q_del,dh'!K84)*100","v":100},100,100,100,{"$f":"'Q_del,j et Q_del,dh'!L84","v":0}]
[78,"Demandeur de chaleur 78",{"$f":"IF($A93=\"\",\"\",OFFSET('Demandeurs de chaleur'!$C$7,2,$A93-1,1,1))","v":0},{"$f":"IF($A93=\"\",\"\",'Q_del,j et Q_del,dh'!K85)*100","v":100},100,100,100,{"$f":"'Q_del,j et Q_del,dh'!L85","v":0}]
[79,"Demandeur de chaleur 79",{"$f":"IF($A94=\"\",\"\",OFFSET('Demandeurs de chaleur'!$C$7,2,$A94-1,1,1))","v":0},{"$f":"IF($A94=\"\",\"\",'Q_del,j et Q_del,dh'!K86)*100","v":100},100,100,100,{"$f":"'Q_del,j et Q_del,dh'!L86","v":0}]
[80,"Demandeur de chaleur 80",{"$f":"IF($A95=\"\",\"\",OFFSET('Demandeurs de chaleur'!$C$7,2,$A95-1,1,1))","v":0},{"$f":"IF($A95=\"\",\"\",'Q_del,j et Q_del,dh'!K87)*100","v":100},100,100,100,{"$f":"'Q_del,j et Q_del,dh'!L87","v":0}]
[81,"Demandeur de chaleur 81",{"$f":"IF($A96=\"\",\"\",OFFSET('Demandeurs de chaleur'!$C$7,2,$A96-1,1,1))","v":0},{"$f":"IF($A96=\"\",\"\",'Q_del,j et Q_del,dh'!K88)*100","v":100},100,100,100,{"$f":"'Q_del,j et Q_del,dh'!L88","v":0}]
[82,"Demandeur de chaleur 82",{"$f":"IF($A97=\"\",\"\",OFFSET('Demandeurs de chaleur'!$C$7,2,$A97-1,1,1))","v":0},{"$f":"IF($A97=\"\",\"\",'Q_del,j et Q_del,dh'!K89)*100","v":100},100,100,100,{"$f":"'Q_del,j et Q_del,dh'!L89","v":0}]
[83,"Demandeur de chaleur 83",{"$f":"IF($A98=\"\",\"\",OFFSET('Demandeurs de chaleur'!$C$7,2,$A98-1,1,1))","v":0},{"$f":"IF($A98=\"\",\"\",'Q_del,j et Q_del,dh'!K90)*100","v":100},100,100,100,{"$f":"'Q_del,j et Q_del,dh'!L90","v":0}]
[84,"Demandeur de chaleur 84",{"$f":"IF($A99=\"\",\"\",OFFSET('Demandeurs de chaleur'!$C$7,2,$A99-1,1,1))","v":0},{"$f":"IF($A99=\"\",\"\",'Q_del,j et Q_del,dh'!K91)*100","v":100},100,100,100,{"$f":"'Q_del,j et Q_del,dh'!L91","v":0}]
[85,"Demandeur de chaleur 85",{"$f":"IF($A100=\"\",\"\",OFFSET('Demandeurs de chaleur'!$C$7,2,$A100-1,1,1))","v":0},{"$f":"IF($A100=\"\",\"\",'Q_del,j et Q_del,dh'!K92)*100","v":100},100,100,100,{"$f":"'Q_del,j et Q_del,dh'!L92","v":0}]
[86,"Demandeur de chaleur 86",{"$f":"IF($A101=\"\",\"\",OFFSET('Demandeurs de chaleur'!$C$7,2,$A101-1,1,1))","v":0},{"$f":"IF($A101=\"\",\"\",'Q_del,j et Q_del,dh'!K93)*100","v":100},100,100,100,{"$f":"'Q_del,j et Q_del,dh'!L93","v":0}]
[87,"Demandeur de chaleur 87",{"$f":"IF($A102=\"\",\"\",OFFSET('Demandeurs de chaleur'!$C$7,2,$A102-1,1,1))","v":0},{"$f":"IF($A102=\"\",\"\",'Q_del,j et Q_del,dh'!K94)*100","v":100},100,100,100,{"$f":"'Q_del,j et Q_del,dh'!L94","v":0}]
[88,"Demandeur de chaleur 88",{"$f":"IF($A103=\"\",\"\",OFFSET('Demandeurs de chaleur'!$C$7,2,$A103-1,1,1))","v":0},{"$f":"IF($A103=\"\",\"\",'Q_del,j et Q_del,dh'!K95)*100","v":100},100,100,100,{"$f":"'Q_del,j et Q_del,dh'!L95","v":0}]
[89,"Demandeur de chaleur 89",{"$f":"IF($A104=\"\",\"\",OFFSET('Demandeurs de chaleur'!$C$7,2,$A104-1,1,1))","v":0},{"$f":"IF($A104=\"\",\"\",'Q_del,j et Q_del,dh'!K96)*100","v":100},100,100,100,{"$f":"'Q_del,j et Q_del,dh'!L96","v":0}]
[90,"Demandeur de chaleur 90",{"$f":"IF($A105=\"\",\"\",OFFSET('Demandeurs de chaleur'!$C$7,2,$A105-1,1,1))","v":0},{"$f":"IF($A105=\"\",\"\",'Q_del,j et Q_del,dh'!K97)*100","v":100},100,100,100,{"$f":"'Q_del,j et Q_del,dh'!L97","v":0}]
[91,"Demandeur de chaleur 91",{"$f":"IF($A106=\"\",\"\",OFFSET('Demandeurs de chaleur'!$C$7,2,$A106-1,1,1))","v":0},{"$f":"IF($A106=\"\",\"\",'Q_del,j et Q_del,dh'!K98)*100","v":100},100,100,100,{"$f":"'Q_del,j et Q_del,dh'!L98","v":0}]
[92,"Demandeur de chaleur 92",{"$f":"IF($A107=\"\",\"\",OFFSET('Demandeurs de chaleur'!$C$7,2,$A107-1,1,1))","v":0},{"$f":"IF($A107=\"\",\"\",'Q_del,j et Q_del,dh'!K99)*100","v":100},100,100,100,{"$f":"'Q_del,j et Q_del,dh'!L99","v":0}]
[93,"Demandeur de chaleur 93",{"$f":"IF($A108=\"\",\"\",OFFSET('Demandeurs de chaleur'!$C$7,2,$A108-1,1,1))","v":0},{"$f":"IF($A108=\"\",\"\",'Q_del,j et Q_del,dh'!K100)*100","v":100},100,100,100,{"$f":"'Q_del,j et Q_del,dh'!L100","v":0}]
[94,"Demandeur de chaleur 94",{"$f":"IF($A109=\"\",\"\",OFFSET('Demandeurs de chaleur'!$C$7,2,$A109-1,1,1))","v":0},{"$f":"IF($A109=\"\",\"\",'Q_del,j et Q_del,dh'!K101)*100","v":100},100,100,100,{"$f":"'Q_del,j et Q_del,dh'!L101","v":0}]
[95,"Demandeur de chaleur 95",{"$f":"IF($A110=\"\",\"\",OFFSET('Demandeurs de chaleur'!$C$7,2,$A110-1,1,1))","v":0},{"$f":"IF($A110=\"\",\"\",'Q_del,j et Q_del,dh'!K102)*100","v":100},100,100,100,{"$f":"'Q_del,j et Q_del,dh'!L102","v":0}]
[96,"Demandeur de chaleur 96",{"$f":"IF($A111=\"\",\"\",OFFSET('Demandeurs de chaleur'!$C$7,2,$A111-1,1,1))","v":0},{"$f":"IF($A111=\"\",\"\",'Q_del,j et Q_del,dh'!K103)*100","v":100},100,100,100,{"$f":"'Q_del,j et Q_del,dh'!L103","v":0}]
[97,{"$f":"\"Demandeur de chaleur \"&A112","v":"Demandeur de chaleur 97"},{"$f":"IF($A112=\"\",\"\",OFFSET('Demandeurs de chaleur'!$C$7,2,$A112-1,1,1))","v":0},{"$f":"IF($A112=\"\",\"\",'Q_del,j et Q_del,dh'!K104)*100","v":100},100,100,100,{"$f":"'Q_del,j et Q_del,dh'!L104","v":0}]
[98,"Demandeur de chaleur 98",{"$f":"IF($A113=\"\",\"\",OFFSET('Demandeurs de chaleur'!$C$7,2,$A113-1,1,1))","v":0},{"$f":"IF($A113=\"\",\"\",'Q_del,j et Q_del,dh'!K105)*100","v":100},100,100,100,{"$f":"'Q_del,j et Q_del,dh'!L105","v":0}]
[99,"Demandeur de chaleur 99",{"$f":"IF($A114=\"\",\"\",OFFSET('Demandeurs de chaleur'!$C$7,2,$A114-1,1,1))","v":0},{"$f":"IF($A114=\"\",\"\",'Q_del,j et Q_del,dh'!K106)*100","v":100},100,100,100,{"$f":"'Q_del,j et Q_del,dh'!L106","v":0}]
[100,"Demandeur de chaleur 100",{"$f":"IF($A115=\"\",\"\",OFFSET('Demandeurs de chaleur'!$C$7,2,$A115-1,1,1))","v":0},{"$f":"IF($A115=\"\",\"\",'Q_del,j et Q_del,dh'!K107)*100","v":100},100,100,100,{"$f":"'Q_del,j et Q_del,dh'!L107","v":0}]
[101,"Demandeur de chaleur 101",{"$f":"IF($A116=\"\",\"\",OFFSET('Demandeurs de chaleur'!$C$7,2,$A116-1,1,1))","v":0},{"$f":"IF($A116=\"\",\"\",'Q_del,j et Q_del,dh'!K108)*100","v":100},100,100,100,{"$f":"'Q_del,j et Q_del,dh'!L108","v":0}]
[102,"Demandeur de chaleur 102",{"$f":"IF($A117=\"\",\"\",OFFSET('Demandeurs de chaleur'!$C$7,2,$A117-1,1,1))","v":0},{"$f":"IF($A117=\"\",\"\",'Q_del,j et Q_del,dh'!K109)*100","v":100},100,100,100,{"$f":"'Q_del,j et Q_del,dh'!L109","v":0}]
[103,"Demandeur de chaleur 103",{"$f":"IF($A118=\"\",\"\",OFFSET('Demandeurs de chaleur'!$C$7,2,$A118-1,1,1))","v":0},{"$f":"IF($A118=\"\",\"\",'Q_del,j et Q_del,dh'!K110)*100","v":100},100,100,100,{"$f":"'Q_del,j et Q_del,dh'!L110","v":0}]
[104,"Demandeur de chaleur 104",{"$f":"IF($A119=\"\",\"\",OFFSET('Demandeurs de chaleur'!$C$7,2,$A119-1,1,1))","v":0},{"$f":"IF($A119=\"\",\"\",'Q_del,j et Q_del,dh'!K111)*100","v":100},100,100,100,{"$f":"'Q_del,j et Q_del,dh'!L111","v":0}]
[105,"Demandeur de chaleur 105",{"$f":"IF($A120=\"\",\"\",OFFSET('Demandeurs de chaleur'!$C$7,2,$A120-1,1,1))","v":0},{"$f":"IF($A120=\"\",\"\",'Q_del,j et Q_del,dh'!K112)*100","v":100},100,100,100,{"$f":"'Q_del,j et Q_del,dh'!L112","v":0}]
[106,"Demandeur de chaleur 106",{"$f":"IF($A121=\"\",\"\",OFFSET('Demandeurs de chaleur'!$C$7,2,$A121-1,1,1))","v":0},{"$f":"IF($A121=\"\",\"\",'Q_del,j et Q_del,dh'!K113)*100","v":100},100,100,100,{"$f":"'Q_del,j et Q_del,dh'!L113","v":0}]
[107,"Demandeur de chaleur 107",{"$f":"IF($A122=\"\",\"\",OFFSET('Demandeurs de chaleur'!$C$7,2,$A122-1,1,1))","v":0},{"$f":"IF($A122=\"\",\"\",'Q_del,j et Q_del,dh'!K114)*100","v":100},100,100,100,{"$f":"'Q_del,j et Q_del,dh'!L114","v":0}]
[108,"Demandeur de chaleur 108",{"$f":"IF($A123=\"\",\"\",OFFSET('Demandeurs de chaleur'!$C$7,2,$A123-1,1,1))","v":0},{"$f":"IF($A123=\"\",\"\",'Q_del,j et Q_del,dh'!K115)*100","v":100},100,100,100,{"$f":"'Q_del,j et Q_del,dh'!L115","v":0}]
[109,"Demandeur de chaleur 109",{"$f":"IF($A124=\"\",\"\",OFFSET('Demandeurs de chaleur'!$C$7,2,$A124-1,1,1))","v":0},{"$f":"IF($A124=\"\",\"\",'Q_del,j et Q_del,dh'!K116)*100","v":100},100,100,100,{"$f":"'Q_del,j et Q_del,dh'!L116","v":0}]
[110,"Demandeur de chaleur 110",{"$f":"IF($A125=\"\",\"\",OFFSET('Demandeurs de chaleur'!$C$7,2,$A125-1,1,1))","v":0},{"$f":"IF($A125=\"\",\"\",'Q_del,j et Q_del,dh'!K117)*100","v":100},100,100,100,{"$f":"'Q_del,j et Q_del,dh'!L117","v":0}]
[111,"Demandeur de chaleur 111",{"$f":"IF($A126=\"\",\"\",OFFSET('Demandeurs de chaleur'!$C$7,2,$A126-1,1,1))","v":0},{"$f":"IF($A126=\"\",\"\",'Q_del,j et Q_del,dh'!K118)*100","v":100},100,100,100,{"$f":"'Q_del,j et Q_del,dh'!L118","v":0}]
[112,"Demandeur de chaleur 112",{"$f":"IF($A127=\"\",\"\",OFFSET('Demandeurs de chaleur'!$C$7,2,$A127-1,1,1))","v":0},{"$f":"IF($A127=\"\",\"\",'Q_del,j et Q_del,dh'!K119)*100","v":100},100,100,100,{"$f":"'Q_del,j et Q_del,dh'!L119","v":0}]
[113,"Demandeur de chaleur 113",{"$f":"IF($A128=\"\",\"\",OFFSET('Demandeurs de chaleur'!$C$7,2,$A128-1,1,1))","v":0},{"$f":"IF($A128=\"\",\"\",'Q_del,j et Q_del,dh'!K120)*100","v":100},100,100,100,{"$f":"'Q_del,j et Q_del,dh'!L120","v":0}]
[114,"Demandeur de chaleur 114",{"$f":"IF($A129=\"\",\"\",OFFSET('Demandeurs de chaleur'!$C$7,2,$A129-1,1,1))","v":0},{"$f":"IF($A129=\"\",\"\",'Q_del,j et Q_del,dh'!K121)*100","v":100},100,100,100,{"$f":"'Q_del,j et Q_del,dh'!L121","v":0}]
[115,"Demandeur de chaleur 115",{"$f":"IF($A130=\"\",\"\",OFFSET('Demandeurs de chaleur'!$C$7,2,$A130-1,1,1))","v":0},{"$f":"IF($A130=\"\",\"\",'Q_del,j et Q_del,dh'!K122)*100","v":100},100,100,100,{"$f":"'Q_del,j et Q_del,dh'!L122","v":0}]
[116,"Demandeur de chaleur 116",{"$f":"IF($A131=\"\",\"\",OFFSET('Demandeurs de chaleur'!$C$7,2,$A131-1,1,1))","v":0},{"$f":"IF($A131=\"\",\"\",'Q_del,j et Q_del,dh'!K123)*100","v":100},100,100,100,{"$f":"'Q_del,j et Q_del,dh'!L123","v":0}]
[117,"Demandeur de chaleur 117",{"$f":"IF($A132=\"\",\"\",OFFSET('Demandeurs de chaleur'!$C$7,2,$A132-1,1,1))","v":0},{"$f":"IF($A132=\"\",\"\",'Q_del,j et Q_del,dh'!K124)*100","v":100},100,100,100,{"$f":"'Q_del,j et Q_del,dh'!L124","v":0}]
[118,"Demandeur de chaleur 118",{"$f":"IF($A133=\"\",\"\",OFFSET('Demandeurs de chaleur'!$C$7,2,$A133-1,1,1))","v":0},{"$f":"IF($A133=\"\",\"\",'Q_del,j et Q_del,dh'!K125)*100","v":100},100,100,100,{"$f":"'Q_del,j et Q_del,dh'!L125","v":0}]
[119,"Demandeur de chaleur 119",{"$f":"IF($A134=\"\",\"\",OFFSET('Demandeurs de chaleur'!$C$7,2,$A134-1,1,1))","v":0},{"$f":"IF($A134=\"\",\"\",'Q_del,j et Q_del,dh'!K126)*100","v":100},100,100,100,{"$f":"'Q_del,j et Q_del,dh'!L126","v":0}]
[120,"Demandeur de chaleur 120",{"$f":"IF($A135=\"\",\"\",OFFSET('Demandeurs de chaleur'!$C$7,2,$A135-1,1,1))","v":0},{"$f":"IF($A135=\"\",\"\",'Q_del,j et Q_del,dh'!K127)*100","v":100},100,100,100,{"$f":"'Q_del,j et Q_del,dh'!L127","v":0}]
[121,"Demandeur de chaleur 121",{"$f":"IF($A136=\"\",\"\",OFFSET('Demandeurs de chaleur'!$C$7,2,$A136-1,1,1))","v":0},{"$f":"IF($A136=\"\",\"\",'Q_del,j et Q_del,dh'!K128)*100","v":100},100,100,100,{"$f":"'Q_del,j et Q_del,dh'!L128","v":0}]
[122,"Demandeur de chaleur 122",{"$f":"IF($A137=\"\",\"\",OFFSET('Demandeurs de chaleur'!$C$7,2,$A137-1,1,1))","v":0},{"$f":"IF($A137=\"\",\"\",'Q_del,j et Q_del,dh'!K129)*100","v":100},100,100,100,{"$f":"'Q_del,j et Q_del,dh'!L129","v":0}]
[123,"Demandeur de chaleur 123",{"$f":"IF($A138=\"\",\"\",OFFSET('Demandeurs de chaleur'!$C$7,2,$A138-1,1,1))","v":0},{"$f":"IF($A138=\"\",\"\",'Q_del,j et Q_del,dh'!K130)*100","v":100},100,100,100,{"$f":"'Q_del,j et Q_del,dh'!L130","v":0}]
[124,"Demandeur de chaleur 124",{"$f":"IF($A139=\"\",\"\",OFFSET('Demandeurs de chaleur'!$C$7,2,$A139-1,1,1))","v":0},{"$f":"IF($A139=\"\",\"\",'Q_del,j et Q_del,dh'!K131)*100","v":100},100,100,100,{"$f":"'Q_del,j et Q_del,dh'!L131","v":0}]
[125,"Demandeur de chaleur 125",{"$f":"IF($A140=\"\",\"\",OFFSET('Demandeurs de chaleur'!$C$7,2,$A140-1,1,1))","v":0},{"$f":"IF($A140=\"\",\"\",'Q_del,j et Q_del,dh'!K132)*100","v":100},100,100,100,{"$f":"'Q_del,j et Q_del,dh'!L132","v":0}]
[126,"Demandeur de chaleur 126",{"$f":"IF($A141=\"\",\"\",OFFSET('Demandeurs de chaleur'!$C$7,2,$A141-1,1,1))","v":0},{"$f":"IF($A141=\"\",\"\",'Q_del,j et Q_del,dh'!K133)*100","v":100},100,100,100,{"$f":"'Q_del,j et Q_del,dh'!L133","v":0}]
[127,"Demandeur de chaleur 127",{"$f":"IF($A142=\"\",\"\",OFFSET('Demandeurs de chaleur'!$C$7,2,$A142-1,1,1))","v":0},{"$f":"IF($A142=\"\",\"\",'Q_del,j et Q_del,dh'!K134)*100","v":100},100,100,100,{"$f":"'Q_del,j et Q_del,dh'!L134","v":0}]
[128,"Demandeur de chaleur 128",{"$f":"IF($A143=\"\",\"\",OFFSET('Demandeurs de chaleur'!$C$7,2,$A143-1,1,1))","v":0},{"$f":"IF($A143=\"\",\"\",'Q_del,j et Q_del,dh'!K135)*100","v":100},100,100,100,{"$f":"'Q_del,j et Q_del,dh'!L135","v":0}]
[129,{"$f":"\"Demandeur de chaleur \"&A144","v":"Demandeur de chaleur 129"},{"$f":"IF($A144=\"\",\"\",OFFSET('Demandeurs de chaleur'!$C$7,2,$A144-1,1,1))","v":0},{"$f":"IF($A144=\"\",\"\",'Q_del,j et Q_del,dh'!K136)*100","v":100},100,100,100,{"$f":"'Q_del,j et Q_del,dh'!L136","v":0}]
[130,"Demandeur de chaleur 130",{"$f":"IF($A145=\"\",\"\",OFFSET('Demandeurs de chaleur'!$C$7,2,$A145-1,1,1))","v":0},{"$f":"IF($A145=\"\",\"\",'Q_del,j et Q_del,dh'!K137)*100","v":100},{"$f":"D145","v":100},{"$f":"D145","v":100},{"$f":"D145","v":100},{"$f":"'Q_del,j et Q_del,dh'!L137","v":0}]
[{"$f":"A145+1","v":131},"Demandeur de chaleur 131",{"$f":"IF($A146=\"\",\"\",OFFSET('Demandeurs de chaleur'!$C$7,2,$A146-1,1,1))","v":0},{"$f":"IF($A146=\"\",\"\",'Q_del,j et Q_del,dh'!K138)*100","v":100},100,100,100,{"$f":"'Q_del,j et Q_del,dh'!L138","v":0}]
[132,"Demandeur de chaleur 132",{"$f":"IF($A147=\"\",\"\",OFFSET('Demandeurs de chaleur'!$C$7,2,$A147-1,1,1))","v":0},{"$f":"IF($A147=\"\",\"\",'Q_del,j et Q_del,dh'!K139)*100","v":100},100,100,100,{"$f":"'Q_del,j et Q_del,dh'!L139","v":0}]
[133,"Demandeur de chaleur 133",{"$f":"IF($A148=\"\",\"\",OFFSET('Demandeurs de chaleur'!$C$7,2,$A148-1,1,1))","v":0},{"$f":"IF($A148=\"\",\"\",'Q_del,j et Q_del,dh'!K140)*100","v":100},100,100,100,{"$f":"'Q_del,j et Q_del,dh'!L140","v":0}]
[134,"Demandeur de chaleur 134",{"$f":"IF($A149=\"\",\"\",OFFSET('Demandeurs de chaleur'!$C$7,2,$A149-1,1,1))","v":0},{"$f":"IF($A149=\"\",\"\",'Q_del,j et Q_del,dh'!K141)*100","v":100},100,100,100,{"$f":"'Q_del,j et Q_del,dh'!L141","v":0}]
[135,"Demandeur de chaleur 135",{"$f":"IF($A150=\"\",\"\",OFFSET('Demandeurs de chaleur'!$C$7,2,$A150-1,1,1))","v":0},{"$f":"IF($A150=\"\",\"\",'Q_del,j et Q_del,dh'!K142)*100","v":100},100,100,100,{"$f":"'Q_del,j et Q_del,dh'!L142","v":0}]
[136,"Demandeur de chaleur 136",{"$f":"IF($A151=\"\",\"\",OFFSET('Demandeurs de chaleur'!$C$7,2,$A151-1,1,1))","v":0},{"$f":"IF($A151=\"\",\"\",'Q_del,j et Q_del,dh'!K143)*100","v":100},100,100,100,{"$f":"'Q_del,j et Q_del,dh'!L143","v":0}]
[137,"Demandeur de chaleur 137",{"$f":"IF($A152=\"\",\"\",OFFSET('Demandeurs de chaleur'!$C$7,2,$A152-1,1,1))","v":0},{"$f":"IF($A152=\"\",\"\",'Q_del,j et Q_del,dh'!K144)*100","v":100},100,100,100,{"$f":"'Q_del,j et Q_del,dh'!L144","v":0}]
[138,"Demandeur de chaleur 138",{"$f":"IF($A153=\"\",\"\",OFFSET('Demandeurs de chaleur'!$C$7,2,$A153-1,1,1))","v":0},{"$f":"IF($A153=\"\",\"\",'Q_del,j et Q_del,dh'!K145)*100","v":100},100,100,100,{"$f":"'Q_del,j et Q_del,dh'!L145","v":0}]
[139,"Demandeur de chaleur 139",{"$f":"IF($A154=\"\",\"\",OFFSET('Demandeurs de chaleur'!$C$7,2,$A154-1,1,1))","v":0},{"$f":"IF($A154=\"\",\"\",'Q_del,j et Q_del,dh'!K146)*100","v":100},100,100,100,{"$f":"'Q_del,j et Q_del,dh'!L146","v":0}]
[140,"Demandeur de chaleur 140",{"$f":"IF($A155=\"\",\"\",OFFSET('Demandeurs de chaleur'!$C$7,2,$A155-1,1,1))","v":0},{"$f":"IF($A155=\"\",\"\",'Q_del,j et Q_del,dh'!K147)*100","v":100},100,100,100,{"$f":"'Q_del,j et Q_del,dh'!L147","v":0}]
[141,"Demandeur de chaleur 141",{"$f":"IF($A156=\"\",\"\",OFFSET('Demandeurs de chaleur'!$C$7,2,$A156-1,1,1))","v":0},{"$f":"IF($A156=\"\",\"\",'Q_del,j et Q_del,dh'!K148)*100","v":100},100,100,100,{"$f":"'Q_del,j et Q_del,dh'!L148","v":0}]
[142,"Demandeur de chaleur 142",{"$f":"IF($A157=\"\",\"\",OFFSET('Demandeurs de chaleur'!$C$7,2,$A157-1,1,1))","v":0},{"$f":"IF($A157=\"\",\"\",'Q_del,j et Q_del,dh'!K149)*100","v":100},100,100,100,{"$f":"'Q_del,j et Q_del,dh'!L149","v":0}]
[143,"Demandeur de chaleur 143",{"$f":"IF($A158=\"\",\"\",OFFSET('Demandeurs de chaleur'!$C$7,2,$A158-1,1,1))","v":0},{"$f":"IF($A158=\"\",\"\",'Q_del,j et Q_del,dh'!K150)*100","v":100},100,100,100,{"$f":"'Q_del,j et Q_del,dh'!L150","v":0}]
[144,"Demandeur de chaleur 144",{"$f":"IF($A159=\"\",\"\",OFFSET('Demandeurs de chaleur'!$C$7,2,$A159-1,1,1))","v":0},{"$f":"IF($A159=\"\",\"\",'Q_del,j et Q_del,dh'!K151)*100","v":100},100,100,100,{"$f":"'Q_del,j et Q_del,dh'!L151","v":0}]
[145,"Demandeur de chaleur 145",{"$f":"IF($A160=\"\",\"\",OFFSET('Demandeurs de chaleur'!$C$7,2,$A160-1,1,1))","v":0},{"$f":"IF($A160=\"\",\"\",'Q_del,j et Q_del,dh'!K152)*100","v":100},100,100,100,{"$f":"'Q_del,j et Q_del,dh'!L152","v":0}]
[146,"Demandeur de chaleur 146",{"$f":"IF($A161=\"\",\"\",OFFSET('Demandeurs de chaleur'!$C$7,2,$A161-1,1,1))","v":0},{"$f":"IF($A161=\"\",\"\",'Q_del,j et Q_del,dh'!K153)*100","v":100},100,100,100,{"$f":"'Q_del,j et Q_del,dh'!L153","v":0}]
[147,"Demandeur de chaleur 147",{"$f":"IF($A162=\"\",\"\",OFFSET('Demandeurs de chaleur'!$C$7,2,$A162-1,1,1))","v":0},{"$f":"IF($A162=\"\",\"\",'Q_del,j et Q_del,dh'!K154)*100","v":100},100,100,100,{"$f":"'Q_del,j et Q_del,dh'!L154","v":0}]
[148,"Demandeur de chaleur 148",{"$f":"IF($A163=\"\",\"\",OFFSET('Demandeurs de chaleur'!$C$7,2,$A163-1,1,1))","v":0},{"$f":"IF($A163=\"\",\"\",'Q_del,j et Q_del,dh'!K155)*100","v":100},100,100,100,{"$f":"'Q_del,j et Q_del,dh'!L155","v":0}]
[149,"Demandeur de chaleur 149",{"$f":"IF($A164=\"\",\"\",OFFSET('Demandeurs de chaleur'!$C$7,2,$A164-1,1,1))","v":0},{"$f":"IF($A164=\"\",\"\",'Q_del,j et Q_del,dh'!K156)*100","v":100},100,100,100,{"$f":"'Q_del,j et Q_del,dh'!L156","v":0}]
[150,"Demandeur de chaleur 150",{"$f":"IF($A165=\"\",\"\",OFFSET('Demandeurs de chaleur'!$C$7,2,$A165-1,1,1))","v":0},{"$f":"IF($A165=\"\",\"\",'Q_del,j et Q_del,dh'!K157)*100","v":100},100,100,100,{"$f":"'Q_del,j et Q_del,dh'!L157","v":0}]
[151,"Demandeur de chaleur 151",{"$f":"IF($A166=\"\",\"\",OFFSET('Demandeurs de chaleur'!$C$7,2,$A166-1,1,1))","v":0},{"$f":"IF($A166=\"\",\"\",'Q_del,j et Q_del,dh'!K158)*100","v":100},100,100,100,{"$f":"'Q_del,j et Q_del,dh'!L158","v":0}]
[152,"Demandeur de chaleur 152",{"$f":"IF($A167=\"\",\"\",OFFSET('Demandeurs de chaleur'!$C$7,2,$A167-1,1,1))","v":0},{"$f":"IF($A167=\"\",\"\",'Q_del,j et Q_del,dh'!K159)*100","v":100},100,100,100,{"$f":"'Q_del,j et Q_del,dh'!L159","v":0}]
[153,"Demandeur de chaleur 153",{"$f":"IF($A168=\"\",\"\",OFFSET('Demandeurs de chaleur'!$C$7,2,$A168-1,1,1))","v":0},{"$f":"IF($A168=\"\",\"\",'Q_del,j et Q_del,dh'!K160)*100","v":100},100,100,100,{"$f":"'Q_del,j et Q_del,dh'!L160","v":0}]
[154,"Demandeur de chaleur 154",{"$f":"IF($A169=\"\",\"\",OFFSET('Demandeurs de chaleur'!$C$7,2,$A169-1,1,1))","v":0},{"$f":"IF($A169=\"\",\"\",'Q_del,j et Q_del,dh'!K161)*100","v":100},100,100,100,{"$f":"'Q_del,j et Q_del,dh'!L161","v":0}]
[155,"Demandeur de chaleur 155",{"$f":"IF($A170=\"\",\"\",OFFSET('Demandeurs de chaleur'!$C$7,2,$A170-1,1,1))","v":0},{"$f":"IF($A170=\"\",\"\",'Q_del,j et Q_del,dh'!K162)*100","v":100},100,100,100,{"$f":"'Q_del,j et Q_del,dh'!L162","v":0}]
[156,"Demandeur de chaleur 156",{"$f":"IF($A171=\"\",\"\",OFFSET('Demandeurs de chaleur'!$C$7,2,$A171-1,1,1))","v":0},{"$f":"IF($A171=\"\",\"\",'Q_del,j et Q_del,dh'!K163)*100","v":100},100,100,100,{"$f":"'Q_del,j et Q_del,dh'!L163","v":0}]
[157,"Demandeur de chaleur 157",{"$f":"IF($A172=\"\",\"\",OFFSET('Demandeurs de chaleur'!$C$7,2,$A172-1,1,1))","v":0},{"$f":"IF($A172=\"\",\"\",'Q_del,j et Q_del,dh'!K164)*100","v":100},100,100,100,{"$f":"'Q_del,j et Q_del,dh'!L164","v":0}]
[158,"Demandeur de chaleur 158",{"$f":"IF($A173=\"\",\"\",OFFSET('Demandeurs de chaleur'!$C$7,2,$A173-1,1,1))","v":0},{"$f":"IF($A173=\"\",\"\",'Q_del,j et Q_del,dh'!K165)*100","v":100},100,100,100,{"$f":"'Q_del,j et Q_del,dh'!L165","v":0}]
[159,"Demandeur de chaleur 159",{"$f":"IF($A174=\"\",\"\",OFFSET('Demandeurs de chaleur'!$C$7,2,$A174-1,1,1))","v":0},{"$f":"IF($A174=\"\",\"\",'Q_del,j et Q_del,dh'!K166)*100","v":100},100,100,100,{"$f":"'Q_del,j et Q_del,dh'!L166","v":0}]
[160,"Demandeur de chaleur 160",{"$f":"IF($A175=\"\",\"\",OFFSET('Demandeurs de chaleur'!$C$7,2,$A175-1,1,1))","v":0},{"$f":"IF($A175=\"\",\"\",'Q_del,j et Q_del,dh'!K167)*100","v":100},100,100,100,{"$f":"'Q_del,j et Q_del,dh'!L167","v":0}]
[161,{"$f":"\"Demandeur de chaleur \"&A176","v":"Demandeur de chaleur 161"},{"$f":"IF($A176=\"\",\"\",OFFSET('Demandeurs de chaleur'!$C$7,2,$A176-1,1,1))","v":0},{"$f":"IF($A176=\"\",\"\",'Q_del,j et Q_del,dh'!K168)*100","v":100},100,100,100,{"$f":"'Q_del,j et Q_del,dh'!L168","v":0}]
[162,"Demandeur de chaleur 162",{"$f":"IF($A177=\"\",\"\",OFFSET('Demandeurs de chaleur'!$C$7,2,$A177-1,1,1))","v":0},{"$f":"IF($A177=\"\",\"\",'Q_del,j et Q_del,dh'!K169)*100","v":100},100,100,100,{"$f":"'Q_del,j et Q_del,dh'!L169","v":0}]
[163,"Demandeur de chaleur 163",{"$f":"IF($A178=\"\",\"\",OFFSET('Demandeurs de chaleur'!$C$7,2,$A178-1,1,1))","v":0},{"$f":"IF($A178=\"\",\"\",'Q_del,j et Q_del,dh'!K170)*100","v":100},100,100,100,{"$f":"'Q_del,j et Q_del,dh'!L170","v":0}]
[164,"Demandeur de chaleur 164",{"$f":"IF($A179=\"\",\"\",OFFSET('Demandeurs de chaleur'!$C$7,2,$A179-1,1,1))","v":0},{"$f":"IF($A179=\"\",\"\",'Q_del,j et Q_del,dh'!K171)*100","v":100},100,100,100,{"$f":"'Q_del,j et Q_del,dh'!L171","v":0}]
[165,"Demandeur de chaleur 165",{"$f":"IF($A180=\"\",\"\",OFFSET('Demandeurs de chaleur'!$C$7,2,$A180-1,1,1))","v":0},{"$f":"IF($A180=\"\",\"\",'Q_del,j et Q_del,dh'!K172)*100","v":100},100,100,100,{"$f":"'Q_del,j et Q_del,dh'!L172","v":0}]
[166,"Demandeur de chaleur 166",{"$f":"IF($A181=\"\",\"\",OFFSET('Demandeurs de chaleur'!$C$7,2,$A181-1,1,1))","v":0},{"$f":"IF($A181=\"\",\"\",'Q_del,j et Q_del,dh'!K173)*100","v":100},100,100,100,{"$f":"'Q_del,j et Q_del,dh'!L173","v":0}]
[167,"Demandeur de chaleur 167",{"$f":"IF($A182=\"\",\"\",OFFSET('Demandeurs de chaleur'!$C$7,2,$A182-1,1,1))","v":0},{"$f":"IF($A182=\"\",\"\",'Q_del,j et Q_del,dh'!K174)*100","v":100},100,100,100,{"$f":"'Q_del,j et Q_del,dh'!L174","v":0}]
[168,"Demandeur de chaleur 168",{"$f":"IF($A183=\"\",\"\",OFFSET('Demandeurs de chaleur'!$C$7,2,$A183-1,1,1))","v":0},{"$f":"IF($A183=\"\",\"\",'Q_del,j et Q_del,dh'!K175)*100","v":100},100,100,100,{"$f":"'Q_del,j et Q_del,dh'!L175","v":0}]
[169,"Demandeur de chaleur 169",{"$f":"IF($A184=\"\",\"\",OFFSET('Demandeurs de chaleur'!$C$7,2,$A184-1,1,1))","v":0},{"$f":"IF($A184=\"\",\"\",'Q_del,j et Q_del,dh'!K176)*100","v":100},100,100,100,{"$f":"'Q_del,j et Q_del,dh'!L176","v":0}]
[170,"Demandeur de chaleur 170",{"$f":"IF($A185=\"\",\"\",OFFSET('Demandeurs de chaleur'!$C$7,2,$A185-1,1,1))","v":0},{"$f":"IF($A185=\"\",\"\",'Q_del,j et Q_del,dh'!K177)*100","v":100},100,100,100,{"$f":"'Q_del,j et Q_del,dh'!L177","v":0}]
[171,"Demandeur de chaleur 171",{"$f":"IF($A186=\"\",\"\",OFFSET('Demandeurs de chaleur'!$C$7,2,$A186-1,1,1))","v":0},{"$f":"IF($A186=\"\",\"\",'Q_del,j et Q_del,dh'!K178)*100","v":100},100,100,100,{"$f":"'Q_del,j et Q_del,dh'!L178","v":0}]
[172,"Demandeur de chaleur 172",{"$f":"IF($A187=\"\",\"\",OFFSET('Demandeurs de chaleur'!$C$7,2,$A187-1,1,1))","v":0},{"$f":"IF($A187=\"\",\"\",'Q_del,j et Q_del,dh'!K179)*100","v":100},100,100,100,{"$f":"'Q_del,j et Q_del,dh'!L179","v":0}]
[173,"Demandeur de chaleur 173",{"$f":"IF($A188=\"\",\"\",OFFSET('Demandeurs de chaleur'!$C$7,2,$A188-1,1,1))","v":0},{"$f":"IF($A188=\"\",\"\",'Q_del,j et Q_del,dh'!K180)*100","v":100},100,100,100,{"$f":"'Q_del,j et Q_del,dh'!L180","v":0}]
[174,"Demandeur de chaleur 174",{"$f":"IF($A189=\"\",\"\",OFFSET('Demandeurs de chaleur'!$C$7,2,$A189-1,1,1))","v":0},{"$f":"IF($A189=\"\",\"\",'Q_del,j et Q_del,dh'!K181)*100","v":100},100,100,100,{"$f":"'Q_del,j et Q_del,dh'!L181","v":0}]
[175,"Demandeur de chaleur 175",{"$f":"IF($A190=\"\",\"\",OFFSET('Demandeurs de chaleur'!$C$7,2,$A190-1,1,1))","v":0},{"$f":"IF($A190=\"\",\"\",'Q_del,j et Q_del,dh'!K182)*100","v":100},100,100,100,{"$f":"'Q_del,j et Q_del,dh'!L182","v":0}]
[176,"Demandeur de chaleur 176",{"$f":"IF($A191=\"\",\"\",OFFSET('Demandeurs de chaleur'!$C$7,2,$A191-1,1,1))","v":0},{"$f":"IF($A191=\"\",\"\",'Q_del,j et Q_del,dh'!K183)*100","v":100},100,100,100,{"$f":"'Q_del,j et Q_del,dh'!L183","v":0}]
[177,"Demandeur de chaleur 177",{"$f":"IF($A192=\"\",\"\",OFFSET('Demandeurs de chaleur'!$C$7,2,$A192-1,1,1))","v":0},{"$f":"IF($A192=\"\",\"\",'Q_del,j et Q_del,dh'!K184)*100","v":100},100,100,100,{"$f":"'Q_del,j et Q_del,dh'!L184","v":0}]
[178,"Demandeur de chaleur 178",{"$f":"IF($A193=\"\",\"\",OFFSET('Demandeurs de chaleur'!$C$7,2,$A193-1,1,1))","v":0},{"$f":"IF($A193=\"\",\"\",'Q_del,j et Q_del,dh'!K185)*100","v":100},100,100,100,{"$f":"'Q_del,j et Q_del,dh'!L185","v":0}]
[179,"Demandeur de chaleur 179",{"$f":"IF($A194=\"\",\"\",OFFSET('Demandeurs de chaleur'!$C$7,2,$A194-1,1,1))","v":0},{"$f":"IF($A194=\"\",\"\",'Q_del,j et Q_del,dh'!K186)*100","v":100},100,100,100,{"$f":"'Q_del,j et Q_del,dh'!L186","v":0}]
[180,"Demandeur de chaleur 180",{"$f":"IF($A195=\"\",\"\",OFFSET('Demandeurs de chaleur'!$C$7,2,$A195-1,1,1))","v":0},{"$f":"IF($A195=\"\",\"\",'Q_del,j et Q_del,dh'!K187)*100","v":100},100,100,100,{"$f":"'Q_del,j et Q_del,dh'!L187","v":0}]
[181,"Demandeur de chaleur 181",{"$f":"IF($A196=\"\",\"\",OFFSET('Demandeurs de chaleur'!$C$7,2,$A196-1,1,1))","v":0},{"$f":"IF($A196=\"\",\"\",'Q_del,j et Q_del,dh'!K188)*100","v":100},100,100,100,{"$f":"'Q_del,j et Q_del,dh'!L188","v":0}]
[182,"Demandeur de chaleur 182",{"$f":"IF($A197=\"\",\"\",OFFSET('Demandeurs de chaleur'!$C$7,2,$A197-1,1,1))","v":0},{"$f":"IF($A197=\"\",\"\",'Q_del,j et Q_del,dh'!K189)*100","v":100},100,100,100,{"$f":"'Q_del,j et Q_del,dh'!L189","v":0}]
[183,"Demandeur de chaleur 183",{"$f":"IF($A198=\"\",\"\",OFFSET('Demandeurs de chaleur'!$C$7,2,$A198-1,1,1))","v":0},{"$f":"IF($A198=\"\",\"\",'Q_del,j et Q_del,dh'!K190)*100","v":100},100,100,100,{"$f":"'Q_del,j et Q_del,dh'!L190","v":0}]
[184,"Demandeur de chaleur 184",{"$f":"IF($A199=\"\",\"\",OFFSET('Demandeurs de chaleur'!$C$7,2,$A199-1,1,1))","v":0},{"$f":"IF($A199=\"\",\"\",'Q_del,j et Q_del,dh'!K191)*100","v":100},100,100,100,{"$f":"'Q_del,j et Q_del,dh'!L191","v":0}]
[185,"Demandeur de chaleur 185",{"$f":"IF($A200=\"\",\"\",OFFSET('Demandeurs de chaleur'!$C$7,2,$A200-1,1,1))","v":0},{"$f":"IF($A200=\"\",\"\",'Q_del,j et Q_del,dh'!K192)*100","v":100},100,100,100,{"$f":"'Q_del,j et Q_del,dh'!L192","v":0}]
[186,"Demandeur de chaleur 186",{"$f":"IF($A201=\"\",\"\",OFFSET('Demandeurs de chaleur'!$C$7,2,$A201-1,1,1))","v":0},{"$f":"IF($A201=\"\",\"\",'Q_del,j et Q_del,dh'!K193)*100","v":100},100,100,100,{"$f":"'Q_del,j et Q_del,dh'!L193","v":0}]
[187,"Demandeur de chaleur 187",{"$f":"IF($A202=\"\",\"\",OFFSET('Demandeurs de chaleur'!$C$7,2,$A202-1,1,1))","v":0},{"$f":"IF($A202=\"\",\"\",'Q_del,j et Q_del,dh'!K194)*100","v":100},100,100,100,{"$f":"'Q_del,j et Q_del,dh'!L194","v":0}]
[188,"Demandeur de chaleur 188",{"$f":"IF($A203=\"\",\"\",OFFSET('Demandeurs de chaleur'!$C$7,2,$A203-1,1,1))","v":0},{"$f":"IF($A203=\"\",\"\",'Q_del,j et Q_del,dh'!K195)*100","v":100},100,100,100,{"$f":"'Q_del,j et Q_del,dh'!L195","v":0}]
[189,"Demandeur de chaleur 189",{"$f":"IF($A204=\"\",\"\",OFFSET('Demandeurs de chaleur'!$C$7,2,$A204-1,1,1))","v":0},{"$f":"IF($A204=\"\",\"\",'Q_del,j et Q_del,dh'!K196)*100","v":100},100,100,100,{"$f":"'Q_del,j et Q_del,dh'!L196","v":0}]
[190,"Demandeur de chaleur 190",{"$f":"IF($A205=\"\",\"\",OFFSET('Demandeurs de chaleur'!$C$7,2,$A205-1,1,1))","v":0},{"$f":"IF($A205=\"\",\"\",'Q_del,j et Q_del,dh'!K197)*100","v":100},100,100,100,{"$f":"'Q_del,j et Q_del,dh'!L197","v":0}]
[191,"Demandeur de chaleur 191",{"$f":"IF($A206=\"\",\"\",OFFSET('Demandeurs de chaleur'!$C$7,2,$A206-1,1,1))","v":0},{"$f":"IF($A206=\"\",\"\",'Q_del,j et Q_del,dh'!K198)*100","v":100},100,100,100,{"$f":"'Q_del,j et Q_del,dh'!L198","v":0}]
[192,"Demandeur de chaleur 192",{"$f":"IF($A207=\"\",\"\",OFFSET('Demandeurs de chaleur'!$C$7,2,$A207-1,1,1))","v":0},{"$f":"IF($A207=\"\",\"\",'Q_del,j et Q_del,dh'!K199)*100","v":100},100,100,100,{"$f":"'Q_del,j et Q_del,dh'!L199","v":0}]
[193,{"$f":"\"Demandeur de chaleur \"&A208","v":"Demandeur de chaleur 193"},{"$f":"IF($A208=\"\",\"\",OFFSET('Demandeurs de chaleur'!$C$7,2,$A208-1,1,1))","v":0},{"$f":"IF($A208=\"\",\"\",'Q_del,j et Q_del,dh'!K200)*100","v":100},100,100,100,{"$f":"'Q_del,j et Q_del,dh'!L200","v":0}]
[194,"Demandeur de chaleur 194",{"$f":"IF($A209=\"\",\"\",OFFSET('Demandeurs de chaleur'!$C$7,2,$A209-1,1,1))","v":0},{"$f":"IF($A209=\"\",\"\",'Q_del,j et Q_del,dh'!K201)*100","v":100},{"$f":"D209","v":100},{"$f":"D209","v":100},{"$f":"D209","v":100},{"$f":"'Q_del,j et Q_del,dh'!L201","v":0}]
[{"$f":"A209+1","v":195},"Demandeur de chaleur 195",{"$f":"IF($A210=\"\",\"\",OFFSET('Demandeurs de chaleur'!$C$7,2,$A210-1,1,1))","v":0},{"$f":"IF($A210=\"\",\"\",'Q_del,j et Q_del,dh'!K202)*100","v":100},100,100,100,{"$f":"'Q_del,j et Q_del,dh'!L202","v":0}]
[196,"Demandeur de chaleur 196",{"$f":"IF($A211=\"\",\"\",OFFSET('Demandeurs de chaleur'!$C$7,2,$A211-1,1,1))","v":0},{"$f":"IF($A211=\"\",\"\",'Q_del,j et Q_del,dh'!K203)*100","v":100},100,100,100,{"$f":"'Q_del,j et Q_del,dh'!L203","v":0}]
[197,"Demandeur de chaleur 197",{"$f":"IF($A212=\"\",\"\",OFFSET('Demandeurs de chaleur'!$C$7,2,$A212-1,1,1))","v":0},{"$f":"IF($A212=\"\",\"\",'Q_del,j et Q_del,dh'!K204)*100","v":100},100,100,100,{"$f":"'Q_del,j et Q_del,dh'!L204","v":0}]
[198,"Demandeur de chaleur 198",{"$f":"IF($A213=\"\",\"\",OFFSET('Demandeurs de chaleur'!$C$7,2,$A213-1,1,1))","v":0},{"$f":"IF($A213=\"\",\"\",'Q_del,j et Q_del,dh'!K205)*100","v":100},100,100,100,{"$f":"'Q_del,j et Q_del,dh'!L205","v":0}]
[199,"Demandeur de chaleur 199",{"$f":"IF($A214=\"\",\"\",OFFSET('Demandeurs de chaleur'!$C$7,2,$A214-1,1,1))","v":0},{"$f":"IF($A214=\"\",\"\",'Q_del,j et Q_del,dh'!K206)*100","v":100},100,100,100,{"$f":"'Q_del,j et Q_del,dh'!L206","v":0}]
[200,"Demandeur de chaleur 200",{"$f":"IF($A215=\"\",\"\",OFFSET('Demandeurs de chaleur'!$C$7,2,$A215-1,1,1))","v":0},{"$f":"IF($A215=\"\",\"\",'Q_del,j et Q_del,dh'!K207)*100","v":100},{"$f":"D215","v":100},{"$f":"D215","v":100},{"$f":"D215","v":100},{"$f":"'Q_del,j et Q_del,dh'!L207","v":0}]

{"sheet":"Générateurs de chaleur","index":4,"n_rows":108,"n_cols":12,"rows_kept":108,"cut":false,"hidden":false,"merged":[[71,0,71,1],[49,0,49,1],[50,0,50,1],[51,0,51,1],[42,0,42,1],[44,0,44,1],[45,0,45,1],[46,0,46,1],[47,0,47,1],[48,0,48,1],[39,0,39,1],[36,0,36,1],[68,0,68,1],[69,0,69,1],[61,0,61,1],[62,0,62,1],[63,0,63,1],[64,0,64,1],[65,0,65,1],[66,0,66,1],[37,0,37,1],[38,0,38,1],[2,0,2,1],[6,0,6,1],[7,0,7,1],[8,0,8,1],[67,0,67,1],[56,0,56,1],[57,0,57,1],[60,0,60,1],[53,0,53,1],[54,0,54,1],[55,0,55,1],[58,0,58,1],[59,0,59,1],[52,0,52,1],[40,0,40,1],[41,0,41,1],[9,0,9,1],[19,0,19,1],[21,0,21,1],[24,0,24,1],[25,0,25,1],[20,0,20,1],[11,0,11,1],[12,0,12,1],[13,0,13,1],[15,0,15,1],[16,0,16,1],[14,0,14,1],[1,0,1,1],[35,0,35,1],[22,0,22,1],[23,0,23,1],[31,0,31,1],[32,0,32,1],[33,0,33,1],[34,0,34,1],[26,0,26,1],[27,0,27,1],[28,0,28,1],[29,0,29,1],[30,0,30,1],[18,0,18,1],[17,0,17,1],[10,0,10,1],[115,0,115,1],[116,0,116,1],[117,0,117,1],[118,0,118,1],[109,0,109,1],[110,0,110,1],[111,0,111,1],[112,0,112,1],[113,0,113,1],[136,0,136,1],[137,0,137,1],[138,0,138,1],[129,0,129,1],[130,0,130,1],[131,0,131,1],[132,0,132,1],[133,0,133,1],[3,0,3,1],[4,0,4,1],[5,0,5,1],[134,0,134,1],[135,0,135,1],[124,0,124,1],[125,0,125,1],[126,0,126,1],[127,0,127,1],[128,0,128,1],[119,0,119,1],[120,0,120,1],[121,0,121,1],[122,0,122,1],[123,0,123,1],[114,0,114,1]]}
["Générateurs de chaleur du système de fourniture de chaleur externe"]
[]
["1. Caractéristiques des générateurs de chaleur",null,{"$f":"\"Générateur \"&C$108","v":"Générateur 1"},"Générateur 2","Générateur 3","Générateur 4","Générateur 5","Générateur 6","Générateur 7","Générateur 8","Générateur 9","Générateur 10"]
["Nom / Description"]
["Générateur de chaleur existant ou neuf ?"]
["Pour un nouveau générateur : timing de l'installation"]
["Type de générateur"]
["Vecteur énergétique"]
["Puissance thermique [kW]"]
["Consommation annuelle d'énergie du vecteur énergétique pour la production de chaleur du générateur k sur base de valeur(s) issue(s) de mesure(s) ou de facture(s) Egen,i,k [MJ]"]
["Utilisation de la valeur par défaut pour le rendement de production ?"]
["Générateur de chaleur résiduelle : Est-ce que le générateur utilise-t-il de la chaleur résiduelle telle que définie dans l'annexe 4 de l'AM du 18 janvier 2019? "]
["Réseau de chaleur pré-existant : Puissance de l'échangeur ou de la sous-station pour le transfert de chaleur du système pré-existant vers le projet et basée sur la fiche technique [kW]"]
["Réseau de chaleur pré-existant : Facteur de conversion en énergie primaire équivalent du système de fourniture de chaleur externe pré-existant [-]"]
["Réseau de chaleur pré-existant : Part d'énergie renouvelable du système de fourniture de chaleur externe pré-existant [-]"]
["Réseau de chaleur pré-existant : Présence d'un échangeur ou d'une sous-station pour le transfert de chaleur à partir du système pré-existant ?"]
["Réseau de chaleur pré-existant : L'échangeur ou la sous-station utilisée pour le transfert de chaleur à partir du système pré-existant est-il suffisament isolé ?"]
["Chaudière : Rendement à 30% de charge [-]"]
["Chaudière : Température de retour à 30% de charge [°C]"]
["Chaudière : Température de retour de conception du système d'émission [°C]"]
["Chaudière/Cogénération : Part du combustible de la chaudière ou de la cogénération issue de combustible bio-organiques [-]"]
["Cogénération : Type \n"]
["Cogénération : Méthode de détermination de la production annuelle d'électricité par la cogénération"]
["Cogénération : Production annuelle d'électricité par la cogénération sur base de valeur(s) issue(s) de mesure(s) [MJ]"]
["Cogénération : Puissance électrique connue ?"]
["Cogénération : Puissance électrique [kW]"]
["Cogénération : Puissance électrique [kW] (Résultat)",null,{"$f":"IF(C47=5,IF(C$49=1,C$26,C$55*(C$9^C$56)),0)","v":0},{"$f":"IF(D47=5,IF(D$49=1,D$26,D$55*(D$9^D$56)),0)","v":0},0,0,0,0,0,0,0,0]
["Pompe à chaleur : Le coefficient de performance dans les conditions de test (COPtest)"]
["Pompe à chaleur : Source de chaleur"]
["Pompe à chaleur : Température de départ de conception vers le système de fourniture de chaleur externe [°C]"]
["Pompe à chaleur : Écart de température entre le départ et le retour vers le système de fourniture de chaleur externe, dans les conditions de conception [°C]"]
["Pompe à chaleur : Augmentation de la température de l'eau à travers le condenseur, déterminée selon la NBN EN 14511 [°C]"]
["Pompe(s) de l'évaporateur de la pompe à chaleur : Puissance électrique de la pompe connue ? "]
["Pompe(s) sur le circuit vers l'évaporateur de la pompe à chaleur : Puissance électrique de la pompe [kW]"]
["Pompe à chaleur : Puissance électrique de la pompe à chaleur selon la EN 14511, dans les mêmes conditions de tests que celles pour lesquelles le COPtest a été déterminé [kW]"]
["La quantité de chaleur qui est produite annuellement par le générateur de chaleur pour le système de fourniture de chaleur externe sur base de valeur(s) issue(s) de mesure(s) [MJ]"]
[]
["2. Générateurs de chaleur - Résultats",null,{"$f":"\"Générateur \"&C$108","v":"Générateur 1"},"Générateur 2","Générateur 3","Générateur 4","Générateur 5","Générateur 6","Générateur 7","Générateur 8","Générateur 9","Générateur 10"]
["hgen,heat,i,k [-]",null,{"$f":"C$67","v":1},1,1,1,1,1,1,1,1,1]
["fp,i [-]",null,{"$f":"C$68","v":{"$error":"#N/A"}},{"$f":"D$68","v":{"$error":"#N/A"}},{"$f":"E$68","v":{"$error":"#N/A"}},{"$error":"#N/A"},{"$f":"G$68","v":{"$error":"#N/A"}},{"$error":"#N/A"},{"$f":"I$68","v":{"$error":"#N/A"}},{"$error":"#N/A"},{"$f":"K$68","v":{"$error":"#N/A"}},{"$error":"#N/A"}]
["Pgen,k [kW]",null,{"$f":"IF(C$47=1,C$13,C$9)","v":0},0,0,0,0,0,0,0,0,0]
["fheat,k [-]",null,{"$f":"C$85","v":1},{"$f":"D$85","v":0},{"$f":"E$85","v":0},0,{"$f":"G$85","v":0},0,{"$f":"I$85","v":0},0,{"$f":"K$85","v":0},0]
["Egen,i,k [MJ]",null,{"$f":"IF(DÉMARRER!$C$5='Listes de sélection'!$A$174,'Générateurs de chaleur'!C$10,C$42*'fp,dh et balance énergétique'!$B$6/'Générateurs de chaleur'!C$39)","v":{"$error":"#VALUE!"}},{"$f":"IF(DÉMARRER!$C$5='Listes de sélection'!$A$174,'Générateurs de chaleur'!D$10,D$42*'fp,dh et balance énergétique'!$B$6/'Générateurs de chaleur'!D$39)","v":{"$error":"#VALUE!"}},{"$f":"IF(DÉMARRER!$C$5='Listes de sélection'!$A$174,'Générateurs de chaleur'!E$10,E$42*'fp,dh et balance énergétique'!$B$6/'Générateurs de chaleur'!E$39)","v":{"$error":"#VALUE!"}},{"$f":"IF(DÉMARRER!$C$5='Listes de sélection'!$A$174,'Générateurs de chaleur'!F$10,F$42*'fp,dh et balance énergétique'!$B$6/'Générateurs de chaleur'!F$39)","v":{"$error":"#VALUE!"}},{"$f":"IF(DÉMARRER!$C$5='Listes de sélection'!$A$174,'Générateurs de chaleur'!G$10,G$42*'fp,dh et balance énergétique'!$B$6/'Générateurs de chaleur'!G$39)","v":{"$error":"#VALUE!"}},{"$f":"IF(DÉMARRER!$C$5='Listes de sélection'!$A$174,'Générateurs de chaleur'!H$10,H$42*'fp,dh et balance énergétique'!$B$6/'Générateurs de chaleur'!H$39)","v":{"$error":"#VALUE!"}},{"$f":"IF(DÉMARRER!$C$5='Listes de sélection'!$A$174,'Générateurs de chaleur'!I$10,I$42*'fp,dh et balance énergétique'!$B$6/'Générateurs de chaleur'!I$39)","v":{"$error":"#VALUE!"}},{"$f":"IF(DÉMARRER!$C$5='Listes de sélection'!$A$174,'Générateurs de chaleur'!J$10,J$42*'fp,dh et balance énergétique'!$B$6/'Générateurs de chaleur'!J$39)","v":{"$error":"#VALUE!"}},{"$f":"IF(DÉMARRER!$C$5='Listes de sélection'!$A$174,'Générateurs de chaleur'!K$10,K$42*'fp,dh et balance énergétique'!$B$6/'Générateurs de chaleur'!K$39)","v":{"$error":"#VALUE!"}},{"$f":"IF(DÉMARRER!$C$5='Listes de sélection'!$A$174,'Générateurs de chaleur'!L$10,L$42*'fp,dh et balance énergétique'!$B$6/'Générateurs de chaleur'!L$39)","v":{"$error":"#VALUE!"}}]
["fRE,k [-]",null,{"$f":"C102","v":0},{"$f":"D102","v":0},{"$f":"E102","v":0},0,{"$f":"G102","v":0},{"$f":"H102","v":0},{"$f":"I102","v":0},{"$f":"J102","v":0},{"$f":"K102","v":0},{"$f":"L102","v":0}]
[]
["3. Calculs nécessaire pour le rendement - Masquer à partir d'ici",null,{"$f":"\"Générateur \"&C$108","v":"Générateur 1"},"Générateur 2","Générateur 3","Générateur 4","Générateur 5","Générateur 6","Générateur 7","Générateur 8","Générateur 9","Générateur 10"]
["Index - Générateur de chaleur",null,{"$f":"IF(C$7=\"\",0,VLOOKUP(C$7,T_opwekkers,2,FALSE))","v":0},{"$f":"IF(D$7=\"\",0,VLOOKUP(D$7,T_opwekkers,2,FALSE))","v":0},0,0,0,0,0,0,0,0]
["Index - Cogénération",null,{"$f":"IF(C$47=5,VLOOKUP(C$22,TTypeWKK,2,FALSE),0)","v":0},0,0,0,0,0,0,0,0,0]
["Cogénération - Index Puissance connue",null,{"$f":"IF(C$47=5,IF(C$48=5,1,VLOOKUP(C$25,T_JaNee,2,FALSE)),0)","v":0},0,0,0,0,0,0,0,0,0]
["Cogénération - Index Puissance électrique (index d'aide pour colonne a elec, ...)",null,{"$f":"IF(C$47=5,IF(C$48=5,\"nvt\",IF(C$27<5,3,IF(C$27<=5000,4,5))),0)","v":0},0,0,0,0,0,0,0,0,0]
["Cogénération - a elec",null,{"$f":"IF(C$47=5,IF(C$48=5,\"nvt\",VLOOKUP(C$22,TTypeWKK,C$50)),0)","v":0},0,0,0,0,0,0,0,0,0]
["Cogénération - b elec",null,{"$f":"IF(C$47=5,IF(C$48=5,\"nvt\",VLOOKUP(C$22,TTypeWKK,C$50+3)),0)","v":0},0,0,0,0,0,0,0,0,0]
["Cogénération - a th",null,{"$f":"IF(C$47=5,IF(C$48=5,\"nvt\",VLOOKUP(C$22,TTypeWKK,C$50+6)),0)","v":0},0,0,0,0,0,0,0,0,0]
["Cogénération - b th",null,{"$f":"IF(C$47=5,IF(C$48=5,\"nvt\",VLOOKUP(C$22,TTypeWKK,C$50+9)),0)","v":0},0,0,0,0,0,0,0,0,0]
["Cogénération - a",null,{"$f":"IF(C$47=5,IF(C$48=5,\"nvt\",IF(C$49=1,\"nvt\",VLOOKUP(C$22,TTypeWKK,15))),0)","v":0},0,0,0,0,0,0,0,0,0]
["Cogénération - b",null,{"$f":"IF(C$47=5,IF(C$48=5,\"nvt\",IF(C$49=1,\"nvt\",VLOOKUP(C$22,TTypeWKK,16))),0)","v":0},0,0,0,0,0,0,0,0,0]
["Cogénération - Rendement électrique conventionel",null,{"$f":"IF(C$47=5,IF(C$48=5,0.77*C$27/(C$27+C$9),C$51*C$27^C$52),0)","v":0},0,0,0,0,0,0,0,0,0]
["Cogénération - Rendement thermique conventionel",null,{"$f":"IF(C$47=5,IF(C$48=5,0.77*C$9/(C$9+C$27),C$53*(C$27^C$54)),0)","v":0},0,0,0,0,0,0,0,0,0]
["PAC - Index Source de chaleur",null,{"$f":"IF(C$47=7,VLOOKUP(C$29,T_Warmtebron,2,FALSE),0)","v":0},0,0,0,0,0,0,0,0,0]
["PAC - Index pour l'affichage de la pompe",null,{"$f":"IF(C$47=7,IF('Générateurs de chaleur'!C$59=1,1,IF('Générateurs de chaleur'!C$59=3,1,IF('Générateurs de chaleur'!C$59=4,1,0))),0)","v":0},{"$f":"IF(D$47=7,IF('Générateurs de chaleur'!D$59=1,1,IF('Générateurs de chaleur'!D$59=3,1,IF('Générateurs de chaleur'!D$59=4,1,0))),0)","v":0},{"$f":"IF(E$47=7,IF('Générateurs de chaleur'!E$59=1,1,IF('Générateurs de chaleur'!E$59=3,1,IF('Générateurs de chaleur'!E$59=4,1,0))),0)","v":0},{"$f":"IF(F$47=7,IF('Générateurs de chaleur'!F$59=1,1,IF('Générateurs de chaleur'!F$59=3,1,IF('Générateurs de chaleur'!F$59=4,1,0))),0)","v":0},{"$f":"IF(G$47=7,IF('Générateurs de chaleur'!G$59=1,1,IF('Générateurs de chaleur'!G$59=3,1,IF('Générateurs de chaleur'!G$59=4,1,0))),0)","v":0},{"$f":"IF(H$47=7,IF('Générateurs de chaleur'!H$59=1,1,IF('Générateurs de chaleur'!H$59=3,1,IF('Générateurs de chaleur'!H$59=4,1,0))),0)","v":0},{"$f":"IF(I$47=7,IF('Générateurs de chaleur'!I$59=1,1,IF('Générateurs de chaleur'!I$59=3,1,IF('Générateurs de chaleur'!I$59=4,1,0))),0)","v":0},{"$f":"IF(J$47=7,IF('Générateurs de chaleur'!J$59=1,1,IF('Générateurs de chaleur'!J$59=3,1,IF('Générateurs de chaleur'!J$59=4,1,0))),0)","v":0},{"$f":"IF(K$47=7,IF('Générateurs de chaleur'!K$59=1,1,IF('Générateurs de chaleur'!K$59=3,1,IF('Générateurs de chaleur'!K$59=4,1,0))),0)","v":0},{"$f":"IF(L$47=7,IF('Générateurs de chaleur'!L$59=1,1,IF('Générateurs de chaleur'!L$59=3,1,IF('Générateurs de chaleur'!L$59=4,1,0))),0)","v":0}]
["PAC - fθ",null,{"$f":"IF(C$47=7,1+0.01*(43-C$30),0)","v":0},0,0,0,0,0,0,0,0,0]
["PAC - fΔθ",null,{"$f":"IF(C$47=7,1+0.01*(C$31-C$32),0)","v":0},0,0,0,0,0,0,0,0,0]
["PAC - fpumps",null,{"$f":"IF(C$47=7,IF(OR(C$59=1,C$59=3,C$59=4),IF(C$33='Listes de sélection'!$A$18,5/6,1/(1+C$34/C$35)),1),0)","v":0},{"$f":"IF(D$47=7,IF(OR(D$59=1,D$59=3,D$59=4),IF(D$33='Listes de sélection'!$A$18,5/6,1/(1+D$34/D$35)),1),0)","v":0},{"$f":"IF(E$47=7,IF(OR(E$59=1,E$59=3,E$59=4),IF(E$33='Listes de sélection'!$A$18,5/6,1/(1+E$34/E$35)),1),0)","v":0},{"$f":"IF(F$47=7,IF(OR(F$59=1,F$59=3,F$59=4),IF(F$33='Listes de sélection'!$A$18,5/6,1/(1+F$34/F$35)),1),0)","v":0},{"$f":"IF(G$47=7,IF(OR(G$59=1,G$59=3,G$59=4),IF(G$33='Listes de sélection'!$A$18,5/6,1/(1+G$34/G$35)),1),0)","v":0},{"$f":"IF(H$47=7,IF(OR(H$59=1,H$59=3,H$59=4),IF(H$33='Listes de sélection'!$A$18,5/6,1/(1+H$34/H$35)),1),0)","v":0},{"$f":"IF(I$47=7,IF(OR(I$59=1,I$59=3,I$59=4),IF(I$33='Listes de sélection'!$A$18,5/6,1/(1+I$34/I$35)),1),0)","v":0},{"$f":"IF(J$47=7,IF(OR(J$59=1,J$59=3,J$59=4),IF(J$33='Listes de sélection'!$A$18,5/6,1/(1+J$34/J$35)),1),0)","v":0},{"$f":"IF(K$47=7,IF(OR(K$59=1,K$59=3,K$59=4),IF(K$33='Listes de sélection'!$A$18,5/6,1/(1+K$34/K$35)),1),0)","v":0},{"$f":"IF(L$47=7,IF(OR(L$59=1,L$59=3,L$59=4),IF(L$33='Listes de sélection'!$A$18,5/6,1/(1+L$34/L$35)),1),0)","v":0}]
["Rapport entre les pouvoirs calorifiques inférieur et supérieur",null,{"$f":"IF(OR(C$47=3,C$47=4),VLOOKUP(C$8,T_Energiedragerzonderelek,4,FALSE),0)","v":0},{"$f":"IF(OR(D$47=3,D$47=4),VLOOKUP(D$8,T_Energiedragerzonderelek,4,FALSE),0)","v":0},0,0,0,0,0,0,0,0]
["Valeur de calcul du rendement de production de la chaudière à condensation",null,{"$f":"IF(C$47=3,0.003*(C$19-(6.4+0.63*C$20)),0)","v":0},0,0,0,0,0,0,0,0,0]
["Réduction du rendement si échange de chaleur présent mais non isolé",null,{"$f":"IF(C$47=1,IF(AND(C$16=\"Oui\",C$17=\"Non\"),-0.03,0),0)","v":0},{"$f":"IF(D$47=1,IF(AND(D$16=\"Oui\",D$17=\"Non\"),-0.03,0),0)","v":0},0,0,0,0,0,0,0,0]
["Rendement de production",null,{"$f":"IF(C$47=1,1+C$66,IF(C$47=2,1,IF(C$47=3,IF(C$11=\"Oui\",0.73,C$64*(C$18/100+C$65)),IF(C$47=4,IF(C$11=\"OUi\",0.73,C$64*C$18/100),IF(C$47=5,C$58,IF(C$47=6,1,IF(C$47=7,IF(C$11=\"Non\",C$28*C$61*C$62*C$63,2),IF(C$47=8,7,1))))))))","v":1},{"$f":"IF(D$47=1,1+D$66,IF(D$47=2,1,IF(D$47=3,IF(D$11=\"Oui\",0.73,D$64*(D$18/100+D$65)),IF(D$47=4,IF(D$11=\"OUi\",0.73,D$64*D$18/100),IF(D$47=5,D$58,IF(D$47=6,1,IF(D$47=7,IF(D$11=\"Non\",D$28*D$61*D$62*D$63,2),IF(D$47=8,7,1))))))))","v":1},1,1,1,1,1,1,1,1]
["Facteur d'énergie primaire",null,{"$f":"IF(C$47=1,C$14,IF(C$47=2,1,IF(OR(C$47=6,C$47=7,C$47=8),T_fpelek,IF(C$47=5,1,VLOOKUP(C$8,T_Energiedragerzonderelek,3,FALSE)))))","v":{"$error":"#N/A"}},{"$error":"#N/A"},{"$error":"#N/A"},{"$error":"#N/A"},{"$error":"#N/A"},{"$error":"#N/A"},{"$error":"#N/A"},{"$error":"#N/A"},{"$error":"#N/A"},{"$error":"#N/A"}]
[]
[]
["4. Calculs pour fheat,k - Masquer",null,{"$f":"\"Générateur \"&C$108","v":"Générateur 1"},"Générateur 2","Générateur 3","Générateur 4","Générateur 5","Générateur 6","Générateur 7","Générateur 8","Générateur 9","Générateur 10"]
["Index : Système de fourniture de chaleur externe pré-existant (0) ou Générateur de chaleur indépendant de l'environnement (1)",null,{"$f":"IF(C$7='Listes de sélection'!$A$23,0,1)","v":1},{"$f":"IF(D$7='Listes de sélection'!$A$23,0,1)","v":1},{"$f":"IF(E$7='Listes de sélection'!$A$23,0,1)","v":1},{"$f":"IF(F$7='Listes de sélection'!$A$23,0,1)","v":1},{"$f":"IF(G$7='Listes de sélection'!$A$23,0,1)","v":1},{"$f":"IF(H$7='Listes de sélection'!$A$23,0,1)","v":1},{"$f":"IF(I$7='Listes de sélection'!$A$23,0,1)","v":1},{"$f":"IF(J$7='Listes de sélection'!$A$23,0,1)","v":1},{"$f":"IF(K$7='Listes de sélection'!$A$23,0,1)","v":1},{"$f":"IF(L$7='Listes de sélection'!$A$23,0,1)","v":1}]
["Pgen,dh [kW]",null,{"$f":"'fp,dh et balance énergétique'!$B$6/4000","v":{"$error":"#VALUE!"}},{"$f":"'fp,dh et balance énergétique'!$B$6/4000","v":{"$error":"#VALUE!"}},{"$f":"'fp,dh et balance énergétique'!$B$6/4000","v":{"$error":"#VALUE!"}},{"$f":"'fp,dh et balance énergétique'!$B$6/4000","v":{"$error":"#VALUE!"}},{"$f":"'fp,dh et balance énergétique'!$B$6/4000","v":{"$error":"#VALUE!"}},{"$f":"'fp,dh et balance énergétique'!$B$6/4000","v":{"$error":"#VALUE!"}},{"$f":"'fp,dh et balance énergétique'!$B$6/4000","v":{"$error":"#VALUE!"}},{"$f":"'fp,dh et balance énergétique'!$B$6/4000","v":{"$error":"#VALUE!"}},{"$f":"'fp,dh et balance énergétique'!$B$6/4000","v":{"$error":"#VALUE!"}},{"$f":"'fp,dh et balance énergétique'!$B$6/4000","v":{"$error":"#VALUE!"}}]
["Pgen,k [kW]",null,{"$f":"C$41","v":0},0,0,0,0,0,0,0,0,0]
["Pgen,k-1 cumulatif [kW]",null,{"$f":"B$74+B$75","v":0},{"$f":"C$74+C$75","v":0},{"$f":"D$74+D$75","v":0},{"$f":"E$74+E$75","v":0},{"$f":"F$74+F$75","v":0},{"$f":"G$74+G$75","v":0},{"$f":"H$74+H$75","v":0},{"$f":"I$74+I$75","v":0},{"$f":"J$74+J$75","v":0},{"$f":"K$74+K$75","v":0}]
["Dénominateur formule βk",null,{"$f":"C$73-C$75","v":{"$error":"#VALUE!"}},{"$f":"D$73-D$75","v":{"$error":"#VALUE!"}},{"$f":"E$73-E$75","v":{"$error":"#VALUE!"}},{"$error":"#VALUE!"},{"$f":"G$73-G$75","v":{"$error":"#VALUE!"}},{"$error":"#VALUE!"},{"$f":"I$73-I$75","v":{"$error":"#VALUE!"}},{"$error":"#VALUE!"},{"$f":"K$73-K$75","v":{"$error":"#VALUE!"}},{"$error":"#VALUE!"}]
["βk",null,{"$f":"IF(C$74/C$76<0,0,IF(C$74/C$76>1,1,C$74/C$76))","v":{"$error":"#VALUE!"}},{"$f":"IF(D$74/D$76<0,0,IF(D$74/D$76>1,1,D$74/D$76))","v":{"$error":"#VALUE!"}},{"$f":"IF(E$74/E$76<0,0,IF(E$74/E$76>1,1,E$74/E$76))","v":{"$error":"#VALUE!"}},{"$error":"#VALUE!"},{"$f":"IF(G$74/G$76<0,0,IF(G$74/G$76>1,1,G$74/G$76))","v":{"$error":"#VALUE!"}},{"$error":"#VALUE!"},{"$f":"IF(I$74/I$76<0,0,IF(I$74/I$76>1,1,I$74/I$76))","v":{"$error":"#VALUE!"}},{"$error":"#VALUE!"},{"$f":"IF(K$74/K$76<0,0,IF(K$74/K$76>1,1,K$74/K$76))","v":{"$error":"#VALUE!"}},{"$error":"#VALUE!"}]
["βk+0,1",null,{"$f":"IF((C$77+0.1)>1,1,C$77+0.1)","v":{"$error":"#VALUE!"}},{"$error":"#VALUE!"},{"$error":"#VALUE!"},{"$error":"#VALUE!"},{"$error":"#VALUE!"},{"$error":"#VALUE!"},{"$error":"#VALUE!"},{"$error":"#VALUE!"},{"$error":"#VALUE!"},{"$error":"#VALUE!"}]
["Interpolation linéaire βk - Valeur inférieure",null,{"$f":"VLOOKUP(C$77,T_Energiefractie,1,TRUE)","v":{"$error":"#VALUE!"}},{"$error":"#VALUE!"},{"$error":"#VALUE!"},{"$error":"#VALUE!"},{"$error":"#VALUE!"},{"$error":"#VALUE!"},{"$error":"#VALUE!"},{"$error":"#VALUE!"},{"$error":"#VALUE!"},{"$error":"#VALUE!"}]
["Interpolation linéaire f'heat,k - Valeur inférieure",null,{"$f":"VLOOKUP(C$77,T_Energiefractie,2,TRUE)","v":{"$error":"#VALUE!"}},{"$error":"#VALUE!"},{"$error":"#VALUE!"},{"$error":"#VALUE!"},{"$error":"#VALUE!"},{"$error":"#VALUE!"},{"$error":"#VALUE!"},{"$error":"#VALUE!"},{"$error":"#VALUE!"},{"$error":"#VALUE!"}]
["Interpolation linéaire βk - Valeur supérieure",null,{"$f":"VLOOKUP(C$78,T_Energiefractie,1,TRUE)","v":{"$error":"#VALUE!"}},{"$error":"#VALUE!"},{"$error":"#VALUE!"},{"$error":"#VALUE!"},{"$error":"#VALUE!"},{"$error":"#VALUE!"},{"$error":"#VALUE!"},{"$error":"#VALUE!"},{"$error":"#VALUE!"},{"$error":"#VALUE!"}]
["Interpolation linéaire f'heat,k - Valeur supérieure",null,{"$f":"VLOOKUP(C$78,T_Energiefractie,2,TRUE)","v":{"$error":"#VALUE!"}},{"$error":"#VALUE!"},{"$error":"#VALUE!"},{"$error":"#VALUE!"},{"$error":"#VALUE!"},{"$error":"#VALUE!"},{"$error":"#VALUE!"},{"$error":"#VALUE!"},{"$error":"#VALUE!"},{"$error":"#VALUE!"}]
["f'heat,k",null,{"$f":"IF(C$77=1,1,C$80+(C$77-C$79)*(C$82-C$80)/(C$81-C$79))","v":{"$error":"#VALUE!"}},{"$error":"#VALUE!"},{"$error":"#VALUE!"},{"$error":"#VALUE!"},{"$error":"#VALUE!"},{"$error":"#VALUE!"},{"$error":"#VALUE!"},{"$error":"#VALUE!"},{"$error":"#VALUE!"},{"$error":"#VALUE!"}]
["fheat,k cumulatif",null,{"$f":"0+B$84+B$85","v":0},{"$f":"0+C$84+C$85","v":1},{"$f":"0+D$84+D$85","v":1},{"$f":"0+E$84+E$85","v":1},{"$f":"0+F$84+F$85","v":1},{"$f":"0+G$84+G$85","v":1},{"$f":"0+H$84+H$85","v":1},{"$f":"0+I$84+I$85","v":1},{"$f":"0+J$84+J$85","v":1},{"$f":"0+K$84+K$85","v":1}]
["fheat,k",null,{"$f":"IF(D$7=\"\",1-C84,C$83*(1-C$84))","v":1},0,0,0,0,0,0,0,0,0]
[]
[]
["5. Calculs des Egen,i",null,{"$f":"\"Générateur \"&C$108","v":"Générateur 1"},"Générateur 2","Générateur 3","Générateur 4","Générateur 5","Générateur 6","Générateur 7","Générateur 8","Générateur 9","Générateur 10"]
["Egen,fossile [MJ]*fp,fossile",{"$f":"SUM(C89:L89)","v":0},{"$f":"IF(C$7=\"\",0,IF(OR(C$7='Listes de sélection'!$A$25,C$7='Listes de sélection'!$A$26),IF(OR(C$8='Listes de sélection'!$A$5,C$8='Listes de sélection'!$A$6,C$8='Listes de sélection'!$A$7,C$8='Listes de sélection'!$A$8,C$8='Listes de sélection'!$A$9,C$8='Listes de sélection'!$A$10),'Générateurs de chaleur'!C$43,0),IF(C$7='Listes de sélection'!$A$27,IF(OR(C$22='Listes de sélection'!$A$35,C$22='Listes de sélection'!$A$37,C$22='Listes de sélection'!$A$39),'Générateurs de chaleur'!C$43,0),0))*C$40)","v":0},{"$f":"IF(D$4=\"\",0,IF(OR(D$7='Listes de sélection'!$A$25,D$7='Listes de sélection'!$A$26),IF(OR(D$8='Listes de sélection'!$A$5,D$8='Listes de sélection'!$A$6,D$8='Listes de sélection'!$A$7,D$8='Listes de sélection'!$A$8,D$8='Listes de sélection'!$A$9,D$8='Listes de sélection'!$A$10),'Générateurs de chaleur'!D$43,0),IF(D$7='Listes de sélection'!$A$27,IF(OR(D$22='Listes de sélection'!$A$35,D$22='Listes de sélection'!$A$37,D$22='Listes de sélection'!$A$39),'Générateurs de chaleur'!D$43,0),0))*D$40)","v":0},{"$f":"IF(E$4=\"\",0,IF(OR(E$7='Listes de sélection'!$A$25,E$7='Listes de sélection'!$A$26),IF(OR(E$8='Listes de sélection'!$A$5,E$8='Listes de sélection'!$A$6,E$8='Listes de sélection'!$A$7,E$8='Listes de sélection'!$A$8,E$8='Listes de sélection'!$A$9,E$8='Listes de sélection'!$A$10),'Générateurs de chaleur'!E$43,0),IF(E$7='Listes de sélection'!$A$27,IF(OR(E$22='Listes de sélection'!$A$35,E$22='Listes de sélection'!$A$37,E$22='Listes de sélection'!$A$39),'Générateurs de chaleur'!E$43,0),0))*E$40)","v":0},{"$f":"IF(F$4=\"\",0,IF(OR(F$7='Listes de sélection'!$A$25,F$7='Listes de sélection'!$A$26),IF(OR(F$8='Listes de sélection'!$A$5,F$8='Listes de sélection'!$A$6,F$8='Listes de sélection'!$A$7,F$8='Listes de sélection'!$A$8,F$8='Listes de sélection'!$A$9,F$8='Listes de sélection'!$A$10),'Générateurs de chaleur'!F$43,0),IF(F$7='Listes de sélection'!$A$27,IF(OR(F$22='Listes de sélection'!$A$35,F$22='Listes de sélection'!$A$37,F$22='Listes de sélection'!$A$39),'Générateurs de chaleur'!F$43,0),0))*F$40)","v":0},{"$f":"IF(G$4=\"\",0,IF(OR(G$7='Listes de sélection'!$A$25,G$7='Listes de sélection'!$A$26),IF(OR(G$8='Listes de sélection'!$A$5,G$8='Listes de sélection'!$A$6,G$8='Listes de sélection'!$A$7,G$8='Listes de sélection'!$A$8,G$8='Listes de sélection'!$A$9,G$8='Listes de sélection'!$A$10),'Générateurs de chaleur'!G$43,0),IF(G$7='Listes de sélection'!$A$27,IF(OR(G$22='Listes de sélection'!$A$35,G$22='Listes de sélection'!$A$37,G$22='Listes de sélection'!$A$39),'Générateurs de chaleur'!G$43,0),0))*G$40)","v":0},{"$f":"IF(H$4=\"\",0,IF(OR(H$7='Listes de sélection'!$A$25,H$7='Listes de sélection'!$A$26),IF(OR(H$8='Listes de sélection'!$A$5,H$8='Listes de sélection'!$A$6,H$8='Listes de sélection'!$A$7,H$8='Listes de sélection'!$A$8,H$8='Listes de sélection'!$A$9,H$8='Listes de sélection'!$A$10),'Générateurs de chaleur'!H$43,0),IF(H$7='Listes de sélection'!$A$27,IF(OR(H$22='Listes de sélection'!$A$35,H$22='Listes de sélection'!$A$37,H$22='Listes de sélection'!$A$39),'Générateurs de chaleur'!H$43,0),0))*H$40)","v":0},{"$f":"IF(I$4=\"\",0,IF(OR(I$7='Listes de sélection'!$A$25,I$7='Listes de sélection'!$A$26),IF(OR(I$8='Listes de sélection'!$A$5,I$8='Listes de sélection'!$A$6,I$8='Listes de sélection'!$A$7,I$8='Listes de sélection'!$A$8,I$8='Listes de sélection'!$A$9,I$8='Listes de sélection'!$A$10),'Générateurs de chaleur'!I$43,0),IF(I$7='Listes de sélection'!$A$27,IF(OR(I$22='Listes de sélection'!$A$35,I$22='Listes de sélection'!$A$37,I$22='Listes de sélection'!$A$39),'Générateurs de chaleur'!I$43,0),0))*I$40)","v":0},{"$f":"IF(J$4=\"\",0,IF(OR(J$7='Listes de sélection'!$A$25,J$7='Listes de sélection'!$A$26),IF(OR(J$8='Listes de sélection'!$A$5,J$8='Listes de sélection'!$A$6,J$8='Listes de sélection'!$A$7,J$8='Listes de sélection'!$A$8,J$8='Listes de sélection'!$A$9,J$8='Listes de sélection'!$A$10),'Générateurs de chaleur'!J$43,0),IF(J$7='Listes de sélection'!$A$27,IF(OR(J$22='Listes de sélection'!$A$35,J$22='Listes de sélection'!$A$37,J$22='Listes de sélection'!$A$39),'Générateurs de chaleur'!J$43,0),0))*J$40)","v":0},{"$f":"IF(K$4=\"\",0,IF(OR(K$7='Listes de sélection'!$A$25,K$7='Listes de sélection'!$A$26),IF(OR(K$8='Listes de sélection'!$A$5,K$8='Listes de sélection'!$A$6,K$8='Listes de sélection'!$A$7,K$8='Listes de sélection'!$A$8,K$8='Listes de sélection'!$A$9,K$8='Listes de sélection'!$A$10),'Générateurs de chaleur'!K$43,0),IF(K$7='Listes de sélection'!$A$27,IF(OR(K$22='Listes de sélection'!$A$35,K$22='Listes de sélection'!$A$37,K$22='Listes de sélection'!$A$39),'Générateurs de chaleur'!K$43,0),0))*K$40)","v":0},{"$f":"IF(L$4=\"\",0,IF(OR(L$7='Listes de sélection'!$A$25,L$7='Listes de sélection'!$A$26),IF(OR(L$8='Listes de sélection'!$A$5,L$8='Listes de sélection'!$A$6,L$8='Listes de sélection'!$A$7,L$8='Listes de sélection'!$A$8,L$8='Listes de sélection'!$A$9,L$8='Listes de sélection'!$A$10),'Générateurs de chaleur'!L$43,0),IF(L$7='Listes de sélection'!$A$27,IF(OR(L$22='Listes de sélection'!$A$35,L$22='Listes de sélection'!$A$37,L$22='Listes de sélection'!$A$39),'Générateurs de chaleur'!L$43,0),0))*L$40)","v":0}]
["Egen,élec [MJ]*fp,élec",{"$f":"SUM(C90:L90)","v":0},{"$f":"IF(C$7=\"\",0,IF(OR(C$7='Listes de sélection'!$A$28,C$7='Listes de sélection'!$A$30,C$7='Listes de sélection'!$A$29),'Générateurs de chaleur'!C$43,0)*C$40)","v":0},{"$f":"IF(D$4=\"\",0,IF(OR(D$7='Listes de sélection'!$A$28,D$7='Listes de sélection'!$A$30,D$7='Listes de sélection'!$A$29),'Générateurs de chaleur'!D$43,0)*D$40)","v":0},{"$f":"IF(E$4=\"\",0,IF(OR(E$7='Listes de sélection'!$A$28,E$7='Listes de sélection'!$A$30,E$7='Listes de sélection'!$A$29),'Générateurs de chaleur'!E$43,0)*E$40)","v":0},{"$f":"IF(F$4=\"\",0,IF(OR(F$7='Listes de sélection'!$A$28,F$7='Listes de sélection'!$A$30,F$7='Listes de sélection'!$A$29),'Générateurs de chaleur'!F$43,0)*F$40)","v":0},{"$f":"IF(G$4=\"\",0,IF(OR(G$7='Listes de sélection'!$A$28,G$7='Listes de sélection'!$A$30,G$7='Listes de sélection'!$A$29),'Générateurs de chaleur'!G$43,0)*G$40)","v":0},{"$f":"IF(H$4=\"\",0,IF(OR(H$7='Listes de sélection'!$A$28,H$7='Listes de sélection'!$A$30,H$7='Listes de sélection'!$A$29),'Générateurs de chaleur'!H$43,0)*H$40)","v":0},{"$f":"IF(I$4=\"\",0,IF(OR(I$7='Listes de sélection'!$A$28,I$7='Listes de sélection'!$A$30,I$7='Listes de sélection'!$A$29),'Générateurs de chaleur'!I$43,0)*I$40)","v":0},{"$f":"IF(J$4=\"\",0,IF(OR(J$7='Listes de sélection'!$A$28,J$7='Listes de sélection'!$A$30,J$7='Listes de sélection'!$A$29),'Générateurs de chaleur'!J$43,0)*J$40)","v":0},{"$f":"IF(K$4=\"\",0,IF(OR(K$7='Listes de sélection'!$A$28,K$7='Listes de sélection'!$A$30,K$7='Listes de sélection'!$A$29),'Générateurs de chaleur'!K$43,0)*K$40)","v":0},{"$f":"IF(L$4=\"\",0,IF(OR(L$7='Listes de sélection'!$A$28,L$7='Listes de sélection'!$A$30,L$7='Listes de sélection'!$A$29),'Générateurs de chaleur'!L$43,0)*L$40)","v":0}]
["Egen,biomasse [MJ]*fp,biomasse",{"$f":"SUM(C91:L91)","v":0},{"$f":"IF(C$7=\"\",0,IF(OR(C$7='Listes de sélection'!$A$25,C$7='Listes de sélection'!$A$26),IF(OR(C$8='Listes de sélection'!$A$11),'Générateurs de chaleur'!C$43,0),IF(C$7='Listes de sélection'!$A$27,IF(OR(C$22='Listes de sélection'!$A$36,C$22='Listes de sélection'!$A$38),'Générateurs de chaleur'!C$43,0),0))*C$40)","v":0},{"$f":"IF(D$4=\"\",0,IF(OR(D$7='Listes de sélection'!$A$25,D$7='Listes de sélection'!$A$26),IF(OR(D$8='Listes de sélection'!$A$11),'Générateurs de chaleur'!D$43,0),IF(D$7='Listes de sélection'!$A$27,IF(OR(D$22='Listes de sélection'!$A$36,D$22='Listes de sélection'!$A$38),'Générateurs de chaleur'!D$43,0),0))*D$40)","v":0},{"$f":"IF(E$4=\"\",0,IF(OR(E$7='Listes de sélection'!$A$25,E$7='Listes de sélection'!$A$26),IF(OR(E$8='Listes de sélection'!$A$11),'Générateurs de chaleur'!E$43,0),IF(E$7='Listes de sélection'!$A$27,IF(OR(E$22='Listes de sélection'!$A$36,E$22='Listes de sélection'!$A$38),'Générateurs de chaleur'!E$43,0),0))*E$40)","v":0},{"$f":"IF(F$4=\"\",0,IF(OR(F$7='Listes de sélection'!$A$25,F$7='Listes de sélection'!$A$26),IF(OR(F$8='Listes de sélection'!$A$11),'Générateurs de chaleur'!F$43,0),IF(F$7='Listes de sélection'!$A$27,IF(OR(F$22='Listes de sélection'!$A$36,F$22='Listes de sélection'!$A$38),'Générateurs de chaleur'!F$43,0),0))*F$40)","v":0},{"$f":"IF(G$4=\"\",0,IF(OR(G$7='Listes de sélection'!$A$25,G$7='Listes de sélection'!$A$26),IF(OR(G$8='Listes de sélection'!$A$11),'Générateurs de chaleur'!G$43,0),IF(G$7='Listes de sélection'!$A$27,IF(OR(G$22='Listes de sélection'!$A$36,G$22='Listes de sélection'!$A$38),'Générateurs de chaleur'!G$43,0),0))*G$40)","v":0},{"$f":"IF(H$4=\"\",0,IF(OR(H$7='Listes de sélection'!$A$25,H$7='Listes de sélection'!$A$26),IF(OR(H$8='Listes de sélection'!$A$11),'Générateurs de chaleur'!H$43,0),IF(H$7='Listes de sélection'!$A$27,IF(OR(H$22='Listes de sélection'!$A$36,H$22='Listes de sélection'!$A$38),'Générateurs de chaleur'!H$43,0),0))*H$40)","v":0},{"$f":"IF(I$4=\"\",0,IF(OR(I$7='Listes de sélection'!$A$25,I$7='Listes de sélection'!$A$26),IF(OR(I$8='Listes de sélection'!$A$11),'Générateurs de chaleur'!I$43,0),IF(I$7='Listes de sélection'!$A$27,IF(OR(I$22='Listes de sélection'!$A$36,I$22='Listes de sélection'!$A$38),'Générateurs de chaleur'!I$43,0),0))*I$40)","v":0},{"$f":"IF(J$4=\"\",0,IF(OR(J$7='Listes de sélection'!$A$25,J$7='Listes de sélection'!$A$26),IF(OR(J$8='Listes de sélection'!$A$11),'Générateurs de chaleur'!J$43,0),IF(J$7='Listes de sélection'!$A$27,IF(OR(J$22='Listes de sélection'!$A$36,J$22='Listes de sélection'!$A$38),'Générateurs de chaleur'!J$43,0),0))*J$40)","v":0},{"$f":"IF(K$4=\"\",0,IF(OR(K$7='Listes de sélection'!$A$25,K$7='Listes de sélection'!$A$26),IF(OR(K$8='Listes de sélection'!$A$11),'Générateurs de chaleur'!K$43,0),IF(K$7='Listes de sélection'!$A$27,IF(OR(K$22='Listes de sélection'!$A$36,K$22='Listes de sélection'!$A$38),'Générateurs de chaleur'!K$43,0),0))*K$40)","v":0},{"$f":"IF(L$4=\"\",0,IF(OR(L$7='Listes de sélection'!$A$25,L$7='Listes de sélection'!$A$26),IF(OR(L$8='Listes de sélection'!$A$11),'Générateurs de chaleur'!L$43,0),IF(L$7='Listes de sélection'!$A$27,IF(OR(L$22='Listes de sélection'!$A$36,L$22='Listes de sélection'!$A$38),'Générateurs de chaleur'!L$43,0),0))*L$40)","v":0}]
["Egen,chal.résid. [MJ]*fp,chal.résid.",{"$f":"SUM(C92:L92)","v":0},{"$f":"IF(C$7=\"\",0,IF(C$7='Listes de sélection'!$A$24,'Générateurs de chaleur'!C$43,0)*C$40)","v":0},{"$f":"IF(D$4=\"\",0,IF(D$7='Listes de sélection'!$A$24,'Générateurs de chaleur'!D$43,0)*D$40)","v":0},{"$f":"IF(E$4=\"\",0,IF(E$7='Listes de sélection'!$A$24,'Générateurs de chaleur'!E$43,0)*E$40)","v":0},{"$f":"IF(F$4=\"\",0,IF(F$7='Listes de sélection'!$A$24,'Générateurs de chaleur'!F$43,0)*F$40)","v":0},{"$f":"IF(G$4=\"\",0,IF(G$7='Listes de sélection'!$A$24,'Générateurs de chaleur'!G$43,0)*G$40)","v":0},{"$f":"IF(H$4=\"\",0,IF(H$7='Listes de sélection'!$A$24,'Générateurs de chaleur'!H$43,0)*H$40)","v":0},{"$f":"IF(I$4=\"\",0,IF(I$7='Listes de sélection'!$A$24,'Générateurs de chaleur'!I$43,0)*I$40)","v":0},{"$f":"IF(J$4=\"\",0,IF(J$7='Listes de sélection'!$A$24,'Générateurs de chaleur'!J$43,0)*J$40)","v":0},{"$f":"IF(K$4=\"\",0,IF(K$7='Listes de sélection'!$A$24,'Générateurs de chaleur'!K$43,0)*K$40)","v":0},{"$f":"IF(L$4=\"\",0,IF(L$7='Listes de sélection'!$A$24,'Générateurs de chaleur'!L$43,0)*L$40)","v":0}]
["Egen,réseau.amont [MJ]*fp,réseau.amont",{"$f":"SUM(C93:L93)","v":0},{"$f":"IF(C$7=\"\",0,IF(C$7='Listes de sélection'!$A$23,'Générateurs de chaleur'!C$43,0)*C$40)","v":0},{"$f":"IF(D$4=\"\",0,IF(D$7='Listes de sélection'!$A$23,'Générateurs de chaleur'!D$43,0)*D$40)","v":0},{"$f":"IF(E$4=\"\",0,IF(E$7='Listes de sélection'!$A$23,'Générateurs de chaleur'!E$43,0)*E$40)","v":0},{"$f":"IF(F$4=\"\",0,IF(F$7='Listes de sélection'!$A$23,'Générateurs de chaleur'!F$43,0)*F$40)","v":0},{"$f":"IF(G$4=\"\",0,IF(G$7='Listes de sélection'!$A$23,'Générateurs de chaleur'!G$43,0)*G$40)","v":0},{"$f":"IF(H$4=\"\",0,IF(H$7='Listes de sélection'!$A$23,'Générateurs de chaleur'!H$43,0)*H$40)","v":0},{"$f":"IF(I$4=\"\",0,IF(I$7='Listes de sélection'!$A$23,'Générateurs de chaleur'!I$43,0)*I$40)","v":0},{"$f":"IF(J$4=\"\",0,IF(J$7='Listes de sélection'!$A$23,'Générateurs de chaleur'!J$43,0)*J$40)","v":0},{"$f":"IF(K$4=\"\",0,IF(K$7='Listes de sélection'!$A$23,'Générateurs de chaleur'!K$43,0)*K$40)","v":0},{"$f":"IF(L$4=\"\",0,IF(L$7='Listes de sélection'!$A$23,'Générateurs de chaleur'!L$43,0)*L$40)","v":0}]
[]
[]
["6. Calculs Eout,i=Eout,él.cogen",null,{"$f":"\"Générateur \"&C$108","v":"Générateur 1"},"Générateur 2","Générateur 3","Générateur 4","Générateur 5","Générateur 6","Générateur 7","Générateur 8","Générateur 9","Générateur 10"]
["Eout,i = Eprod,i = Eprod,él [MJ]",{"$f":"SUM(C97:L97)","v":0},{"$f":"IF(C$7='Listes de sélection'!$A$27,IF(C$23='Listes de sélection'!$A$153,'Générateurs de chaleur'!C$24,'Générateurs de chaleur'!C$57*'Générateurs de chaleur'!C$43),0)","v":0},{"$f":"IF(D$7='Listes de sélection'!$A$27,IF(D$23='Listes de sélection'!$A$153,'Générateurs de chaleur'!D$24,'Générateurs de chaleur'!D$57*'Générateurs de chaleur'!D$43),0)","v":0},{"$f":"IF(E$7='Listes de sélection'!$A$27,IF(E$23='Listes de sélection'!$A$153,'Générateurs de chaleur'!E$24,'Générateurs de chaleur'!E$57*'Générateurs de chaleur'!E$43),0)","v":0},{"$f":"IF(F$7='Listes de sélection'!$A$27,IF(F$23='Listes de sélection'!$A$153,'Générateurs de chaleur'!F$24,'Générateurs de chaleur'!F$57*'Générateurs de chaleur'!F$43),0)","v":0},{"$f":"IF(G$7='Listes de sélection'!$A$27,IF(G$23='Listes de sélection'!$A$153,'Générateurs de chaleur'!G$24,'Générateurs de chaleur'!G$57*'Générateurs de chaleur'!G$43),0)","v":0},{"$f":"IF(H$7='Listes de sélection'!$A$27,IF(H$23='Listes de sélection'!$A$153,'Générateurs de chaleur'!H$24,'Générateurs de chaleur'!H$57*'Générateurs de chaleur'!H$43),0)","v":0},{"$f":"IF(I$7='Listes de sélection'!$A$27,IF(I$23='Listes de sélection'!$A$153,'Générateurs de chaleur'!I$24,'Générateurs de chaleur'!I$57*'Générateurs de chaleur'!I$43),0)","v":0},{"$f":"IF(J$7='Listes de sélection'!$A$27,IF(J$23='Listes de sélection'!$A$153,'Générateurs de chaleur'!J$24,'Générateurs de chaleur'!J$57*'Générateurs de chaleur'!J$43),0)","v":0},{"$f":"IF(K$7='Listes de sélection'!$A$27,IF(K$23='Listes de sélection'!$A$153,'Générateurs de chaleur'!K$24,'Générateurs de chaleur'!K$57*'Générateurs de chaleur'!K$43),0)","v":0},{"$f":"IF(L$7='Listes de sélection'!$A$27,IF(L$23='Listes de sélection'!$A$153,'Générateurs de chaleur'!L$24,'Générateurs de chaleur'!L$57*'Générateurs de chaleur'!L$43),0)","v":0}]
[]
[]
["7. Calculs part d'énergie renouvelable",null,{"$f":"\"Générateur \"&C$108","v":"Générateur 1"},"Générateur 2","Générateur 3","Générateur 4","Générateur 5","Générateur 6","Générateur 7","Générateur 8","Générateur 9","Générateur 10"]
["La part d'énergie renouvelable du système de fourniture de chaleur externe, fRE,dh",{"$f":"SUM(C103:L103)","v":0}]
["La part d'énergie renouvelable du générateur k du système de fourniture de chaleur externe, fRE,k",null,{"$f":"IF(C$7='Listes de sélection'!$A$23,C$15,IF(C$7='Listes de sélection'!$A$24,IF(C$12=\"Oui\",0.4778,0),IF(C$7='Listes de sélection'!$A$25,IF(C$8='Listes de sélection'!$A$11,C$21,0),IF(C$7='Listes de sélection'!$A$26,IF(C$8='Listes de sélection'!$A$11,C$21,0),IF(C$7='Listes de sélection'!$A$27,IF(OR(C$22='Listes de sélection'!$A$36,C$22='Listes de sélection'!$A$38),C$21,0),IF(C$7='Listes de sélection'!$A$28,0,IF(C$7='Listes de sélection'!$A$30,(1-(1/C$67)),IF(C$7='Listes de sélection'!$A$29,1,0))))))))","v":0},{"$f":"IF(D$7='Listes de sélection'!$A$23,D$15,IF(D$7='Listes de sélection'!$A$24,IF(D$12=\"Oui\",0.4778,0),IF(D$7='Listes de sélection'!$A$25,IF(D$8='Listes de sélection'!$A$11,D$21,0),IF(D$7='Listes de sélection'!$A$26,IF(D$8='Listes de sélection'!$A$11,D$21,0),IF(D$7='Listes de sélection'!$A$27,IF(OR(D$22='Listes de sélection'!$A$36,D$22='Listes de sélection'!$A$38),D$21,0),IF(D$7='Listes de sélection'!$A$28,0,IF(D$7='Listes de sélection'!$A$30,(1-(1/D$67)),IF(D$7='Listes de sélection'!$A$29,1,0))))))))","v":0},{"$f":"IF(E$7='Listes de sélection'!$A$23,E$15,IF(E$7='Listes de sélection'!$A$24,IF(E$12=\"Oui\",0.4778,0),IF(E$7='Listes de sélection'!$A$25,IF(E$8='Listes de sélection'!$A$11,E$21,0),IF(E$7='Listes de sélection'!$A$26,IF(E$8='Listes de sélection'!$A$11,E$21,0),IF(E$7='Listes de sélection'!$A$27,IF(OR(E$22='Listes de sélection'!$A$36,E$22='Listes de sélection'!$A$38),E$21,0),IF(E$7='Listes de sélection'!$A$28,0,IF(E$7='Listes de sélection'!$A$30,(1-(1/E$67)),IF(E$7='Listes de sélection'!$A$29,1,0))))))))","v":0},{"$f":"IF(F$7='Listes de sélection'!$A$23,F$15,IF(F$7='Listes de sélection'!$A$24,IF(F$12=\"Oui\",0.4778,0),IF(F$7='Listes de sélection'!$A$25,IF(F$8='Listes de sélection'!$A$11,F$21,0),IF(F$7='Listes de sélection'!$A$26,IF(F$8='Listes de sélection'!$A$11,F$21,0),IF(F$7='Listes de sélection'!$A$27,IF(OR(F$22='Listes de sélection'!$A$36,F$22='Listes de sélection'!$A$38),F$21,0),IF(F$7='Listes de sélection'!$A$28,0,IF(F$7='Listes de sélection'!$A$30,(1-(1/F$67)),IF(F$7='Listes de sélection'!$A$29,1,0))))))))","v":0},{"$f":"IF(G$7='Listes de sélection'!$A$23,G$15,IF(G$7='Listes de sélection'!$A$24,IF(G$12=\"Oui\",0.4778,0),IF(G$7='Listes de sélection'!$A$25,IF(G$8='Listes de sélection'!$A$11,G$21,0),IF(G$7='Listes de sélection'!$A$26,IF(G$8='Listes de sélection'!$A$11,G$21,0),IF(G$7='Listes de sélection'!$A$27,IF(OR(G$22='Listes de sélection'!$A$36,G$22='Listes de sélection'!$A$38),G$21,0),IF(G$7='Listes de sélection'!$A$28,0,IF(G$7='Listes de sélection'!$A$30,(1-(1/G$67)),IF(G$7='Listes de sélection'!$A$29,1,0))))))))","v":0},{"$f":"IF(H$7='Listes de sélection'!$A$23,H$15,IF(H$7='Listes de sélection'!$A$24,IF(H$12=\"Oui\",0.4778,0),IF(H$7='Listes de sélection'!$A$25,IF(H$8='Listes de sélection'!$A$11,H$21,0),IF(H$7='Listes de sélection'!$A$26,IF(H$8='Listes de sélection'!$A$11,H$21,0),IF(H$7='Listes de sélection'!$A$27,IF(OR(H$22='Listes de sélection'!$A$36,H$22='Listes de sélection'!$A$38),H$21,0),IF(H$7='Listes de sélection'!$A$28,0,IF(H$7='Listes de sélection'!$A$30,(1-(1/H$67)),IF(H$7='Listes de sélection'!$A$29,1,0))))))))","v":0},{"$f":"IF(I$7='Listes de sélection'!$A$23,I$15,IF(I$7='Listes de sélection'!$A$24,IF(I$12=\"Oui\",0.4778,0),IF(I$7='Listes de sélection'!$A$25,IF(I$8='Listes de sélection'!$A$11,I$21,0),IF(I$7='Listes de sélection'!$A$26,IF(I$8='Listes de sélection'!$A$11,I$21,0),IF(I$7='Listes de sélection'!$A$27,IF(OR(I$22='Listes de sélection'!$A$36,I$22='Listes de sélection'!$A$38),I$21,0),IF(I$7='Listes de sélection'!$A$28,0,IF(I$7='Listes de sélection'!$A$30,(1-(1/I$67)),IF(I$7='Listes de sélection'!$A$29,1,0))))))))","v":0},{"$f":"IF(J$7='Listes de sélection'!$A$23,J$15,IF(J$7='Listes de sélection'!$A$24,IF(J$12=\"Oui\",0.4778,0),IF(J$7='Listes de sélection'!$A$25,IF(J$8='Listes de sélection'!$A$11,J$21,0),IF(J$7='Listes de sélection'!$A$26,IF(J$8='Listes de sélection'!$A$11,J$21,0),IF(J$7='Listes de sélection'!$A$27,IF(OR(J$22='Listes de sélection'!$A$36,J$22='Listes de sélection'!$A$38),J$21,0),IF(J$7='Listes de sélection'!$A$28,0,IF(J$7='Listes de sélection'!$A$30,(1-(1/J$67)),IF(J$7='Listes de sélection'!$A$29,1,0))))))))","v":0},{"$f":"IF(K$7='Listes de sélection'!$A$23,K$15,IF(K$7='Listes de sélection'!$A$24,IF(K$12=\"Oui\",0.4778,0),IF(K$7='Listes de sélection'!$A$25,IF(K$8='Listes de sélection'!$A$11,K$21,0),IF(K$7='Listes de sélection'!$A$26,IF(K$8='Listes de sélection'!$A$11,K$21,0),IF(K$7='Listes de sélection'!$A$27,IF(OR(K$22='Listes de sélection'!$A$36,K$22='Listes de sélection'!$A$38),K$21,0),IF(K$7='Listes de sélection'!$A$28,0,IF(K$7='Listes de sélection'!$A$30,(1-(1/K$67)),IF(K$7='Listes de sélection'!$A$29,1,0))))))))","v":0},{"$f":"IF(L$7='Listes de sélection'!$A$23,L$15,IF(L$7='Listes de sélection'!$A$24,IF(L$12=\"Oui\",0.4778,0),IF(L$7='Listes de sélection'!$A$25,IF(L$8='Listes de sélection'!$A$11,L$21,0),IF(L$7='Listes de sélection'!$A$26,IF(L$8='Listes de sélection'!$A$11,L$21,0),IF(L$7='Listes de sélection'!$A$27,IF(OR(L$22='Listes de sélection'!$A$36,L$22='Listes de sélection'!$A$38),L$21,0),IF(L$7='Listes de sélection'!$A$28,0,IF(L$7='Listes de sélection'!$A$30,(1-(1/L$67)),IF(L$7='Listes de sélection'!$A$29,1,0))))))))","v":0}]
["fheat,k * fRE,k",null,{"$f":"C$102*C$42","v":0},{"$f":"D$102*D$42","v":0},{"$f":"E$102*E$42","v":0},0,0,0,0,0,0,0]
[]
["8. Calculs chaleur produite",null,{"$f":"\"Générateur \"&C$108","v":"Générateur 1"},"Générateur 2","Générateur 3","Générateur 4","Générateur 5","Générateur 6","Générateur 7","Générateur 8","Générateur 9","Générateur 10"]
["La quantité de chaleur qui est produite annuellement par le générateur de chaleur pour le système de fourniture de chaleur externe, Qgen,dh [MJ]",{"$f":"SUM(C36:L36)","v":0}]
["Nombre de générateur",{"$f":"MAX(C108:C108)","v":1}]
["Identifiant du générateur",null,1,2,3,4,5,6,7,8,9,10]

{"sheet":"Demandeurs de chaleur","index":5,"n_rows":72,"n_cols":202,"rows_kept":72,"cut":false,"hidden":false,"merged":[[13,0,13,1],[14,0,14,1],[15,0,15,1],[19,0,19,1],[26,0,26,1],[23,0,23,1],[24,0,24,1],[16,0,16,1],[17,0,17,1],[18,0,18,1],[25,0,25,1],[21,0,21,1],[33,0,33,1],[34,0,34,1],[27,0,27,1],[28,0,28,1],[29,0,29,1],[30,0,30,1],[31,0,31,1],[32,0,32,1]]}
["Chaleur délivrée aux demandeurs de chaleur du système de fourniture de chaleur externe"]
[]
["1. La quantité de chaleur qui est délivrée annuellement aux demandeurs de chaleur du système de fourniture de chaleur externe"]
["Qdel,dh [MJ]",{"$f":"SUM($C36:$GT36)","v":0}]
[]
["2. La quantité de chaleur qui est délivrée annuellement au demandeur de chaleur j"]
[null,null,{"$f":"\"Demandeur de chaleur \"&C$72","v":"Demandeur de chaleur 1"},"Demandeur de chaleur 2","Demandeur de chaleur 3","Demandeur de chaleur 4","Demandeur de chaleur 5","Demandeur de chaleur 6","Demandeur de chaleur 7","Demandeur de chaleur 8","Demandeur de chaleur 9","Demandeur de chaleur 10","Demandeur de chaleur 11","Demandeur de chaleur 12","Demandeur de chaleur 13","Demandeur de chaleur 14","Demandeur de chaleur 15","Demandeur de chaleur 16","Demandeur de chaleur 17","Demandeur de chaleur 18","Demandeur de chaleur 19","Demandeur de chaleur 20","Demandeur de chaleur 21","Demandeur de chaleur 22","Demandeur de chaleur 23","Demandeur de chaleur 24","Demandeur de chaleur 25","Demandeur de chaleur 26","Demandeur de chaleur 27","Demandeur de chaleur 28","Demandeur de chaleur 29","Demandeur de chaleur 30","Demandeur de chaleur 31","Demandeur de chaleur 32",{"$f":"\"Demandeur de chaleur \"&AI$72","v":"Demandeur de chaleur 33"},"Demandeur de chaleur 34","Demandeur de chaleur 35","Demandeur de chaleur 36","Demandeur de chaleur 37","Demandeur de chaleur 38","Demandeur de chaleur 39","Demandeur de chaleur 40","Demandeur de chaleur 41","Demandeur de chaleur 42","Demandeur de chaleur 43","Demandeur de chaleur 44","Demandeur de chaleur 45","Demandeur de chaleur 46","Demandeur de chaleur 47","Demandeur de chaleur 48","Demandeur de chaleur 49","Demandeur de chaleur 50","Demandeur de chaleur 51","Demandeur de chaleur 52","Demandeur de chaleur 53","Demandeur de chaleur 54","Demandeur de chaleur 55","Demandeur de chaleur 56","Demandeur de chaleur 57","Demandeur de chaleur 58","Demandeur de chaleur 59","Demandeur de chaleur 60","Demandeur de chaleur 61","Demandeur de chaleur 62","Demandeur de chaleur 63","Demandeur de chaleur 64",{"$f":"\"Demandeur de chaleur \"&BO$72","v":"Demandeur de chaleur 65"},"Demandeur de chaleur 66","Demandeur de chaleur 67","Demandeur de chaleur 68","Demandeur de chaleur 69","Demandeur de chaleur 70","Demandeur de chaleur 71","Demandeur de chaleur 72","Demandeur de chaleur 73","Demandeur de chaleur 74","Demandeur de chaleur 75","Demandeur de chaleur 76","Demandeur de chaleur 77","Demandeur de chaleur 78","Demandeur de chaleur 79","Demandeur de chaleur 80","Demandeur de chaleur 81","Demandeur de chaleur 82","Demandeur de chaleur 83","Demandeur de chaleur 84","Demandeur de chaleur 85","Demandeur de chaleur 86","Demandeur de chaleur 87","Demandeur de chaleur 88","Demandeur de chaleur 89","Demandeur de chaleur 90","Demandeur de chaleur 91","Demandeur de chaleur 92","Demandeur de chaleur 93","Demandeur de chaleur 94","Demandeur de chaleur 95","Demandeur de chaleur 96",{"$f":"\"Demandeur de chaleur \"&CU$72","v":"Demandeur de chaleur 97"},"Demandeur de chaleur 98","Demandeur de chaleur 99","Demandeur de chaleur 100","Demandeur de chaleur 101","Demandeur de chaleur 102","Demandeur de chaleur 103","Demandeur de chaleur 104","Demandeur de chaleur 105","Demandeur de chaleur 106","Demandeur de chaleur 107","Demandeur de chaleur 108","Demandeur de chaleur 109","Demandeur de chaleur 110","Demandeur de chaleur 111","Demandeur de chaleur 112","Demandeur de chaleur 113","Demandeur de chaleur 114","Demandeur de chaleur 115","Demandeur de chaleur 116","Demandeur de chaleur 117","Demandeur de chaleur 118","Demandeur de chaleur 119","Demandeur de chaleur 120","Demandeur de chaleur 121","Demandeur de chaleur 122","Demandeur de chaleur 123","Demandeur de chaleur 124","Demandeur de chaleur 125","Demandeur de chaleur 126","Demandeur de chaleur 127","Demandeur de chaleur 128",{"$f":"\"Demandeur de chaleur \"&EA$72","v":"Demandeur de chaleur 129"},"Demandeur de chaleur 130","Demandeur de chaleur 131","Demandeur de chaleur 132","Demandeur de chaleur 133","Demandeur de chaleur 134","Demandeur de chaleur 135","Demandeur de chaleur 136","Demandeur de chaleur 137","Demandeur de chaleur 138","Demandeur de chaleur 139","Demandeur de chaleur 140","Demandeur de chaleur 141","Demandeur de chaleur 142","Demandeur de chaleur 143","Demandeur de chaleur 144","Demandeur de chaleur 145","Demandeur de chaleur 146","Demandeur de chaleur 147","Demandeur de chaleur 148","Demandeur de chaleur 149","Demandeur de chaleur 150","Demandeur de chaleur 151","Demandeur de chaleur 152","Demandeur de chaleur 153","Demandeur de chaleur 154","Demandeur de chaleur 155","Demandeur de chaleur 156","Demandeur de chaleur 157","Demandeur de chaleur 158","Demandeur de chaleur 159","Demandeur de chaleur 160",{"$f":"\"Demandeur de chaleur \"&FG$72","v":"Demandeur de chaleur 161"},"Demandeur de chaleur 162","Demandeur de chaleur 163","Demandeur de chaleur 164","Demandeur de chaleur 165","Demandeur de chaleur 166","Demandeur de chaleur 167","Demandeur de chaleur 168","Demandeur de chaleur 169","Demandeur de chaleur 170","Demandeur de chaleur 171","Demandeur de chaleur 172","Demandeur de chaleur 173","Demandeur de chaleur 174","Demandeur de chaleur 175","Demandeur de chaleur 176","Demandeur de chaleur 177","Demandeur de chaleur 178","Demandeur de chaleur 179","Demandeur de chaleur 180","Demandeur de chaleur 181","Demandeur de chaleur 182","Demandeur de chaleur 183","Demandeur de chaleur 184","Demandeur de chaleur 185","Demandeur de chaleur 186","Demandeur de chaleur 187","Demandeur de chaleur 188","Demandeur de chaleur 189","Demandeur de chaleur 190","Demandeur de chaleur 191","Demandeur de chaleur 192",{"$f":"\"Demandeur de chaleur \"&GM$72","v":"Demandeur de chaleur 193"},"Demandeur de chaleur 194","Demandeur de chaleur 195","Demandeur de chaleur 196","Demandeur de chaleur 197","Demandeur de chaleur 198","Demandeur de chaleur 199","Demandeur de chaleur 200"]
["1. Données générales"]
["Nom / Description"]
["Demandeur de chaleur existant ou nouvelle construction ?"]
["Pour une nouvelle construction : timing de la construction"]
["Le demandeur de chaleur est-il soumis à la PEB ? "]
["Type d'unité PEB"]
["Il y a un échangeur de chaleur ou une sous-station insuffisamment isolée près du demandeur de chaleur (donc à l'extérieur des limites du système de fourniture de chaleur externe) ?"]
["La chaleur du réseau de chaleur est-elle utilisée pour le chauffage ?"]
["La chaleur du réseau de chaleur est-elle utilisée pour l'eau chaude sanitaire ?"]
["La chaleur du réseau de chaleur est-elle utilisée pour l'humidification  ?"]
["La chaleur du réseau de chaleur est-elle utilisée pour le refroidissement  ?"]
["Limites du réseau de chaleur\n\n"]
["Description du compteur de chaleur sur base duquel le calcul du coût de la chaleur est réalisé",null,null,"test tekst","test tekst"]
[]
["2. Données nécessaires à l'estimation de la demande de chaleur"]
["Calcul de la chaleur délivrée sur base de :"]
["Chaleur délivrée au demandeur de chaleur sur base de valeur(s) issue(s) de mesure(s) [MJ]"]
["Chaleur délivrée au demandeur de chaleur sur base de valeur(s) issue(s) de facture(s) [MJ]"]
["Consommation finale d'énergie pour le chauffage des locaux"]
["Consommation finale d'énergie pour l'ECS pour tous les points de puisage"]
["Consommation finale d'énergie pour le point de puisage 1",null,0,0,0,0,0,0,0,0,0,0,0,0,0,0,0,0,0,0,0,0,0,0,0,0,0,0,0,0,0,0,0,0,0,0,0,0,0,0,0,0,0,0,0,0,0,0,0,0,0,0,0,0,0,0,0,0,0,0,0,0,0,0,0,0,0,0,0,0,0,0,0,0,0,0,0,0,0,0,0,0,0,0,0,0,0,0,0,0,0,0,0,0,0,0,0,0,0,0,0,0,0,0,0,0,0,0,0,0,0,0,0,0,0,0,0,0,0,0,0,0,0,0,0,0,0,0,0,0,0,0,0,0,0,0,0,0,0,0,0,0,0,0,0,0,0,0,0,0,0,0,0,0,0,0,0,0,0,0,0,0,0,0,0,0,0,0,0,0,0,0,0,0,0,0,0,0,0,0,0,0,0,0,0,0,0,0,0,0,0,0,0,0,0,0,0,0,0,0,0,0]
["Consommation finale d'énergie pour le point de puisage 2",null,0,0,0,0,0,0,0,0,0,0,0,0,0,0,0,0,0,0,0,0,0,0,0,0,0,0,0,0,0,0,0,0,0,0,0,0,0,0,0,0,0,0,0,0,0,0,0,0,0,0,0,0,0,0,0,0,0,0,0,0,0,0,0,0,0,0,0,0,0,0,0,0,0,0,0,0,0,0,0,0,0,0,0,0,0,0,0,0,0,0,0,0,0,0,0,0,0,0,0,0,0,0,0,0,0,0,0,0,0,0,0,0,0,0,0,0,0,0,0,0,0,0,0,0,0,0,0,0,0,0,0,0,0,0,0,0,0,0,0,0,0,0,0,0,0,0,0,0,0,0,0,0,0,0,0,0,0,0,0,0,0,0,0,0,0,0,0,0,0,0,0,0,0,0,0,0,0,0,0,0,0,0,0,0,0,0,0,0,0,0,0,0,0,0,0,0,0,0,0,0]
["Consommation finale d'énergie pour le point de puisage 3",null,0,0,0,0,0,0,0,0,0,0,0,0,0,0,0,0,0,0,0,0,0,0,0,0,0,0,0,0,0,0,0,0,0,0,0,0,0,0,0,0,0,0,0,0,0,0,0,0,0,0,0,0,0,0,0,0,0,0,0,0,0,0,0,0,0,0,0,0,0,0,0,0,0,0,0,0,0,0,0,0,0,0,0,0,0,0,0,0,0,0,0,0,0,0,0,0,0,0,0,0,0,0,0,0,0,0,0,0,0,0,0,0,0,0,0,0,0,0,0,0,0,0,0,0,0,0,0,0,0,0,0,0,0,0,0,0,0,0,0,0,0,0,0,0,0,0,0,0,0,0,0,0,0,0,0,0,0,0,0,0,0,0,0,0,0,0,0,0,0,0,0,0,0,0,0,0,0,0,0,0,0,0,0,0,0,0,0,0,0,0,0,0,0,0,0,0,0,0,0,0]
["Consommation finale d'énergie pour l'humidification"]
["Consommation finale d'énergie pour le refroidissement"]
["Type de demandeur de chaleur"]
["Surface plancher connue ?"]
["Surface plancher [m²]",null,50]
["Résultat partiel : Qdel,j [MJ]",null,{"$f":"SUM(C$66:C$70)","v":0},{"$f":"SUM(D$66:D$70)","v":0},{"$f":"SUM(E$66:E$70)","v":0},{"$f":"SUM(F$66:F$70)","v":0},{"$f":"SUM(G$66:G$70)","v":0},0,0,0,0,0,0,0,0,0,0,0,0,0,0,0,0,0,0,0,0,0,0,0,0,0,0,0,0,0,0,0,0,0,0,0,0,0,0,0,0,0,0,0,0,0,0,0,0,0,0,0,0,0,0,0,0,0,0,0,0,0,0,0,0,0,0,0,0,0,0,0,0,0,0,0,0,0,0,0,0,0,0,0,0,0,0,0,0,0,0,0,0,0,0,0,0,0,0,0,0,0,0,0,0,0,0,0,0,0,0,0,0,0,0,0,0,0,0,0,0,0,0,0,0,0,0,0,0,0,0,0,0,0,0,0,0,0,0,0,0,0,0,0,0,0,0,0,0,0,0,0,0,0,0,0,0,0,0,0,0,0,0,0,0,0,0,0,0,0,0,0,0,0,0,0,0,0,0,0,0,0,0,0,0,0,0,0,0,0,0,0,0,0,0,0]
[]
["3. Indices - Masquer à partir d'ici"]
["Index - Soumis à la PEB","-",{"$f":"IF(C$12=\"\",0,VLOOKUP(C$12,T_JaNee,2,FALSE))","v":0},0,0,0,0,0,0,0,0,0,0,0,0,0,0,0,0,0,0,0,0,0,0,0,0,0,0,0,0,0,0,0,0,0,0,0,0,0,0,0,0,0,0,0,0,0,0,0,0,0,0,0,0,0,0,0,0,0,0,0,0,0,0,0,0,0,0,0,0,0,0,0,0,0,0,0,0,0,0,0,0,0,0,0,0,0,0,0,0,0,0,0,0,0,0,0,0,0,0,0,0,0,0,0,0,0,0,0,0,0,0,0,0,0,0,0,0,0,0,0,0,0,0,0,0,0,0,0,0,0,0,0,0,0,0,0,0,0,0,0,0,0,0,0,0,0,0,0,0,0,0,0,0,0,0,0,0,0,0,0,0,0,0,0,0,0,0,0,0,0,0,0,0,0,0,0,0,0,0,0,0,0,0,0,0,0,0,0,0,0,0,0,0,0,0,0,0,0,0,0]
["Index - Unité PEB","-",{"$f":"IF(C$39=1,IF(C$13=\"\",0,VLOOKUP(C$13,T_TypeEPBeenheid,2,FALSE)),0)","v":0},0,0,0,0,0,0,0,0,0,0,0,0,0,0,0,0,0,0,0,0,0,0,0,0,0,0,0,0,0,0,0,{"$f":"IF(AI$39=1,IF(AI$13=\"\",0,VLOOKUP(AI$13,T_TypeEPBeenheid,2,FALSE)),0)","v":0},0,0,0,0,0,0,0,0,0,0,0,0,0,0,0,0,0,0,0,0,0,0,0,0,0,0,0,0,0,0,0,{"$f":"IF(BO$39=1,IF(BO$13=\"\",0,VLOOKUP(BO$13,T_TypeEPBeenheid,2,FALSE)),0)","v":0},0,0,0,0,0,0,0,0,0,0,0,0,0,0,0,0,0,0,0,0,0,0,0,0,0,0,0,0,0,0,0,{"$f":"IF(CU$39=1,IF(CU$13=\"\",0,VLOOKUP(CU$13,T_TypeEPBeenheid,2,FALSE)),0)","v":0},0,0,0,0,0,0,0,0,0,0,0,0,0,0,0,0,0,0,0,0,0,0,0,0,0,0,0,0,0,0,0,{"$f":"IF(EA$39=1,IF(EA$13=\"\",0,VLOOKUP(EA$13,T_TypeEPBeenheid,2,FALSE)),0)","v":0},0,0,0,0,0,0,0,0,0,0,0,0,0,0,0,0,0,0,0,0,0,0,0,0,0,0,0,0,0,0,0,{"$f":"IF(FG$39=1,IF(FG$13=\"\",0,VLOOKUP(FG$13,T_TypeEPBeenheid,2,FALSE)),0)","v":0},0,0,0,0,0,0,0,0,0,0,0,0,0,0,0,0,0,0,0,0,0,0,0,0,0,0,0,0,0,0,0,{"$f":"IF(GM$39=1,IF(GM$13=\"\",0,VLOOKUP(GM$13,T_TypeEPBeenheid,2,FALSE)),0)","v":0},0,0,0,0,0,0,0]
["Index - Utilisation pour le chauffage","-",{"$f":"IF(C15='Listes de sélection'!$A$17,1,0)","v":0},{"$f":"IF(D15='Listes de sélection'!$A$17,1,0)","v":0},{"$f":"IF(E15='Listes de sélection'!$A$17,1,0)","v":0},{"$f":"IF(F15='Listes de sélection'!$A$17,1,0)","v":0},{"$f":"IF(G15='Listes de sélection'!$A$17,1,0)","v":0},{"$f":"IF(H15='Listes de sélection'!$A$17,1,0)","v":0},{"$f":"IF(I15='Listes de sélection'!$A$17,1,0)","v":0},{"$f":"IF(J15='Listes de sélection'!$A$17,1,0)","v":0},{"$f":"IF(K15='Listes de sélection'!$A$17,1,0)","v":0},{"$f":"IF(L15='Listes de sélection'!$A$17,1,0)","v":0},{"$f":"IF(M15='Listes de sélection'!$A$17,1,0)","v":0},{"$f":"IF(N15='Listes de sélection'!$A$17,1,0)","v":0},{"$f":"IF(O15='Listes de sélection'!$A$17,1,0)","v":0},{"$f":"IF(P15='Listes de sélection'!$A$17,1,0)","v":0},{"$f":"IF(Q15='Listes de sélection'!$A$17,1,0)","v":0},{"$f":"IF(R15='Listes de sélection'!$A$17,1,0)","v":0},{"$f":"IF(S15='Listes de sélection'!$A$17,1,0)","v":0},{"$f":"IF(T15='Listes de sélection'!$A$17,1,0)","v":0},{"$f":"IF(U15='Listes de sélection'!$A$17,1,0)","v":0},{"$f":"IF(V15='Listes de sélection'!$A$17,1,0)","v":0},{"$f":"IF(W15='Listes de sélection'!$A$17,1,0)","v":0},{"$f":"IF(X15='Listes de sélection'!$A$17,1,0)","v":0},{"$f":"IF(Y15='Listes de sélection'!$A$17,1,0)","v":0},{"$f":"IF(Z15='Listes de sélection'!$A$17,1,0)","v":0},{"$f":"IF(AA15='Listes de sélection'!$A$17,1,0)","v":0},{"$f":"IF(AB15='Listes de sélection'!$A$17,1,0)","v":0},{"$f":"IF(AC15='Listes de sélection'!$A$17,1,0)","v":0},{"$f":"IF(AD15='Listes de sélection'!$A$17,1,0)","v":0},{"$f":"IF(AE15='Listes de sélection'!$A$17,1,0)","v":0},{"$f":"IF(AF15='Listes de sélection'!$A$17,1,0)","v":0},{"$f":"IF(AG15='Listes de sélection'!$A$17,1,0)","v":0},{"$f":"IF(AH15='Listes de sélection'!$A$17,1,0)","v":0},{"$f":"IF(AI15='Listes de sélection'!$A$17,1,0)","v":0},{"$f":"IF(AJ15='Listes de sélection'!$A$17,1,0)","v":0},{"$f":"IF(AK15='Listes de sélection'!$A$17,1,0)","v":0},{"$f":"IF(AL15='Listes de sélection'!$A$17,1,0)","v":0},{"$f":"IF(AM15='Listes de sélection'!$A$17,1,0)","v":0},{"$f":"IF(AN15='Listes de sélection'!$A$17,1,0)","v":0},{"$f":"IF(AO15='Listes de sélection'!$A$17,1,0)","v":0},{"$f":"IF(AP15='Listes de sélection'!$A$17,1,0)","v":0},{"$f":"IF(AQ15='Listes de sélection'!$A$17,1,0)","v":0},{"$f":"IF(AR15='Listes de sélection'!$A$17,1,0)","v":0},{"$f":"IF(AS15='Listes de sélection'!$A$17,1,0)","v":0},{"$f":"IF(AT15='Listes de sélection'!$A$17,1,0)","v":0},{"$f":"IF(AU15='Listes de sélection'!$A$17,1,0)","v":0},{"$f":"IF(AV15='Listes de sélection'!$A$17,1,0)","v":0},{"$f":"IF(AW15='Listes de sélection'!$A$17,1,0)","v":0},{"$f":"IF(AX15='Listes de sélection'!$A$17,1,0)","v":0},{"$f":"IF(AY15='Listes de sélection'!$A$17,1,0)","v":0},{"$f":"IF(AZ15='Listes de sélection'!$A$17,1,0)","v":0},{"$f":"IF(BA15='Listes de sélection'!$A$17,1,0)","v":0},{"$f":"IF(BB15='Listes de sélection'!$A$17,1,0)","v":0},{"$f":"IF(BC15='Listes de sélection'!$A$17,1,0)","v":0},{"$f":"IF(BD15='Listes de sélection'!$A$17,1,0)","v":0},{"$f":"IF(BE15='Listes de sélection'!$A$17,1,0)","v":0},{"$f":"IF(BF15='Listes de sélection'!$A$17,1,0)","v":0},{"$f":"IF(BG15='Listes de sélection'!$A$17,1,0)","v":0},{"$f":"IF(BH15='Listes de sélection'!$A$17,1,0)","v":0},{"$f":"IF(BI15='Listes de sélection'!$A$17,1,0)","v":0},{"$f":"IF(BJ15='Listes de sélection'!$A$17,1,0)","v":0},{"$f":"IF(BK15='Listes de sélection'!$A$17,1,0)","v":0},{"$f":"IF(BL15='Listes de sélection'!$A$17,1,0)","v":0},{"$f":"IF(BM15='Listes de sélection'!$A$17,1,0)","v":0},{"$f":"IF(BN15='Listes de sélection'!$A$17,1,0)","v":0},{"$f":"IF(BO15='Listes de sélection'!$A$17,1,0)","v":0},{"$f":"IF(BP15='Listes de sélection'!$A$17,1,0)","v":0},{"$f":"IF(BQ15='Listes de sélection'!$A$17,1,0)","v":0},{"$f":"IF(BR15='Listes de sélection'!$A$17,1,0)","v":0},{"$f":"IF(BS15='Listes de sélection'!$A$17,1,0)","v":0},{"$f":"IF(BT15='Listes de sélection'!$A$17,1,0)","v":0},{"$f":"IF(BU15='Listes de sélection'!$A$17,1,0)","v":0},{"$f":"IF(BV15='Listes de sélection'!$A$17,1,0)","v":0},{"$f":"IF(BW15='Listes de sélection'!$A$17,1,0)","v":0},{"$f":"IF(BX15='Listes de sélection'!$A$17,1,0)","v":0},{"$f":"IF(BY15='Listes de sélection'!$A$17,1,0)","v":0},{"$f":"IF(BZ15='Listes de sélection'!$A$17,1,0)","v":0},{"$f":"IF(CA15='Listes de sélection'!$A$17,1,0)","v":0},{"$f":"IF(CB15='Listes de sélection'!$A$17,1,0)","v":0},{"$f":"IF(CC15='Listes de sélection'!$A$17,1,0)","v":0},{"$f":"IF(CD15='Listes de sélection'!$A$17,1,0)","v":0},{"$f":"IF(CE15='Listes de sélection'!$A$17,1,0)","v":0},{"$f":"IF(CF15='Listes de sélection'!$A$17,1,0)","v":0},{"$f":"IF(CG15='Listes de sélection'!$A$17,1,0)","v":0},{"$f":"IF(CH15='Listes de sélection'!$A$17,1,0)","v":0},{"$f":"IF(CI15='Listes de sélection'!$A$17,1,0)","v":0},{"$f":"IF(CJ15='Listes de sélection'!$A$17,1,0)","v":0},{"$f":"IF(CK15='Listes de sélection'!$A$17,1,0)","v":0},{"$f":"IF(CL15='Listes de sélection'!$A$17,1,0)","v":0},{"$f":"IF(CM15='Listes de sélection'!$A$17,1,0)","v":0},{"$f":"IF(CN15='Listes de sélection'!$A$17,1,0)","v":0},{"$f":"IF(CO15='Listes de sélection'!$A$17,1,0)","v":0},{"$f":"IF(CP15='Listes de sélection'!$A$17,1,0)","v":0},{"$f":"IF(CQ15='Listes de sélection'!$A$17,1,0)","v":0},{"$f":"IF(CR15='Listes de sélection'!$A$17,1,0)","v":0},{"$f":"IF(CS15='Listes de sélection'!$A$17,1,0)","v":0},{"$f":"IF(CT15='Listes de sélection'!$A$17,1,0)","v":0},{"$f":"IF(CU15='Listes de sélection'!$A$17,1,0)","v":0},{"$f":"IF(CV15='Listes de sélection'!$A$17,1,0)","v":0},{"$f":"IF(CW15='Listes de sélection'!$A$17,1,0)","v":0},{"$f":"IF(CX15='Listes de sélection'!$A$17,1,0)","v":0},{"$f":"IF(CY15='Listes de sélection'!$A$17,1,0)","v":0},{"$f":"IF(CZ15='Listes de sélection'!$A$17,1,0)","v":0},{"$f":"IF(DA15='Listes de sélection'!$A$17,1,0)","v":0},{"$f":"IF(DB15='Listes de sélection'!$A$17,1,0)","v":0},{"$f":"IF(DC15='Listes de sélection'!$A$17,1,0)","v":0},{"$f":"IF(DD15='Listes de sélection'!$A$17,1,0)","v":0},{"$f":"IF(DE15='Listes de sélection'!$A$17,1,0)","v":0},{"$f":"IF(DF15='Listes de sélection'!$A$17,1,0)","v":0},{"$f":"IF(DG15='Listes de sélection'!$A$17,1,0)","v":0},{"$f":"IF(DH15='Listes de sélection'!$A$17,1,0)","v":0},{"$f":"IF(DI15='Listes de sélection'!$A$17,1,0)","v":0},{"$f":"IF(DJ15='Listes de sélection'!$A$17,1,0)","v":0},{"$f":"IF(DK15='Listes de sélection'!$A$17,1,0)","v":0},{"$f":"IF(DL15='Listes de sélection'!$A$17,1,0)","v":0},{"$f":"IF(DM15='Listes de sélection'!$A$17,1,0)","v":0},{"$f":"IF(DN15='Listes de sélection'!$A$17,1,0)","v":0},{"$f":"IF(DO15='Listes de sélection'!$A$17,1,0)","v":0},{"$f":"IF(DP15='Listes de sélection'!$A$17,1,0)","v":0},{"$f":"IF(DQ15='Listes de sélection'!$A$17,1,0)","v":0},{"$f":"IF(DR15='Listes de sélection'!$A$17,1,0)","v":0},{"$f":"IF(DS15='Listes de sélection'!$A$17,1,0)","v":0},{"$f":"IF(DT15='Listes de sélection'!$A$17,1,0)","v":0},{"$f":"IF(DU15='Listes de sélection'!$A$17,1,0)","v":0},{"$f":"IF(DV15='Listes de sélection'!$A$17,1,0)","v":0},{"$f":"IF(DW15='Listes de sélection'!$A$17,1,0)","v":0},{"$f":"IF(DX15='Listes de sélection'!$A$17,1,0)","v":0},{"$f":"IF(DY15='Listes de sélection'!$A$17,1,0)","v":0},{"$f":"IF(DZ15='Listes de sélection'!$A$17,1,0)","v":0},{"$f":"IF(EA15='Listes de sélection'!$A$17,1,0)","v":0},{"$f":"IF(EB15='Listes de sélection'!$A$17,1,0)","v":0},{"$f":"IF(EC15='Listes de sélection'!$A$17,1,0)","v":0},{"$f":"IF(ED15='Listes de sélection'!$A$17,1,0)","v":0},{"$f":"IF(EE15='Listes de sélection'!$A$17,1,0)","v":0},{"$f":"IF(EF15='Listes de sélection'!$A$17,1,0)","v":0},{"$f":"IF(EG15='Listes de sélection'!$A$17,1,0)","v":0},{"$f":"IF(EH15='Listes de sélection'!$A$17,1,0)","v":0},{"$f":"IF(EI15='Listes de sélection'!$A$17,1,0)","v":0},{"$f":"IF(EJ15='Listes de sélection'!$A$17,1,0)","v":0},{"$f":"IF(EK15='Listes de sélection'!$A$17,1,0)","v":0},{"$f":"IF(EL15='Listes de sélection'!$A$17,1,0)","v":0},{"$f":"IF(EM15='Listes de sélection'!$A$17,1,0)","v":0},{"$f":"IF(EN15='Listes de sélection'!$A$17,1,0)","v":0},{"$f":"IF(EO15='Listes de sélection'!$A$17,1,0)","v":0},{"$f":"IF(EP15='Listes de sélection'!$A$17,1,0)","v":0},{"$f":"IF(EQ15='Listes de sélection'!$A$17,1,0)","v":0},{"$f":"IF(ER15='Listes de sélection'!$A$17,1,0)","v":0},{"$f":"IF(ES15='Listes de sélection'!$A$17,1,0)","v":0},{"$f":"IF(ET15='Listes de sélection'!$A$17,1,0)","v":0},{"$f":"IF(EU15='Listes de sélection'!$A$17,1,0)","v":0},{"$f":"IF(EV15='Listes de sélection'!$A$17,1,0)","v":0},{"$f":"IF(EW15='Listes de sélection'!$A$17,1,0)","v":0},{"$f":"IF(EX15='Listes de sélection'!$A$17,1,0)","v":0},{"$f":"IF(EY15='Listes de sélection'!$A$17,1,0)","v":0},{"$f":"IF(EZ15='Listes de sélection'!$A$17,1,0)","v":0},{"$f":"IF(FA15='Listes de sélection'!$A$17,1,0)","v":0},{"$f":"IF(FB15='Listes de sélection'!$A$17,1,0)","v":0},{"$f":"IF(FC15='Listes de sélection'!$A$17,1,0)","v":0},{"$f":"IF(FD15='Listes de sélection'!$A$17,1,0)","v":0},{"$f":"IF(FE15='Listes de sélection'!$A$17,1,0)","v":0},{"$f":"IF(FF15='Listes de sélection'!$A$17,1,0)","v":0},{"$f":"IF(FG15='Listes de sélection'!$A$17,1,0)","v":0},{"$f":"IF(FH15='Listes de sélection'!$A$17,1,0)","v":0},{"$f":"IF(FI15='Listes de sélection'!$A$17,1,0)","v":0},{"$f":"IF(FJ15='Listes de sélection'!$A$17,1,0)","v":0},{"$f":"IF(FK15='Listes de sélection'!$A$17,1,0)","v":0},{"$f":"IF(FL15='Listes de sélection'!$A$17,1,0)","v":0},{"$f":"IF(FM15='Listes de sélection'!$A$17,1,0)","v":0},{"$f":"IF(FN15='Listes de sélection'!$A$17,1,0)","v":0},{"$f":"IF(FO15='Listes de sélection'!$A$17,1,0)","v":0},{"$f":"IF(FP15='Listes de sélection'!$A$17,1,0)","v":0},{"$f":"IF(FQ15='Listes de sélection'!$A$17,1,0)","v":0},{"$f":"IF(FR15='Listes de sélection'!$A$17,1,0)","v":0},{"$f":"IF(FS15='Listes de sélection'!$A$17,1,0)","v":0},{"$f":"IF(FT15='Listes de sélection'!$A$17,1,0)","v":0},{"$f":"IF(FU15='Listes de sélection'!$A$17,1,0)","v":0},{"$f":"IF(FV15='Listes de sélection'!$A$17,1,0)","v":0},{"$f":"IF(FW15='Listes de sélection'!$A$17,1,0)","v":0},{"$f":"IF(FX15='Listes de sélection'!$A$17,1,0)","v":0},{"$f":"IF(FY15='Listes de sélection'!$A$17,1,0)","v":0},{"$f":"IF(FZ15='Listes de sélection'!$A$17,1,0)","v":0},{"$f":"IF(GA15='Listes de sélection'!$A$17,1,0)","v":0},{"$f":"IF(GB15='Listes de sélection'!$A$17,1,0)","v":0},{"$f":"IF(GC15='Listes de sélection'!$A$17,1,0)","v":0},{"$f":"IF(GD15='Listes de sélection'!$A$17,1,0)","v":0},{"$f":"IF(GE15='Listes de sélection'!$A$17,1,0)","v":0},{"$f":"IF(GF15='Listes de sélection'!$A$17,1,0)","v":0},{"$f":"IF(GG15='Listes de sélection'!$A$17,1,0)","v":0},{"$f":"IF(GH15='Listes de sélection'!$A$17,1,0)","v":0},{"$f":"IF(GI15='Listes de sélection'!$A$17,1,0)","v":0},{"$f":"IF(GJ15='Listes de sélection'!$A$17,1,0)","v":0},{"$f":"IF(GK15='Listes de sélection'!$A$17,1,0)","v":0},{"$f":"IF(GL15='Listes de sélection'!$A$17,1,0)","v":0},{"$f":"IF(GM15='Listes de sélection'!$A$17,1,0)","v":0},{"$f":"IF(GN15='Listes de sélection'!$A$17,1,0)","v":0},{"$f":"IF(GO15='Listes de sélection'!$A$17,1,0)","v":0},{"$f":"IF(GP15='Listes de sélection'!$A$17,1,0)","v":0},{"$f":"IF(GQ15='Listes de sélection'!$A$17,1,0)","v":0},{"$f":"IF(GR15='Listes de sélection'!$A$17,1,0)","v":0},{"$f":"IF(GS15='Listes de sélection'!$A$17,1,0)","v":0},{"$f":"IF(GT15='Listes de sélection'!$A$17,1,0)","v":0}]
["Index - Utilisation pour l'ECS","-",{"$f":"IF(C16='Listes de sélection'!$A$17,1,0)","v":0},{"$f":"IF(D16='Listes de sélection'!$A$17,1,0)","v":0},{"$f":"IF(E16='Listes de sélection'!$A$17,1,0)","v":0},{"$f":"IF(F16='Listes de sélection'!$A$17,1,0)","v":0},{"$f":"IF(G16='Listes de sélection'!$A$17,1,0)","v":0},{"$f":"IF(H16='Listes de sélection'!$A$17,1,0)","v":0},{"$f":"IF(I16='Listes de sélection'!$A$17,1,0)","v":0},{"$f":"IF(J16='Listes de sélection'!$A$17,1,0)","v":0},{"$f":"IF(K16='Listes de sélection'!$A$17,1,0)","v":0},{"$f":"IF(L16='Listes de sélection'!$A$17,1,0)","v":0},{"$f":"IF(M16='Listes de sélection'!$A$17,1,0)","v":0},{"$f":"IF(N16='Listes de sélection'!$A$17,1,0)","v":0},{"$f":"IF(O16='Listes de sélection'!$A$17,1,0)","v":0},{"$f":"IF(P16='Listes de sélection'!$A$17,1,0)","v":0},{"$f":"IF(Q16='Listes de sélection'!$A$17,1,0)","v":0},{"$f":"IF(R16='Listes de sélection'!$A$17,1,0)","v":0},{"$f":"IF(S16='Listes de sélection'!$A$17,1,0)","v":0},{"$f":"IF(T16='Listes de sélection'!$A$17,1,0)","v":0},{"$f":"IF(U16='Listes de sélection'!$A$17,1,0)","v":0},{"$f":"IF(V16='Listes de sélection'!$A$17,1,0)","v":0},{"$f":"IF(W16='Listes de sélection'!$A$17,1,0)","v":0},{"$f":"IF(X16='Listes de sélection'!$A$17,1,0)","v":0},{"$f":"IF(Y16='Listes de sélection'!$A$17,1,0)","v":0},{"$f":"IF(Z16='Listes de sélection'!$A$17,1,0)","v":0},{"$f":"IF(AA16='Listes de sélection'!$A$17,1,0)","v":0},{"$f":"IF(AB16='Listes de sélection'!$A$17,1,0)","v":0},{"$f":"IF(AC16='Listes de sélection'!$A$17,1,0)","v":0},{"$f":"IF(AD16='Listes de sélection'!$A$17,1,0)","v":0},{"$f":"IF(AE16='Listes de sélection'!$A$17,1,0)","v":0},{"$f":"IF(AF16='Listes de sélection'!$A$17,1,0)","v":0},{"$f":"IF(AG16='Listes de sélection'!$A$17,1,0)","v":0},{"$f":"IF(AH16='Listes de sélection'!$A$17,1,0)","v":0},{"$f":"IF(AI16='Listes de sélection'!$A$17,1,0)","v":0},{"$f":"IF(AJ16='Listes de sélection'!$A$17,1,0)","v":0},{"$f":"IF(AK16='Listes de sélection'!$A$17,1,0)","v":0},{"$f":"IF(AL16='Listes de sélection'!$A$17,1,0)","v":0},{"$f":"IF(AM16='Listes de sélection'!$A$17,1,0)","v":0},{"$f":"IF(AN16='Listes de sélection'!$A$17,1,0)","v":0},{"$f":"IF(AO16='Listes de sélection'!$A$17,1,0)","v":0},{"$f":"IF(AP16='Listes de sélection'!$A$17,1,0)","v":0},{"$f":"IF(AQ16='Listes de sélection'!$A$17,1,0)","v":0},{"$f":"IF(AR16='Listes de sélection'!$A$17,1,0)","v":0},{"$f":"IF(AS16='Listes de sélection'!$A$17,1,0)","v":0},{"$f":"IF(AT16='Listes de sélection'!$A$17,1,0)","v":0},{"$f":"IF(AU16='Listes de sélection'!$A$17,1,0)","v":0},{"$f":"IF(AV16='Listes de sélection'!$A$17,1,0)","v":0},{"$f":"IF(AW16='Listes de sélection'!$A$17,1,0)","v":0},{"$f":"IF(AX16='Listes de sélection'!$A$17,1,0)","v":0},{"$f":"IF(AY16='Listes de sélection'!$A$17,1,0)","v":0},{"$f":"IF(AZ16='Listes de sélection'!$A$17,1,0)","v":0},{"$f":"IF(BA16='Listes de sélection'!$A$17,1,0)","v":0},{"$f":"IF(BB16='Listes de sélection'!$A$17,1,0)","v":0},{"$f":"IF(BC16='Listes de sélection'!$A$17,1,0)","v":0},{"$f":"IF(BD16='Listes de sélection'!$A$17,1,0)","v":0},{"$f":"IF(BE16='Listes de sélection'!$A$17,1,0)","v":0},{"$f":"IF(BF16='Listes de sélection'!$A$17,1,0)","v":0},{"$f":"IF(BG16='Listes de sélection'!$A$17,1,0)","v":0},{"$f":"IF(BH16='Listes de sélection'!$A$17,1,0)","v":0},{"$f":"IF(BI16='Listes de sélection'!$A$17,1,0)","v":0},{"$f":"IF(BJ16='Listes de sélection'!$A$17,1,0)","v":0},{"$f":"IF(BK16='Listes de sélection'!$A$17,1,0)","v":0},{"$f":"IF(BL16='Listes de sélection'!$A$17,1,0)","v":0},{"$f":"IF(BM16='Listes de sélection'!$A$17,1,0)","v":0},{"$f":"IF(BN16='Listes de sélection'!$A$17,1,0)","v":0},{"$f":"IF(BO16='Listes de sélection'!$A$17,1,0)","v":0},{"$f":"IF(BP16='Listes de sélection'!$A$17,1,0)","v":0},{"$f":"IF(BQ16='Listes de sélection'!$A$17,1,0)","v":0},{"$f":"IF(BR16='Listes de sélection'!$A$17,1,0)","v":0},{"$f":"IF(BS16='Listes de sélection'!$A$17,1,0)","v":0},{"$f":"IF(BT16='Listes de sélection'!$A$17,1,0)","v":0},{"$f":"IF(BU16='Listes de sélection'!$A$17,1,0)","v":0},{"$f":"IF(BV16='Listes de sélection'!$A$17,1,0)","v":0},{"$f":"IF(BW16='Listes de sélection'!$A$17,1,0)","v":0},{"$f":"IF(BX16='Listes de sélection'!$A$17,1,0)","v":0},{"$f":"IF(BY16='Listes de sélection'!$A$17,1,0)","v":0},{"$f":"IF(BZ16='Listes de sélection'!$A$17,1,0)","v":0},{"$f":"IF(CA16='Listes de sélection'!$A$17,1,0)","v":0},{"$f":"IF(CB16='Listes de sélection'!$A$17,1,0)","v":0},{"$f":"IF(CC16='Listes de sélection'!$A$17,1,0)","v":0},{"$f":"IF(CD16='Listes de sélection'!$A$17,1,0)","v":0},{"$f":"IF(CE16='Listes de sélection'!$A$17,1,0)","v":0},{"$f":"IF(CF16='Listes de sélection'!$A$17,1,0)","v":0},{"$f":"IF(CG16='Listes de sélection'!$A$17,1,0)","v":0},{"$f":"IF(CH16='Listes de sélection'!$A$17,1,0)","v":0},{"$f":"IF(CI16='Listes de sélection'!$A$17,1,0)","v":0},{"$f":"IF(CJ16='Listes de sélection'!$A$17,1,0)","v":0},{"$f":"IF(CK16='Listes de sélection'!$A$17,1,0)","v":0},{"$f":"IF(CL16='Listes de sélection'!$A$17,1,0)","v":0},{"$f":"IF(CM16='Listes de sélection'!$A$17,1,0)","v":0},{"$f":"IF(CN16='Listes de sélection'!$A$17,1,0)","v":0},{"$f":"IF(CO16='Listes de sélection'!$A$17,1,0)","v":0},{"$f":"IF(CP16='Listes de sélection'!$A$17,1,0)","v":0},{"$f":"IF(CQ16='Listes de sélection'!$A$17,1,0)","v":0},{"$f":"IF(CR16='Listes de sélection'!$A$17,1,0)","v":0},{"$f":"IF(CS16='Listes de sélection'!$A$17,1,0)","v":0},{"$f":"IF(CT16='Listes de sélection'!$A$17,1,0)","v":0},{"$f":"IF(CU16='Listes de sélection'!$A$17,1,0)","v":0},{"$f":"IF(CV16='Listes de sélection'!$A$17,1,0)","v":0},{"$f":"IF(CW16='Listes de sélection'!$A$17,1,0)","v":0},{"$f":"IF(CX16='Listes de sélection'!$A$17,1,0)","v":0},{"$f":"IF(CY16='Listes de sélection'!$A$17,1,0)","v":0},{"$f":"IF(CZ16='Listes de sélection'!$A$17,1,0)","v":0},{"$f":"IF(DA16='Listes de sélection'!$A$17,1,0)","v":0},{"$f":"IF(DB16='Listes de sélection'!$A$17,1,0)","v":0},{"$f":"IF(DC16='Listes de sélection'!$A$17,1,0)","v":0},{"$f":"IF(DD16='Listes de sélection'!$A$17,1,0)","v":0},{"$f":"IF(DE16='Listes de sélection'!$A$17,1,0)","v":0},{"$f":"IF(DF16='Listes de sélection'!$A$17,1,0)","v":0},{"$f":"IF(DG16='Listes de sélection'!$A$17,1,0)","v":0},{"$f":"IF(DH16='Listes de sélection'!$A$17,1,0)","v":0},{"$f":"IF(DI16='Listes de sélection'!$A$17,1,0)","v":0},{"$f":"IF(DJ16='Listes de sélection'!$A$17,1,0)","v":0},{"$f":"IF(DK16='Listes de sélection'!$A$17,1,0)","v":0},{"$f":"IF(DL16='Listes de sélection'!$A$17,1,0)","v":0},{"$f":"IF(DM16='Listes de sélection'!$A$17,1,0)","v":0},{"$f":"IF(DN16='Listes de sélection'!$A$17,1,0)","v":0},{"$f":"IF(DO16='Listes de sélection'!$A$17,1,0)","v":0},{"$f":"IF(DP16='Listes de sélection'!$A$17,1,0)","v":0},{"$f":"IF(DQ16='Listes de sélection'!$A$17,1,0)","v":0},{"$f":"IF(DR16='Listes de sélection'!$A$17,1,0)","v":0},{"$f":"IF(DS16='Listes de sélection'!$A$17,1,0)","v":0},{"$f":"IF(DT16='Listes de sélection'!$A$17,1,0)","v":0},{"$f":"IF(DU16='Listes de sélection'!$A$17,1,0)","v":0},{"$f":"IF(DV16='Listes de sélection'!$A$17,1,0)","v":0},{"$f":"IF(DW16='Listes de sélection'!$A$17,1,0)","v":0},{"$f":"IF(DX16='Listes de sélection'!$A$17,1,0)","v":0},{"$f":"IF(DY16='Listes de sélection'!$A$17,1,0)","v":0},{"$f":"IF(DZ16='Listes de sélection'!$A$17,1,0)","v":0},{"$f":"IF(EA16='Listes de sélection'!$A$17,1,0)","v":0},{"$f":"IF(EB16='Listes de sélection'!$A$17,1,0)","v":0},{"$f":"IF(EC16='Listes de sélection'!$A$17,1,0)","v":0},{"$f":"IF(ED16='Listes de sélection'!$A$17,1,0)","v":0},{"$f":"IF(EE16='Listes de sélection'!$A$17,1,0)","v":0},{"$f":"IF(EF16='Listes de sélection'!$A$17,1,0)","v":0},{"$f":"IF(EG16='Listes de sélection'!$A$17,1,0)","v":0},{"$f":"IF(EH16='Listes de sélection'!$A$17,1,0)","v":0},{"$f":"IF(EI16='Listes de sélection'!$A$17,1,0)","v":0},{"$f":"IF(EJ16='Listes de sélection'!$A$17,1,0)","v":0},{"$f":"IF(EK16='Listes de sélection'!$A$17,1,0)","v":0},{"$f":"IF(EL16='Listes de sélection'!$A$17,1,0)","v":0},{"$f":"IF(EM16='Listes de sélection'!$A$17,1,0)","v":0},{"$f":"IF(EN16='Listes de sélection'!$A$17,1,0)","v":0},{"$f":"IF(EO16='Listes de sélection'!$A$17,1,0)","v":0},{"$f":"IF(EP16='Listes de sélection'!$A$17,1,0)","v":0},{"$f":"IF(EQ16='Listes de sélection'!$A$17,1,0)","v":0},{"$f":"IF(ER16='Listes de sélection'!$A$17,1,0)","v":0},{"$f":"IF(ES16='Listes de sélection'!$A$17,1,0)","v":0},{"$f":"IF(ET16='Listes de sélection'!$A$17,1,0)","v":0},{"$f":"IF(EU16='Listes de sélection'!$A$17,1,0)","v":0},{"$f":"IF(EV16='Listes de sélection'!$A$17,1,0)","v":0},{"$f":"IF(EW16='Listes de sélection'!$A$17,1,0)","v":0},{"$f":"IF(EX16='Listes de sélection'!$A$17,1,0)","v":0},{"$f":"IF(EY16='Listes de sélection'!$A$17,1,0)","v":0},{"$f":"IF(EZ16='Listes de sélection'!$A$17,1,0)","v":0},{"$f":"IF(FA16='Listes de sélection'!$A$17,1,0)","v":0},{"$f":"IF(FB16='Listes de sélection'!$A$17,1,0)","v":0},{"$f":"IF(FC16='Listes de sélection'!$A$17,1,0)","v":0},{"$f":"IF(FD16='Listes de sélection'!$A$17,1,0)","v":0},{"$f":"IF(FE16='Listes de sélection'!$A$17,1,0)","v":0},{"$f":"IF(FF16='Listes de sélection'!$A$17,1,0)","v":0},{"$f":"IF(FG16='Listes de sélection'!$A$17,1,0)","v":0},{"$f":"IF(FH16='Listes de sélection'!$A$17,1,0)","v":0},{"$f":"IF(FI16='Listes de sélection'!$A$17,1,0)","v":0},{"$f":"IF(FJ16='Listes de sélection'!$A$17,1,0)","v":0},{"$f":"IF(FK16='Listes de sélection'!$A$17,1,0)","v":0},{"$f":"IF(FL16='Listes de sélection'!$A$17,1,0)","v":0},{"$f":"IF(FM16='Listes de sélection'!$A$17,1,0)","v":0},{"$f":"IF(FN16='Listes de sélection'!$A$17,1,0)","v":0},{"$f":"IF(FO16='Listes de sélection'!$A$17,1,0)","v":0},{"$f":"IF(FP16='Listes de sélection'!$A$17,1,0)","v":0},{"$f":"IF(FQ16='Listes de sélection'!$A$17,1,0)","v":0},{"$f":"IF(FR16='Listes de sélection'!$A$17,1,0)","v":0},{"$f":"IF(FS16='Listes de sélection'!$A$17,1,0)","v":0},{"$f":"IF(FT16='Listes de sélection'!$A$17,1,0)","v":0},{"$f":"IF(FU16='Listes de sélection'!$A$17,1,0)","v":0},{"$f":"IF(FV16='Listes de sélection'!$A$17,1,0)","v":0},{"$f":"IF(FW16='Listes de sélection'!$A$17,1,0)","v":0},{"$f":"IF(FX16='Listes de sélection'!$A$17,1,0)","v":0},{"$f":"IF(FY16='Listes de sélection'!$A$17,1,0)","v":0},{"$f":"IF(FZ16='Listes de sélection'!$A$17,1,0)","v":0},{"$f":"IF(GA16='Listes de sélection'!$A$17,1,0)","v":0},{"$f":"IF(GB16='Listes de sélection'!$A$17,1,0)","v":0},{"$f":"IF(GC16='Listes de sélection'!$A$17,1,0)","v":0},{"$f":"IF(GD16='Listes de sélection'!$A$17,1,0)","v":0},{"$f":"IF(GE16='Listes de sélection'!$A$17,1,0)","v":0},{"$f":"IF(GF16='Listes de sélection'!$A$17,1,0)","v":0},{"$f":"IF(GG16='Listes de sélection'!$A$17,1,0)","v":0},{"$f":"IF(GH16='Listes de sélection'!$A$17,1,0)","v":0},{"$f":"IF(GI16='Listes de sélection'!$A$17,1,0)","v":0},{"$f":"IF(GJ16='Listes de sélection'!$A$17,1,0)","v":0},{"$f":"IF(GK16='Listes de sélection'!$A$17,1,0)","v":0},{"$f":"IF(GL16='Listes de sélection'!$A$17,1,0)","v":0},{"$f":"IF(GM16='Listes de sélection'!$A$17,1,0)","v":0},{"$f":"IF(GN16='Listes de sélection'!$A$17,1,0)","v":0},{"$f":"IF(GO16='Listes de sélection'!$A$17,1,0)","v":0},{"$f":"IF(GP16='Listes de sélection'!$A$17,1,0)","v":0},{"$f":"IF(GQ16='Listes de sélection'!$A$17,1,0)","v":0},{"$f":"IF(GR16='Listes de sélection'!$A$17,1,0)","v":0},{"$f":"IF(GS16='Listes de sélection'!$A$17,1,0)","v":0},{"$f":"IF(GT16='Listes de sélection'!$A$17,1,0)","v":0}]
["Index - Utilisation pour l'humidification","-",{"$f":"IF(C17='Listes de sélection'!$A$17,1,0)","v":0},{"$f":"IF(D17='Listes de sélection'!$A$17,1,0)","v":0},{"$f":"IF(E17='Listes de sélection'!$A$17,1,0)","v":0},{"$f":"IF(F17='Listes de sélection'!$A$17,1,0)","v":0},{"$f":"IF(G17='Listes de sélection'!$A$17,1,0)","v":0},{"$f":"IF(H17='Listes de sélection'!$A$17,1,0)","v":0},{"$f":"IF(I17='Listes de sélection'!$A$17,1,0)","v":0},{"$f":"IF(J17='Listes de sélection'!$A$17,1,0)","v":0},{"$f":"IF(K17='Listes de sélection'!$A$17,1,0)","v":0},{"$f":"IF(L17='Listes de sélection'!$A$17,1,0)","v":0},{"$f":"IF(M17='Listes de sélection'!$A$17,1,0)","v":0},{"$f":"IF(N17='Listes de sélection'!$A$17,1,0)","v":0},{"$f":"IF(O17='Listes de sélection'!$A$17,1,0)","v":0},{"$f":"IF(P17='Listes de sélection'!$A$17,1,0)","v":0},{"$f":"IF(Q17='Listes de sélection'!$A$17,1,0)","v":0},{"$f":"IF(R17='Listes de sélection'!$A$17,1,0)","v":0},{"$f":"IF(S17='Listes de sélection'!$A$17,1,0)","v":0},{"$f":"IF(T17='Listes de sélection'!$A$17,1,0)","v":0},{"$f":"IF(U17='Listes de sélection'!$A$17,1,0)","v":0},{"$f":"IF(V17='Listes de sélection'!$A$17,1,0)","v":0},{"$f":"IF(W17='Listes de sélection'!$A$17,1,0)","v":0},{"$f":"IF(X17='Listes de sélection'!$A$17,1,0)","v":0},{"$f":"IF(Y17='Listes de sélection'!$A$17,1,0)","v":0},{"$f":"IF(Z17='Listes de sélection'!$A$17,1,0)","v":0},{"$f":"IF(AA17='Listes de sélection'!$A$17,1,0)","v":0},{"$f":"IF(AB17='Listes de sélection'!$A$17,1,0)","v":0},{"$f":"IF(AC17='Listes de sélection'!$A$17,1,0)","v":0},{"$f":"IF(AD17='Listes de sélection'!$A$17,1,0)","v":0},{"$f":"IF(AE17='Listes de sélection'!$A$17,1,0)","v":0},{"$f":"IF(AF17='Listes de sélection'!$A$17,1,0)","v":0},{"$f":"IF(AG17='Listes de sélection'!$A$17,1,0)","v":0},{"$f":"IF(AH17='Listes de sélection'!$A$17,1,0)","v":0},{"$f":"IF(AI17='Listes de sélection'!$A$17,1,0)","v":0},{"$f":"IF(AJ17='Listes de sélection'!$A$17,1,0)","v":0},{"$f":"IF(AK17='Listes de sélection'!$A$17,1,0)","v":0},{"$f":"IF(AL17='Listes de sélection'!$A$17,1,0)","v":0},{"$f":"IF(AM17='Listes de sélection'!$A$17,1,0)","v":0},{"$f":"IF(AN17='Listes de sélection'!$A$17,1,0)","v":0},{"$f":"IF(AO17='Listes de sélection'!$A$17,1,0)","v":0},{"$f":"IF(AP17='Listes de sélection'!$A$17,1,0)","v":0},{"$f":"IF(AQ17='Listes de sélection'!$A$17,1,0)","v":0},{"$f":"IF(AR17='Listes de sélection'!$A$17,1,0)","v":0},{"$f":"IF(AS17='Listes de sélection'!$A$17,1,0)","v":0},{"$f":"IF(AT17='Listes de sélection'!$A$17,1,0)","v":0},{"$f":"IF(AU17='Listes de sélection'!$A$17,1,0)","v":0},{"$f":"IF(AV17='Listes de sélection'!$A$17,1,0)","v":0},{"$f":"IF(AW17='Listes de sélection'!$A$17,1,0)","v":0},{"$f":"IF(AX17='Listes de sélection'!$A$17,1,0)","v":0},{"$f":"IF(AY17='Listes de sélection'!$A$17,1,0)","v":0},{"$f":"IF(AZ17='Listes de sélection'!$A$17,1,0)","v":0},{"$f":"IF(BA17='Listes de sélection'!$A$17,1,0)","v":0},{"$f":"IF(BB17='Listes de sélection'!$A$17,1,0)","v":0},{"$f":"IF(BC17='Listes de sélection'!$A$17,1,0)","v":0},{"$f":"IF(BD17='Listes de sélection'!$A$17,1,0)","v":0},{"$f":"IF(BE17='Listes de sélection'!$A$17,1,0)","v":0},{"$f":"IF(BF17='Listes de sélection'!$A$17,1,0)","v":0},{"$f":"IF(BG17='Listes de sélection'!$A$17,1,0)","v":0},{"$f":"IF(BH17='Listes de sélection'!$A$17,1,0)","v":0},{"$f":"IF(BI17='Listes de sélection'!$A$17,1,0)","v":0},{"$f":"IF(BJ17='Listes de sélection'!$A$17,1,0)","v":0},{"$f":"IF(BK17='Listes de sélection'!$A$17,1,0)","v":0},{"$f":"IF(BL17='Listes de sélection'!$A$17,1,0)","v":0},{"$f":"IF(BM17='Listes de sélection'!$A$17,1,0)","v":0},{"$f":"IF(BN17='Listes de sélection'!$A$17,1,0)","v":0},{"$f":"IF(BO17='Listes de sélection'!$A$17,1,0)","v":0},{"$f":"IF(BP17='Listes de sélection'!$A$17,1,0)","v":0},{"$f":"IF(BQ17='Listes de sélection'!$A$17,1,0)","v":0},{"$f":"IF(BR17='Listes de sélection'!$A$17,1,0)","v":0},{"$f":"IF(BS17='Listes de sélection'!$A$17,1,0)","v":0},{"$f":"IF(BT17='Listes de sélection'!$A$17,1,0)","v":0},{"$f":"IF(BU17='Listes de sélection'!$A$17,1,0)","v":0},{"$f":"IF(BV17='Listes de sélection'!$A$17,1,0)","v":0},{"$f":"IF(BW17='Listes de sélection'!$A$17,1,0)","v":0},{"$f":"IF(BX17='Listes de sélection'!$A$17,1,0)","v":0},{"$f":"IF(BY17='Listes de sélection'!$A$17,1,0)","v":0},{"$f":"IF(BZ17='Listes de sélection'!$A$17,1,0)","v":0},{"$f":"IF(CA17='Listes de sélection'!$A$17,1,0)","v":0},{"$f":"IF(CB17='Listes de sélection'!$A$17,1,0)","v":0},{"$f":"IF(CC17='Listes de sélection'!$A$17,1,0)","v":0},{"$f":"IF(CD17='Listes de sélection'!$A$17,1,0)","v":0},{"$f":"IF(CE17='Listes de sélection'!$A$17,1,0)","v":0},{"$f":"IF(CF17='Listes de sélection'!$A$17,1,0)","v":0},{"$f":"IF(CG17='Listes de sélection'!$A$17,1,0)","v":0},{"$f":"IF(CH17='Listes de sélection'!$A$17,1,0)","v":0},{"$f":"IF(CI17='Listes de sélection'!$A$17,1,0)","v":0},{"$f":"IF(CJ17='Listes de sélection'!$A$17,1,0)","v":0},{"$f":"IF(CK17='Listes de sélection'!$A$17,1,0)","v":0},{"$f":"IF(CL17='Listes de sélection'!$A$17,1,0)","v":0},{"$f":"IF(CM17='Listes de sélection'!$A$17,1,0)","v":0},{"$f":"IF(CN17='Listes de sélection'!$A$17,1,0)","v":0},{"$f":"IF(CO17='Listes de sélection'!$A$17,1,0)","v":0},{"$f":"IF(CP17='Listes de sélection'!$A$17,1,0)","v":0},{"$f":"IF(CQ17='Listes de sélection'!$A$17,1,0)","v":0},{"$f":"IF(CR17='Listes de sélection'!$A$17,1,0)","v":0},{"$f":"IF(CS17='Listes de sélection'!$A$17,1,0)","v":0},{"$f":"IF(CT17='Listes de sélection'!$A$17,1,0)","v":0},{"$f":"IF(CU17='Listes de sélection'!$A$17,1,0)","v":0},{"$f":"IF(CV17='Listes de sélection'!$A$17,1,0)","v":0},{"$f":"IF(CW17='Listes de sélection'!$A$17,1,0)","v":0},{"$f":"IF(CX17='Listes de sélection'!$A$17,1,0)","v":0},{"$f":"IF(CY17='Listes de sélection'!$A$17,1,0)","v":0},{"$f":"IF(CZ17='Listes de sélection'!$A$17,1,0)","v":0},{"$f":"IF(DA17='Listes de sélection'!$A$17,1,0)","v":0},{"$f":"IF(DB17='Listes de sélection'!$A$17,1,0)","v":0},{"$f":"IF(DC17='Listes de sélection'!$A$17,1,0)","v":0},{"$f":"IF(DD17='Listes de sélection'!$A$17,1,0)","v":0},{"$f":"IF(DE17='Listes de sélection'!$A$17,1,0)","v":0},{"$f":"IF(DF17='Listes de sélection'!$A$17,1,0)","v":0},{"$f":"IF(DG17='Listes de sélection'!$A$17,1,0)","v":0},{"$f":"IF(DH17='Listes de sélection'!$A$17,1,0)","v":0},{"$f":"IF(DI17='Listes de sélection'!$A$17,1,0)","v":0},{"$f":"IF(DJ17='Listes de sélection'!$A$17,1,0)","v":0},{"$f":"IF(DK17='Listes de sélection'!$A$17,1,0)","v":0},{"$f":"IF(DL17='Listes de sélection'!$A$17,1,0)","v":0},{"$f":"IF(DM17='Listes de sélection'!$A$17,1,0)","v":0},{"$f":"IF(DN17='Listes de sélection'!$A$17,1,0)","v":0},{"$f":"IF(DO17='Listes de sélection'!$A$17,1,0)","v":0},{"$f":"IF(DP17='Listes de sélection'!$A$17,1,0)","v":0},{"$f":"IF(DQ17='Listes de sélection'!$A$17,1,0)","v":0},{"$f":"IF(DR17='Listes de sélection'!$A$17,1,0)","v":0},{"$f":"IF(DS17='Listes de sélection'!$A$17,1,0)","v":0},{"$f":"IF(DT17='Listes de sélection'!$A$17,1,0)","v":0},{"$f":"IF(DU17='Listes de sélection'!$A$17,1,0)","v":0},{"$f":"IF(DV17='Listes de sélection'!$A$17,1,0)","v":0},{"$f":"IF(DW17='Listes de sélection'!$A$17,1,0)","v":0},{"$f":"IF(DX17='Listes de sélection'!$A$17,1,0)","v":0},{"$f":"IF(DY17='Listes de sélection'!$A$17,1,0)","v":0},{"$f":"IF(DZ17='Listes de sélection'!$A$17,1,0)","v":0},{"$f":"IF(EA17='Listes de sélection'!$A$17,1,0)","v":0},{"$f":"IF(EB17='Listes de sélection'!$A$17,1,0)","v":0},{"$f":"IF(EC17='Listes de sélection'!$A$17,1,0)","v":0},{"$f":"IF(ED17='Listes de sélection'!$A$17,1,0)","v":0},{"$f":"IF(EE17='Listes de sélection'!$A$17,1,0)","v":0},{"$f":"IF(EF17='Listes de sélection'!$A$17,1,0)","v":0},{"$f":"IF(EG17='Listes de sélection'!$A$17,1,0)","v":0},{"$f":"IF(EH17='Listes de sélection'!$A$17,1,0)","v":0},{"$f":"IF(EI17='Listes de sélection'!$A$17,1,0)","v":0},{"$f":"IF(EJ17='Listes de sélection'!$A$17,1,0)","v":0},{"$f":"IF(EK17='Listes de sélection'!$A$17,1,0)","v":0},{"$f":"IF(EL17='Listes de sélection'!$A$17,1,0)","v":0},{"$f":"IF(EM17='Listes de sélection'!$A$17,1,0)","v":0},{"$f":"IF(EN17='Listes de sélection'!$A$17,1,0)","v":0},{"$f":"IF(EO17='Listes de sélection'!$A$17,1,0)","v":0},{"$f":"IF(EP17='Listes de sélection'!$A$17,1,0)","v":0},{"$f":"IF(EQ17='Listes de sélection'!$A$17,1,0)","v":0},{"$f":"IF(ER17='Listes de sélection'!$A$17,1,0)","v":0},{"$f":"IF(ES17='Listes de sélection'!$A$17,1,0)","v":0},{"$f":"IF(ET17='Listes de sélection'!$A$17,1,0)","v":0},{"$f":"IF(EU17='Listes de sélection'!$A$17,1,0)","v":0},{"$f":"IF(EV17='Listes de sélection'!$A$17,1,0)","v":0},{"$f":"IF(EW17='Listes de sélection'!$A$17,1,0)","v":0},{"$f":"IF(EX17='Listes de sélection'!$A$17,1,0)","v":0},{"$f":"IF(EY17='Listes de sélection'!$A$17,1,0)","v":0},{"$f":"IF(EZ17='Listes de sélection'!$A$17,1,0)","v":0},{"$f":"IF(FA17='Listes de sélection'!$A$17,1,0)","v":0},{"$f":"IF(FB17='Listes de sélection'!$A$17,1,0)","v":0},{"$f":"IF(FC17='Listes de sélection'!$A$17,1,0)","v":0},{"$f":"IF(FD17='Listes de sélection'!$A$17,1,0)","v":0},{"$f":"IF(FE17='Listes de sélection'!$A$17,1,0)","v":0},{"$f":"IF(FF17='Listes de sélection'!$A$17,1,0)","v":0},{"$f":"IF(FG17='Listes de sélection'!$A$17,1,0)","v":0},{"$f":"IF(FH17='Listes de sélection'!$A$17,1,0)","v":0},{"$f":"IF(FI17='Listes de sélection'!$A$17,1,0)","v":0},{"$f":"IF(FJ17='Listes de sélection'!$A$17,1,0)","v":0},{"$f":"IF(FK17='Listes de sélection'!$A$17,1,0)","v":0},{"$f":"IF(FL17='Listes de sélection'!$A$17,1,0)","v":0},{"$f":"IF(FM17='Listes de sélection'!$A$17,1,0)","v":0},{"$f":"IF(FN17='Listes de sélection'!$A$17,1,0)","v":0},{"$f":"IF(FO17='Listes de sélection'!$A$17,1,0)","v":0},{"$f":"IF(FP17='Listes de sélection'!$A$17,1,0)","v":0},{"$f":"IF(FQ17='Listes de sélection'!$A$17,1,0)","v":0},{"$f":"IF(FR17='Listes de sélection'!$A$17,1,0)","v":0},{"$f":"IF(FS17='Listes de sélection'!$A$17,1,0)","v":0},{"$f":"IF(FT17='Listes de sélection'!$A$17,1,0)","v":0},{"$f":"IF(FU17='Listes de sélection'!$A$17,1,0)","v":0},{"$f":"IF(FV17='Listes de sélection'!$A$17,1,0)","v":0},{"$f":"IF(FW17='Listes de sélection'!$A$17,1,0)","v":0},{"$f":"IF(FX17='Listes de sélection'!$A$17,1,0)","v":0},{"$f":"IF(FY17='Listes de sélection'!$A$17,1,0)","v":0},{"$f":"IF(FZ17='Listes de sélection'!$A$17,1,0)","v":0},{"$f":"IF(GA17='Listes de sélection'!$A$17,1,0)","v":0},{"$f":"IF(GB17='Listes de sélection'!$A$17,1,0)","v":0},{"$f":"IF(GC17='Listes de sélection'!$A$17,1,0)","v":0},{"$f":"IF(GD17='Listes de sélection'!$A$17,1,0)","v":0},{"$f":"IF(GE17='Listes de sélection'!$A$17,1,0)","v":0},{"$f":"IF(GF17='Listes de sélection'!$A$17,1,0)","v":0},{"$f":"IF(GG17='Listes de sélection'!$A$17,1,0)","v":0},{"$f":"IF(GH17='Listes de sélection'!$A$17,1,0)","v":0},{"$f":"IF(GI17='Listes de sélection'!$A$17,1,0)","v":0},{"$f":"IF(GJ17='Listes de sélection'!$A$17,1,0)","v":0},{"$f":"IF(GK17='Listes de sélection'!$A$17,1,0)","v":0},{"$f":"IF(GL17='Listes de sélection'!$A$17,1,0)","v":0},{"$f":"IF(GM17='Listes de sélection'!$A$17,1,0)","v":0},{"$f":"IF(GN17='Listes de sélection'!$A$17,1,0)","v":0},{"$f":"IF(GO17='Listes de sélection'!$A$17,1,0)","v":0},{"$f":"IF(GP17='Listes de sélection'!$A$17,1,0)","v":0},{"$f":"IF(GQ17='Listes de sélection'!$A$17,1,0)","v":0},{"$f":"IF(GR17='Listes de sélection'!$A$17,1,0)","v":0},{"$f":"IF(GS17='Listes de sélection'!$A$17,1,0)","v":0},{"$f":"IF(GT17='Listes de sélection'!$A$17,1,0)","v":0}]
["Index - Utilisation pour le refroidissement","-",{"$f":"IF(C18='Listes de sélection'!$A$17,1,0)","v":0},{"$f":"IF(D18='Listes de sélection'!$A$17,1,0)","v":0},{"$f":"IF(E18='Listes de sélection'!$A$17,1,0)","v":0},{"$f":"IF(F18='Listes de sélection'!$A$17,1,0)","v":0},{"$f":"IF(G18='Listes de sélection'!$A$17,1,0)","v":0},{"$f":"IF(H18='Listes de sélection'!$A$17,1,0)","v":0},{"$f":"IF(I18='Listes de sélection'!$A$17,1,0)","v":0},{"$f":"IF(J18='Listes de sélection'!$A$17,1,0)","v":0},{"$f":"IF(K18='Listes de sélection'!$A$17,1,0)","v":0},{"$f":"IF(L18='Listes de sélection'!$A$17,1,0)","v":0},{"$f":"IF(M18='Listes de sélection'!$A$17,1,0)","v":0},{"$f":"IF(N18='Listes de sélection'!$A$17,1,0)","v":0},{"$f":"IF(O18='Listes de sélection'!$A$17,1,0)","v":0},{"$f":"IF(P18='Listes de sélection'!$A$17,1,0)","v":0},{"$f":"IF(Q18='Listes de sélection'!$A$17,1,0)","v":0},{"$f":"IF(R18='Listes de sélection'!$A$17,1,0)","v":0},{"$f":"IF(S18='Listes de sélection'!$A$17,1,0)","v":0},{"$f":"IF(T18='Listes de sélection'!$A$17,1,0)","v":0},{"$f":"IF(U18='Listes de sélection'!$A$17,1,0)","v":0},{"$f":"IF(V18='Listes de sélection'!$A$17,1,0)","v":0},{"$f":"IF(W18='Listes de sélection'!$A$17,1,0)","v":0},{"$f":"IF(X18='Listes de sélection'!$A$17,1,0)","v":0},{"$f":"IF(Y18='Listes de sélection'!$A$17,1,0)","v":0},{"$f":"IF(Z18='Listes de sélection'!$A$17,1,0)","v":0},{"$f":"IF(AA18='Listes de sélection'!$A$17,1,0)","v":0},{"$f":"IF(AB18='Listes de sélection'!$A$17,1,0)","v":0},{"$f":"IF(AC18='Listes de sélection'!$A$17,1,0)","v":0},{"$f":"IF(AD18='Listes de sélection'!$A$17,1,0)","v":0},{"$f":"IF(AE18='Listes de sélection'!$A$17,1,0)","v":0},{"$f":"IF(AF18='Listes de sélection'!$A$17,1,0)","v":0},{"$f":"IF(AG18='Listes de sélection'!$A$17,1,0)","v":0},{"$f":"IF(AH18='Listes de sélection'!$A$17,1,0)","v":0},{"$f":"IF(AI18='Listes de sélection'!$A$17,1,0)","v":0},{"$f":"IF(AJ18='Listes de sélection'!$A$17,1,0)","v":0},{"$f":"IF(AK18='Listes de sélection'!$A$17,1,0)","v":0},{"$f":"IF(AL18='Listes de sélection'!$A$17,1,0)","v":0},{"$f":"IF(AM18='Listes de sélection'!$A$17,1,0)","v":0},{"$f":"IF(AN18='Listes de sélection'!$A$17,1,0)","v":0},{"$f":"IF(AO18='Listes de sélection'!$A$17,1,0)","v":0},{"$f":"IF(AP18='Listes de sélection'!$A$17,1,0)","v":0},{"$f":"IF(AQ18='Listes de sélection'!$A$17,1,0)","v":0},{"$f":"IF(AR18='Listes de sélection'!$A$17,1,0)","v":0},{"$f":"IF(AS18='Listes de sélection'!$A$17,1,0)","v":0},{"$f":"IF(AT18='Listes de sélection'!$A$17,1,0)","v":0},{"$f":"IF(AU18='Listes de sélection'!$A$17,1,0)","v":0},{"$f":"IF(AV18='Listes de sélection'!$A$17,1,0)","v":0},{"$f":"IF(AW18='Listes de sélection'!$A$17,1,0)","v":0},{"$f":"IF(AX18='Listes de sélection'!$A$17,1,0)","v":0},{"$f":"IF(AY18='Listes de sélection'!$A$17,1,0)","v":0},{"$f":"IF(AZ18='Listes de sélection'!$A$17,1,0)","v":0},{"$f":"IF(BA18='Listes de sélection'!$A$17,1,0)","v":0},{"$f":"IF(BB18='Listes de sélection'!$A$17,1,0)","v":0},{"$f":"IF(BC18='Listes de sélection'!$A$17,1,0)","v":0},{"$f":"IF(BD18='Listes de sélection'!$A$17,1,0)","v":0},{"$f":"IF(BE18='Listes de sélection'!$A$17,1,0)","v":0},{"$f":"IF(BF18='Listes de sélection'!$A$17,1,0)","v":0},{"$f":"IF(BG18='Listes de sélection'!$A$17,1,0)","v":0},{"$f":"IF(BH18='Listes de sélection'!$A$17,1,0)","v":0},{"$f":"IF(BI18='Listes de sélection'!$A$17,1,0)","v":0},{"$f":"IF(BJ18='Listes de sélection'!$A$17,1,0)","v":0},{"$f":"IF(BK18='Listes de sélection'!$A$17,1,0)","v":0},{"$f":"IF(BL18='Listes de sélection'!$A$17,1,0)","v":0},{"$f":"IF(BM18='Listes de sélection'!$A$17,1,0)","v":0},{"$f":"IF(BN18='Listes de sélection'!$A$17,1,0)","v":0},{"$f":"IF(BO18='Listes de sélection'!$A$17,1,0)","v":0},{"$f":"IF(BP18='Listes de sélection'!$A$17,1,0)","v":0},{"$f":"IF(BQ18='Listes de sélection'!$A$17,1,0)","v":0},{"$f":"IF(BR18='Listes de sélection'!$A$17,1,0)","v":0},{"$f":"IF(BS18='Listes de sélection'!$A$17,1,0)","v":0},{"$f":"IF(BT18='Listes de sélection'!$A$17,1,0)","v":0},{"$f":"IF(BU18='Listes de sélection'!$A$17,1,0)","v":0},{"$f":"IF(BV18='Listes de sélection'!$A$17,1,0)","v":0},{"$f":"IF(BW18='Listes de sélection'!$A$17,1,0)","v":0},{"$f":"IF(BX18='Listes de sélection'!$A$17,1,0)","v":0},{"$f":"IF(BY18='Listes de sélection'!$A$17,1,0)","v":0},{"$f":"IF(BZ18='Listes de sélection'!$A$17,1,0)","v":0},{"$f":"IF(CA18='Listes de sélection'!$A$17,1,0)","v":0},{"$f":"IF(CB18='Listes de sélection'!$A$17,1,0)","v":0},{"$f":"IF(CC18='Listes de sélection'!$A$17,1,0)","v":0},{"$f":"IF(CD18='Listes de sélection'!$A$17,1,0)","v":0},{"$f":"IF(CE18='Listes de sélection'!$A$17,1,0)","v":0},{"$f":"IF(CF18='Listes de sélection'!$A$17,1,0)","v":0},{"$f":"IF(CG18='Listes de sélection'!$A$17,1,0)","v":0},{"$f":"IF(CH18='Listes de sélection'!$A$17,1,0)","v":0},{"$f":"IF(CI18='Listes de sélection'!$A$17,1,0)","v":0},{"$f":"IF(CJ18='Listes de sélection'!$A$17,1,0)","v":0},{"$f":"IF(CK18='Listes de sélection'!$A$17,1,0)","v":0},{"$f":"IF(CL18='Listes de sélection'!$A$17,1,0)","v":0},{"$f":"IF(CM18='Listes de sélection'!$A$17,1,0)","v":0},{"$f":"IF(CN18='Listes de sélection'!$A$17,1,0)","v":0},{"$f":"IF(CO18='Listes de sélection'!$A$17,1,0)","v":0},{"$f":"IF(CP18='Listes de sélection'!$A$17,1,0)","v":0},{"$f":"IF(CQ18='Listes de sélection'!$A$17,1,0)","v":0},{"$f":"IF(CR18='Listes de sélection'!$A$17,1,0)","v":0},{"$f":"IF(CS18='Listes de sélection'!$A$17,1,0)","v":0},{"$f":"IF(CT18='Listes de sélection'!$A$17,1,0)","v":0},{"$f":"IF(CU18='Listes de sélection'!$A$17,1,0)","v":0},{"$f":"IF(CV18='Listes de sélection'!$A$17,1,0)","v":0},{"$f":"IF(CW18='Listes de sélection'!$A$17,1,0)","v":0},{"$f":"IF(CX18='Listes de sélection'!$A$17,1,0)","v":0},{"$f":"IF(CY18='Listes de sélection'!$A$17,1,0)","v":0},{"$f":"IF(CZ18='Listes de sélection'!$A$17,1,0)","v":0},{"$f":"IF(DA18='Listes de sélection'!$A$17,1,0)","v":0},{"$f":"IF(DB18='Listes de sélection'!$A$17,1,0)","v":0},{"$f":"IF(DC18='Listes de sélection'!$A$17,1,0)","v":0},{"$f":"IF(DD18='Listes de sélection'!$A$17,1,0)","v":0},{"$f":"IF(DE18='Listes de sélection'!$A$17,1,0)","v":0},{"$f":"IF(DF18='Listes de sélection'!$A$17,1,0)","v":0},{"$f":"IF(DG18='Listes de sélection'!$A$17,1,0)","v":0},{"$f":"IF(DH18='Listes de sélection'!$A$17,1,0)","v":0},{"$f":"IF(DI18='Listes de sélection'!$A$17,1,0)","v":0},{"$f":"IF(DJ18='Listes de sélection'!$A$17,1,0)","v":0},{"$f":"IF(DK18='Listes de sélection'!$A$17,1,0)","v":0},{"$f":"IF(DL18='Listes de sélection'!$A$17,1,0)","v":0},{"$f":"IF(DM18='Listes de sélection'!$A$17,1,0)","v":0},{"$f":"IF(DN18='Listes de sélection'!$A$17,1,0)","v":0},{"$f":"IF(DO18='Listes de sélection'!$A$17,1,0)","v":0},{"$f":"IF(DP18='Listes de sélection'!$A$17,1,0)","v":0},{"$f":"IF(DQ18='Listes de sélection'!$A$17,1,0)","v":0},{"$f":"IF(DR18='Listes de sélection'!$A$17,1,0)","v":0},{"$f":"IF(DS18='Listes de sélection'!$A$17,1,0)","v":0},{"$f":"IF(DT18='Listes de sélection'!$A$17,1,0)","v":0},{"$f":"IF(DU18='Listes de sélection'!$A$17,1,0)","v":0},{"$f":"IF(DV18='Listes de sélection'!$A$17,1,0)","v":0},{"$f":"IF(DW18='Listes de sélection'!$A$17,1,0)","v":0},{"$f":"IF(DX18='Listes de sélection'!$A$17,1,0)","v":0},{"$f":"IF(DY18='Listes de sélection'!$A$17,1,0)","v":0},{"$f":"IF(DZ18='Listes de sélection'!$A$17,1,0)","v":0},{"$f":"IF(EA18='Listes de sélection'!$A$17,1,0)","v":0},{"$f":"IF(EB18='Listes de sélection'!$A$17,1,0)","v":0},{"$f":"IF(EC18='Listes de sélection'!$A$17,1,0)","v":0},{"$f":"IF(ED18='Listes de sélection'!$A$17,1,0)","v":0},{"$f":"IF(EE18='Listes de sélection'!$A$17,1,0)","v":0},{"$f":"IF(EF18='Listes de sélection'!$A$17,1,0)","v":0},{"$f":"IF(EG18='Listes de sélection'!$A$17,1,0)","v":0},{"$f":"IF(EH18='Listes de sélection'!$A$17,1,0)","v":0},{"$f":"IF(EI18='Listes de sélection'!$A$17,1,0)","v":0},{"$f":"IF(EJ18='Listes de sélection'!$A$17,1,0)","v":0},{"$f":"IF(EK18='Listes de sélection'!$A$17,1,0)","v":0},{"$f":"IF(EL18='Listes de sélection'!$A$17,1,0)","v":0},{"$f":"IF(EM18='Listes de sélection'!$A$17,1,0)","v":0},{"$f":"IF(EN18='Listes de sélection'!$A$17,1,0)","v":0},{"$f":"IF(EO18='Listes de sélection'!$A$17,1,0)","v":0},{"$f":"IF(EP18='Listes de sélection'!$A$17,1,0)","v":0},{"$f":"IF(EQ18='Listes de sélection'!$A$17,1,0)","v":0},{"$f":"IF(ER18='Listes de sélection'!$A$17,1,0)","v":0},{"$f":"IF(ES18='Listes de sélection'!$A$17,1,0)","v":0},{"$f":"IF(ET18='Listes de sélection'!$A$17,1,0)","v":0},{"$f":"IF(EU18='Listes de sélection'!$A$17,1,0)","v":0},{"$f":"IF(EV18='Listes de sélection'!$A$17,1,0)","v":0},{"$f":"IF(EW18='Listes de sélection'!$A$17,1,0)","v":0},{"$f":"IF(EX18='Listes de sélection'!$A$17,1,0)","v":0},{"$f":"IF(EY18='Listes de sélection'!$A$17,1,0)","v":0},{"$f":"IF(EZ18='Listes de sélection'!$A$17,1,0)","v":0},{"$f":"IF(FA18='Listes de sélection'!$A$17,1,0)","v":0},{"$f":"IF(FB18='Listes de sélection'!$A$17,1,0)","v":0},{"$f":"IF(FC18='Listes de sélection'!$A$17,1,0)","v":0},{"$f":"IF(FD18='Listes de sélection'!$A$17,1,0)","v":0},{"$f":"IF(FE18='Listes de sélection'!$A$17,1,0)","v":0},{"$f":"IF(FF18='Listes de sélection'!$A$17,1,0)","v":0},{"$f":"IF(FG18='Listes de sélection'!$A$17,1,0)","v":0},{"$f":"IF(FH18='Listes de sélection'!$A$17,1,0)","v":0},{"$f":"IF(FI18='Listes de sélection'!$A$17,1,0)","v":0},{"$f":"IF(FJ18='Listes de sélection'!$A$17,1,0)","v":0},{"$f":"IF(FK18='Listes de sélection'!$A$17,1,0)","v":0},{"$f":"IF(FL18='Listes de sélection'!$A$17,1,0)","v":0},{"$f":"IF(FM18='Listes de sélection'!$A$17,1,0)","v":0},{"$f":"IF(FN18='Listes de sélection'!$A$17,1,0)","v":0},{"$f":"IF(FO18='Listes de sélection'!$A$17,1,0)","v":0},{"$f":"IF(FP18='Listes de sélection'!$A$17,1,0)","v":0},{"$f":"IF(FQ18='Listes de sélection'!$A$17,1,0)","v":0},{"$f":"IF(FR18='Listes de sélection'!$A$17,1,0)","v":0},{"$f":"IF(FS18='Listes de sélection'!$A$17,1,0)","v":0},{"$f":"IF(FT18='Listes de sélection'!$A$17,1,0)","v":0},{"$f":"IF(FU18='Listes de sélection'!$A$17,1,0)","v":0},{"$f":"IF(FV18='Listes de sélection'!$A$17,1,0)","v":0},{"$f":"IF(FW18='Listes de sélection'!$A$17,1,0)","v":0},{"$f":"IF(FX18='Listes de sélection'!$A$17,1,0)","v":0},{"$f":"IF(FY18='Listes de sélection'!$A$17,1,0)","v":0},{"$f":"IF(FZ18='Listes de sélection'!$A$17,1,0)","v":0},{"$f":"IF(GA18='Listes de sélection'!$A$17,1,0)","v":0},{"$f":"IF(GB18='Listes de sélection'!$A$17,1,0)","v":0},{"$f":"IF(GC18='Listes de sélection'!$A$17,1,0)","v":0},{"$f":"IF(GD18='Listes de sélection'!$A$17,1,0)","v":0},{"$f":"IF(GE18='Listes de sélection'!$A$17,1,0)","v":0},{"$f":"IF(GF18='Listes de sélection'!$A$17,1,0)","v":0},{"$f":"IF(GG18='Listes de sélection'!$A$17,1,0)","v":0},{"$f":"IF(GH18='Listes de sélection'!$A$17,1,0)","v":0},{"$f":"IF(GI18='Listes de sélection'!$A$17,1,0)","v":0},{"$f":"IF(GJ18='Listes de sélection'!$A$17,1,0)","v":0},{"$f":"IF(GK18='Listes de sélection'!$A$17,1,0)","v":0},{"$f":"IF(GL18='Listes de sélection'!$A$17,1,0)","v":0},{"$f":"IF(GM18='Listes de sélection'!$A$17,1,0)","v":0},{"$f":"IF(GN18='Listes de sélection'!$A$17,1,0)","v":0},{"$f":"IF(GO18='Listes de sélection'!$A$17,1,0)","v":0},{"$f":"IF(GP18='Listes de sélection'!$A$17,1,0)","v":0},{"$f":"IF(GQ18='Listes de sélection'!$A$17,1,0)","v":0},{"$f":"IF(GR18='Listes de sélection'!$A$17,1,0)","v":0},{"$f":"IF(GS18='Listes de sélection'!$A$17,1,0)","v":0},{"$f":"IF(GT18='Listes de sélection'!$A$17,1,0)","v":0}]
[]
["Sur base de la consommation finale d'énergie"]
["Index - Logiciel PEB","-",2,2,2,2,2,2,2,2,2,2,2,2,2,2,2,2,2,2,2,2,2,2,2,2,2,2,2,2,2,2,2,2,2,2,2,2,2,2,2,2,2,2,2,2,2,2,2,2,2,2,2,2,2,2,2,2,2,2,2,2,2,2,2,2,2,2,2,2,2,2,2,2,2,2,2,2,2,2,2,2,2,2,2,2,2,2,2,2,2,2,2,2,2,2,2,2,2,2,2,2,2,2,2,2,2,2,2,2,2,2,2,2,2,2,2,2,2,2,2,2,2,2,2,2,2,2,2,2,2,2,2,2,2,2,2,2,2,2,2,2,2,2,2,2,2,2,2,2,2,2,2,2,2,2,2,2,2,2,2,2,2,2,2,2,2,2,2,2,2,2,2,2,2,2,2,2,2,2,2,2,2,2,2,2,2,2,2,2,2,2,2,2,2,2,2,2,2,2,2,2]
["Consommation finale d'énergie : chauffage","MJ",{"$f":"IF(C$64=3,IF(C41=1,C$26,0),0)","v":0},{"$f":"IF(D$64=3,IF(D41=1,D$26,0),0)","v":0},{"$f":"IF(E$64=3,IF(E41=1,E$26,0),0)","v":0},{"$f":"IF(F$64=3,IF(F41=1,F$26,0),0)","v":0},0,{"$f":"IF(H$64=3,IF(H41=1,H$26,0),0)","v":0},0,0,0,0,0,0,0,0,0,0,0,0,0,0,0,0,0,0,0,0,0,0,0,0,0,0,0,0,0,0,0,0,0,0,0,0,0,0,0,0,0,0,0,0,0,0,0,0,0,0,0,0,0,0,0,0,0,0,0,0,0,0,0,{"$f":"IF(BT$64=3,IF(BT41=1,BT$26,0),0)","v":0},0,0,0,0,0,0,0,0,0,0,0,0,0,0,0,0,0,0,0,0,0,0,0,0,0,0,0,0,0,0,0,0,0,0,0,0,0,0,0,0,0,0,0,0,0,0,0,0,0,0,0,0,0,0,0,0,0,0,0,0,0,0,0,{"$f":"IF(EF$64=3,IF(EF41=1,EF$26,0),0)","v":0},0,0,0,0,0,0,0,0,0,0,0,0,0,0,0,0,0,0,0,0,0,0,0,0,0,0,0,0,0,0,0,0,0,0,0,0,0,0,0,0,0,0,0,0,0,0,0,0,0,0,0,0,0,0,0,0,0,0,0,0,0,0,0,{"$f":"IF(GR$64=3,IF(GR41=1,GR$26,0),0)","v":0},0,0]
["Consommation finale d'énergie : ECS (tous les points de puisage)","MJ",{"$f":"IF(C$64=3,IF(OR(C40=1,C40=3),IF(C42=1,IF(C47=2,C$27,0),0),0),0)","v":0},{"$f":"IF(D$64=3,IF(OR(D40=1,D40=3),IF(D42=1,IF(D47=2,D$27,0),0),0),0)","v":0},{"$f":"IF(E$64=3,IF(OR(E40=1,E40=3),IF(E42=1,IF(E47=2,E$27,0),0),0),0)","v":0},{"$f":"IF(F$64=3,IF(OR(F40=1,F40=3),IF(F42=1,IF(F47=2,F$27,0),0),0),0)","v":0},0,{"$f":"IF(H$64=3,IF(OR(H40=1,H40=3),IF(H42=1,IF(H47=2,H$27,0),0),0),0)","v":0},0,0,0,0,0,0,0,0,0,0,0,0,0,0,0,0,0,0,0,0,0,0,0,0,0,0,0,0,0,0,0,0,0,0,0,0,0,0,0,0,0,0,0,0,0,0,0,0,0,0,0,0,0,0,0,0,0,0,0,0,0,0,0,{"$f":"IF(BT$64=3,IF(OR(BT40=1,BT40=3),IF(BT42=1,IF(BT47=2,BT$27,0),0),0),0)","v":0},0,0,0,0,0,0,0,0,0,0,0,0,0,0,0,0,0,0,0,0,0,0,0,0,0,0,0,0,0,0,0,0,0,0,0,0,0,0,0,0,0,0,0,0,0,0,0,0,0,0,0,0,0,0,0,0,0,0,0,0,0,0,0,{"$f":"IF(EF$64=3,IF(OR(EF40=1,EF40=3),IF(EF42=1,IF(EF47=2,EF$27,0),0),0),0)","v":0},0,0,0,0,0,0,0,0,0,0,0,0,0,0,0,0,0,0,0,0,0,0,0,0,0,0,0,0,0,0,0,0,0,0,0,0,0,0,0,0,0,0,0,0,0,0,0,0,0,0,0,0,0,0,0,0,0,0,0,0,0,0,0,{"$f":"IF(GR$64=3,IF(OR(GR40=1,GR40=3),IF(GR42=1,IF(GR47=2,GR$27,0),0),0),0)","v":0},0,0]
["Consommation finale d'énergie : point de puisage 1","MJ",{"$f":"IF(C$64=3,IF(OR(C40=1,C40=3),IF(C42=1,IF(C47=1,C$28,0),0),0),0)","v":0},{"$f":"IF(D$64=3,IF(OR(D40=1,D40=3),IF(D42=1,IF(D47=1,D$28,0),0),0),0)","v":0},{"$f":"IF(E$64=3,IF(OR(E40=1,E40=3),IF(E42=1,IF(E47=1,E$28,0),0),0),0)","v":0},{"$f":"IF(F$64=3,IF(OR(F40=1,F40=3),IF(F42=1,IF(F47=1,F$28,0),0),0),0)","v":0},0,{"$f":"IF(H$64=3,IF(OR(H40=1,H40=3),IF(H42=1,IF(H47=1,H$28,0),0),0),0)","v":0},0,0,0,0,0,0,0,0,0,0,0,0,0,0,0,0,0,0,0,0,0,0,0,0,0,0,0,0,0,0,0,0,0,0,0,0,0,0,0,0,0,0,0,0,0,0,0,0,0,0,0,0,0,0,0,0,0,0,0,0,0,0,0,{"$f":"IF(BT$64=3,IF(OR(BT40=1,BT40=3),IF(BT42=1,IF(BT47=1,BT$28,0),0),0),0)","v":0},0,0,0,0,0,0,0,0,0,0,0,0,0,0,0,0,0,0,0,0,0,0,0,0,0,0,0,0,0,0,0,0,0,0,0,0,0,0,0,0,0,0,0,0,0,0,0,0,0,0,0,0,0,0,0,0,0,0,0,0,0,0,0,{"$f":"IF(EF$64=3,IF(OR(EF40=1,EF40=3),IF(EF42=1,IF(EF47=1,EF$28,0),0),0),0)","v":0},0,0,0,0,0,0,0,0,0,0,0,0,0,0,0,0,0,0,0,0,0,0,0,0,0,0,0,0,0,0,0,0,0,0,0,0,0,0,0,0,0,0,0,0,0,0,0,0,0,0,0,0,0,0,0,0,0,0,0,0,0,0,0,{"$f":"IF(GR$64=3,IF(OR(GR40=1,GR40=3),IF(GR42=1,IF(GR47=1,GR$28,0),0),0),0)","v":0},0,0]
["Consommation finale d'énergie : point de puisage 2","MJ",{"$f":"IF(C$64=3,IF(OR(C40=1,C40=3),IF(C42=1,IF(C47=1,C$29,0),0),0),0)","v":0},{"$f":"IF(D$64=3,IF(OR(D40=1,D40=3),IF(D42=1,IF(D47=1,D$29,0),0),0),0)","v":0},{"$f":"IF(E$64=3,IF(OR(E40=1,E40=3),IF(E42=1,IF(E47=1,E$29,0),0),0),0)","v":0},{"$f":"IF(F$64=3,IF(OR(F40=1,F40=3),IF(F42=1,IF(F47=1,F$29,0),0),0),0)","v":0},0,{"$f":"IF(H$64=3,IF(OR(H40=1,H40=3),IF(H42=1,IF(H47=1,H$29,0),0),0),0)","v":0},0,0,0,0,0,0,0,0,0,0,0,0,0,0,0,0,0,0,0,0,0,0,0,0,0,0,0,0,0,0,0,0,0,0,0,0,0,0,0,0,0,0,0,0,0,0,0,0,0,0,0,0,0,0,0,0,0,0,0,0,0,0,0,{"$f":"IF(BT$64=3,IF(OR(BT40=1,BT40=3),IF(BT42=1,IF(BT47=1,BT$29,0),0),0),0)","v":0},0,0,0,0,0,0,0,0,0,0,0,0,0,0,0,0,0,0,0,0,0,0,0,0,0,0,0,0,0,0,0,0,0,0,0,0,0,0,0,0,0,0,0,0,0,0,0,0,0,0,0,0,0,0,0,0,0,0,0,0,0,0,0,{"$f":"IF(EF$64=3,IF(OR(EF40=1,EF40=3),IF(EF42=1,IF(EF47=1,EF$29,0),0),0),0)","v":0},0,0,0,0,0,0,0,0,0,0,0,0,0,0,0,0,0,0,0,0,0,0,0,0,0,0,0,0,0,0,0,0,0,0,0,0,0,0,0,0,0,0,0,0,0,0,0,0,0,0,0,0,0,0,0,0,0,0,0,0,0,0,0,{"$f":"IF(GR$64=3,IF(OR(GR40=1,GR40=3),IF(GR42=1,IF(GR47=1,GR$29,0),0),0),0)","v":0},0,0]
["Consommation finale d'énergie : point de puisage 3","MJ",{"$f":"IF(C$64=3,IF(OR(C40=1,C40=3),IF(C42=1,IF(C47=1,C$30,0),0),0),0)","v":0},{"$f":"IF(D$64=3,IF(OR(D40=1,D40=3),IF(D42=1,IF(D47=1,D$30,0),0),0),0)","v":0},{"$f":"IF(E$64=3,IF(OR(E40=1,E40=3),IF(E42=1,IF(E47=1,E$30,0),0),0),0)","v":0},{"$f":"IF(F$64=3,IF(OR(F40=1,F40=3),IF(F42=1,IF(F47=1,F$30,0),0),0),0)","v":0},0,{"$f":"IF(H$64=3,IF(OR(H40=1,H40=3),IF(H42=1,IF(H47=1,H$30,0),0),0),0)","v":0},0,0,0,0,0,0,0,0,0,0,0,0,0,0,0,0,0,0,0,0,0,0,0,0,0,0,0,0,0,0,0,0,0,0,0,0,0,0,0,0,0,0,0,0,0,0,0,0,0,0,0,0,0,0,0,0,0,0,0,0,0,0,0,{"$f":"IF(BT$64=3,IF(OR(BT40=1,BT40=3),IF(BT42=1,IF(BT47=1,BT$30,0),0),0),0)","v":0},0,0,0,0,0,0,0,0,0,0,0,0,0,0,0,0,0,0,0,0,0,0,0,0,0,0,0,0,0,0,0,0,0,0,0,0,0,0,0,0,0,0,0,0,0,0,0,0,0,0,0,0,0,0,0,0,0,0,0,0,0,0,0,{"$f":"IF(EF$64=3,IF(OR(EF40=1,EF40=3),IF(EF42=1,IF(EF47=1,EF$30,0),0),0),0)","v":0},0,0,0,0,0,0,0,0,0,0,0,0,0,0,0,0,0,0,0,0,0,0,0,0,0,0,0,0,0,0,0,0,0,0,0,0,0,0,0,0,0,0,0,0,0,0,0,0,0,0,0,0,0,0,0,0,0,0,0,0,0,0,0,{"$f":"IF(GR$64=3,IF(OR(GR40=1,GR40=3),IF(GR42=1,IF(GR47=1,GR$30,0),0),0),0)","v":0},0,0]
["Consommation finale d'énergie : humidification","MJ",{"$f":"IF(C$64=3,IF(OR(C40=2,C40=3),IF(C43=1,C$31,0),0),0)","v":0},{"$f":"IF(D$64=3,IF(OR(D40=2,D40=3),IF(D43=1,D$31,0),0),0)","v":0},{"$f":"IF(E$64=3,IF(OR(E40=2,E40=3),IF(E43=1,E$31,0),0),0)","v":0},{"$f":"IF(F$64=3,IF(OR(F40=2,F40=3),IF(F43=1,F$31,0),0),0)","v":0},0,{"$f":"IF(H$64=3,IF(OR(H40=2,H40=3),IF(H43=1,H$31,0),0),0)","v":0},0,0,0,0,0,0,0,0,0,0,0,0,0,0,0,0,0,0,0,0,0,0,0,0,0,0,0,0,0,0,0,0,0,0,0,0,0,0,0,0,0,0,0,0,0,0,0,0,0,0,0,0,0,0,0,0,0,0,0,0,0,0,0,{"$f":"IF(BT$64=3,IF(OR(BT40=2,BT40=3),IF(BT43=1,BT$31,0),0),0)","v":0},0,0,0,0,0,0,0,0,0,0,0,0,0,0,0,0,0,0,0,0,0,0,0,0,0,0,0,0,0,0,0,0,0,0,0,0,0,0,0,0,0,0,0,0,0,0,0,0,0,0,0,0,0,0,0,0,0,0,0,0,0,0,0,{"$f":"IF(EF$64=3,IF(OR(EF40=2,EF40=3),IF(EF43=1,EF$31,0),0),0)","v":0},0,0,0,0,0,0,0,0,0,0,0,0,0,0,0,0,0,0,0,0,0,0,0,0,0,0,0,0,0,0,0,0,0,0,0,0,0,0,0,0,0,0,0,0,0,0,0,0,0,0,0,0,0,0,0,0,0,0,0,0,0,0,0,{"$f":"IF(GR$64=3,IF(OR(GR40=2,GR40=3),IF(GR43=1,GR$31,0),0),0)","v":0},0,0]
["Consommation finale d'énergie : refroidissement","MJ",{"$f":"IF(C$64=3,IF(OR(C40=2,C40=3),IF(C44=1,C$32,0),0),0)","v":0},{"$f":"IF(D$64=3,IF(OR(D40=2,D40=3),IF(D44=1,D$32,0),0),0)","v":0},{"$f":"IF(E$64=3,IF(OR(E40=2,E40=3),IF(E44=1,E$32,0),0),0)","v":0},{"$f":"IF(F$64=3,IF(OR(F40=2,F40=3),IF(F44=1,F$32,0),0),0)","v":0},0,{"$f":"IF(H$64=3,IF(OR(H40=2,H40=3),IF(H44=1,H$32,0),0),0)","v":0},0,0,0,0,0,0,0,0,0,0,0,0,0,0,0,0,0,0,0,0,0,0,0,0,0,0,0,0,0,0,0,0,0,0,0,0,0,0,0,0,0,0,0,0,0,0,0,0,0,0,0,0,0,0,0,0,0,0,0,0,0,0,0,{"$f":"IF(BT$64=3,IF(OR(BT40=2,BT40=3),IF(BT44=1,BT$32,0),0),0)","v":0},0,0,0,0,0,0,0,0,0,0,0,0,0,0,0,0,0,0,0,0,0,0,0,0,0,0,0,0,0,0,0,0,0,0,0,0,0,0,0,0,0,0,0,0,0,0,0,0,0,0,0,0,0,0,0,0,0,0,0,0,0,0,0,{"$f":"IF(EF$64=3,IF(OR(EF40=2,EF40=3),IF(EF44=1,EF$32,0),0),0)","v":0},0,0,0,0,0,0,0,0,0,0,0,0,0,0,0,0,0,0,0,0,0,0,0,0,0,0,0,0,0,0,0,0,0,0,0,0,0,0,0,0,0,0,0,0,0,0,0,0,0,0,0,0,0,0,0,0,0,0,0,0,0,0,0,{"$f":"IF(GR$64=3,IF(OR(GR40=2,GR40=3),IF(GR44=1,GR$32,0),0),0)","v":0},0,0]
["Sur base de la surface de plancher chauffée"]
["Index - Type de demandeur de chaleur","-",{"$f":"IF(C$64=4,IF(C$33=\"\",0,VLOOKUP(C$33,T_TypeWarmtevrager,2,FALSE)),0)","v":0},0,0,0,0,0,0,0,0,0,0,0,0,0,0,0,0,0,0,0,0,0,0,0,0,0,0,0,0,0,0,0,0,0,0,0,0,0,0,0,0,0,0,0,0,0,0,0,0,0,0,0,0,0,0,0,0,0,0,0,0,0,0,0,0,0,0,0,0,0,0,0,0,0,0,0,0,0,0,0,0,0,0,0,0,0,0,0,0,0,0,0,0,0,0,0,0,0,0,0,0,0,0,0,0,0,0,0,0,0,0,0,0,0,0,0,0,0,0,0,0,0,0,0,0,0,0,0,0,0,0,0,0,0,0,0,0,0,0,0,0,0,0,0,0,0,0,0,0,0,0,0,0,0,0,0,0,0,0,0,0,0,0,0,0,0,0,0,0,0,0,0,0,0,0,0,0,0,0,0,0,0,0,0,0,0,0,0,0,0,0,0,0,0,0,0,0,0,0,0]
["Demandeur de chaleur = Appartement","MJ",{"$f":"IF(C$56=1,IF(C$34='Listes de sélection'!$A$17,C$35*HLOOKUP(3,'Listes de sélection'!$C$53:$E$58,2,FALSE),'Listes de sélection'!$M$54*HLOOKUP(3,'Listes de sélection'!$C$53:$E$58,2,FALSE)),0)","v":0},{"$f":"IF(D$56=1,IF(D$34='Listes de sélection'!$A$17,D$35*HLOOKUP(3,'Listes de sélection'!$C$53:$E$58,2,FALSE),'Listes de sélection'!$M$54*HLOOKUP(3,'Listes de sélection'!$C$53:$E$58,2,FALSE)),0)","v":0},{"$f":"IF(E$56=1,IF(E$34='Listes de sélection'!$A$17,E$35*HLOOKUP(3,'Listes de sélection'!$C$53:$E$58,2,FALSE),'Listes de sélection'!$M$54*HLOOKUP(3,'Listes de sélection'!$C$53:$E$58,2,FALSE)),0)","v":0},{"$f":"IF(F$56=1,IF(F$34='Listes de sélection'!$A$17,F$35*HLOOKUP(3,'Listes de sélection'!$C$53:$E$58,2,FALSE),'Listes de sélection'!$M$54*HLOOKUP(3,'Listes de sélection'!$C$53:$E$58,2,FALSE)),0)","v":0},{"$f":"IF(G$56=1,IF(G$34='Listes de sélection'!$A$17,G$35*HLOOKUP(3,'Listes de sélection'!$C$53:$E$58,2,FALSE),'Listes de sélection'!$M$54*HLOOKUP(3,'Listes de sélection'!$C$53:$E$58,2,FALSE)),0)","v":0},{"$f":"IF(H$56=1,IF(H$34='Listes de sélection'!$A$17,H$35*HLOOKUP(3,'Listes de sélection'!$C$53:$E$58,2,FALSE),'Listes de sélection'!$M$54*HLOOKUP(3,'Listes de sélection'!$C$53:$E$58,2,FALSE)),0)","v":0},{"$f":"IF(I$56=1,IF(I$34='Listes de sélection'!$A$17,I$35*HLOOKUP(3,'Listes de sélection'!$C$53:$E$58,2,FALSE),'Listes de sélection'!$M$54*HLOOKUP(3,'Listes de sélection'!$C$53:$E$58,2,FALSE)),0)","v":0},{"$f":"IF(J$56=1,IF(J$34='Listes de sélection'!$A$17,J$35*HLOOKUP(3,'Listes de sélection'!$C$53:$E$58,2,FALSE),'Listes de sélection'!$M$54*HLOOKUP(3,'Listes de sélection'!$C$53:$E$58,2,FALSE)),0)","v":0},{"$f":"IF(K$56=1,IF(K$34='Listes de sélection'!$A$17,K$35*HLOOKUP(3,'Listes de sélection'!$C$53:$E$58,2,FALSE),'Listes de sélection'!$M$54*HLOOKUP(3,'Listes de sélection'!$C$53:$E$58,2,FALSE)),0)","v":0},{"$f":"IF(L$56=1,IF(L$34='Listes de sélection'!$A$17,L$35*HLOOKUP(3,'Listes de sélection'!$C$53:$E$58,2,FALSE),'Listes de sélection'!$M$54*HLOOKUP(3,'Listes de sélection'!$C$53:$E$58,2,FALSE)),0)","v":0},{"$f":"IF(M$56=1,IF(M$34='Listes de sélection'!$A$17,M$35*HLOOKUP(3,'Listes de sélection'!$C$53:$E$58,2,FALSE),'Listes de sélection'!$M$54*HLOOKUP(3,'Listes de sélection'!$C$53:$E$58,2,FALSE)),0)","v":0},{"$f":"IF(N$56=1,IF(N$34='Listes de sélection'!$A$17,N$35*HLOOKUP(3,'Listes de sélection'!$C$53:$E$58,2,FALSE),'Listes de sélection'!$M$54*HLOOKUP(3,'Listes de sélection'!$C$53:$E$58,2,FALSE)),0)","v":0},{"$f":"IF(O$56=1,IF(O$34='Listes de sélection'!$A$17,O$35*HLOOKUP(3,'Listes de sélection'!$C$53:$E$58,2,FALSE),'Listes de sélection'!$M$54*HLOOKUP(3,'Listes de sélection'!$C$53:$E$58,2,FALSE)),0)","v":0},{"$f":"IF(P$56=1,IF(P$34='Listes de sélection'!$A$17,P$35*HLOOKUP(3,'Listes de sélection'!$C$53:$E$58,2,FALSE),'Listes de sélection'!$M$54*HLOOKUP(3,'Listes de sélection'!$C$53:$E$58,2,FALSE)),0)","v":0},{"$f":"IF(Q$56=1,IF(Q$34='Listes de sélection'!$A$17,Q$35*HLOOKUP(3,'Listes de sélection'!$C$53:$E$58,2,FALSE),'Listes de sélection'!$M$54*HLOOKUP(3,'Listes de sélection'!$C$53:$E$58,2,FALSE)),0)","v":0},{"$f":"IF(R$56=1,IF(R$34='Listes de sélection'!$A$17,R$35*HLOOKUP(3,'Listes de sélection'!$C$53:$E$58,2,FALSE),'Listes de sélection'!$M$54*HLOOKUP(3,'Listes de sélection'!$C$53:$E$58,2,FALSE)),0)","v":0},{"$f":"IF(S$56=1,IF(S$34='Listes de sélection'!$A$17,S$35*HLOOKUP(3,'Listes de sélection'!$C$53:$E$58,2,FALSE),'Listes de sélection'!$M$54*HLOOKUP(3,'Listes de sélection'!$C$53:$E$58,2,FALSE)),0)","v":0},{"$f":"IF(T$56=1,IF(T$34='Listes de sélection'!$A$17,T$35*HLOOKUP(3,'Listes de sélection'!$C$53:$E$58,2,FALSE),'Listes de sélection'!$M$54*HLOOKUP(3,'Listes de sélection'!$C$53:$E$58,2,FALSE)),0)","v":0},{"$f":"IF(U$56=1,IF(U$34='Listes de sélection'!$A$17,U$35*HLOOKUP(3,'Listes de sélection'!$C$53:$E$58,2,FALSE),'Listes de sélection'!$M$54*HLOOKUP(3,'Listes de sélection'!$C$53:$E$58,2,FALSE)),0)","v":0},{"$f":"IF(V$56=1,IF(V$34='Listes de sélection'!$A$17,V$35*HLOOKUP(3,'Listes de sélection'!$C$53:$E$58,2,FALSE),'Listes de sélection'!$M$54*HLOOKUP(3,'Listes de sélection'!$C$53:$E$58,2,FALSE)),0)","v":0},{"$f":"IF(W$56=1,IF(W$34='Listes de sélection'!$A$17,W$35*HLOOKUP(3,'Listes de sélection'!$C$53:$E$58,2,FALSE),'Listes de sélection'!$M$54*HLOOKUP(3,'Listes de sélection'!$C$53:$E$58,2,FALSE)),0)","v":0},{"$f":"IF(X$56=1,IF(X$34='Listes de sélection'!$A$17,X$35*HLOOKUP(3,'Listes de sélection'!$C$53:$E$58,2,FALSE),'Listes de sélection'!$M$54*HLOOKUP(3,'Listes de sélection'!$C$53:$E$58,2,FALSE)),0)","v":0},{"$f":"IF(Y$56=1,IF(Y$34='Listes de sélection'!$A$17,Y$35*HLOOKUP(3,'Listes de sélection'!$C$53:$E$58,2,FALSE),'Listes de sélection'!$M$54*HLOOKUP(3,'Listes de sélection'!$C$53:$E$58,2,FALSE)),0)","v":0},{"$f":"IF(Z$56=1,IF(Z$34='Listes de sélection'!$A$17,Z$35*HLOOKUP(3,'Listes de sélection'!$C$53:$E$58,2,FALSE),'Listes de sélection'!$M$54*HLOOKUP(3,'Listes de sélection'!$C$53:$E$58,2,FALSE)),0)","v":0},{"$f":"IF(AA$56=1,IF(AA$34='Listes de sélection'!$A$17,AA$35*HLOOKUP(3,'Listes de sélection'!$C$53:$E$58,2,FALSE),'Listes de sélection'!$M$54*HLOOKUP(3,'Listes de sélection'!$C$53:$E$58,2,FALSE)),0)","v":0},{"$f":"IF(AB$56=1,IF(AB$34='Listes de sélection'!$A$17,AB$35*HLOOKUP(3,'Listes de sélection'!$C$53:$E$58,2,FALSE),'Listes de sélection'!$M$54*HLOOKUP(3,'Listes de sélection'!$C$53:$E$58,2,FALSE)),0)","v":0},{"$f":"IF(AC$56=1,IF(AC$34='Listes de sélection'!$A$17,AC$35*HLOOKUP(3,'Listes de sélection'!$C$53:$E$58,2,FALSE),'Listes de sélection'!$M$54*HLOOKUP(3,'Listes de sélection'!$C$53:$E$58,2,FALSE)),0)","v":0},{"$f":"IF(AD$56=1,IF(AD$34='Listes de sélection'!$A$17,AD$35*HLOOKUP(3,'Listes de sélection'!$C$53:$E$58,2,FALSE),'Listes de sélection'!$M$54*HLOOKUP(3,'Listes de sélection'!$C$53:$E$58,2,FALSE)),0)","v":0},{"$f":"IF(AE$56=1,IF(AE$34='Listes de sélection'!$A$17,AE$35*HLOOKUP(3,'Listes de sélection'!$C$53:$E$58,2,FALSE),'Listes de sélection'!$M$54*HLOOKUP(3,'Listes de sélection'!$C$53:$E$58,2,FALSE)),0)","v":0},{"$f":"IF(AF$56=1,IF(AF$34='Listes de sélection'!$A$17,AF$35*HLOOKUP(3,'Listes de sélection'!$C$53:$E$58,2,FALSE),'Listes de sélection'!$M$54*HLOOKUP(3,'Listes de sélection'!$C$53:$E$58,2,FALSE)),0)","v":0},{"$f":"IF(AG$56=1,IF(AG$34='Listes de sélection'!$A$17,AG$35*HLOOKUP(3,'Listes de sélection'!$C$53:$E$58,2,FALSE),'Listes de sélection'!$M$54*HLOOKUP(3,'Listes de sélection'!$C$53:$E$58,2,FALSE)),0)","v":0},{"$f":"IF(AH$56=1,IF(AH$34='Listes de sélection'!$A$17,AH$35*HLOOKUP(3,'Listes de sélection'!$C$53:$E$58,2,FALSE),'Listes de sélection'!$M$54*HLOOKUP(3,'Listes de sélection'!$C$53:$E$58,2,FALSE)),0)","v":0},{"$f":"IF(AI$56=1,IF(AI$34='Listes de sélection'!$A$17,AI$35*HLOOKUP(3,'Listes de sélection'!$C$53:$E$58,2,FALSE),'Listes de sélection'!$M$54*HLOOKUP(3,'Listes de sélection'!$C$53:$E$58,2,FALSE)),0)","v":0},{"$f":"IF(AJ$56=1,IF(AJ$34='Listes de sélection'!$A$17,AJ$35*HLOOKUP(3,'Listes de sélection'!$C$53:$E$58,2,FALSE),'Listes de sélection'!$M$54*HLOOKUP(3,'Listes de sélection'!$C$53:$E$58,2,FALSE)),0)","v":0},{"$f":"IF(AK$56=1,IF(AK$34='Listes de sélection'!$A$17,AK$35*HLOOKUP(3,'Listes de sélection'!$C$53:$E$58,2,FALSE),'Listes de sélection'!$M$54*HLOOKUP(3,'Listes de sélection'!$C$53:$E$58,2,FALSE)),0)","v":0},{"$f":"IF(AL$56=1,IF(AL$34='Listes de sélection'!$A$17,AL$35*HLOOKUP(3,'Listes de sélection'!$C$53:$E$58,2,FALSE),'Listes de sélection'!$M$54*HLOOKUP(3,'Listes de sélection'!$C$53:$E$58,2,FALSE)),0)","v":0},{"$f":"IF(AM$56=1,IF(AM$34='Listes de sélection'!$A$17,AM$35*HLOOKUP(3,'Listes de sélection'!$C$53:$E$58,2,FALSE),'Listes de sélection'!$M$54*HLOOKUP(3,'Listes de sélection'!$C$53:$E$58,2,FALSE)),0)","v":0},{"$f":"IF(AN$56=1,IF(AN$34='Listes de sélection'!$A$17,AN$35*HLOOKUP(3,'Listes de sélection'!$C$53:$E$58,2,FALSE),'Listes de sélection'!$M$54*HLOOKUP(3,'Listes de sélection'!$C$53:$E$58,2,FALSE)),0)","v":0},{"$f":"IF(AO$56=1,IF(AO$34='Listes de sélection'!$A$17,AO$35*HLOOKUP(3,'Listes de sélection'!$C$53:$E$58,2,FALSE),'Listes de sélection'!$M$54*HLOOKUP(3,'Listes de sélection'!$C$53:$E$58,2,FALSE)),0)","v":0},{"$f":"IF(AP$56=1,IF(AP$34='Listes de sélection'!$A$17,AP$35*HLOOKUP(3,'Listes de sélection'!$C$53:$E$58,2,FALSE),'Listes de sélection'!$M$54*HLOOKUP(3,'Listes de sélection'!$C$53:$E$58,2,FALSE)),0)","v":0},{"$f":"IF(AQ$56=1,IF(AQ$34='Listes de sélection'!$A$17,AQ$35*HLOOKUP(3,'Listes de sélection'!$C$53:$E$58,2,FALSE),'Listes de sélection'!$M$54*HLOOKUP(3,'Listes de sélection'!$C$53:$E$58,2,FALSE)),0)","v":0},{"$f":"IF(AR$56=1,IF(AR$34='Listes de sélection'!$A$17,AR$35*HLOOKUP(3,'Listes de sélection'!$C$53:$E$58,2,FALSE),'Listes de sélection'!$M$54*HLOOKUP(3,'Listes de sélection'!$C$53:$E$58,2,FALSE)),0)","v":0},{"$f":"IF(AS$56=1,IF(AS$34='Listes de sélection'!$A$17,AS$35*HLOOKUP(3,'Listes de sélection'!$C$53:$E$58,2,FALSE),'Listes de sélection'!$M$54*HLOOKUP(3,'Listes de sélection'!$C$53:$E$58,2,FALSE)),0)","v":0},{"$f":"IF(AT$56=1,IF(AT$34='Listes de sélection'!$A$17,AT$35*HLOOKUP(3,'Listes de sélection'!$C$53:$E$58,2,FALSE),'Listes de sélection'!$M$54*HLOOKUP(3,'Listes de sélection'!$C$53:$E$58,2,FALSE)),0)","v":0},{"$f":"IF(AU$56=1,IF(AU$34='Listes de sélection'!$A$17,AU$35*HLOOKUP(3,'Listes de sélection'!$C$53:$E$58,2,FALSE),'Listes de sélection'!$M$54*HLOOKUP(3,'Listes de sélection'!$C$53:$E$58,2,FALSE)),0)","v":0},{"$f":"IF(AV$56=1,IF(AV$34='Listes de sélection'!$A$17,AV$35*HLOOKUP(3,'Listes de sélection'!$C$53:$E$58,2,FALSE),'Listes de sélection'!$M$54*HLOOKUP(3,'Listes de sélection'!$C$53:$E$58,2,FALSE)),0)","v":0},{"$f":"IF(AW$56=1,IF(AW$34='Listes de sélection'!$A$17,AW$35*HLOOKUP(3,'Listes de sélection'!$C$53:$E$58,2,FALSE),'Listes de sélection'!$M$54*HLOOKUP(3,'Listes de sélection'!$C$53:$E$58,2,FALSE)),0)","v":0},{"$f":"IF(AX$56=1,IF(AX$34='Listes de sélection'!$A$17,AX$35*HLOOKUP(3,'Listes de sélection'!$C$53:$E$58,2,FALSE),'Listes de sélection'!$M$54*HLOOKUP(3,'Listes de sélection'!$C$53:$E$58,2,FALSE)),0)","v":0},{"$f":"IF(AY$56=1,IF(AY$34='Listes de sélection'!$A$17,AY$35*HLOOKUP(3,'Listes de sélection'!$C$53:$E$58,2,FALSE),'Listes de sélection'!$M$54*HLOOKUP(3,'Listes de sélection'!$C$53:$E$58,2,FALSE)),0)","v":0},{"$f":"IF(AZ$56=1,IF(AZ$34='Listes de sélection'!$A$17,AZ$35*HLOOKUP(3,'Listes de sélection'!$C$53:$E$58,2,FALSE),'Listes de sélection'!$M$54*HLOOKUP(3,'Listes de sélection'!$C$53:$E$58,2,FALSE)),0)","v":0},{"$f":"IF(BA$56=1,IF(BA$34='Listes de sélection'!$A$17,BA$35*HLOOKUP(3,'Listes de sélection'!$C$53:$E$58,2,FALSE),'Listes de sélection'!$M$54*HLOOKUP(3,'Listes de sélection'!$C$53:$E$58,2,FALSE)),0)","v":0},{"$f":"IF(BB$56=1,IF(BB$34='Listes de sélection'!$A$17,BB$35*HLOOKUP(3,'Listes de sélection'!$C$53:$E$58,2,FALSE),'Listes de sélection'!$M$54*HLOOKUP(3,'Listes de sélection'!$C$53:$E$58,2,FALSE)),0)","v":0},{"$f":"IF(BC$56=1,IF(BC$34='Listes de sélection'!$A$17,BC$35*HLOOKUP(3,'Listes de sélection'!$C$53:$E$58,2,FALSE),'Listes de sélection'!$M$54*HLOOKUP(3,'Listes de sélection'!$C$53:$E$58,2,FALSE)),0)","v":0},{"$f":"IF(BD$56=1,IF(BD$34='Listes de sélection'!$A$17,BD$35*HLOOKUP(3,'Listes de sélection'!$C$53:$E$58,2,FALSE),'Listes de sélection'!$M$54*HLOOKUP(3,'Listes de sélection'!$C$53:$E$58,2,FALSE)),0)","v":0},{"$f":"IF(BE$56=1,IF(BE$34='Listes de sélection'!$A$17,BE$35*HLOOKUP(3,'Listes de sélection'!$C$53:$E$58,2,FALSE),'Listes de sélection'!$M$54*HLOOKUP(3,'Listes de sélection'!$C$53:$E$58,2,FALSE)),0)","v":0},{"$f":"IF(BF$56=1,IF(BF$34='Listes de sélection'!$A$17,BF$35*HLOOKUP(3,'Listes de sélection'!$C$53:$E$58,2,FALSE),'Listes de sélection'!$M$54*HLOOKUP(3,'Listes de sélection'!$C$53:$E$58,2,FALSE)),0)","v":0},{"$f":"IF(BG$56=1,IF(BG$34='Listes de sélection'!$A$17,BG$35*HLOOKUP(3,'Listes de sélection'!$C$53:$E$58,2,FALSE),'Listes de sélection'!$M$54*HLOOKUP(3,'Listes de sélection'!$C$53:$E$58,2,FALSE)),0)","v":0},{"$f":"IF(BH$56=1,IF(BH$34='Listes de sélection'!$A$17,BH$35*HLOOKUP(3,'Listes de sélection'!$C$53:$E$58,2,FALSE),'Listes de sélection'!$M$54*HLOOKUP(3,'Listes de sélection'!$C$53:$E$58,2,FALSE)),0)","v":0},{"$f":"IF(BI$56=1,IF(BI$34='Listes de sélection'!$A$17,BI$35*HLOOKUP(3,'Listes de sélection'!$C$53:$E$58,2,FALSE),'Listes de sélection'!$M$54*HLOOKUP(3,'Listes de sélection'!$C$53:$E$58,2,FALSE)),0)","v":0},{"$f":"IF(BJ$56=1,IF(BJ$34='Listes de sélection'!$A$17,BJ$35*HLOOKUP(3,'Listes de sélection'!$C$53:$E$58,2,FALSE),'Listes de sélection'!$M$54*HLOOKUP(3,'Listes de sélection'!$C$53:$E$58,2,FALSE)),0)","v":0},{"$f":"IF(BK$56=1,IF(BK$34='Listes de sélection'!$A$17,BK$35*HLOOKUP(3,'Listes de sélection'!$C$53:$E$58,2,FALSE),'Listes de sélection'!$M$54*HLOOKUP(3,'Listes de sélection'!$C$53:$E$58,2,FALSE)),0)","v":0},{"$f":"IF(BL$56=1,IF(BL$34='Listes de sélection'!$A$17,BL$35*HLOOKUP(3,'Listes de sélection'!$C$53:$E$58,2,FALSE),'Listes de sélection'!$M$54*HLOOKUP(3,'Listes de sélection'!$C$53:$E$58,2,FALSE)),0)","v":0},{"$f":"IF(BM$56=1,IF(BM$34='Listes de sélection'!$A$17,BM$35*HLOOKUP(3,'Listes de sélection'!$C$53:$E$58,2,FALSE),'Listes de sélection'!$M$54*HLOOKUP(3,'Listes de sélection'!$C$53:$E$58,2,FALSE)),0)","v":0},{"$f":"IF(BN$56=1,IF(BN$34='Listes de sélection'!$A$17,BN$35*HLOOKUP(3,'Listes de sélection'!$C$53:$E$58,2,FALSE),'Listes de sélection'!$M$54*HLOOKUP(3,'Listes de sélection'!$C$53:$E$58,2,FALSE)),0)","v":0},{"$f":"IF(BO$56=1,IF(BO$34='Listes de sélection'!$A$17,BO$35*HLOOKUP(3,'Listes de sélection'!$C$53:$E$58,2,FALSE),'Listes de sélection'!$M$54*HLOOKUP(3,'Listes de sélection'!$C$53:$E$58,2,FALSE)),0)","v":0},{"$f":"IF(BP$56=1,IF(BP$34='Listes de sélection'!$A$17,BP$35*HLOOKUP(3,'Listes de sélection'!$C$53:$E$58,2,FALSE),'Listes de sélection'!$M$54*HLOOKUP(3,'Listes de sélection'!$C$53:$E$58,2,FALSE)),0)","v":0},{"$f":"IF(BQ$56=1,IF(BQ$34='Listes de sélection'!$A$17,BQ$35*HLOOKUP(3,'Listes de sélection'!$C$53:$E$58,2,FALSE),'Listes de sélection'!$M$54*HLOOKUP(3,'Listes de sélection'!$C$53:$E$58,2,FALSE)),0)","v":0},{"$f":"IF(BR$56=1,IF(BR$34='Listes de sélection'!$A$17,BR$35*HLOOKUP(3,'Listes de sélection'!$C$53:$E$58,2,FALSE),'Listes de sélection'!$M$54*HLOOKUP(3,'Listes de sélection'!$C$53:$E$58,2,FALSE)),0)","v":0},{"$f":"IF(BS$56=1,IF(BS$34='Listes de sélection'!$A$17,BS$35*HLOOKUP(3,'Listes de sélection'!$C$53:$E$58,2,FALSE),'Listes de sélection'!$M$54*HLOOKUP(3,'Listes de sélection'!$C$53:$E$58,2,FALSE)),0)","v":0},{"$f":"IF(BT$56=1,IF(BT$34='Listes de sélection'!$A$17,BT$35*HLOOKUP(3,'Listes de sélection'!$C$53:$E$58,2,FALSE),'Listes de sélection'!$M$54*HLOOKUP(3,'Listes de sélection'!$C$53:$E$58,2,FALSE)),0)","v":0},{"$f":"IF(BU$56=1,IF(BU$34='Listes de sélection'!$A$17,BU$35*HLOOKUP(3,'Listes de sélection'!$C$53:$E$58,2,FALSE),'Listes de sélection'!$M$54*HLOOKUP(3,'Listes de sélection'!$C$53:$E$58,2,FALSE)),0)","v":0},{"$f":"IF(BV$56=1,IF(BV$34='Listes de sélection'!$A$17,BV$35*HLOOKUP(3,'Listes de sélection'!$C$53:$E$58,2,FALSE),'Listes de sélection'!$M$54*HLOOKUP(3,'Listes de sélection'!$C$53:$E$58,2,FALSE)),0)","v":0},{"$f":"IF(BW$56=1,IF(BW$34='Listes de sélection'!$A$17,BW$35*HLOOKUP(3,'Listes de sélection'!$C$53:$E$58,2,FALSE),'Listes de sélection'!$M$54*HLOOKUP(3,'Listes de sélection'!$C$53:$E$58,2,FALSE)),0)","v":0},{"$f":"IF(BX$56=1,IF(BX$34='Listes de sélection'!$A$17,BX$35*HLOOKUP(3,'Listes de sélection'!$C$53:$E$58,2,FALSE),'Listes de sélection'!$M$54*HLOOKUP(3,'Listes de sélection'!$C$53:$E$58,2,FALSE)),0)","v":0},{"$f":"IF(BY$56=1,IF(BY$34='Listes de sélection'!$A$17,BY$35*HLOOKUP(3,'Listes de sélection'!$C$53:$E$58,2,FALSE),'Listes de sélection'!$M$54*HLOOKUP(3,'Listes de sélection'!$C$53:$E$58,2,FALSE)),0)","v":0},{"$f":"IF(BZ$56=1,IF(BZ$34='Listes de sélection'!$A$17,BZ$35*HLOOKUP(3,'Listes de sélection'!$C$53:$E$58,2,FALSE),'Listes de sélection'!$M$54*HLOOKUP(3,'Listes de sélection'!$C$53:$E$58,2,FALSE)),0)","v":0},{"$f":"IF(CA$56=1,IF(CA$34='Listes de sélection'!$A$17,CA$35*HLOOKUP(3,'Listes de sélection'!$C$53:$E$58,2,FALSE),'Listes de sélection'!$M$54*HLOOKUP(3,'Listes de sélection'!$C$53:$E$58,2,FALSE)),0)","v":0},{"$f":"IF(CB$56=1,IF(CB$34='Listes de sélection'!$A$17,CB$35*HLOOKUP(3,'Listes de sélection'!$C$53:$E$58,2,FALSE),'Listes de sélection'!$M$54*HLOOKUP(3,'Listes de sélection'!$C$53:$E$58,2,FALSE)),0)","v":0},{"$f":"IF(CC$56=1,IF(CC$34='Listes de sélection'!$A$17,CC$35*HLOOKUP(3,'Listes de sélection'!$C$53:$E$58,2,FALSE),'Listes de sélection'!$M$54*HLOOKUP(3,'Listes de sélection'!$C$53:$E$58,2,FALSE)),0)","v":0},{"$f":"IF(CD$56=1,IF(CD$34='Listes de sélection'!$A$17,CD$35*HLOOKUP(3,'Listes de sélection'!$C$53:$E$58,2,FALSE),'Listes de sélection'!$M$54*HLOOKUP(3,'Listes de sélection'!$C$53:$E$58,2,FALSE)),0)","v":0},{"$f":"IF(CE$56=1,IF(CE$34='Listes de sélection'!$A$17,CE$35*HLOOKUP(3,'Listes de sélection'!$C$53:$E$58,2,FALSE),'Listes de sélection'!$M$54*HLOOKUP(3,'Listes de sélection'!$C$53:$E$58,2,FALSE)),0)","v":0},{"$f":"IF(CF$56=1,IF(CF$34='Listes de sélection'!$A$17,CF$35*HLOOKUP(3,'Listes de sélection'!$C$53:$E$58,2,FALSE),'Listes de sélection'!$M$54*HLOOKUP(3,'Listes de sélection'!$C$53:$E$58,2,FALSE)),0)","v":0},{"$f":"IF(CG$56=1,IF(CG$34='Listes de sélection'!$A$17,CG$35*HLOOKUP(3,'Listes de sélection'!$C$53:$E$58,2,FALSE),'Listes de sélection'!$M$54*HLOOKUP(3,'Listes de sélection'!$C$53:$E$58,2,FALSE)),0)","v":0},{"$f":"IF(CH$56=1,IF(CH$34='Listes de sélection'!$A$17,CH$35*HLOOKUP(3,'Listes de sélection'!$C$53:$E$58,2,FALSE),'Listes de sélection'!$M$54*HLOOKUP(3,'Listes de sélection'!$C$53:$E$58,2,FALSE)),0)","v":0},{"$f":"IF(CI$56=1,IF(CI$34='Listes de sélection'!$A$17,CI$35*HLOOKUP(3,'Listes de sélection'!$C$53:$E$58,2,FALSE),'Listes de sélection'!$M$54*HLOOKUP(3,'Listes de sélection'!$C$53:$E$58,2,FALSE)),0)","v":0},{"$f":"IF(CJ$56=1,IF(CJ$34='Listes de sélection'!$A$17,CJ$35*HLOOKUP(3,'Listes de sélection'!$C$53:$E$58,2,FALSE),'Listes de sélection'!$M$54*HLOOKUP(3,'Listes de sélection'!$C$53:$E$58,2,FALSE)),0)","v":0},{"$f":"IF(CK$56=1,IF(CK$34='Listes de sélection'!$A$17,CK$35*HLOOKUP(3,'Listes de sélection'!$C$53:$E$58,2,FALSE),'Listes de sélection'!$M$54*HLOOKUP(3,'Listes de sélection'!$C$53:$E$58,2,FALSE)),0)","v":0},{"$f":"IF(CL$56=1,IF(CL$34='Listes de sélection'!$A$17,CL$35*HLOOKUP(3,'Listes de sélection'!$C$53:$E$58,2,FALSE),'Listes de sélection'!$M$54*HLOOKUP(3,'Listes de sélection'!$C$53:$E$58,2,FALSE)),0)","v":0},{"$f":"IF(CM$56=1,IF(CM$34='Listes de sélection'!$A$17,CM$35*HLOOKUP(3,'Listes de sélection'!$C$53:$E$58,2,FALSE),'Listes de sélection'!$M$54*HLOOKUP(3,'Listes de sélection'!$C$53:$E$58,2,FALSE)),0)","v":0},{"$f":"IF(CN$56=1,IF(CN$34='Listes de sélection'!$A$17,CN$35*HLOOKUP(3,'Listes de sélection'!$C$53:$E$58,2,FALSE),'Listes de sélection'!$M$54*HLOOKUP(3,'Listes de sélection'!$C$53:$E$58,2,FALSE)),0)","v":0},{"$f":"IF(CO$56=1,IF(CO$34='Listes de sélection'!$A$17,CO$35*HLOOKUP(3,'Listes de sélection'!$C$53:$E$58,2,FALSE),'Listes de sélection'!$M$54*HLOOKUP(3,'Listes de sélection'!$C$53:$E$58,2,FALSE)),0)","v":0},{"$f":"IF(CP$56=1,IF(CP$34='Listes de sélection'!$A$17,CP$35*HLOOKUP(3,'Listes de sélection'!$C$53:$E$58,2,FALSE),'Listes de sélection'!$M$54*HLOOKUP(3,'Listes de sélection'!$C$53:$E$58,2,FALSE)),0)","v":0},{"$f":"IF(CQ$56=1,IF(CQ$34='Listes de sélection'!$A$17,CQ$35*HLOOKUP(3,'Listes de sélection'!$C$53:$E$58,2,FALSE),'Listes de sélection'!$M$54*HLOOKUP(3,'Listes de sélection'!$C$53:$E$58,2,FALSE)),0)","v":0},{"$f":"IF(CR$56=1,IF(CR$34='Listes de sélection'!$A$17,CR$35*HLOOKUP(3,'Listes de sélection'!$C$53:$E$58,2,FALSE),'Listes de sélection'!$M$54*HLOOKUP(3,'Listes de sélection'!$C$53:$E$58,2,FALSE)),0)","v":0},{"$f":"IF(CS$56=1,IF(CS$34='Listes de sélection'!$A$17,CS$35*HLOOKUP(3,'Listes de sélection'!$C$53:$E$58,2,FALSE),'Listes de sélection'!$M$54*HLOOKUP(3,'Listes de sélection'!$C$53:$E$58,2,FALSE)),0)","v":0},{"$f":"IF(CT$56=1,IF(CT$34='Listes de sélection'!$A$17,CT$35*HLOOKUP(3,'Listes de sélection'!$C$53:$E$58,2,FALSE),'Listes de sélection'!$M$54*HLOOKUP(3,'Listes de sélection'!$C$53:$E$58,2,FALSE)),0)","v":0},{"$f":"IF(CU$56=1,IF(CU$34='Listes de sélection'!$A$17,CU$35*HLOOKUP(3,'Listes de sélection'!$C$53:$E$58,2,FALSE),'Listes de sélection'!$M$54*HLOOKUP(3,'Listes de sélection'!$C$53:$E$58,2,FALSE)),0)","v":0},{"$f":"IF(CV$56=1,IF(CV$34='Listes de sélection'!$A$17,CV$35*HLOOKUP(3,'Listes de sélection'!$C$53:$E$58,2,FALSE),'Listes de sélection'!$M$54*HLOOKUP(3,'Listes de sélection'!$C$53:$E$58,2,FALSE)),0)","v":0},{"$f":"IF(CW$56=1,IF(CW$34='Listes de sélection'!$A$17,CW$35*HLOOKUP(3,'Listes de sélection'!$C$53:$E$58,2,FALSE),'Listes de sélection'!$M$54*HLOOKUP(3,'Listes de sélection'!$C$53:$E$58,2,FALSE)),0)","v":0},{"$f":"IF(CX$56=1,IF(CX$34='Listes de sélection'!$A$17,CX$35*HLOOKUP(3,'Listes de sélection'!$C$53:$E$58,2,FALSE),'Listes de sélection'!$M$54*HLOOKUP(3,'Listes de sélection'!$C$53:$E$58,2,FALSE)),0)","v":0},{"$f":"IF(CY$56=1,IF(CY$34='Listes de sélection'!$A$17,CY$35*HLOOKUP(3,'Listes de sélection'!$C$53:$E$58,2,FALSE),'Listes de sélection'!$M$54*HLOOKUP(3,'Listes de sélection'!$C$53:$E$58,2,FALSE)),0)","v":0},{"$f":"IF(CZ$56=1,IF(CZ$34='Listes de sélection'!$A$17,CZ$35*HLOOKUP(3,'Listes de sélection'!$C$53:$E$58,2,FALSE),'Listes de sélection'!$M$54*HLOOKUP(3,'Listes de sélection'!$C$53:$E$58,2,FALSE)),0)","v":0},{"$f":"IF(DA$56=1,IF(DA$34='Listes de sélection'!$A$17,DA$35*HLOOKUP(3,'Listes de sélection'!$C$53:$E$58,2,FALSE),'Listes de sélection'!$M$54*HLOOKUP(3,'Listes de sélection'!$C$53:$E$58,2,FALSE)),0)","v":0},{"$f":"IF(DB$56=1,IF(DB$34='Listes de sélection'!$A$17,DB$35*HLOOKUP(3,'Listes de sélection'!$C$53:$E$58,2,FALSE),'Listes de sélection'!$M$54*HLOOKUP(3,'Listes de sélection'!$C$53:$E$58,2,FALSE)),0)","v":0},{"$f":"IF(DC$56=1,IF(DC$34='Listes de sélection'!$A$17,DC$35*HLOOKUP(3,'Listes de sélection'!$C$53:$E$58,2,FALSE),'Listes de sélection'!$M$54*HLOOKUP(3,'Listes de sélection'!$C$53:$E$58,2,FALSE)),0)","v":0},{"$f":"IF(DD$56=1,IF(DD$34='Listes de sélection'!$A$17,DD$35*HLOOKUP(3,'Listes de sélection'!$C$53:$E$58,2,FALSE),'Listes de sélection'!$M$54*HLOOKUP(3,'Listes de sélection'!$C$53:$E$58,2,FALSE)),0)","v":0},{"$f":"IF(DE$56=1,IF(DE$34='Listes de sélection'!$A$17,DE$35*HLOOKUP(3,'Listes de sélection'!$C$53:$E$58,2,FALSE),'Listes de sélection'!$M$54*HLOOKUP(3,'Listes de sélection'!$C$53:$E$58,2,FALSE)),0)","v":0},{"$f":"IF(DF$56=1,IF(DF$34='Listes de sélection'!$A$17,DF$35*HLOOKUP(3,'Listes de sélection'!$C$53:$E$58,2,FALSE),'Listes de sélection'!$M$54*HLOOKUP(3,'Listes de sélection'!$C$53:$E$58,2,FALSE)),0)","v":0},{"$f":"IF(DG$56=1,IF(DG$34='Listes de sélection'!$A$17,DG$35*HLOOKUP(3,'Listes de sélection'!$C$53:$E$58,2,FALSE),'Listes de sélection'!$M$54*HLOOKUP(3,'Listes de sélection'!$C$53:$E$58,2,FALSE)),0)","v":0},{"$f":"IF(DH$56=1,IF(DH$34='Listes de sélection'!$A$17,DH$35*HLOOKUP(3,'Listes de sélection'!$C$53:$E$58,2,FALSE),'Listes de sélection'!$M$54*HLOOKUP(3,'Listes de sélection'!$C$53:$E$58,2,FALSE)),0)","v":0},{"$f":"IF(DI$56=1,IF(DI$34='Listes de sélection'!$A$17,DI$35*HLOOKUP(3,'Listes de sélection'!$C$53:$E$58,2,FALSE),'Listes de sélection'!$M$54*HLOOKUP(3,'Listes de sélection'!$C$53:$E$58,2,FALSE)),0)","v":0},{"$f":"IF(DJ$56=1,IF(DJ$34='Listes de sélection'!$A$17,DJ$35*HLOOKUP(3,'Listes de sélection'!$C$53:$E$58,2,FALSE),'Listes de sélection'!$M$54*HLOOKUP(3,'Listes de sélection'!$C$53:$E$58,2,FALSE)),0)","v":0},{"$f":"IF(DK$56=1,IF(DK$34='Listes de sélection'!$A$17,DK$35*HLOOKUP(3,'Listes de sélection'!$C$53:$E$58,2,FALSE),'Listes de sélection'!$M$54*HLOOKUP(3,'Listes de sélection'!$C$53:$E$58,2,FALSE)),0)","v":0},{"$f":"IF(DL$56=1,IF(DL$34='Listes de sélection'!$A$17,DL$35*HLOOKUP(3,'Listes de sélection'!$C$53:$E$58,2,FALSE),'Listes de sélection'!$M$54*HLOOKUP(3,'Listes de sélection'!$C$53:$E$58,2,FALSE)),0)","v":0},{"$f":"IF(DM$56=1,IF(DM$34='Listes de sélection'!$A$17,DM$35*HLOOKUP(3,'Listes de sélection'!$C$53:$E$58,2,FALSE),'Listes de sélection'!$M$54*HLOOKUP(3,'Listes de sélection'!$C$53:$E$58,2,FALSE)),0)","v":0},{"$f":"IF(DN$56=1,IF(DN$34='Listes de sélection'!$A$17,DN$35*HLOOKUP(3,'Listes de sélection'!$C$53:$E$58,2,FALSE),'Listes de sélection'!$M$54*HLOOKUP(3,'Listes de sélection'!$C$53:$E$58,2,FALSE)),0)","v":0},{"$f":"IF(DO$56=1,IF(DO$34='Listes de sélection'!$A$17,DO$35*HLOOKUP(3,'Listes de sélection'!$C$53:$E$58,2,FALSE),'Listes de sélection'!$M$54*HLOOKUP(3,'Listes de sélection'!$C$53:$E$58,2,FALSE)),0)","v":0},{"$f":"IF(DP$56=1,IF(DP$34='Listes de sélection'!$A$17,DP$35*HLOOKUP(3,'Listes de sélection'!$C$53:$E$58,2,FALSE),'Listes de sélection'!$M$54*HLOOKUP(3,'Listes de sélection'!$C$53:$E$58,2,FALSE)),0)","v":0},{"$f":"IF(DQ$56=1,IF(DQ$34='Listes de sélection'!$A$17,DQ$35*HLOOKUP(3,'Listes de sélection'!$C$53:$E$58,2,FALSE),'Listes de sélection'!$M$54*HLOOKUP(3,'Listes de sélection'!$C$53:$E$58,2,FALSE)),0)","v":0},{"$f":"IF(DR$56=1,IF(DR$34='Listes de sélection'!$A$17,DR$35*HLOOKUP(3,'Listes de sélection'!$C$53:$E$58,2,FALSE),'Listes de sélection'!$M$54*HLOOKUP(3,'Listes de sélection'!$C$53:$E$58,2,FALSE)),0)","v":0},{"$f":"IF(DS$56=1,IF(DS$34='Listes de sélection'!$A$17,DS$35*HLOOKUP(3,'Listes de sélection'!$C$53:$E$58,2,FALSE),'Listes de sélection'!$M$54*HLOOKUP(3,'Listes de sélection'!$C$53:$E$58,2,FALSE)),0)","v":0},{"$f":"IF(DT$56=1,IF(DT$34='Listes de sélection'!$A$17,DT$35*HLOOKUP(3,'Listes de sélection'!$C$53:$E$58,2,FALSE),'Listes de sélection'!$M$54*HLOOKUP(3,'Listes de sélection'!$C$53:$E$58,2,FALSE)),0)","v":0},{"$f":"IF(DU$56=1,IF(DU$34='Listes de sélection'!$A$17,DU$35*HLOOKUP(3,'Listes de sélection'!$C$53:$E$58,2,FALSE),'Listes de sélection'!$M$54*HLOOKUP(3,'Listes de sélection'!$C$53:$E$58,2,FALSE)),0)","v":0},{"$f":"IF(DV$56=1,IF(DV$34='Listes de sélection'!$A$17,DV$35*HLOOKUP(3,'Listes de sélection'!$C$53:$E$58,2,FALSE),'Listes de sélection'!$M$54*HLOOKUP(3,'Listes de sélection'!$C$53:$E$58,2,FALSE)),0)","v":0},{"$f":"IF(DW$56=1,IF(DW$34='Listes de sélection'!$A$17,DW$35*HLOOKUP(3,'Listes de sélection'!$C$53:$E$58,2,FALSE),'Listes de sélection'!$M$54*HLOOKUP(3,'Listes de sélection'!$C$53:$E$58,2,FALSE)),0)","v":0},{"$f":"IF(DX$56=1,IF(DX$34='Listes de sélection'!$A$17,DX$35*HLOOKUP(3,'Listes de sélection'!$C$53:$E$58,2,FALSE),'Listes de sélection'!$M$54*HLOOKUP(3,'Listes de sélection'!$C$53:$E$58,2,FALSE)),0)","v":0},{"$f":"IF(DY$56=1,IF(DY$34='Listes de sélection'!$A$17,DY$35*HLOOKUP(3,'Listes de sélection'!$C$53:$E$58,2,FALSE),'Listes de sélection'!$M$54*HLOOKUP(3,'Listes de sélection'!$C$53:$E$58,2,FALSE)),0)","v":0},{"$f":"IF(DZ$56=1,IF(DZ$34='Listes de sélection'!$A$17,DZ$35*HLOOKUP(3,'Listes de sélection'!$C$53:$E$58,2,FALSE),'Listes de sélection'!$M$54*HLOOKUP(3,'Listes de sélection'!$C$53:$E$58,2,FALSE)),0)","v":0},{"$f":"IF(EA$56=1,IF(EA$34='Listes de sélection'!$A$17,EA$35*HLOOKUP(3,'Listes de sélection'!$C$53:$E$58,2,FALSE),'Listes de sélection'!$M$54*HLOOKUP(3,'Listes de sélection'!$C$53:$E$58,2,FALSE)),0)","v":0},{"$f":"IF(EB$56=1,IF(EB$34='Listes de sélection'!$A$17,EB$35*HLOOKUP(3,'Listes de sélection'!$C$53:$E$58,2,FALSE),'Listes de sélection'!$M$54*HLOOKUP(3,'Listes de sélection'!$C$53:$E$58,2,FALSE)),0)","v":0},{"$f":"IF(EC$56=1,IF(EC$34='Listes de sélection'!$A$17,EC$35*HLOOKUP(3,'Listes de sélection'!$C$53:$E$58,2,FALSE),'Listes de sélection'!$M$54*HLOOKUP(3,'Listes de sélection'!$C$53:$E$58,2,FALSE)),0)","v":0},{"$f":"IF(ED$56=1,IF(ED$34='Listes de sélection'!$A$17,ED$35*HLOOKUP(3,'Listes de sélection'!$C$53:$E$58,2,FALSE),'Listes de sélection'!$M$54*HLOOKUP(3,'Listes de sélection'!$C$53:$E$58,2,FALSE)),0)","v":0},{"$f":"IF(EE$56=1,IF(EE$34='Listes de sélection'!$A$17,EE$35*HLOOKUP(3,'Listes de sélection'!$C$53:$E$58,2,FALSE),'Listes de sélection'!$M$54*HLOOKUP(3,'Listes de sélection'!$C$53:$E$58,2,FALSE)),0)","v":0},{"$f":"IF(EF$56=1,IF(EF$34='Listes de sélection'!$A$17,EF$35*HLOOKUP(3,'Listes de sélection'!$C$53:$E$58,2,FALSE),'Listes de sélection'!$M$54*HLOOKUP(3,'Listes de sélection'!$C$53:$E$58,2,FALSE)),0)","v":0},{"$f":"IF(EG$56=1,IF(EG$34='Listes de sélection'!$A$17,EG$35*HLOOKUP(3,'Listes de sélection'!$C$53:$E$58,2,FALSE),'Listes de sélection'!$M$54*HLOOKUP(3,'Listes de sélection'!$C$53:$E$58,2,FALSE)),0)","v":0},{"$f":"IF(EH$56=1,IF(EH$34='Listes de sélection'!$A$17,EH$35*HLOOKUP(3,'Listes de sélection'!$C$53:$E$58,2,FALSE),'Listes de sélection'!$M$54*HLOOKUP(3,'Listes de sélection'!$C$53:$E$58,2,FALSE)),0)","v":0},{"$f":"IF(EI$56=1,IF(EI$34='Listes de sélection'!$A$17,EI$35*HLOOKUP(3,'Listes de sélection'!$C$53:$E$58,2,FALSE),'Listes de sélection'!$M$54*HLOOKUP(3,'Listes de sélection'!$C$53:$E$58,2,FALSE)),0)","v":0},{"$f":"IF(EJ$56=1,IF(EJ$34='Listes de sélection'!$A$17,EJ$35*HLOOKUP(3,'Listes de sélection'!$C$53:$E$58,2,FALSE),'Listes de sélection'!$M$54*HLOOKUP(3,'Listes de sélection'!$C$53:$E$58,2,FALSE)),0)","v":0},{"$f":"IF(EK$56=1,IF(EK$34='Listes de sélection'!$A$17,EK$35*HLOOKUP(3,'Listes de sélection'!$C$53:$E$58,2,FALSE),'Listes de sélection'!$M$54*HLOOKUP(3,'Listes de sélection'!$C$53:$E$58,2,FALSE)),0)","v":0},{"$f":"IF(EL$56=1,IF(EL$34='Listes de sélection'!$A$17,EL$35*HLOOKUP(3,'Listes de sélection'!$C$53:$E$58,2,FALSE),'Listes de sélection'!$M$54*HLOOKUP(3,'Listes de sélection'!$C$53:$E$58,2,FALSE)),0)","v":0},{"$f":"IF(EM$56=1,IF(EM$34='Listes de sélection'!$A$17,EM$35*HLOOKUP(3,'Listes de sélection'!$C$53:$E$58,2,FALSE),'Listes de sélection'!$M$54*HLOOKUP(3,'Listes de sélection'!$C$53:$E$58,2,FALSE)),0)","v":0},{"$f":"IF(EN$56=1,IF(EN$34='Listes de sélection'!$A$17,EN$35*HLOOKUP(3,'Listes de sélection'!$C$53:$E$58,2,FALSE),'Listes de sélection'!$M$54*HLOOKUP(3,'Listes de sélection'!$C$53:$E$58,2,FALSE)),0)","v":0},{"$f":"IF(EO$56=1,IF(EO$34='Listes de sélection'!$A$17,EO$35*HLOOKUP(3,'Listes de sélection'!$C$53:$E$58,2,FALSE),'Listes de sélection'!$M$54*HLOOKUP(3,'Listes de sélection'!$C$53:$E$58,2,FALSE)),0)","v":0},{"$f":"IF(EP$56=1,IF(EP$34='Listes de sélection'!$A$17,EP$35*HLOOKUP(3,'Listes de sélection'!$C$53:$E$58,2,FALSE),'Listes de sélection'!$M$54*HLOOKUP(3,'Listes de sélection'!$C$53:$E$58,2,FALSE)),0)","v":0},{"$f":"IF(EQ$56=1,IF(EQ$34='Listes de sélection'!$A$17,EQ$35*HLOOKUP(3,'Listes de sélection'!$C$53:$E$58,2,FALSE),'Listes de sélection'!$M$54*HLOOKUP(3,'Listes de sélection'!$C$53:$E$58,2,FALSE)),0)","v":0},{"$f":"IF(ER$56=1,IF(ER$34='Listes de sélection'!$A$17,ER$35*HLOOKUP(3,'Listes de sélection'!$C$53:$E$58,2,FALSE),'Listes de sélection'!$M$54*HLOOKUP(3,'Listes de sélection'!$C$53:$E$58,2,FALSE)),0)","v":0},{"$f":"IF(ES$56=1,IF(ES$34='Listes de sélection'!$A$17,ES$35*HLOOKUP(3,'Listes de sélection'!$C$53:$E$58,2,FALSE),'Listes de sélection'!$M$54*HLOOKUP(3,'Listes de sélection'!$C$53:$E$58,2,FALSE)),0)","v":0},{"$f":"IF(ET$56=1,IF(ET$34='Listes de sélection'!$A$17,ET$35*HLOOKUP(3,'Listes de sélection'!$C$53:$E$58,2,FALSE),'Listes de sélection'!$M$54*HLOOKUP(3,'Listes de sélection'!$C$53:$E$58,2,FALSE)),0)","v":0},{"$f":"IF(EU$56=1,IF(EU$34='Listes de sélection'!$A$17,EU$35*HLOOKUP(3,'Listes de sélection'!$C$53:$E$58,2,FALSE),'Listes de sélection'!$M$54*HLOOKUP(3,'Listes de sélection'!$C$53:$E$58,2,FALSE)),0)","v":0},{"$f":"IF(EV$56=1,IF(EV$34='Listes de sélection'!$A$17,EV$35*HLOOKUP(3,'Listes de sélection'!$C$53:$E$58,2,FALSE),'Listes de sélection'!$M$54*HLOOKUP(3,'Listes de sélection'!$C$53:$E$58,2,FALSE)),0)","v":0},{"$f":"IF(EW$56=1,IF(EW$34='Listes de sélection'!$A$17,EW$35*HLOOKUP(3,'Listes de sélection'!$C$53:$E$58,2,FALSE),'Listes de sélection'!$M$54*HLOOKUP(3,'Listes de sélection'!$C$53:$E$58,2,FALSE)),0)","v":0},{"$f":"IF(EX$56=1,IF(EX$34='Listes de sélection'!$A$17,EX$35*HLOOKUP(3,'Listes de sélection'!$C$53:$E$58,2,FALSE),'Listes de sélection'!$M$54*HLOOKUP(3,'Listes de sélection'!$C$53:$E$58,2,FALSE)),0)","v":0},{"$f":"IF(EY$56=1,IF(EY$34='Listes de sélection'!$A$17,EY$35*HLOOKUP(3,'Listes de sélection'!$C$53:$E$58,2,FALSE),'Listes de sélection'!$M$54*HLOOKUP(3,'Listes de sélection'!$C$53:$E$58,2,FALSE)),0)","v":0},{"$f":"IF(EZ$56=1,IF(EZ$34='Listes de sélection'!$A$17,EZ$35*HLOOKUP(3,'Listes de sélection'!$C$53:$E$58,2,FALSE),'Listes de sélection'!$M$54*HLOOKUP(3,'Listes de sélection'!$C$53:$E$58,2,FALSE)),0)","v":0},{"$f":"IF(FA$56=1,IF(FA$34='Listes de sélection'!$A$17,FA$35*HLOOKUP(3,'Listes de sélection'!$C$53:$E$58,2,FALSE),'Listes de sélection'!$M$54*HLOOKUP(3,'Listes de sélection'!$C$53:$E$58,2,FALSE)),0)","v":0},{"$f":"IF(FB$56=1,IF(FB$34='Listes de sélection'!$A$17,FB$35*HLOOKUP(3,'Listes de sélection'!$C$53:$E$58,2,FALSE),'Listes de sélection'!$M$54*HLOOKUP(3,'Listes de sélection'!$C$53:$E$58,2,FALSE)),0)","v":0},{"$f":"IF(FC$56=1,IF(FC$34='Listes de sélection'!$A$17,FC$35*HLOOKUP(3,'Listes de sélection'!$C$53:$E$58,2,FALSE),'Listes de sélection'!$M$54*HLOOKUP(3,'Listes de sélection'!$C$53:$E$58,2,FALSE)),0)","v":0},{"$f":"IF(FD$56=1,IF(FD$34='Listes de sélection'!$A$17,FD$35*HLOOKUP(3,'Listes de sélection'!$C$53:$E$58,2,FALSE),'Listes de sélection'!$M$54*HLOOKUP(3,'Listes de sélection'!$C$53:$E$58,2,FALSE)),0)","v":0},{"$f":"IF(FE$56=1,IF(FE$34='Listes de sélection'!$A$17,FE$35*HLOOKUP(3,'Listes de sélection'!$C$53:$E$58,2,FALSE),'Listes de sélection'!$M$54*HLOOKUP(3,'Listes de sélection'!$C$53:$E$58,2,FALSE)),0)","v":0},{"$f":"IF(FF$56=1,IF(FF$34='Listes de sélection'!$A$17,FF$35*HLOOKUP(3,'Listes de sélection'!$C$53:$E$58,2,FALSE),'Listes de sélection'!$M$54*HLOOKUP(3,'Listes de sélection'!$C$53:$E$58,2,FALSE)),0)","v":0},{"$f":"IF(FG$56=1,IF(FG$34='Listes de sélection'!$A$17,FG$35*HLOOKUP(3,'Listes de sélection'!$C$53:$E$58,2,FALSE),'Listes de sélection'!$M$54*HLOOKUP(3,'Listes de sélection'!$C$53:$E$58,2,FALSE)),0)","v":0},{"$f":"IF(FH$56=1,IF(FH$34='Listes de sélection'!$A$17,FH$35*HLOOKUP(3,'Listes de sélection'!$C$53:$E$58,2,FALSE),'Listes de sélection'!$M$54*HLOOKUP(3,'Listes de sélection'!$C$53:$E$58,2,FALSE)),0)","v":0},{"$f":"IF(FI$56=1,IF(FI$34='Listes de sélection'!$A$17,FI$35*HLOOKUP(3,'Listes de sélection'!$C$53:$E$58,2,FALSE),'Listes de sélection'!$M$54*HLOOKUP(3,'Listes de sélection'!$C$53:$E$58,2,FALSE)),0)","v":0},{"$f":"IF(FJ$56=1,IF(FJ$34='Listes de sélection'!$A$17,FJ$35*HLOOKUP(3,'Listes de sélection'!$C$53:$E$58,2,FALSE),'Listes de sélection'!$M$54*HLOOKUP(3,'Listes de sélection'!$C$53:$E$58,2,FALSE)),0)","v":0},{"$f":"IF(FK$56=1,IF(FK$34='Listes de sélection'!$A$17,FK$35*HLOOKUP(3,'Listes de sélection'!$C$53:$E$58,2,FALSE),'Listes de sélection'!$M$54*HLOOKUP(3,'Listes de sélection'!$C$53:$E$58,2,FALSE)),0)","v":0},{"$f":"IF(FL$56=1,IF(FL$34='Listes de sélection'!$A$17,FL$35*HLOOKUP(3,'Listes de sélection'!$C$53:$E$58,2,FALSE),'Listes de sélection'!$M$54*HLOOKUP(3,'Listes de sélection'!$C$53:$E$58,2,FALSE)),0)","v":0},{"$f":"IF(FM$56=1,IF(FM$34='Listes de sélection'!$A$17,FM$35*HLOOKUP(3,'Listes de sélection'!$C$53:$E$58,2,FALSE),'Listes de sélection'!$M$54*HLOOKUP(3,'Listes de sélection'!$C$53:$E$58,2,FALSE)),0)","v":0},{"$f":"IF(FN$56=1,IF(FN$34='Listes de sélection'!$A$17,FN$35*HLOOKUP(3,'Listes de sélection'!$C$53:$E$58,2,FALSE),'Listes de sélection'!$M$54*HLOOKUP(3,'Listes de sélection'!$C$53:$E$58,2,FALSE)),0)","v":0},{"$f":"IF(FO$56=1,IF(FO$34='Listes de sélection'!$A$17,FO$35*HLOOKUP(3,'Listes de sélection'!$C$53:$E$58,2,FALSE),'Listes de sélection'!$M$54*HLOOKUP(3,'Listes de sélection'!$C$53:$E$58,2,FALSE)),0)","v":0},{"$f":"IF(FP$56=1,IF(FP$34='Listes de sélection'!$A$17,FP$35*HLOOKUP(3,'Listes de sélection'!$C$53:$E$58,2,FALSE),'Listes de sélection'!$M$54*HLOOKUP(3,'Listes de sélection'!$C$53:$E$58,2,FALSE)),0)","v":0},{"$f":"IF(FQ$56=1,IF(FQ$34='Listes de sélection'!$A$17,FQ$35*HLOOKUP(3,'Listes de sélection'!$C$53:$E$58,2,FALSE),'Listes de sélection'!$M$54*HLOOKUP(3,'Listes de sélection'!$C$53:$E$58,2,FALSE)),0)","v":0},{"$f":"IF(FR$56=1,IF(FR$34='Listes de sélection'!$A$17,FR$35*HLOOKUP(3,'Listes de sélection'!$C$53:$E$58,2,FALSE),'Listes de sélection'!$M$54*HLOOKUP(3,'Listes de sélection'!$C$53:$E$58,2,FALSE)),0)","v":0},{"$f":"IF(FS$56=1,IF(FS$34='Listes de sélection'!$A$17,FS$35*HLOOKUP(3,'Listes de sélection'!$C$53:$E$58,2,FALSE),'Listes de sélection'!$M$54*HLOOKUP(3,'Listes de sélection'!$C$53:$E$58,2,FALSE)),0)","v":0},{"$f":"IF(FT$56=1,IF(FT$34='Listes de sélection'!$A$17,FT$35*HLOOKUP(3,'Listes de sélection'!$C$53:$E$58,2,FALSE),'Listes de sélection'!$M$54*HLOOKUP(3,'Listes de sélection'!$C$53:$E$58,2,FALSE)),0)","v":0},{"$f":"IF(FU$56=1,IF(FU$34='Listes de sélection'!$A$17,FU$35*HLOOKUP(3,'Listes de sélection'!$C$53:$E$58,2,FALSE),'Listes de sélection'!$M$54*HLOOKUP(3,'Listes de sélection'!$C$53:$E$58,2,FALSE)),0)","v":0},{"$f":"IF(FV$56=1,IF(FV$34='Listes de sélection'!$A$17,FV$35*HLOOKUP(3,'Listes de sélection'!$C$53:$E$58,2,FALSE),'Listes de sélection'!$M$54*HLOOKUP(3,'Listes de sélection'!$C$53:$E$58,2,FALSE)),0)","v":0},{"$f":"IF(FW$56=1,IF(FW$34='Listes de sélection'!$A$17,FW$35*HLOOKUP(3,'Listes de sélection'!$C$53:$E$58,2,FALSE),'Listes de sélection'!$M$54*HLOOKUP(3,'Listes de sélection'!$C$53:$E$58,2,FALSE)),0)","v":0},{"$f":"IF(FX$56=1,IF(FX$34='Listes de sélection'!$A$17,FX$35*HLOOKUP(3,'Listes de sélection'!$C$53:$E$58,2,FALSE),'Listes de sélection'!$M$54*HLOOKUP(3,'Listes de sélection'!$C$53:$E$58,2,FALSE)),0)","v":0},{"$f":"IF(FY$56=1,IF(FY$34='Listes de sélection'!$A$17,FY$35*HLOOKUP(3,'Listes de sélection'!$C$53:$E$58,2,FALSE),'Listes de sélection'!$M$54*HLOOKUP(3,'Listes de sélection'!$C$53:$E$58,2,FALSE)),0)","v":0},{"$f":"IF(FZ$56=1,IF(FZ$34='Listes de sélection'!$A$17,FZ$35*HLOOKUP(3,'Listes de sélection'!$C$53:$E$58,2,FALSE),'Listes de sélection'!$M$54*HLOOKUP(3,'Listes de sélection'!$C$53:$E$58,2,FALSE)),0)","v":0},{"$f":"IF(GA$56=1,IF(GA$34='Listes de sélection'!$A$17,GA$35*HLOOKUP(3,'Listes de sélection'!$C$53:$E$58,2,FALSE),'Listes de sélection'!$M$54*HLOOKUP(3,'Listes de sélection'!$C$53:$E$58,2,FALSE)),0)","v":0},{"$f":"IF(GB$56=1,IF(GB$34='Listes de sélection'!$A$17,GB$35*HLOOKUP(3,'Listes de sélection'!$C$53:$E$58,2,FALSE),'Listes de sélection'!$M$54*HLOOKUP(3,'Listes de sélection'!$C$53:$E$58,2,FALSE)),0)","v":0},{"$f":"IF(GC$56=1,IF(GC$34='Listes de sélection'!$A$17,GC$35*HLOOKUP(3,'Listes de sélection'!$C$53:$E$58,2,FALSE),'Listes de sélection'!$M$54*HLOOKUP(3,'Listes de sélection'!$C$53:$E$58,2,FALSE)),0)","v":0},{"$f":"IF(GD$56=1,IF(GD$34='Listes de sélection'!$A$17,GD$35*HLOOKUP(3,'Listes de sélection'!$C$53:$E$58,2,FALSE),'Listes de sélection'!$M$54*HLOOKUP(3,'Listes de sélection'!$C$53:$E$58,2,FALSE)),0)","v":0},{"$f":"IF(GE$56=1,IF(GE$34='Listes de sélection'!$A$17,GE$35*HLOOKUP(3,'Listes de sélection'!$C$53:$E$58,2,FALSE),'Listes de sélection'!$M$54*HLOOKUP(3,'Listes de sélection'!$C$53:$E$58,2,FALSE)),0)","v":0},{"$f":"IF(GF$56=1,IF(GF$34='Listes de sélection'!$A$17,GF$35*HLOOKUP(3,'Listes de sélection'!$C$53:$E$58,2,FALSE),'Listes de sélection'!$M$54*HLOOKUP(3,'Listes de sélection'!$C$53:$E$58,2,FALSE)),0)","v":0},{"$f":"IF(GG$56=1,IF(GG$34='Listes de sélection'!$A$17,GG$35*HLOOKUP(3,'Listes de sélection'!$C$53:$E$58,2,FALSE),'Listes de sélection'!$M$54*HLOOKUP(3,'Listes de sélection'!$C$53:$E$58,2,FALSE)),0)","v":0},{"$f":"IF(GH$56=1,IF(GH$34='Listes de sélection'!$A$17,GH$35*HLOOKUP(3,'Listes de sélection'!$C$53:$E$58,2,FALSE),'Listes de sélection'!$M$54*HLOOKUP(3,'Listes de sélection'!$C$53:$E$58,2,FALSE)),0)","v":0},{"$f":"IF(GI$56=1,IF(GI$34='Listes de sélection'!$A$17,GI$35*HLOOKUP(3,'Listes de sélection'!$C$53:$E$58,2,FALSE),'Listes de sélection'!$M$54*HLOOKUP(3,'Listes de sélection'!$C$53:$E$58,2,FALSE)),0)","v":0},{"$f":"IF(GJ$56=1,IF(GJ$34='Listes de sélection'!$A$17,GJ$35*HLOOKUP(3,'Listes de sélection'!$C$53:$E$58,2,FALSE),'Listes de sélection'!$M$54*HLOOKUP(3,'Listes de sélection'!$C$53:$E$58,2,FALSE)),0)","v":0},{"$f":"IF(GK$56=1,IF(GK$34='Listes de sélection'!$A$17,GK$35*HLOOKUP(3,'Listes de sélection'!$C$53:$E$58,2,FALSE),'Listes de sélection'!$M$54*HLOOKUP(3,'Listes de sélection'!$C$53:$E$58,2,FALSE)),0)","v":0},{"$f":"IF(GL$56=1,IF(GL$34='Listes de sélection'!$A$17,GL$35*HLOOKUP(3,'Listes de sélection'!$C$53:$E$58,2,FALSE),'Listes de sélection'!$M$54*HLOOKUP(3,'Listes de sélection'!$C$53:$E$58,2,FALSE)),0)","v":0},{"$f":"IF(GM$56=1,IF(GM$34='Listes de sélection'!$A$17,GM$35*HLOOKUP(3,'Listes de sélection'!$C$53:$E$58,2,FALSE),'Listes de sélection'!$M$54*HLOOKUP(3,'Listes de sélection'!$C$53:$E$58,2,FALSE)),0)","v":0},{"$f":"IF(GN$56=1,IF(GN$34='Listes de sélection'!$A$17,GN$35*HLOOKUP(3,'Listes de sélection'!$C$53:$E$58,2,FALSE),'Listes de sélection'!$M$54*HLOOKUP(3,'Listes de sélection'!$C$53:$E$58,2,FALSE)),0)","v":0},{"$f":"IF(GO$56=1,IF(GO$34='Listes de sélection'!$A$17,GO$35*HLOOKUP(3,'Listes de sélection'!$C$53:$E$58,2,FALSE),'Listes de sélection'!$M$54*HLOOKUP(3,'Listes de sélection'!$C$53:$E$58,2,FALSE)),0)","v":0},{"$f":"IF(GP$56=1,IF(GP$34='Listes de sélection'!$A$17,GP$35*HLOOKUP(3,'Listes de sélection'!$C$53:$E$58,2,FALSE),'Listes de sélection'!$M$54*HLOOKUP(3,'Listes de sélection'!$C$53:$E$58,2,FALSE)),0)","v":0},{"$f":"IF(GQ$56=1,IF(GQ$34='Listes de sélection'!$A$17,GQ$35*HLOOKUP(3,'Listes de sélection'!$C$53:$E$58,2,FALSE),'Listes de sélection'!$M$54*HLOOKUP(3,'Listes de sélection'!$C$53:$E$58,2,FALSE)),0)","v":0},{"$f":"IF(GR$56=1,IF(GR$34='Listes de sélection'!$A$17,GR$35*HLOOKUP(3,'Listes de sélection'!$C$53:$E$58,2,FALSE),'Listes de sélection'!$M$54*HLOOKUP(3,'Listes de sélection'!$C$53:$E$58,2,FALSE)),0)","v":0},{"$f":"IF(GS$56=1,IF(GS$34='Listes de sélection'!$A$17,GS$35*HLOOKUP(3,'Listes de sélection'!$C$53:$E$58,2,FALSE),'Listes de sélection'!$M$54*HLOOKUP(3,'Listes de sélection'!$C$53:$E$58,2,FALSE)),0)","v":0},{"$f":"IF(GT$56=1,IF(GT$34='Listes de sélection'!$A$17,GT$35*HLOOKUP(3,'Listes de sélection'!$C$53:$E$58,2,FALSE),'Listes de sélection'!$M$54*HLOOKUP(3,'Listes de sélection'!$C$53:$E$58,2,FALSE)),0)","v":0}]
["Demandeur de chaleur = Habitation de rangée","MJ",{"$f":"IF(C$56=2,IF(C$34='Listes de sélection'!$A$17,C$35*HLOOKUP(3,'Listes de sélection'!$C$53:$E$58,3,FALSE),'Listes de sélection'!$M$55*HLOOKUP(3,'Listes de sélection'!$C$53:$E$58,3,FALSE)),0)","v":0},{"$f":"IF(D$56=2,IF(D$34='Listes de sélection'!$A$17,D$35*HLOOKUP(3,'Listes de sélection'!$C$53:$E$58,3,FALSE),'Listes de sélection'!$M$55*HLOOKUP(3,'Listes de sélection'!$C$53:$E$58,3,FALSE)),0)","v":0},{"$f":"IF(E$56=2,IF(E$34='Listes de sélection'!$A$17,E$35*HLOOKUP(3,'Listes de sélection'!$C$53:$E$58,3,FALSE),'Listes de sélection'!$M$55*HLOOKUP(3,'Listes de sélection'!$C$53:$E$58,3,FALSE)),0)","v":0},{"$f":"IF(F$56=2,IF(F$34='Listes de sélection'!$A$17,F$35*HLOOKUP(3,'Listes de sélection'!$C$53:$E$58,3,FALSE),'Listes de sélection'!$M$55*HLOOKUP(3,'Listes de sélection'!$C$53:$E$58,3,FALSE)),0)","v":0},{"$f":"IF(G$56=2,IF(G$34='Listes de sélection'!$A$17,G$35*HLOOKUP(3,'Listes de sélection'!$C$53:$E$58,3,FALSE),'Listes de sélection'!$M$55*HLOOKUP(3,'Listes de sélection'!$C$53:$E$58,3,FALSE)),0)","v":0},{"$f":"IF(H$56=2,IF(H$34='Listes de sélection'!$A$17,H$35*HLOOKUP(3,'Listes de sélection'!$C$53:$E$58,3,FALSE),'Listes de sélection'!$M$55*HLOOKUP(3,'Listes de sélection'!$C$53:$E$58,3,FALSE)),0)","v":0},{"$f":"IF(I$56=2,IF(I$34='Listes de sélection'!$A$17,I$35*HLOOKUP(3,'Listes de sélection'!$C$53:$E$58,3,FALSE),'Listes de sélection'!$M$55*HLOOKUP(3,'Listes de sélection'!$C$53:$E$58,3,FALSE)),0)","v":0},{"$f":"IF(J$56=2,IF(J$34='Listes de sélection'!$A$17,J$35*HLOOKUP(3,'Listes de sélection'!$C$53:$E$58,3,FALSE),'Listes de sélection'!$M$55*HLOOKUP(3,'Listes de sélection'!$C$53:$E$58,3,FALSE)),0)","v":0},{"$f":"IF(K$56=2,IF(K$34='Listes de sélection'!$A$17,K$35*HLOOKUP(3,'Listes de sélection'!$C$53:$E$58,3,FALSE),'Listes de sélection'!$M$55*HLOOKUP(3,'Listes de sélection'!$C$53:$E$58,3,FALSE)),0)","v":0},{"$f":"IF(L$56=2,IF(L$34='Listes de sélection'!$A$17,L$35*HLOOKUP(3,'Listes de sélection'!$C$53:$E$58,3,FALSE),'Listes de sélection'!$M$55*HLOOKUP(3,'Listes de sélection'!$C$53:$E$58,3,FALSE)),0)","v":0},{"$f":"IF(M$56=2,IF(M$34='Listes de sélection'!$A$17,M$35*HLOOKUP(3,'Listes de sélection'!$C$53:$E$58,3,FALSE),'Listes de sélection'!$M$55*HLOOKUP(3,'Listes de sélection'!$C$53:$E$58,3,FALSE)),0)","v":0},{"$f":"IF(N$56=2,IF(N$34='Listes de sélection'!$A$17,N$35*HLOOKUP(3,'Listes de sélection'!$C$53:$E$58,3,FALSE),'Listes de sélection'!$M$55*HLOOKUP(3,'Listes de sélection'!$C$53:$E$58,3,FALSE)),0)","v":0},{"$f":"IF(O$56=2,IF(O$34='Listes de sélection'!$A$17,O$35*HLOOKUP(3,'Listes de sélection'!$C$53:$E$58,3,FALSE),'Listes de sélection'!$M$55*HLOOKUP(3,'Listes de sélection'!$C$53:$E$58,3,FALSE)),0)","v":0},{"$f":"IF(P$56=2,IF(P$34='Listes de sélection'!$A$17,P$35*HLOOKUP(3,'Listes de sélection'!$C$53:$E$58,3,FALSE),'Listes de sélection'!$M$55*HLOOKUP(3,'Listes de sélection'!$C$53:$E$58,3,FALSE)),0)","v":0},{"$f":"IF(Q$56=2,IF(Q$34='Listes de sélection'!$A$17,Q$35*HLOOKUP(3,'Listes de sélection'!$C$53:$E$58,3,FALSE),'Listes de sélection'!$M$55*HLOOKUP(3,'Listes de sélection'!$C$53:$E$58,3,FALSE)),0)","v":0},{"$f":"IF(R$56=2,IF(R$34='Listes de sélection'!$A$17,R$35*HLOOKUP(3,'Listes de sélection'!$C$53:$E$58,3,FALSE),'Listes de sélection'!$M$55*HLOOKUP(3,'Listes de sélection'!$C$53:$E$58,3,FALSE)),0)","v":0},{"$f":"IF(S$56=2,IF(S$34='Listes de sélection'!$A$17,S$35*HLOOKUP(3,'Listes de sélection'!$C$53:$E$58,3,FALSE),'Listes de sélection'!$M$55*HLOOKUP(3,'Listes de sélection'!$C$53:$E$58,3,FALSE)),0)","v":0},{"$f":"IF(T$56=2,IF(T$34='Listes de sélection'!$A$17,T$35*HLOOKUP(3,'Listes de sélection'!$C$53:$E$58,3,FALSE),'Listes de sélection'!$M$55*HLOOKUP(3,'Listes de sélection'!$C$53:$E$58,3,FALSE)),0)","v":0},{"$f":"IF(U$56=2,IF(U$34='Listes de sélection'!$A$17,U$35*HLOOKUP(3,'Listes de sélection'!$C$53:$E$58,3,FALSE),'Listes de sélection'!$M$55*HLOOKUP(3,'Listes de sélection'!$C$53:$E$58,3,FALSE)),0)","v":0},{"$f":"IF(V$56=2,IF(V$34='Listes de sélection'!$A$17,V$35*HLOOKUP(3,'Listes de sélection'!$C$53:$E$58,3,FALSE),'Listes de sélection'!$M$55*HLOOKUP(3,'Listes de sélection'!$C$53:$E$58,3,FALSE)),0)","v":0},{"$f":"IF(W$56=2,IF(W$34='Listes de sélection'!$A$17,W$35*HLOOKUP(3,'Listes de sélection'!$C$53:$E$58,3,FALSE),'Listes de sélection'!$M$55*HLOOKUP(3,'Listes de sélection'!$C$53:$E$58,3,FALSE)),0)","v":0},{"$f":"IF(X$56=2,IF(X$34='Listes de sélection'!$A$17,X$35*HLOOKUP(3,'Listes de sélection'!$C$53:$E$58,3,FALSE),'Listes de sélection'!$M$55*HLOOKUP(3,'Listes de sélection'!$C$53:$E$58,3,FALSE)),0)","v":0},{"$f":"IF(Y$56=2,IF(Y$34='Listes de sélection'!$A$17,Y$35*HLOOKUP(3,'Listes de sélection'!$C$53:$E$58,3,FALSE),'Listes de sélection'!$M$55*HLOOKUP(3,'Listes de sélection'!$C$53:$E$58,3,FALSE)),0)","v":0},{"$f":"IF(Z$56=2,IF(Z$34='Listes de sélection'!$A$17,Z$35*HLOOKUP(3,'Listes de sélection'!$C$53:$E$58,3,FALSE),'Listes de sélection'!$M$55*HLOOKUP(3,'Listes de sélection'!$C$53:$E$58,3,FALSE)),0)","v":0},{"$f":"IF(AA$56=2,IF(AA$34='Listes de sélection'!$A$17,AA$35*HLOOKUP(3,'Listes de sélection'!$C$53:$E$58,3,FALSE),'Listes de sélection'!$M$55*HLOOKUP(3,'Listes de sélection'!$C$53:$E$58,3,FALSE)),0)","v":0},{"$f":"IF(AB$56=2,IF(AB$34='Listes de sélection'!$A$17,AB$35*HLOOKUP(3,'Listes de sélection'!$C$53:$E$58,3,FALSE),'Listes de sélection'!$M$55*HLOOKUP(3,'Listes de sélection'!$C$53:$E$58,3,FALSE)),0)","v":0},{"$f":"IF(AC$56=2,IF(AC$34='Listes de sélection'!$A$17,AC$35*HLOOKUP(3,'Listes de sélection'!$C$53:$E$58,3,FALSE),'Listes de sélection'!$M$55*HLOOKUP(3,'Listes de sélection'!$C$53:$E$58,3,FALSE)),0)","v":0},{"$f":"IF(AD$56=2,IF(AD$34='Listes de sélection'!$A$17,AD$35*HLOOKUP(3,'Listes de sélection'!$C$53:$E$58,3,FALSE),'Listes de sélection'!$M$55*HLOOKUP(3,'Listes de sélection'!$C$53:$E$58,3,FALSE)),0)","v":0},{"$f":"IF(AE$56=2,IF(AE$34='Listes de sélection'!$A$17,AE$35*HLOOKUP(3,'Listes de sélection'!$C$53:$E$58,3,FALSE),'Listes de sélection'!$M$55*HLOOKUP(3,'Listes de sélection'!$C$53:$E$58,3,FALSE)),0)","v":0},{"$f":"IF(AF$56=2,IF(AF$34='Listes de sélection'!$A$17,AF$35*HLOOKUP(3,'Listes de sélection'!$C$53:$E$58,3,FALSE),'Listes de sélection'!$M$55*HLOOKUP(3,'Listes de sélection'!$C$53:$E$58,3,FALSE)),0)","v":0},{"$f":"IF(AG$56=2,IF(AG$34='Listes de sélection'!$A$17,AG$35*HLOOKUP(3,'Listes de sélection'!$C$53:$E$58,3,FALSE),'Listes de sélection'!$M$55*HLOOKUP(3,'Listes de sélection'!$C$53:$E$58,3,FALSE)),0)","v":0},{"$f":"IF(AH$56=2,IF(AH$34='Listes de sélection'!$A$17,AH$35*HLOOKUP(3,'Listes de sélection'!$C$53:$E$58,3,FALSE),'Listes de sélection'!$M$55*HLOOKUP(3,'Listes de sélection'!$C$53:$E$58,3,FALSE)),0)","v":0},{"$f":"IF(AI$56=2,IF(AI$34='Listes de sélection'!$A$17,AI$35*HLOOKUP(3,'Listes de sélection'!$C$53:$E$58,3,FALSE),'Listes de sélection'!$M$55*HLOOKUP(3,'Listes de sélection'!$C$53:$E$58,3,FALSE)),0)","v":0},{"$f":"IF(AJ$56=2,IF(AJ$34='Listes de sélection'!$A$17,AJ$35*HLOOKUP(3,'Listes de sélection'!$C$53:$E$58,3,FALSE),'Listes de sélection'!$M$55*HLOOKUP(3,'Listes de sélection'!$C$53:$E$58,3,FALSE)),0)","v":0},{"$f":"IF(AK$56=2,IF(AK$34='Listes de sélection'!$A$17,AK$35*HLOOKUP(3,'Listes de sélection'!$C$53:$E$58,3,FALSE),'Listes de sélection'!$M$55*HLOOKUP(3,'Listes de sélection'!$C$53:$E$58,3,FALSE)),0)","v":0},{"$f":"IF(AL$56=2,IF(AL$34='Listes de sélection'!$A$17,AL$35*HLOOKUP(3,'Listes de sélection'!$C$53:$E$58,3,FALSE),'Listes de sélection'!$M$55*HLOOKUP(3,'Listes de sélection'!$C$53:$E$58,3,FALSE)),0)","v":0},{"$f":"IF(AM$56=2,IF(AM$34='Listes de sélection'!$A$17,AM$35*HLOOKUP(3,'Listes de sélection'!$C$53:$E$58,3,FALSE),'Listes de sélection'!$M$55*HLOOKUP(3,'Listes de sélection'!$C$53:$E$58,3,FALSE)),0)","v":0},{"$f":"IF(AN$56=2,IF(AN$34='Listes de sélection'!$A$17,AN$35*HLOOKUP(3,'Listes de sélection'!$C$53:$E$58,3,FALSE),'Listes de sélection'!$M$55*HLOOKUP(3,'Listes de sélection'!$C$53:$E$58,3,FALSE)),0)","v":0},{"$f":"IF(AO$56=2,IF(AO$34='Listes de sélection'!$A$17,AO$35*HLOOKUP(3,'Listes de sélection'!$C$53:$E$58,3,FALSE),'Listes de sélection'!$M$55*HLOOKUP(3,'Listes de sélection'!$C$53:$E$58,3,FALSE)),0)","v":0},{"$f":"IF(AP$56=2,IF(AP$34='Listes de sélection'!$A$17,AP$35*HLOOKUP(3,'Listes de sélection'!$C$53:$E$58,3,FALSE),'Listes de sélection'!$M$55*HLOOKUP(3,'Listes de sélection'!$C$53:$E$58,3,FALSE)),0)","v":0},{"$f":"IF(AQ$56=2,IF(AQ$34='Listes de sélection'!$A$17,AQ$35*HLOOKUP(3,'Listes de sélection'!$C$53:$E$58,3,FALSE),'Listes de sélection'!$M$55*HLOOKUP(3,'Listes de sélection'!$C$53:$E$58,3,FALSE)),0)","v":0},{"$f":"IF(AR$56=2,IF(AR$34='Listes de sélection'!$A$17,AR$35*HLOOKUP(3,'Listes de sélection'!$C$53:$E$58,3,FALSE),'Listes de sélection'!$M$55*HLOOKUP(3,'Listes de sélection'!$C$53:$E$58,3,FALSE)),0)","v":0},{"$f":"IF(AS$56=2,IF(AS$34='Listes de sélection'!$A$17,AS$35*HLOOKUP(3,'Listes de sélection'!$C$53:$E$58,3,FALSE),'Listes de sélection'!$M$55*HLOOKUP(3,'Listes de sélection'!$C$53:$E$58,3,FALSE)),0)","v":0},{"$f":"IF(AT$56=2,IF(AT$34='Listes de sélection'!$A$17,AT$35*HLOOKUP(3,'Listes de sélection'!$C$53:$E$58,3,FALSE),'Listes de sélection'!$M$55*HLOOKUP(3,'Listes de sélection'!$C$53:$E$58,3,FALSE)),0)","v":0},{"$f":"IF(AU$56=2,IF(AU$34='Listes de sélection'!$A$17,AU$35*HLOOKUP(3,'Listes de sélection'!$C$53:$E$58,3,FALSE),'Listes de sélection'!$M$55*HLOOKUP(3,'Listes de sélection'!$C$53:$E$58,3,FALSE)),0)","v":0},{"$f":"IF(AV$56=2,IF(AV$34='Listes de sélection'!$A$17,AV$35*HLOOKUP(3,'Listes de sélection'!$C$53:$E$58,3,FALSE),'Listes de sélection'!$M$55*HLOOKUP(3,'Listes de sélection'!$C$53:$E$58,3,FALSE)),0)","v":0},{"$f":"IF(AW$56=2,IF(AW$34='Listes de sélection'!$A$17,AW$35*HLOOKUP(3,'Listes de sélection'!$C$53:$E$58,3,FALSE),'Listes de sélection'!$M$55*HLOOKUP(3,'Listes de sélection'!$C$53:$E$58,3,FALSE)),0)","v":0},{"$f":"IF(AX$56=2,IF(AX$34='Listes de sélection'!$A$17,AX$35*HLOOKUP(3,'Listes de sélection'!$C$53:$E$58,3,FALSE),'Listes de sélection'!$M$55*HLOOKUP(3,'Listes de sélection'!$C$53:$E$58,3,FALSE)),0)","v":0},{"$f":"IF(AY$56=2,IF(AY$34='Listes de sélection'!$A$17,AY$35*HLOOKUP(3,'Listes de sélection'!$C$53:$E$58,3,FALSE),'Listes de sélection'!$M$55*HLOOKUP(3,'Listes de sélection'!$C$53:$E$58,3,FALSE)),0)","v":0},{"$f":"IF(AZ$56=2,IF(AZ$34='Listes de sélection'!$A$17,AZ$35*HLOOKUP(3,'Listes de sélection'!$C$53:$E$58,3,FALSE),'Listes de sélection'!$M$55*HLOOKUP(3,'Listes de sélection'!$C$53:$E$58,3,FALSE)),0)","v":0},{"$f":"IF(BA$56=2,IF(BA$34='Listes de sélection'!$A$17,BA$35*HLOOKUP(3,'Listes de sélection'!$C$53:$E$58,3,FALSE),'Listes de sélection'!$M$55*HLOOKUP(3,'Listes de sélection'!$C$53:$E$58,3,FALSE)),0)","v":0},{"$f":"IF(BB$56=2,IF(BB$34='Listes de sélection'!$A$17,BB$35*HLOOKUP(3,'Listes de sélection'!$C$53:$E$58,3,FALSE),'Listes de sélection'!$M$55*HLOOKUP(3,'Listes de sélection'!$C$53:$E$58,3,FALSE)),0)","v":0},{"$f":"IF(BC$56=2,IF(BC$34='Listes de sélection'!$A$17,BC$35*HLOOKUP(3,'Listes de sélection'!$C$53:$E$58,3,FALSE),'Listes de sélection'!$M$55*HLOOKUP(3,'Listes de sélection'!$C$53:$E$58,3,FALSE)),0)","v":0},{"$f":"IF(BD$56=2,IF(BD$34='Listes de sélection'!$A$17,BD$35*HLOOKUP(3,'Listes de sélection'!$C$53:$E$58,3,FALSE),'Listes de sélection'!$M$55*HLOOKUP(3,'Listes de sélection'!$C$53:$E$58,3,FALSE)),0)","v":0},{"$f":"IF(BE$56=2,IF(BE$34='Listes de sélection'!$A$17,BE$35*HLOOKUP(3,'Listes de sélection'!$C$53:$E$58,3,FALSE),'Listes de sélection'!$M$55*HLOOKUP(3,'Listes de sélection'!$C$53:$E$58,3,FALSE)),0)","v":0},{"$f":"IF(BF$56=2,IF(BF$34='Listes de sélection'!$A$17,BF$35*HLOOKUP(3,'Listes de sélection'!$C$53:$E$58,3,FALSE),'Listes de sélection'!$M$55*HLOOKUP(3,'Listes de sélection'!$C$53:$E$58,3,FALSE)),0)","v":0},{"$f":"IF(BG$56=2,IF(BG$34='Listes de sélection'!$A$17,BG$35*HLOOKUP(3,'Listes de sélection'!$C$53:$E$58,3,FALSE),'Listes de sélection'!$M$55*HLOOKUP(3,'Listes de sélection'!$C$53:$E$58,3,FALSE)),0)","v":0},{"$f":"IF(BH$56=2,IF(BH$34='Listes de sélection'!$A$17,BH$35*HLOOKUP(3,'Listes de sélection'!$C$53:$E$58,3,FALSE),'Listes de sélection'!$M$55*HLOOKUP(3,'Listes de sélection'!$C$53:$E$58,3,FALSE)),0)","v":0},{"$f":"IF(BI$56=2,IF(BI$34='Listes de sélection'!$A$17,BI$35*HLOOKUP(3,'Listes de sélection'!$C$53:$E$58,3,FALSE),'Listes de sélection'!$M$55*HLOOKUP(3,'Listes de sélection'!$C$53:$E$58,3,FALSE)),0)","v":0},{"$f":"IF(BJ$56=2,IF(BJ$34='Listes de sélection'!$A$17,BJ$35*HLOOKUP(3,'Listes de sélection'!$C$53:$E$58,3,FALSE),'Listes de sélection'!$M$55*HLOOKUP(3,'Listes de sélection'!$C$53:$E$58,3,FALSE)),0)","v":0},{"$f":"IF(BK$56=2,IF(BK$34='Listes de sélection'!$A$17,BK$35*HLOOKUP(3,'Listes de sélection'!$C$53:$E$58,3,FALSE),'Listes de sélection'!$M$55*HLOOKUP(3,'Listes de sélection'!$C$53:$E$58,3,FALSE)),0)","v":0},{"$f":"IF(BL$56=2,IF(BL$34='Listes de sélection'!$A$17,BL$35*HLOOKUP(3,'Listes de sélection'!$C$53:$E$58,3,FALSE),'Listes de sélection'!$M$55*HLOOKUP(3,'Listes de sélection'!$C$53:$E$58,3,FALSE)),0)","v":0},{"$f":"IF(BM$56=2,IF(BM$34='Listes de sélection'!$A$17,BM$35*HLOOKUP(3,'Listes de sélection'!$C$53:$E$58,3,FALSE),'Listes de sélection'!$M$55*HLOOKUP(3,'Listes de sélection'!$C$53:$E$58,3,FALSE)),0)","v":0},{"$f":"IF(BN$56=2,IF(BN$34='Listes de sélection'!$A$17,BN$35*HLOOKUP(3,'Listes de sélection'!$C$53:$E$58,3,FALSE),'Listes de sélection'!$M$55*HLOOKUP(3,'Listes de sélection'!$C$53:$E$58,3,FALSE)),0)","v":0},{"$f":"IF(BO$56=2,IF(BO$34='Listes de sélection'!$A$17,BO$35*HLOOKUP(3,'Listes de sélection'!$C$53:$E$58,3,FALSE),'Listes de sélection'!$M$55*HLOOKUP(3,'Listes de sélection'!$C$53:$E$58,3,FALSE)),0)","v":0},{"$f":"IF(BP$56=2,IF(BP$34='Listes de sélection'!$A$17,BP$35*HLOOKUP(3,'Listes de sélection'!$C$53:$E$58,3,FALSE),'Listes de sélection'!$M$55*HLOOKUP(3,'Listes de sélection'!$C$53:$E$58,3,FALSE)),0)","v":0},{"$f":"IF(BQ$56=2,IF(BQ$34='Listes de sélection'!$A$17,BQ$35*HLOOKUP(3,'Listes de sélection'!$C$53:$E$58,3,FALSE),'Listes de sélection'!$M$55*HLOOKUP(3,'Listes de sélection'!$C$53:$E$58,3,FALSE)),0)","v":0},{"$f":"IF(BR$56=2,IF(BR$34='Listes de sélection'!$A$17,BR$35*HLOOKUP(3,'Listes de sélection'!$C$53:$E$58,3,FALSE),'Listes de sélection'!$M$55*HLOOKUP(3,'Listes de sélection'!$C$53:$E$58,3,FALSE)),0)","v":0},{"$f":"IF(BS$56=2,IF(BS$34='Listes de sélection'!$A$17,BS$35*HLOOKUP(3,'Listes de sélection'!$C$53:$E$58,3,FALSE),'Listes de sélection'!$M$55*HLOOKUP(3,'Listes de sélection'!$C$53:$E$58,3,FALSE)),0)","v":0},{"$f":"IF(BT$56=2,IF(BT$34='Listes de sélection'!$A$17,BT$35*HLOOKUP(3,'Listes de sélection'!$C$53:$E$58,3,FALSE),'Listes de sélection'!$M$55*HLOOKUP(3,'Listes de sélection'!$C$53:$E$58,3,FALSE)),0)","v":0},{"$f":"IF(BU$56=2,IF(BU$34='Listes de sélection'!$A$17,BU$35*HLOOKUP(3,'Listes de sélection'!$C$53:$E$58,3,FALSE),'Listes de sélection'!$M$55*HLOOKUP(3,'Listes de sélection'!$C$53:$E$58,3,FALSE)),0)","v":0},{"$f":"IF(BV$56=2,IF(BV$34='Listes de sélection'!$A$17,BV$35*HLOOKUP(3,'Listes de sélection'!$C$53:$E$58,3,FALSE),'Listes de sélection'!$M$55*HLOOKUP(3,'Listes de sélection'!$C$53:$E$58,3,FALSE)),0)","v":0},{"$f":"IF(BW$56=2,IF(BW$34='Listes de sélection'!$A$17,BW$35*HLOOKUP(3,'Listes de sélection'!$C$53:$E$58,3,FALSE),'Listes de sélection'!$M$55*HLOOKUP(3,'Listes de sélection'!$C$53:$E$58,3,FALSE)),0)","v":0},{"$f":"IF(BX$56=2,IF(BX$34='Listes de sélection'!$A$17,BX$35*HLOOKUP(3,'Listes de sélection'!$C$53:$E$58,3,FALSE),'Listes de sélection'!$M$55*HLOOKUP(3,'Listes de sélection'!$C$53:$E$58,3,FALSE)),0)","v":0},{"$f":"IF(BY$56=2,IF(BY$34='Listes de sélection'!$A$17,BY$35*HLOOKUP(3,'Listes de sélection'!$C$53:$E$58,3,FALSE),'Listes de sélection'!$M$55*HLOOKUP(3,'Listes de sélection'!$C$53:$E$58,3,FALSE)),0)","v":0},{"$f":"IF(BZ$56=2,IF(BZ$34='Listes de sélection'!$A$17,BZ$35*HLOOKUP(3,'Listes de sélection'!$C$53:$E$58,3,FALSE),'Listes de sélection'!$M$55*HLOOKUP(3,'Listes de sélection'!$C$53:$E$58,3,FALSE)),0)","v":0},{"$f":"IF(CA$56=2,IF(CA$34='Listes de sélection'!$A$17,CA$35*HLOOKUP(3,'Listes de sélection'!$C$53:$E$58,3,FALSE),'Listes de sélection'!$M$55*HLOOKUP(3,'Listes de sélection'!$C$53:$E$58,3,FALSE)),0)","v":0},{"$f":"IF(CB$56=2,IF(CB$34='Listes de sélection'!$A$17,CB$35*HLOOKUP(3,'Listes de sélection'!$C$53:$E$58,3,FALSE),'Listes de sélection'!$M$55*HLOOKUP(3,'Listes de sélection'!$C$53:$E$58,3,FALSE)),0)","v":0},{"$f":"IF(CC$56=2,IF(CC$34='Listes de sélection'!$A$17,CC$35*HLOOKUP(3,'Listes de sélection'!$C$53:$E$58,3,FALSE),'Listes de sélection'!$M$55*HLOOKUP(3,'Listes de sélection'!$C$53:$E$58,3,FALSE)),0)","v":0},{"$f":"IF(CD$56=2,IF(CD$34='Listes de sélection'!$A$17,CD$35*HLOOKUP(3,'Listes de sélection'!$C$53:$E$58,3,FALSE),'Listes de sélection'!$M$55*HLOOKUP(3,'Listes de sélection'!$C$53:$E$58,3,FALSE)),0)","v":0},{"$f":"IF(CE$56=2,IF(CE$34='Listes de sélection'!$A$17,CE$35*HLOOKUP(3,'Listes de sélection'!$C$53:$E$58,3,FALSE),'Listes de sélection'!$M$55*HLOOKUP(3,'Listes de sélection'!$C$53:$E$58,3,FALSE)),0)","v":0},{"$f":"IF(CF$56=2,IF(CF$34='Listes de sélection'!$A$17,CF$35*HLOOKUP(3,'Listes de sélection'!$C$53:$E$58,3,FALSE),'Listes de sélection'!$M$55*HLOOKUP(3,'Listes de sélection'!$C$53:$E$58,3,FALSE)),0)","v":0},{"$f":"IF(CG$56=2,IF(CG$34='Listes de sélection'!$A$17,CG$35*HLOOKUP(3,'Listes de sélection'!$C$53:$E$58,3,FALSE),'Listes de sélection'!$M$55*HLOOKUP(3,'Listes de sélection'!$C$53:$E$58,3,FALSE)),0)","v":0},{"$f":"IF(CH$56=2,IF(CH$34='Listes de sélection'!$A$17,CH$35*HLOOKUP(3,'Listes de sélection'!$C$53:$E$58,3,FALSE),'Listes de sélection'!$M$55*HLOOKUP(3,'Listes de sélection'!$C$53:$E$58,3,FALSE)),0)","v":0},{"$f":"IF(CI$56=2,IF(CI$34='Listes de sélection'!$A$17,CI$35*HLOOKUP(3,'Listes de sélection'!$C$53:$E$58,3,FALSE),'Listes de sélection'!$M$55*HLOOKUP(3,'Listes de sélection'!$C$53:$E$58,3,FALSE)),0)","v":0},{"$f":"IF(CJ$56=2,IF(CJ$34='Listes de sélection'!$A$17,CJ$35*HLOOKUP(3,'Listes de sélection'!$C$53:$E$58,3,FALSE),'Listes de sélection'!$M$55*HLOOKUP(3,'Listes de sélection'!$C$53:$E$58,3,FALSE)),0)","v":0},{"$f":"IF(CK$56=2,IF(CK$34='Listes de sélection'!$A$17,CK$35*HLOOKUP(3,'Listes de sélection'!$C$53:$E$58,3,FALSE),'Listes de sélection'!$M$55*HLOOKUP(3,'Listes de sélection'!$C$53:$E$58,3,FALSE)),0)","v":0},{"$f":"IF(CL$56=2,IF(CL$34='Listes de sélection'!$A$17,CL$35*HLOOKUP(3,'Listes de sélection'!$C$53:$E$58,3,FALSE),'Listes de sélection'!$M$55*HLOOKUP(3,'Listes de sélection'!$C$53:$E$58,3,FALSE)),0)","v":0},{"$f":"IF(CM$56=2,IF(CM$34='Listes de sélection'!$A$17,CM$35*HLOOKUP(3,'Listes de sélection'!$C$53:$E$58,3,FALSE),'Listes de sélection'!$M$55*HLOOKUP(3,'Listes de sélection'!$C$53:$E$58,3,FALSE)),0)","v":0},{"$f":"IF(CN$56=2,IF(CN$34='Listes de sélection'!$A$17,CN$35*HLOOKUP(3,'Listes de sélection'!$C$53:$E$58,3,FALSE),'Listes de sélection'!$M$55*HLOOKUP(3,'Listes de sélection'!$C$53:$E$58,3,FALSE)),0)","v":0},{"$f":"IF(CO$56=2,IF(CO$34='Listes de sélection'!$A$17,CO$35*HLOOKUP(3,'Listes de sélection'!$C$53:$E$58,3,FALSE),'Listes de sélection'!$M$55*HLOOKUP(3,'Listes de sélection'!$C$53:$E$58,3,FALSE)),0)","v":0},{"$f":"IF(CP$56=2,IF(CP$34='Listes de sélection'!$A$17,CP$35*HLOOKUP(3,'Listes de sélection'!$C$53:$E$58,3,FALSE),'Listes de sélection'!$M$55*HLOOKUP(3,'Listes de sélection'!$C$53:$E$58,3,FALSE)),0)","v":0},{"$f":"IF(CQ$56=2,IF(CQ$34='Listes de sélection'!$A$17,CQ$35*HLOOKUP(3,'Listes de sélection'!$C$53:$E$58,3,FALSE),'Listes de sélection'!$M$55*HLOOKUP(3,'Listes de sélection'!$C$53:$E$58,3,FALSE)),0)","v":0},{"$f":"IF(CR$56=2,IF(CR$34='Listes de sélection'!$A$17,CR$35*HLOOKUP(3,'Listes de sélection'!$C$53:$E$58,3,FALSE),'Listes de sélection'!$M$55*HLOOKUP(3,'Listes de sélection'!$C$53:$E$58,3,FALSE)),0)","v":0},{"$f":"IF(CS$56=2,IF(CS$34='Listes de sélection'!$A$17,CS$35*HLOOKUP(3,'Listes de sélection'!$C$53:$E$58,3,FALSE),'Listes de sélection'!$M$55*HLOOKUP(3,'Listes de sélection'!$C$53:$E$58,3,FALSE)),0)","v":0},{"$f":"IF(CT$56=2,IF(CT$34='Listes de sélection'!$A$17,CT$35*HLOOKUP(3,'Listes de sélection'!$C$53:$E$58,3,FALSE),'Listes de sélection'!$M$55*HLOOKUP(3,'Listes de sélection'!$C$53:$E$58,3,FALSE)),0)","v":0},{"$f":"IF(CU$56=2,IF(CU$34='Listes de sélection'!$A$17,CU$35*HLOOKUP(3,'Listes de sélection'!$C$53:$E$58,3,FALSE),'Listes de sélection'!$M$55*HLOOKUP(3,'Listes de sélection'!$C$53:$E$58,3,FALSE)),0)","v":0},{"$f":"IF(CV$56=2,IF(CV$34='Listes de sélection'!$A$17,CV$35*HLOOKUP(3,'Listes de sélection'!$C$53:$E$58,3,FALSE),'Listes de sélection'!$M$55*HLOOKUP(3,'Listes de sélection'!$C$53:$E$58,3,FALSE)),0)","v":0},{"$f":"IF(CW$56=2,IF(CW$34='Listes de sélection'!$A$17,CW$35*HLOOKUP(3,'Listes de sélection'!$C$53:$E$58,3,FALSE),'Listes de sélection'!$M$55*HLOOKUP(3,'Listes de sélection'!$C$53:$E$58,3,FALSE)),0)","v":0},{"$f":"IF(CX$56=2,IF(CX$34='Listes de sélection'!$A$17,CX$35*HLOOKUP(3,'Listes de sélection'!$C$53:$E$58,3,FALSE),'Listes de sélection'!$M$55*HLOOKUP(3,'Listes de sélection'!$C$53:$E$58,3,FALSE)),0)","v":0},{"$f":"IF(CY$56=2,IF(CY$34='Listes de sélection'!$A$17,CY$35*HLOOKUP(3,'Listes de sélection'!$C$53:$E$58,3,FALSE),'Listes de sélection'!$M$55*HLOOKUP(3,'Listes de sélection'!$C$53:$E$58,3,FALSE)),0)","v":0},{"$f":"IF(CZ$56=2,IF(CZ$34='Listes de sélection'!$A$17,CZ$35*HLOOKUP(3,'Listes de sélection'!$C$53:$E$58,3,FALSE),'Listes de sélection'!$M$55*HLOOKUP(3,'Listes de sélection'!$C$53:$E$58,3,FALSE)),0)","v":0},{"$f":"IF(DA$56=2,IF(DA$34='Listes de sélection'!$A$17,DA$35*HLOOKUP(3,'Listes de sélection'!$C$53:$E$58,3,FALSE),'Listes de sélection'!$M$55*HLOOKUP(3,'Listes de sélection'!$C$53:$E$58,3,FALSE)),0)","v":0},{"$f":"IF(DB$56=2,IF(DB$34='Listes de sélection'!$A$17,DB$35*HLOOKUP(3,'Listes de sélection'!$C$53:$E$58,3,FALSE),'Listes de sélection'!$M$55*HLOOKUP(3,'Listes de sélection'!$C$53:$E$58,3,FALSE)),0)","v":0},{"$f":"IF(DC$56=2,IF(DC$34='Listes de sélection'!$A$17,DC$35*HLOOKUP(3,'Listes de sélection'!$C$53:$E$58,3,FALSE),'Listes de sélection'!$M$55*HLOOKUP(3,'Listes de sélection'!$C$53:$E$58,3,FALSE)),0)","v":0},{"$f":"IF(DD$56=2,IF(DD$34='Listes de sélection'!$A$17,DD$35*HLOOKUP(3,'Listes de sélection'!$C$53:$E$58,3,FALSE),'Listes de sélection'!$M$55*HLOOKUP(3,'Listes de sélection'!$C$53:$E$58,3,FALSE)),0)","v":0},{"$f":"IF(DE$56=2,IF(DE$34='Listes de sélection'!$A$17,DE$35*HLOOKUP(3,'Listes de sélection'!$C$53:$E$58,3,FALSE),'Listes de sélection'!$M$55*HLOOKUP(3,'Listes de sélection'!$C$53:$E$58,3,FALSE)),0)","v":0},{"$f":"IF(DF$56=2,IF(DF$34='Listes de sélection'!$A$17,DF$35*HLOOKUP(3,'Listes de sélection'!$C$53:$E$58,3,FALSE),'Listes de sélection'!$M$55*HLOOKUP(3,'Listes de sélection'!$C$53:$E$58,3,FALSE)),0)","v":0},{"$f":"IF(DG$56=2,IF(DG$34='Listes de sélection'!$A$17,DG$35*HLOOKUP(3,'Listes de sélection'!$C$53:$E$58,3,FALSE),'Listes de sélection'!$M$55*HLOOKUP(3,'Listes de sélection'!$C$53:$E$58,3,FALSE)),0)","v":0},{"$f":"IF(DH$56=2,IF(DH$34='Listes de sélection'!$A$17,DH$35*HLOOKUP(3,'Listes de sélection'!$C$53:$E$58,3,FALSE),'Listes de sélection'!$M$55*HLOOKUP(3,'Listes de sélection'!$C$53:$E$58,3,FALSE)),0)","v":0},{"$f":"IF(DI$56=2,IF(DI$34='Listes de sélection'!$A$17,DI$35*HLOOKUP(3,'Listes de sélection'!$C$53:$E$58,3,FALSE),'Listes de sélection'!$M$55*HLOOKUP(3,'Listes de sélection'!$C$53:$E$58,3,FALSE)),0)","v":0},{"$f":"IF(DJ$56=2,IF(DJ$34='Listes de sélection'!$A$17,DJ$35*HLOOKUP(3,'Listes de sélection'!$C$53:$E$58,3,FALSE),'Listes de sélection'!$M$55*HLOOKUP(3,'Listes de sélection'!$C$53:$E$58,3,FALSE)),0)","v":0},{"$f":"IF(DK$56=2,IF(DK$34='Listes de sélection'!$A$17,DK$35*HLOOKUP(3,'Listes de sélection'!$C$53:$E$58,3,FALSE),'Listes de sélection'!$M$55*HLOOKUP(3,'Listes de sélection'!$C$53:$E$58,3,FALSE)),0)","v":0},{"$f":"IF(DL$56=2,IF(DL$34='Listes de sélection'!$A$17,DL$35*HLOOKUP(3,'Listes de sélection'!$C$53:$E$58,3,FALSE),'Listes de sélection'!$M$55*HLOOKUP(3,'Listes de sélection'!$C$53:$E$58,3,FALSE)),0)","v":0},{"$f":"IF(DM$56=2,IF(DM$34='Listes de sélection'!$A$17,DM$35*HLOOKUP(3,'Listes de sélection'!$C$53:$E$58,3,FALSE),'Listes de sélection'!$M$55*HLOOKUP(3,'Listes de sélection'!$C$53:$E$58,3,FALSE)),0)","v":0},{"$f":"IF(DN$56=2,IF(DN$34='Listes de sélection'!$A$17,DN$35*HLOOKUP(3,'Listes de sélection'!$C$53:$E$58,3,FALSE),'Listes de sélection'!$M$55*HLOOKUP(3,'Listes de sélection'!$C$53:$E$58,3,FALSE)),0)","v":0},{"$f":"IF(DO$56=2,IF(DO$34='Listes de sélection'!$A$17,DO$35*HLOOKUP(3,'Listes de sélection'!$C$53:$E$58,3,FALSE),'Listes de sélection'!$M$55*HLOOKUP(3,'Listes de sélection'!$C$53:$E$58,3,FALSE)),0)","v":0},{"$f":"IF(DP$56=2,IF(DP$34='Listes de sélection'!$A$17,DP$35*HLOOKUP(3,'Listes de sélection'!$C$53:$E$58,3,FALSE),'Listes de sélection'!$M$55*HLOOKUP(3,'Listes de sélection'!$C$53:$E$58,3,FALSE)),0)","v":0},{"$f":"IF(DQ$56=2,IF(DQ$34='Listes de sélection'!$A$17,DQ$35*HLOOKUP(3,'Listes de sélection'!$C$53:$E$58,3,FALSE),'Listes de sélection'!$M$55*HLOOKUP(3,'Listes de sélection'!$C$53:$E$58,3,FALSE)),0)","v":0},{"$f":"IF(DR$56=2,IF(DR$34='Listes de sélection'!$A$17,DR$35*HLOOKUP(3,'Listes de sélection'!$C$53:$E$58,3,FALSE),'Listes de sélection'!$M$55*HLOOKUP(3,'Listes de sélection'!$C$53:$E$58,3,FALSE)),0)","v":0},{"$f":"IF(DS$56=2,IF(DS$34='Listes de sélection'!$A$17,DS$35*HLOOKUP(3,'Listes de sélection'!$C$53:$E$58,3,FALSE),'Listes de sélection'!$M$55*HLOOKUP(3,'Listes de sélection'!$C$53:$E$58,3,FALSE)),0)","v":0},{"$f":"IF(DT$56=2,IF(DT$34='Listes de sélection'!$A$17,DT$35*HLOOKUP(3,'Listes de sélection'!$C$53:$E$58,3,FALSE),'Listes de sélection'!$M$55*HLOOKUP(3,'Listes de sélection'!$C$53:$E$58,3,FALSE)),0)","v":0},{"$f":"IF(DU$56=2,IF(DU$34='Listes de sélection'!$A$17,DU$35*HLOOKUP(3,'Listes de sélection'!$C$53:$E$58,3,FALSE),'Listes de sélection'!$M$55*HLOOKUP(3,'Listes de sélection'!$C$53:$E$58,3,FALSE)),0)","v":0},{"$f":"IF(DV$56=2,IF(DV$34='Listes de sélection'!$A$17,DV$35*HLOOKUP(3,'Listes de sélection'!$C$53:$E$58,3,FALSE),'Listes de sélection'!$M$55*HLOOKUP(3,'Listes de sélection'!$C$53:$E$58,3,FALSE)),0)","v":0},{"$f":"IF(DW$56=2,IF(DW$34='Listes de sélection'!$A$17,DW$35*HLOOKUP(3,'Listes de sélection'!$C$53:$E$58,3,FALSE),'Listes de sélection'!$M$55*HLOOKUP(3,'Listes de sélection'!$C$53:$E$58,3,FALSE)),0)","v":0},{"$f":"IF(DX$56=2,IF(DX$34='Listes de sélection'!$A$17,DX$35*HLOOKUP(3,'Listes de sélection'!$C$53:$E$58,3,FALSE),'Listes de sélection'!$M$55*HLOOKUP(3,'Listes de sélection'!$C$53:$E$58,3,FALSE)),0)","v":0},{"$f":"IF(DY$56=2,IF(DY$34='Listes de sélection'!$A$17,DY$35*HLOOKUP(3,'Listes de sélection'!$C$53:$E$58,3,FALSE),'Listes de sélection'!$M$55*HLOOKUP(3,'Listes de sélection'!$C$53:$E$58,3,FALSE)),0)","v":0},{"$f":"IF(DZ$56=2,IF(DZ$34='Listes de sélection'!$A$17,DZ$35*HLOOKUP(3,'Listes de sélection'!$C$53:$E$58,3,FALSE),'Listes de sélection'!$M$55*HLOOKUP(3,'Listes de sélection'!$C$53:$E$58,3,FALSE)),0)","v":0},{"$f":"IF(EA$56=2,IF(EA$34='Listes de sélection'!$A$17,EA$35*HLOOKUP(3,'Listes de sélection'!$C$53:$E$58,3,FALSE),'Listes de sélection'!$M$55*HLOOKUP(3,'Listes de sélection'!$C$53:$E$58,3,FALSE)),0)","v":0},{"$f":"IF(EB$56=2,IF(EB$34='Listes de sélection'!$A$17,EB$35*HLOOKUP(3,'Listes de sélection'!$C$53:$E$58,3,FALSE),'Listes de sélection'!$M$55*HLOOKUP(3,'Listes de sélection'!$C$53:$E$58,3,FALSE)),0)","v":0},{"$f":"IF(EC$56=2,IF(EC$34='Listes de sélection'!$A$17,EC$35*HLOOKUP(3,'Listes de sélection'!$C$53:$E$58,3,FALSE),'Listes de sélection'!$M$55*HLOOKUP(3,'Listes de sélection'!$C$53:$E$58,3,FALSE)),0)","v":0},{"$f":"IF(ED$56=2,IF(ED$34='Listes de sélection'!$A$17,ED$35*HLOOKUP(3,'Listes de sélection'!$C$53:$E$58,3,FALSE),'Listes de sélection'!$M$55*HLOOKUP(3,'Listes de sélection'!$C$53:$E$58,3,FALSE)),0)","v":0},{"$f":"IF(EE$56=2,IF(EE$34='Listes de sélection'!$A$17,EE$35*HLOOKUP(3,'Listes de sélection'!$C$53:$E$58,3,FALSE),'Listes de sélection'!$M$55*HLOOKUP(3,'Listes de sélection'!$C$53:$E$58,3,FALSE)),0)","v":0},{"$f":"IF(EF$56=2,IF(EF$34='Listes de sélection'!$A$17,EF$35*HLOOKUP(3,'Listes de sélection'!$C$53:$E$58,3,FALSE),'Listes de sélection'!$M$55*HLOOKUP(3,'Listes de sélection'!$C$53:$E$58,3,FALSE)),0)","v":0},{"$f":"IF(EG$56=2,IF(EG$34='Listes de sélection'!$A$17,EG$35*HLOOKUP(3,'Listes de sélection'!$C$53:$E$58,3,FALSE),'Listes de sélection'!$M$55*HLOOKUP(3,'Listes de sélection'!$C$53:$E$58,3,FALSE)),0)","v":0},{"$f":"IF(EH$56=2,IF(EH$34='Listes de sélection'!$A$17,EH$35*HLOOKUP(3,'Listes de sélection'!$C$53:$E$58,3,FALSE),'Listes de sélection'!$M$55*HLOOKUP(3,'Listes de sélection'!$C$53:$E$58,3,FALSE)),0)","v":0},{"$f":"IF(EI$56=2,IF(EI$34='Listes de sélection'!$A$17,EI$35*HLOOKUP(3,'Listes de sélection'!$C$53:$E$58,3,FALSE),'Listes de sélection'!$M$55*HLOOKUP(3,'Listes de sélection'!$C$53:$E$58,3,FALSE)),0)","v":0},{"$f":"IF(EJ$56=2,IF(EJ$34='Listes de sélection'!$A$17,EJ$35*HLOOKUP(3,'Listes de sélection'!$C$53:$E$58,3,FALSE),'Listes de sélection'!$M$55*HLOOKUP(3,'Listes de sélection'!$C$53:$E$58,3,FALSE)),0)","v":0},{"$f":"IF(EK$56=2,IF(EK$34='Listes de sélection'!$A$17,EK$35*HLOOKUP(3,'Listes de sélection'!$C$53:$E$58,3,FALSE),'Listes de sélection'!$M$55*HLOOKUP(3,'Listes de sélection'!$C$53:$E$58,3,FALSE)),0)","v":0},{"$f":"IF(EL$56=2,IF(EL$34='Listes de sélection'!$A$17,EL$35*HLOOKUP(3,'Listes de sélection'!$C$53:$E$58,3,FALSE),'Listes de sélection'!$M$55*HLOOKUP(3,'Listes de sélection'!$C$53:$E$58,3,FALSE)),0)","v":0},{"$f":"IF(EM$56=2,IF(EM$34='Listes de sélection'!$A$17,EM$35*HLOOKUP(3,'Listes de sélection'!$C$53:$E$58,3,FALSE),'Listes de sélection'!$M$55*HLOOKUP(3,'Listes de sélection'!$C$53:$E$58,3,FALSE)),0)","v":0},{"$f":"IF(EN$56=2,IF(EN$34='Listes de sélection'!$A$17,EN$35*HLOOKUP(3,'Listes de sélection'!$C$53:$E$58,3,FALSE),'Listes de sélection'!$M$55*HLOOKUP(3,'Listes de sélection'!$C$53:$E$58,3,FALSE)),0)","v":0},{"$f":"IF(EO$56=2,IF(EO$34='Listes de sélection'!$A$17,EO$35*HLOOKUP(3,'Listes de sélection'!$C$53:$E$58,3,FALSE),'Listes de sélection'!$M$55*HLOOKUP(3,'Listes de sélection'!$C$53:$E$58,3,FALSE)),0)","v":0},{"$f":"IF(EP$56=2,IF(EP$34='Listes de sélection'!$A$17,EP$35*HLOOKUP(3,'Listes de sélection'!$C$53:$E$58,3,FALSE),'Listes de sélection'!$M$55*HLOOKUP(3,'Listes de sélection'!$C$53:$E$58,3,FALSE)),0)","v":0},{"$f":"IF(EQ$56=2,IF(EQ$34='Listes de sélection'!$A$17,EQ$35*HLOOKUP(3,'Listes de sélection'!$C$53:$E$58,3,FALSE),'Listes de sélection'!$M$55*HLOOKUP(3,'Listes de sélection'!$C$53:$E$58,3,FALSE)),0)","v":0},{"$f":"IF(ER$56=2,IF(ER$34='Listes de sélection'!$A$17,ER$35*HLOOKUP(3,'Listes de sélection'!$C$53:$E$58,3,FALSE),'Listes de sélection'!$M$55*HLOOKUP(3,'Listes de sélection'!$C$53:$E$58,3,FALSE)),0)","v":0},{"$f":"IF(ES$56=2,IF(ES$34='Listes de sélection'!$A$17,ES$35*HLOOKUP(3,'Listes de sélection'!$C$53:$E$58,3,FALSE),'Listes de sélection'!$M$55*HLOOKUP(3,'Listes de sélection'!$C$53:$E$58,3,FALSE)),0)","v":0},{"$f":"IF(ET$56=2,IF(ET$34='Listes de sélection'!$A$17,ET$35*HLOOKUP(3,'Listes de sélection'!$C$53:$E$58,3,FALSE),'Listes de sélection'!$M$55*HLOOKUP(3,'Listes de sélection'!$C$53:$E$58,3,FALSE)),0)","v":0},{"$f":"IF(EU$56=2,IF(EU$34='Listes de sélection'!$A$17,EU$35*HLOOKUP(3,'Listes de sélection'!$C$53:$E$58,3,FALSE),'Listes de sélection'!$M$55*HLOOKUP(3,'Listes de sélection'!$C$53:$E$58,3,FALSE)),0)","v":0},{"$f":"IF(EV$56=2,IF(EV$34='Listes de sélection'!$A$17,EV$35*HLOOKUP(3,'Listes de sélection'!$C$53:$E$58,3,FALSE),'Listes de sélection'!$M$55*HLOOKUP(3,'Listes de sélection'!$C$53:$E$58,3,FALSE)),0)","v":0},{"$f":"IF(EW$56=2,IF(EW$34='Listes de sélection'!$A$17,EW$35*HLOOKUP(3,'Listes de sélection'!$C$53:$E$58,3,FALSE),'Listes de sélection'!$M$55*HLOOKUP(3,'Listes de sélection'!$C$53:$E$58,3,FALSE)),0)","v":0},{"$f":"IF(EX$56=2,IF(EX$34='Listes de sélection'!$A$17,EX$35*HLOOKUP(3,'Listes de sélection'!$C$53:$E$58,3,FALSE),'Listes de sélection'!$M$55*HLOOKUP(3,'Listes de sélection'!$C$53:$E$58,3,FALSE)),0)","v":0},{"$f":"IF(EY$56=2,IF(EY$34='Listes de sélection'!$A$17,EY$35*HLOOKUP(3,'Listes de sélection'!$C$53:$E$58,3,FALSE),'Listes de sélection'!$M$55*HLOOKUP(3,'Listes de sélection'!$C$53:$E$58,3,FALSE)),0)","v":0},{"$f":"IF(EZ$56=2,IF(EZ$34='Listes de sélection'!$A$17,EZ$35*HLOOKUP(3,'Listes de sélection'!$C$53:$E$58,3,FALSE),'Listes de sélection'!$M$55*HLOOKUP(3,'Listes de sélection'!$C$53:$E$58,3,FALSE)),0)","v":0},{"$f":"IF(FA$56=2,IF(FA$34='Listes de sélection'!$A$17,FA$35*HLOOKUP(3,'Listes de sélection'!$C$53:$E$58,3,FALSE),'Listes de sélection'!$M$55*HLOOKUP(3,'Listes de sélection'!$C$53:$E$58,3,FALSE)),0)","v":0},{"$f":"IF(FB$56=2,IF(FB$34='Listes de sélection'!$A$17,FB$35*HLOOKUP(3,'Listes de sélection'!$C$53:$E$58,3,FALSE),'Listes de sélection'!$M$55*HLOOKUP(3,'Listes de sélection'!$C$53:$E$58,3,FALSE)),0)","v":0},{"$f":"IF(FC$56=2,IF(FC$34='Listes de sélection'!$A$17,FC$35*HLOOKUP(3,'Listes de sélection'!$C$53:$E$58,3,FALSE),'Listes de sélection'!$M$55*HLOOKUP(3,'Listes de sélection'!$C$53:$E$58,3,FALSE)),0)","v":0},{"$f":"IF(FD$56=2,IF(FD$34='Listes de sélection'!$A$17,FD$35*HLOOKUP(3,'Listes de sélection'!$C$53:$E$58,3,FALSE),'Listes de sélection'!$M$55*HLOOKUP(3,'Listes de sélection'!$C$53:$E$58,3,FALSE)),0)","v":0},{"$f":"IF(FE$56=2,IF(FE$34='Listes de sélection'!$A$17,FE$35*HLOOKUP(3,'Listes de sélection'!$C$53:$E$58,3,FALSE),'Listes de sélection'!$M$55*HLOOKUP(3,'Listes de sélection'!$C$53:$E$58,3,FALSE)),0)","v":0},{"$f":"IF(FF$56=2,IF(FF$34='Listes de sélection'!$A$17,FF$35*HLOOKUP(3,'Listes de sélection'!$C$53:$E$58,3,FALSE),'Listes de sélection'!$M$55*HLOOKUP(3,'Listes de sélection'!$C$53:$E$58,3,FALSE)),0)","v":0},{"$f":"IF(FG$56=2,IF(FG$34='Listes de sélection'!$A$17,FG$35*HLOOKUP(3,'Listes de sélection'!$C$53:$E$58,3,FALSE),'Listes de sélection'!$M$55*HLOOKUP(3,'Listes de sélection'!$C$53:$E$58,3,FALSE)),0)","v":0},{"$f":"IF(FH$56=2,IF(FH$34='Listes de sélection'!$A$17,FH$35*HLOOKUP(3,'Listes de sélection'!$C$53:$E$58,3,FALSE),'Listes de sélection'!$M$55*HLOOKUP(3,'Listes de sélection'!$C$53:$E$58,3,FALSE)),0)","v":0},{"$f":"IF(FI$56=2,IF(FI$34='Listes de sélection'!$A$17,FI$35*HLOOKUP(3,'Listes de sélection'!$C$53:$E$58,3,FALSE),'Listes de sélection'!$M$55*HLOOKUP(3,'Listes de sélection'!$C$53:$E$58,3,FALSE)),0)","v":0},{"$f":"IF(FJ$56=2,IF(FJ$34='Listes de sélection'!$A$17,FJ$35*HLOOKUP(3,'Listes de sélection'!$C$53:$E$58,3,FALSE),'Listes de sélection'!$M$55*HLOOKUP(3,'Listes de sélection'!$C$53:$E$58,3,FALSE)),0)","v":0},{"$f":"IF(FK$56=2,IF(FK$34='Listes de sélection'!$A$17,FK$35*HLOOKUP(3,'Listes de sélection'!$C$53:$E$58,3,FALSE),'Listes de sélection'!$M$55*HLOOKUP(3,'Listes de sélection'!$C$53:$E$58,3,FALSE)),0)","v":0},{"$f":"IF(FL$56=2,IF(FL$34='Listes de sélection'!$A$17,FL$35*HLOOKUP(3,'Listes de sélection'!$C$53:$E$58,3,FALSE),'Listes de sélection'!$M$55*HLOOKUP(3,'Listes de sélection'!$C$53:$E$58,3,FALSE)),0)","v":0},{"$f":"IF(FM$56=2,IF(FM$34='Listes de sélection'!$A$17,FM$35*HLOOKUP(3,'Listes de sélection'!$C$53:$E$58,3,FALSE),'Listes de sélection'!$M$55*HLOOKUP(3,'Listes de sélection'!$C$53:$E$58,3,FALSE)),0)","v":0},{"$f":"IF(FN$56=2,IF(FN$34='Listes de sélection'!$A$17,FN$35*HLOOKUP(3,'Listes de sélection'!$C$53:$E$58,3,FALSE),'Listes de sélection'!$M$55*HLOOKUP(3,'Listes de sélection'!$C$53:$E$58,3,FALSE)),0)","v":0},{"$f":"IF(FO$56=2,IF(FO$34='Listes de sélection'!$A$17,FO$35*HLOOKUP(3,'Listes de sélection'!$C$53:$E$58,3,FALSE),'Listes de sélection'!$M$55*HLOOKUP(3,'Listes de sélection'!$C$53:$E$58,3,FALSE)),0)","v":0},{"$f":"IF(FP$56=2,IF(FP$34='Listes de sélection'!$A$17,FP$35*HLOOKUP(3,'Listes de sélection'!$C$53:$E$58,3,FALSE),'Listes de sélection'!$M$55*HLOOKUP(3,'Listes de sélection'!$C$53:$E$58,3,FALSE)),0)","v":0},{"$f":"IF(FQ$56=2,IF(FQ$34='Listes de sélection'!$A$17,FQ$35*HLOOKUP(3,'Listes de sélection'!$C$53:$E$58,3,FALSE),'Listes de sélection'!$M$55*HLOOKUP(3,'Listes de sélection'!$C$53:$E$58,3,FALSE)),0)","v":0},{"$f":"IF(FR$56=2,IF(FR$34='Listes de sélection'!$A$17,FR$35*HLOOKUP(3,'Listes de sélection'!$C$53:$E$58,3,FALSE),'Listes de sélection'!$M$55*HLOOKUP(3,'Listes de sélection'!$C$53:$E$58,3,FALSE)),0)","v":0},{"$f":"IF(FS$56=2,IF(FS$34='Listes de sélection'!$A$17,FS$35*HLOOKUP(3,'Listes de sélection'!$C$53:$E$58,3,FALSE),'Listes de sélection'!$M$55*HLOOKUP(3,'Listes de sélection'!$C$53:$E$58,3,FALSE)),0)","v":0},{"$f":"IF(FT$56=2,IF(FT$34='Listes de sélection'!$A$17,FT$35*HLOOKUP(3,'Listes de sélection'!$C$53:$E$58,3,FALSE),'Listes de sélection'!$M$55*HLOOKUP(3,'Listes de sélection'!$C$53:$E$58,3,FALSE)),0)","v":0},{"$f":"IF(FU$56=2,IF(FU$34='Listes de sélection'!$A$17,FU$35*HLOOKUP(3,'Listes de sélection'!$C$53:$E$58,3,FALSE),'Listes de sélection'!$M$55*HLOOKUP(3,'Listes de sélection'!$C$53:$E$58,3,FALSE)),0)","v":0},{"$f":"IF(FV$56=2,IF(FV$34='Listes de sélection'!$A$17,FV$35*HLOOKUP(3,'Listes de sélection'!$C$53:$E$58,3,FALSE),'Listes de sélection'!$M$55*HLOOKUP(3,'Listes de sélection'!$C$53:$E$58,3,FALSE)),0)","v":0},{"$f":"IF(FW$56=2,IF(FW$34='Listes de sélection'!$A$17,FW$35*HLOOKUP(3,'Listes de sélection'!$C$53:$E$58,3,FALSE),'Listes de sélection'!$M$55*HLOOKUP(3,'Listes de sélection'!$C$53:$E$58,3,FALSE)),0)","v":0},{"$f":"IF(FX$56=2,IF(FX$34='Listes de sélection'!$A$17,FX$35*HLOOKUP(3,'Listes de sélection'!$C$53:$E$58,3,FALSE),'Listes de sélection'!$M$55*HLOOKUP(3,'Listes de sélection'!$C$53:$E$58,3,FALSE)),0)","v":0},{"$f":"IF(FY$56=2,IF(FY$34='Listes de sélection'!$A$17,FY$35*HLOOKUP(3,'Listes de sélection'!$C$53:$E$58,3,FALSE),'Listes de sélection'!$M$55*HLOOKUP(3,'Listes de sélection'!$C$53:$E$58,3,FALSE)),0)","v":0},{"$f":"IF(FZ$56=2,IF(FZ$34='Listes de sélection'!$A$17,FZ$35*HLOOKUP(3,'Listes de sélection'!$C$53:$E$58,3,FALSE),'Listes de sélection'!$M$55*HLOOKUP(3,'Listes de sélection'!$C$53:$E$58,3,FALSE)),0)","v":0},{"$f":"IF(GA$56=2,IF(GA$34='Listes de sélection'!$A$17,GA$35*HLOOKUP(3,'Listes de sélection'!$C$53:$E$58,3,FALSE),'Listes de sélection'!$M$55*HLOOKUP(3,'Listes de sélection'!$C$53:$E$58,3,FALSE)),0)","v":0},{"$f":"IF(GB$56=2,IF(GB$34='Listes de sélection'!$A$17,GB$35*HLOOKUP(3,'Listes de sélection'!$C$53:$E$58,3,FALSE),'Listes de sélection'!$M$55*HLOOKUP(3,'Listes de sélection'!$C$53:$E$58,3,FALSE)),0)","v":0},{"$f":"IF(GC$56=2,IF(GC$34='Listes de sélection'!$A$17,GC$35*HLOOKUP(3,'Listes de sélection'!$C$53:$E$58,3,FALSE),'Listes de sélection'!$M$55*HLOOKUP(3,'Listes de sélection'!$C$53:$E$58,3,FALSE)),0)","v":0},{"$f":"IF(GD$56=2,IF(GD$34='Listes de sélection'!$A$17,GD$35*HLOOKUP(3,'Listes de sélection'!$C$53:$E$58,3,FALSE),'Listes de sélection'!$M$55*HLOOKUP(3,'Listes de sélection'!$C$53:$E$58,3,FALSE)),0)","v":0},{"$f":"IF(GE$56=2,IF(GE$34='Listes de sélection'!$A$17,GE$35*HLOOKUP(3,'Listes de sélection'!$C$53:$E$58,3,FALSE),'Listes de sélection'!$M$55*HLOOKUP(3,'Listes de sélection'!$C$53:$E$58,3,FALSE)),0)","v":0},{"$f":"IF(GF$56=2,IF(GF$34='Listes de sélection'!$A$17,GF$35*HLOOKUP(3,'Listes de sélection'!$C$53:$E$58,3,FALSE),'Listes de sélection'!$M$55*HLOOKUP(3,'Listes de sélection'!$C$53:$E$58,3,FALSE)),0)","v":0},{"$f":"IF(GG$56=2,IF(GG$34='Listes de sélection'!$A$17,GG$35*HLOOKUP(3,'Listes de sélection'!$C$53:$E$58,3,FALSE),'Listes de sélection'!$M$55*HLOOKUP(3,'Listes de sélection'!$C$53:$E$58,3,FALSE)),0)","v":0},{"$f":"IF(GH$56=2,IF(GH$34='Listes de sélection'!$A$17,GH$35*HLOOKUP(3,'Listes de sélection'!$C$53:$E$58,3,FALSE),'Listes de sélection'!$M$55*HLOOKUP(3,'Listes de sélection'!$C$53:$E$58,3,FALSE)),0)","v":0},{"$f":"IF(GI$56=2,IF(GI$34='Listes de sélection'!$A$17,GI$35*HLOOKUP(3,'Listes de sélection'!$C$53:$E$58,3,FALSE),'Listes de sélection'!$M$55*HLOOKUP(3,'Listes de sélection'!$C$53:$E$58,3,FALSE)),0)","v":0},{"$f":"IF(GJ$56=2,IF(GJ$34='Listes de sélection'!$A$17,GJ$35*HLOOKUP(3,'Listes de sélection'!$C$53:$E$58,3,FALSE),'Listes de sélection'!$M$55*HLOOKUP(3,'Listes de sélection'!$C$53:$E$58,3,FALSE)),0)","v":0},{"$f":"IF(GK$56=2,IF(GK$34='Listes de sélection'!$A$17,GK$35*HLOOKUP(3,'Listes de sélection'!$C$53:$E$58,3,FALSE),'Listes de sélection'!$M$55*HLOOKUP(3,'Listes de sélection'!$C$53:$E$58,3,FALSE)),0)","v":0},{"$f":"IF(GL$56=2,IF(GL$34='Listes de sélection'!$A$17,GL$35*HLOOKUP(3,'Listes de sélection'!$C$53:$E$58,3,FALSE),'Listes de sélection'!$M$55*HLOOKUP(3,'Listes de sélection'!$C$53:$E$58,3,FALSE)),0)","v":0},{"$f":"IF(GM$56=2,IF(GM$34='Listes de sélection'!$A$17,GM$35*HLOOKUP(3,'Listes de sélection'!$C$53:$E$58,3,FALSE),'Listes de sélection'!$M$55*HLOOKUP(3,'Listes de sélection'!$C$53:$E$58,3,FALSE)),0)","v":0},{"$f":"IF(GN$56=2,IF(GN$34='Listes de sélection'!$A$17,GN$35*HLOOKUP(3,'Listes de sélection'!$C$53:$E$58,3,FALSE),'Listes de sélection'!$M$55*HLOOKUP(3,'Listes de sélection'!$C$53:$E$58,3,FALSE)),0)","v":0},{"$f":"IF(GO$56=2,IF(GO$34='Listes de sélection'!$A$17,GO$35*HLOOKUP(3,'Listes de sélection'!$C$53:$E$58,3,FALSE),'Listes de sélection'!$M$55*HLOOKUP(3,'Listes de sélection'!$C$53:$E$58,3,FALSE)),0)","v":0},{"$f":"IF(GP$56=2,IF(GP$34='Listes de sélection'!$A$17,GP$35*HLOOKUP(3,'Listes de sélection'!$C$53:$E$58,3,FALSE),'Listes de sélection'!$M$55*HLOOKUP(3,'Listes de sélection'!$C$53:$E$58,3,FALSE)),0)","v":0},{"$f":"IF(GQ$56=2,IF(GQ$34='Listes de sélection'!$A$17,GQ$35*HLOOKUP(3,'Listes de sélection'!$C$53:$E$58,3,FALSE),'Listes de sélection'!$M$55*HLOOKUP(3,'Listes de sélection'!$C$53:$E$58,3,FALSE)),0)","v":0},{"$f":"IF(GR$56=2,IF(GR$34='Listes de sélection'!$A$17,GR$35*HLOOKUP(3,'Listes de sélection'!$C$53:$E$58,3,FALSE),'Listes de sélection'!$M$55*HLOOKUP(3,'Listes de sélection'!$C$53:$E$58,3,FALSE)),0)","v":0},{"$f":"IF(GS$56=2,IF(GS$34='Listes de sélection'!$A$17,GS$35*HLOOKUP(3,'Listes de sélection'!$C$53:$E$58,3,FALSE),'Listes de sélection'!$M$55*HLOOKUP(3,'Listes de sélection'!$C$53:$E$58,3,FALSE)),0)","v":0},{"$f":"IF(GT$56=2,IF(GT$34='Listes de sélection'!$A$17,GT$35*HLOOKUP(3,'Listes de sélection'!$C$53:$E$58,3,FALSE),'Listes de sélection'!$M$55*HLOOKUP(3,'Listes de sélection'!$C$53:$E$58,3,FALSE)),0)","v":0}]
["Demandeur de chaleur = Habitation semi-mitoyenne","MJ",{"$f":"IF(C$56=3,IF(C$34='Listes de sélection'!$A$17,C$35*HLOOKUP(3,'Listes de sélection'!$C$53:$E$58,4,FALSE),'Listes de sélection'!$M$56*HLOOKUP(3,'Listes de sélection'!$C$53:$E$58,4,FALSE)),0)","v":0},{"$f":"IF(D$56=3,IF(D$34='Listes de sélection'!$A$17,D$35*HLOOKUP(3,'Listes de sélection'!$C$53:$E$58,4,FALSE),'Listes de sélection'!$M$56*HLOOKUP(3,'Listes de sélection'!$C$53:$E$58,4,FALSE)),0)","v":0},{"$f":"IF(E$56=3,IF(E$34='Listes de sélection'!$A$17,E$35*HLOOKUP(3,'Listes de sélection'!$C$53:$E$58,4,FALSE),'Listes de sélection'!$M$56*HLOOKUP(3,'Listes de sélection'!$C$53:$E$58,4,FALSE)),0)","v":0},{"$f":"IF(F$56=3,IF(F$34='Listes de sélection'!$A$17,F$35*HLOOKUP(3,'Listes de sélection'!$C$53:$E$58,4,FALSE),'Listes de sélection'!$M$56*HLOOKUP(3,'Listes de sélection'!$C$53:$E$58,4,FALSE)),0)","v":0},{"$f":"IF(G$56=3,IF(G$34='Listes de sélection'!$A$17,G$35*HLOOKUP(3,'Listes de sélection'!$C$53:$E$58,4,FALSE),'Listes de sélection'!$M$56*HLOOKUP(3,'Listes de sélection'!$C$53:$E$58,4,FALSE)),0)","v":0},{"$f":"IF(H$56=3,IF(H$34='Listes de sélection'!$A$17,H$35*HLOOKUP(3,'Listes de sélection'!$C$53:$E$58,4,FALSE),'Listes de sélection'!$M$56*HLOOKUP(3,'Listes de sélection'!$C$53:$E$58,4,FALSE)),0)","v":0},{"$f":"IF(I$56=3,IF(I$34='Listes de sélection'!$A$17,I$35*HLOOKUP(3,'Listes de sélection'!$C$53:$E$58,4,FALSE),'Listes de sélection'!$M$56*HLOOKUP(3,'Listes de sélection'!$C$53:$E$58,4,FALSE)),0)","v":0},{"$f":"IF(J$56=3,IF(J$34='Listes de sélection'!$A$17,J$35*HLOOKUP(3,'Listes de sélection'!$C$53:$E$58,4,FALSE),'Listes de sélection'!$M$56*HLOOKUP(3,'Listes de sélection'!$C$53:$E$58,4,FALSE)),0)","v":0},{"$f":"IF(K$56=3,IF(K$34='Listes de sélection'!$A$17,K$35*HLOOKUP(3,'Listes de sélection'!$C$53:$E$58,4,FALSE),'Listes de sélection'!$M$56*HLOOKUP(3,'Listes de sélection'!$C$53:$E$58,4,FALSE)),0)","v":0},{"$f":"IF(L$56=3,IF(L$34='Listes de sélection'!$A$17,L$35*HLOOKUP(3,'Listes de sélection'!$C$53:$E$58,4,FALSE),'Listes de sélection'!$M$56*HLOOKUP(3,'Listes de sélection'!$C$53:$E$58,4,FALSE)),0)","v":0},{"$f":"IF(M$56=3,IF(M$34='Listes de sélection'!$A$17,M$35*HLOOKUP(3,'Listes de sélection'!$C$53:$E$58,4,FALSE),'Listes de sélection'!$M$56*HLOOKUP(3,'Listes de sélection'!$C$53:$E$58,4,FALSE)),0)","v":0},{"$f":"IF(N$56=3,IF(N$34='Listes de sélection'!$A$17,N$35*HLOOKUP(3,'Listes de sélection'!$C$53:$E$58,4,FALSE),'Listes de sélection'!$M$56*HLOOKUP(3,'Listes de sélection'!$C$53:$E$58,4,FALSE)),0)","v":0},{"$f":"IF(O$56=3,IF(O$34='Listes de sélection'!$A$17,O$35*HLOOKUP(3,'Listes de sélection'!$C$53:$E$58,4,FALSE),'Listes de sélection'!$M$56*HLOOKUP(3,'Listes de sélection'!$C$53:$E$58,4,FALSE)),0)","v":0},{"$f":"IF(P$56=3,IF(P$34='Listes de sélection'!$A$17,P$35*HLOOKUP(3,'Listes de sélection'!$C$53:$E$58,4,FALSE),'Listes de sélection'!$M$56*HLOOKUP(3,'Listes de sélection'!$C$53:$E$58,4,FALSE)),0)","v":0},{"$f":"IF(Q$56=3,IF(Q$34='Listes de sélection'!$A$17,Q$35*HLOOKUP(3,'Listes de sélection'!$C$53:$E$58,4,FALSE),'Listes de sélection'!$M$56*HLOOKUP(3,'Listes de sélection'!$C$53:$E$58,4,FALSE)),0)","v":0},{"$f":"IF(R$56=3,IF(R$34='Listes de sélection'!$A$17,R$35*HLOOKUP(3,'Listes de sélection'!$C$53:$E$58,4,FALSE),'Listes de sélection'!$M$56*HLOOKUP(3,'Listes de sélection'!$C$53:$E$58,4,FALSE)),0)","v":0},{"$f":"IF(S$56=3,IF(S$34='Listes de sélection'!$A$17,S$35*HLOOKUP(3,'Listes de sélection'!$C$53:$E$58,4,FALSE),'Listes de sélection'!$M$56*HLOOKUP(3,'Listes de sélection'!$C$53:$E$58,4,FALSE)),0)","v":0},{"$f":"IF(T$56=3,IF(T$34='Listes de sélection'!$A$17,T$35*HLOOKUP(3,'Listes de sélection'!$C$53:$E$58,4,FALSE),'Listes de sélection'!$M$56*HLOOKUP(3,'Listes de sélection'!$C$53:$E$58,4,FALSE)),0)","v":0},{"$f":"IF(U$56=3,IF(U$34='Listes de sélection'!$A$17,U$35*HLOOKUP(3,'Listes de sélection'!$C$53:$E$58,4,FALSE),'Listes de sélection'!$M$56*HLOOKUP(3,'Listes de sélection'!$C$53:$E$58,4,FALSE)),0)","v":0},{"$f":"IF(V$56=3,IF(V$34='Listes de sélection'!$A$17,V$35*HLOOKUP(3,'Listes de sélection'!$C$53:$E$58,4,FALSE),'Listes de sélection'!$M$56*HLOOKUP(3,'Listes de sélection'!$C$53:$E$58,4,FALSE)),0)","v":0},{"$f":"IF(W$56=3,IF(W$34='Listes de sélection'!$A$17,W$35*HLOOKUP(3,'Listes de sélection'!$C$53:$E$58,4,FALSE),'Listes de sélection'!$M$56*HLOOKUP(3,'Listes de sélection'!$C$53:$E$58,4,FALSE)),0)","v":0},{"$f":"IF(X$56=3,IF(X$34='Listes de sélection'!$A$17,X$35*HLOOKUP(3,'Listes de sélection'!$C$53:$E$58,4,FALSE),'Listes de sélection'!$M$56*HLOOKUP(3,'Listes de sélection'!$C$53:$E$58,4,FALSE)),0)","v":0},{"$f":"IF(Y$56=3,IF(Y$34='Listes de sélection'!$A$17,Y$35*HLOOKUP(3,'Listes de sélection'!$C$53:$E$58,4,FALSE),'Listes de sélection'!$M$56*HLOOKUP(3,'Listes de sélection'!$C$53:$E$58,4,FALSE)),0)","v":0},{"$f":"IF(Z$56=3,IF(Z$34='Listes de sélection'!$A$17,Z$35*HLOOKUP(3,'Listes de sélection'!$C$53:$E$58,4,FALSE),'Listes de sélection'!$M$56*HLOOKUP(3,'Listes de sélection'!$C$53:$E$58,4,FALSE)),0)","v":0},{"$f":"IF(AA$56=3,IF(AA$34='Listes de sélection'!$A$17,AA$35*HLOOKUP(3,'Listes de sélection'!$C$53:$E$58,4,FALSE),'Listes de sélection'!$M$56*HLOOKUP(3,'Listes de sélection'!$C$53:$E$58,4,FALSE)),0)","v":0},{"$f":"IF(AB$56=3,IF(AB$34='Listes de sélection'!$A$17,AB$35*HLOOKUP(3,'Listes de sélection'!$C$53:$E$58,4,FALSE),'Listes de sélection'!$M$56*HLOOKUP(3,'Listes de sélection'!$C$53:$E$58,4,FALSE)),0)","v":0},{"$f":"IF(AC$56=3,IF(AC$34='Listes de sélection'!$A$17,AC$35*HLOOKUP(3,'Listes de sélection'!$C$53:$E$58,4,FALSE),'Listes de sélection'!$M$56*HLOOKUP(3,'Listes de sélection'!$C$53:$E$58,4,FALSE)),0)","v":0},{"$f":"IF(AD$56=3,IF(AD$34='Listes de sélection'!$A$17,AD$35*HLOOKUP(3,'Listes de sélection'!$C$53:$E$58,4,FALSE),'Listes de sélection'!$M$56*HLOOKUP(3,'Listes de sélection'!$C$53:$E$58,4,FALSE)),0)","v":0},{"$f":"IF(AE$56=3,IF(AE$34='Listes de sélection'!$A$17,AE$35*HLOOKUP(3,'Listes de sélection'!$C$53:$E$58,4,FALSE),'Listes de sélection'!$M$56*HLOOKUP(3,'Listes de sélection'!$C$53:$E$58,4,FALSE)),0)","v":0},{"$f":"IF(AF$56=3,IF(AF$34='Listes de sélection'!$A$17,AF$35*HLOOKUP(3,'Listes de sélection'!$C$53:$E$58,4,FALSE),'Listes de sélection'!$M$56*HLOOKUP(3,'Listes de sélection'!$C$53:$E$58,4,FALSE)),0)","v":0},{"$f":"IF(AG$56=3,IF(AG$34='Listes de sélection'!$A$17,AG$35*HLOOKUP(3,'Listes de sélection'!$C$53:$E$58,4,FALSE),'Listes de sélection'!$M$56*HLOOKUP(3,'Listes de sélection'!$C$53:$E$58,4,FALSE)),0)","v":0},{"$f":"IF(AH$56=3,IF(AH$34='Listes de sélection'!$A$17,AH$35*HLOOKUP(3,'Listes de sélection'!$C$53:$E$58,4,FALSE),'Listes de sélection'!$M$56*HLOOKUP(3,'Listes de sélection'!$C$53:$E$58,4,FALSE)),0)","v":0},{"$f":"IF(AI$56=3,IF(AI$34='Listes de sélection'!$A$17,AI$35*HLOOKUP(3,'Listes de sélection'!$C$53:$E$58,4,FALSE),'Listes de sélection'!$M$56*HLOOKUP(3,'Listes de sélection'!$C$53:$E$58,4,FALSE)),0)","v":0},{"$f":"IF(AJ$56=3,IF(AJ$34='Listes de sélection'!$A$17,AJ$35*HLOOKUP(3,'Listes de sélection'!$C$53:$E$58,4,FALSE),'Listes de sélection'!$M$56*HLOOKUP(3,'Listes de sélection'!$C$53:$E$58,4,FALSE)),0)","v":0},{"$f":"IF(AK$56=3,IF(AK$34='Listes de sélection'!$A$17,AK$35*HLOOKUP(3,'Listes de sélection'!$C$53:$E$58,4,FALSE),'Listes de sélection'!$M$56*HLOOKUP(3,'Listes de sélection'!$C$53:$E$58,4,FALSE)),0)","v":0},{"$f":"IF(AL$56=3,IF(AL$34='Listes de sélection'!$A$17,AL$35*HLOOKUP(3,'Listes de sélection'!$C$53:$E$58,4,FALSE),'Listes de sélection'!$M$56*HLOOKUP(3,'Listes de sélection'!$C$53:$E$58,4,FALSE)),0)","v":0},{"$f":"IF(AM$56=3,IF(AM$34='Listes de sélection'!$A$17,AM$35*HLOOKUP(3,'Listes de sélection'!$C$53:$E$58,4,FALSE),'Listes de sélection'!$M$56*HLOOKUP(3,'Listes de sélection'!$C$53:$E$58,4,FALSE)),0)","v":0},{"$f":"IF(AN$56=3,IF(AN$34='Listes de sélection'!$A$17,AN$35*HLOOKUP(3,'Listes de sélection'!$C$53:$E$58,4,FALSE),'Listes de sélection'!$M$56*HLOOKUP(3,'Listes de sélection'!$C$53:$E$58,4,FALSE)),0)","v":0},{"$f":"IF(AO$56=3,IF(AO$34='Listes de sélection'!$A$17,AO$35*HLOOKUP(3,'Listes de sélection'!$C$53:$E$58,4,FALSE),'Listes de sélection'!$M$56*HLOOKUP(3,'Listes de sélection'!$C$53:$E$58,4,FALSE)),0)","v":0},{"$f":"IF(AP$56=3,IF(AP$34='Listes de sélection'!$A$17,AP$35*HLOOKUP(3,'Listes de sélection'!$C$53:$E$58,4,FALSE),'Listes de sélection'!$M$56*HLOOKUP(3,'Listes de sélection'!$C$53:$E$58,4,FALSE)),0)","v":0},{"$f":"IF(AQ$56=3,IF(AQ$34='Listes de sélection'!$A$17,AQ$35*HLOOKUP(3,'Listes de sélection'!$C$53:$E$58,4,FALSE),'Listes de sélection'!$M$56*HLOOKUP(3,'Listes de sélection'!$C$53:$E$58,4,FALSE)),0)","v":0},{"$f":"IF(AR$56=3,IF(AR$34='Listes de sélection'!$A$17,AR$35*HLOOKUP(3,'Listes de sélection'!$C$53:$E$58,4,FALSE),'Listes de sélection'!$M$56*HLOOKUP(3,'Listes de sélection'!$C$53:$E$58,4,FALSE)),0)","v":0},{"$f":"IF(AS$56=3,IF(AS$34='Listes de sélection'!$A$17,AS$35*HLOOKUP(3,'Listes de sélection'!$C$53:$E$58,4,FALSE),'Listes de sélection'!$M$56*HLOOKUP(3,'Listes de sélection'!$C$53:$E$58,4,FALSE)),0)","v":0},{"$f":"IF(AT$56=3,IF(AT$34='Listes de sélection'!$A$17,AT$35*HLOOKUP(3,'Listes de sélection'!$C$53:$E$58,4,FALSE),'Listes de sélection'!$M$56*HLOOKUP(3,'Listes de sélection'!$C$53:$E$58,4,FALSE)),0)","v":0},{"$f":"IF(AU$56=3,IF(AU$34='Listes de sélection'!$A$17,AU$35*HLOOKUP(3,'Listes de sélection'!$C$53:$E$58,4,FALSE),'Listes de sélection'!$M$56*HLOOKUP(3,'Listes de sélection'!$C$53:$E$58,4,FALSE)),0)","v":0},{"$f":"IF(AV$56=3,IF(AV$34='Listes de sélection'!$A$17,AV$35*HLOOKUP(3,'Listes de sélection'!$C$53:$E$58,4,FALSE),'Listes de sélection'!$M$56*HLOOKUP(3,'Listes de sélection'!$C$53:$E$58,4,FALSE)),0)","v":0},{"$f":"IF(AW$56=3,IF(AW$34='Listes de sélection'!$A$17,AW$35*HLOOKUP(3,'Listes de sélection'!$C$53:$E$58,4,FALSE),'Listes de sélection'!$M$56*HLOOKUP(3,'Listes de sélection'!$C$53:$E$58,4,FALSE)),0)","v":0},{"$f":"IF(AX$56=3,IF(AX$34='Listes de sélection'!$A$17,AX$35*HLOOKUP(3,'Listes de sélection'!$C$53:$E$58,4,FALSE),'Listes de sélection'!$M$56*HLOOKUP(3,'Listes de sélection'!$C$53:$E$58,4,FALSE)),0)","v":0},{"$f":"IF(AY$56=3,IF(AY$34='Listes de sélection'!$A$17,AY$35*HLOOKUP(3,'Listes de sélection'!$C$53:$E$58,4,FALSE),'Listes de sélection'!$M$56*HLOOKUP(3,'Listes de sélection'!$C$53:$E$58,4,FALSE)),0)","v":0},{"$f":"IF(AZ$56=3,IF(AZ$34='Listes de sélection'!$A$17,AZ$35*HLOOKUP(3,'Listes de sélection'!$C$53:$E$58,4,FALSE),'Listes de sélection'!$M$56*HLOOKUP(3,'Listes de sélection'!$C$53:$E$58,4,FALSE)),0)","v":0},{"$f":"IF(BA$56=3,IF(BA$34='Listes de sélection'!$A$17,BA$35*HLOOKUP(3,'Listes de sélection'!$C$53:$E$58,4,FALSE),'Listes de sélection'!$M$56*HLOOKUP(3,'Listes de sélection'!$C$53:$E$58,4,FALSE)),0)","v":0},{"$f":"IF(BB$56=3,IF(BB$34='Listes de sélection'!$A$17,BB$35*HLOOKUP(3,'Listes de sélection'!$C$53:$E$58,4,FALSE),'Listes de sélection'!$M$56*HLOOKUP(3,'Listes de sélection'!$C$53:$E$58,4,FALSE)),0)","v":0},{"$f":"IF(BC$56=3,IF(BC$34='Listes de sélection'!$A$17,BC$35*HLOOKUP(3,'Listes de sélection'!$C$53:$E$58,4,FALSE),'Listes de sélection'!$M$56*HLOOKUP(3,'Listes de sélection'!$C$53:$E$58,4,FALSE)),0)","v":0},{"$f":"IF(BD$56=3,IF(BD$34='Listes de sélection'!$A$17,BD$35*HLOOKUP(3,'Listes de sélection'!$C$53:$E$58,4,FALSE),'Listes de sélection'!$M$56*HLOOKUP(3,'Listes de sélection'!$C$53:$E$58,4,FALSE)),0)","v":0},{"$f":"IF(BE$56=3,IF(BE$34='Listes de sélection'!$A$17,BE$35*HLOOKUP(3,'Listes de sélection'!$C$53:$E$58,4,FALSE),'Listes de sélection'!$M$56*HLOOKUP(3,'Listes de sélection'!$C$53:$E$58,4,FALSE)),0)","v":0},{"$f":"IF(BF$56=3,IF(BF$34='Listes de sélection'!$A$17,BF$35*HLOOKUP(3,'Listes de sélection'!$C$53:$E$58,4,FALSE),'Listes de sélection'!$M$56*HLOOKUP(3,'Listes de sélection'!$C$53:$E$58,4,FALSE)),0)","v":0},{"$f":"IF(BG$56=3,IF(BG$34='Listes de sélection'!$A$17,BG$35*HLOOKUP(3,'Listes de sélection'!$C$53:$E$58,4,FALSE),'Listes de sélection'!$M$56*HLOOKUP(3,'Listes de sélection'!$C$53:$E$58,4,FALSE)),0)","v":0},{"$f":"IF(BH$56=3,IF(BH$34='Listes de sélection'!$A$17,BH$35*HLOOKUP(3,'Listes de sélection'!$C$53:$E$58,4,FALSE),'Listes de sélection'!$M$56*HLOOKUP(3,'Listes de sélection'!$C$53:$E$58,4,FALSE)),0)","v":0},{"$f":"IF(BI$56=3,IF(BI$34='Listes de sélection'!$A$17,BI$35*HLOOKUP(3,'Listes de sélection'!$C$53:$E$58,4,FALSE),'Listes de sélection'!$M$56*HLOOKUP(3,'Listes de sélection'!$C$53:$E$58,4,FALSE)),0)","v":0},{"$f":"IF(BJ$56=3,IF(BJ$34='Listes de sélection'!$A$17,BJ$35*HLOOKUP(3,'Listes de sélection'!$C$53:$E$58,4,FALSE),'Listes de sélection'!$M$56*HLOOKUP(3,'Listes de sélection'!$C$53:$E$58,4,FALSE)),0)","v":0},{"$f":"IF(BK$56=3,IF(BK$34='Listes de sélection'!$A$17,BK$35*HLOOKUP(3,'Listes de sélection'!$C$53:$E$58,4,FALSE),'Listes de sélection'!$M$56*HLOOKUP(3,'Listes de sélection'!$C$53:$E$58,4,FALSE)),0)","v":0},{"$f":"IF(BL$56=3,IF(BL$34='Listes de sélection'!$A$17,BL$35*HLOOKUP(3,'Listes de sélection'!$C$53:$E$58,4,FALSE),'Listes de sélection'!$M$56*HLOOKUP(3,'Listes de sélection'!$C$53:$E$58,4,FALSE)),0)","v":0},{"$f":"IF(BM$56=3,IF(BM$34='Listes de sélection'!$A$17,BM$35*HLOOKUP(3,'Listes de sélection'!$C$53:$E$58,4,FALSE),'Listes de sélection'!$M$56*HLOOKUP(3,'Listes de sélection'!$C$53:$E$58,4,FALSE)),0)","v":0},{"$f":"IF(BN$56=3,IF(BN$34='Listes de sélection'!$A$17,BN$35*HLOOKUP(3,'Listes de sélection'!$C$53:$E$58,4,FALSE),'Listes de sélection'!$M$56*HLOOKUP(3,'Listes de sélection'!$C$53:$E$58,4,FALSE)),0)","v":0},{"$f":"IF(BO$56=3,IF(BO$34='Listes de sélection'!$A$17,BO$35*HLOOKUP(3,'Listes de sélection'!$C$53:$E$58,4,FALSE),'Listes de sélection'!$M$56*HLOOKUP(3,'Listes de sélection'!$C$53:$E$58,4,FALSE)),0)","v":0},{"$f":"IF(BP$56=3,IF(BP$34='Listes de sélection'!$A$17,BP$35*HLOOKUP(3,'Listes de sélection'!$C$53:$E$58,4,FALSE),'Listes de sélection'!$M$56*HLOOKUP(3,'Listes de sélection'!$C$53:$E$58,4,FALSE)),0)","v":0},{"$f":"IF(BQ$56=3,IF(BQ$34='Listes de sélection'!$A$17,BQ$35*HLOOKUP(3,'Listes de sélection'!$C$53:$E$58,4,FALSE),'Listes de sélection'!$M$56*HLOOKUP(3,'Listes de sélection'!$C$53:$E$58,4,FALSE)),0)","v":0},{"$f":"IF(BR$56=3,IF(BR$34='Listes de sélection'!$A$17,BR$35*HLOOKUP(3,'Listes de sélection'!$C$53:$E$58,4,FALSE),'Listes de sélection'!$M$56*HLOOKUP(3,'Listes de sélection'!$C$53:$E$58,4,FALSE)),0)","v":0},{"$f":"IF(BS$56=3,IF(BS$34='Listes de sélection'!$A$17,BS$35*HLOOKUP(3,'Listes de sélection'!$C$53:$E$58,4,FALSE),'Listes de sélection'!$M$56*HLOOKUP(3,'Listes de sélection'!$C$53:$E$58,4,FALSE)),0)","v":0},{"$f":"IF(BT$56=3,IF(BT$34='Listes de sélection'!$A$17,BT$35*HLOOKUP(3,'Listes de sélection'!$C$53:$E$58,4,FALSE),'Listes de sélection'!$M$56*HLOOKUP(3,'Listes de sélection'!$C$53:$E$58,4,FALSE)),0)","v":0},{"$f":"IF(BU$56=3,IF(BU$34='Listes de sélection'!$A$17,BU$35*HLOOKUP(3,'Listes de sélection'!$C$53:$E$58,4,FALSE),'Listes de sélection'!$M$56*HLOOKUP(3,'Listes de sélection'!$C$53:$E$58,4,FALSE)),0)","v":0},{"$f":"IF(BV$56=3,IF(BV$34='Listes de sélection'!$A$17,BV$35*HLOOKUP(3,'Listes de sélection'!$C$53:$E$58,4,FALSE),'Listes de sélection'!$M$56*HLOOKUP(3,'Listes de sélection'!$C$53:$E$58,4,FALSE)),0)","v":0},{"$f":"IF(BW$56=3,IF(BW$34='Listes de sélection'!$A$17,BW$35*HLOOKUP(3,'Listes de sélection'!$C$53:$E$58,4,FALSE),'Listes de sélection'!$M$56*HLOOKUP(3,'Listes de sélection'!$C$53:$E$58,4,FALSE)),0)","v":0},{"$f":"IF(BX$56=3,IF(BX$34='Listes de sélection'!$A$17,BX$35*HLOOKUP(3,'Listes de sélection'!$C$53:$E$58,4,FALSE),'Listes de sélection'!$M$56*HLOOKUP(3,'Listes de sélection'!$C$53:$E$58,4,FALSE)),0)","v":0},{"$f":"IF(BY$56=3,IF(BY$34='Listes de sélection'!$A$17,BY$35*HLOOKUP(3,'Listes de sélection'!$C$53:$E$58,4,FALSE),'Listes de sélection'!$M$56*HLOOKUP(3,'Listes de sélection'!$C$53:$E$58,4,FALSE)),0)","v":0},{"$f":"IF(BZ$56=3,IF(BZ$34='Listes de sélection'!$A$17,BZ$35*HLOOKUP(3,'Listes de sélection'!$C$53:$E$58,4,FALSE),'Listes de sélection'!$M$56*HLOOKUP(3,'Listes de sélection'!$C$53:$E$58,4,FALSE)),0)","v":0},{"$f":"IF(CA$56=3,IF(CA$34='Listes de sélection'!$A$17,CA$35*HLOOKUP(3,'Listes de sélection'!$C$53:$E$58,4,FALSE),'Listes de sélection'!$M$56*HLOOKUP(3,'Listes de sélection'!$C$53:$E$58,4,FALSE)),0)","v":0},{"$f":"IF(CB$56=3,IF(CB$34='Listes de sélection'!$A$17,CB$35*HLOOKUP(3,'Listes de sélection'!$C$53:$E$58,4,FALSE),'Listes de sélection'!$M$56*HLOOKUP(3,'Listes de sélection'!$C$53:$E$58,4,FALSE)),0)","v":0},{"$f":"IF(CC$56=3,IF(CC$34='Listes de sélection'!$A$17,CC$35*HLOOKUP(3,'Listes de sélection'!$C$53:$E$58,4,FALSE),'Listes de sélection'!$M$56*HLOOKUP(3,'Listes de sélection'!$C$53:$E$58,4,FALSE)),0)","v":0},{"$f":"IF(CD$56=3,IF(CD$34='Listes de sélection'!$A$17,CD$35*HLOOKUP(3,'Listes de sélection'!$C$53:$E$58,4,FALSE),'Listes de sélection'!$M$56*HLOOKUP(3,'Listes de sélection'!$C$53:$E$58,4,FALSE)),0)","v":0},{"$f":"IF(CE$56=3,IF(CE$34='Listes de sélection'!$A$17,CE$35*HLOOKUP(3,'Listes de sélection'!$C$53:$E$58,4,FALSE),'Listes de sélection'!$M$56*HLOOKUP(3,'Listes de sélection'!$C$53:$E$58,4,FALSE)),0)","v":0},{"$f":"IF(CF$56=3,IF(CF$34='Listes de sélection'!$A$17,CF$35*HLOOKUP(3,'Listes de sélection'!$C$53:$E$58,4,FALSE),'Listes de sélection'!$M$56*HLOOKUP(3,'Listes de sélection'!$C$53:$E$58,4,FALSE)),0)","v":0},{"$f":"IF(CG$56=3,IF(CG$34='Listes de sélection'!$A$17,CG$35*HLOOKUP(3,'Listes de sélection'!$C$53:$E$58,4,FALSE),'Listes de sélection'!$M$56*HLOOKUP(3,'Listes de sélection'!$C$53:$E$58,4,FALSE)),0)","v":0},{"$f":"IF(CH$56=3,IF(CH$34='Listes de sélection'!$A$17,CH$35*HLOOKUP(3,'Listes de sélection'!$C$53:$E$58,4,FALSE),'Listes de sélection'!$M$56*HLOOKUP(3,'Listes de sélection'!$C$53:$E$58,4,FALSE)),0)","v":0},{"$f":"IF(CI$56=3,IF(CI$34='Listes de sélection'!$A$17,CI$35*HLOOKUP(3,'Listes de sélection'!$C$53:$E$58,4,FALSE),'Listes de sélection'!$M$56*HLOOKUP(3,'Listes de sélection'!$C$53:$E$58,4,FALSE)),0)","v":0},{"$f":"IF(CJ$56=3,IF(CJ$34='Listes de sélection'!$A$17,CJ$35*HLOOKUP(3,'Listes de sélection'!$C$53:$E$58,4,FALSE),'Listes de sélection'!$M$56*HLOOKUP(3,'Listes de sélection'!$C$53:$E$58,4,FALSE)),0)","v":0},{"$f":"IF(CK$56=3,IF(CK$34='Listes de sélection'!$A$17,CK$35*HLOOKUP(3,'Listes de sélection'!$C$53:$E$58,4,FALSE),'Listes de sélection'!$M$56*HLOOKUP(3,'Listes de sélection'!$C$53:$E$58,4,FALSE)),0)","v":0},{"$f":"IF(CL$56=3,IF(CL$34='Listes de sélection'!$A$17,CL$35*HLOOKUP(3,'Listes de sélection'!$C$53:$E$58,4,FALSE),'Listes de sélection'!$M$56*HLOOKUP(3,'Listes de sélection'!$C$53:$E$58,4,FALSE)),0)","v":0},{"$f":"IF(CM$56=3,IF(CM$34='Listes de sélection'!$A$17,CM$35*HLOOKUP(3,'Listes de sélection'!$C$53:$E$58,4,FALSE),'Listes de sélection'!$M$56*HLOOKUP(3,'Listes de sélection'!$C$53:$E$58,4,FALSE)),0)","v":0},{"$f":"IF(CN$56=3,IF(CN$34='Listes de sélection'!$A$17,CN$35*HLOOKUP(3,'Listes de sélection'!$C$53:$E$58,4,FALSE),'Listes de sélection'!$M$56*HLOOKUP(3,'Listes de sélection'!$C$53:$E$58,4,FALSE)),0)","v":0},{"$f":"IF(CO$56=3,IF(CO$34='Listes de sélection'!$A$17,CO$35*HLOOKUP(3,'Listes de sélection'!$C$53:$E$58,4,FALSE),'Listes de sélection'!$M$56*HLOOKUP(3,'Listes de sélection'!$C$53:$E$58,4,FALSE)),0)","v":0},{"$f":"IF(CP$56=3,IF(CP$34='Listes de sélection'!$A$17,CP$35*HLOOKUP(3,'Listes de sélection'!$C$53:$E$58,4,FALSE),'Listes de sélection'!$M$56*HLOOKUP(3,'Listes de sélection'!$C$53:$E$58,4,FALSE)),0)","v":0},{"$f":"IF(CQ$56=3,IF(CQ$34='Listes de sélection'!$A$17,CQ$35*HLOOKUP(3,'Listes de sélection'!$C$53:$E$58,4,FALSE),'Listes de sélection'!$M$56*HLOOKUP(3,'Listes de sélection'!$C$53:$E$58,4,FALSE)),0)","v":0},{"$f":"IF(CR$56=3,IF(CR$34='Listes de sélection'!$A$17,CR$35*HLOOKUP(3,'Listes de sélection'!$C$53:$E$58,4,FALSE),'Listes de sélection'!$M$56*HLOOKUP(3,'Listes de sélection'!$C$53:$E$58,4,FALSE)),0)","v":0},{"$f":"IF(CS$56=3,IF(CS$34='Listes de sélection'!$A$17,CS$35*HLOOKUP(3,'Listes de sélection'!$C$53:$E$58,4,FALSE),'Listes de sélection'!$M$56*HLOOKUP(3,'Listes de sélection'!$C$53:$E$58,4,FALSE)),0)","v":0},{"$f":"IF(CT$56=3,IF(CT$34='Listes de sélection'!$A$17,CT$35*HLOOKUP(3,'Listes de sélection'!$C$53:$E$58,4,FALSE),'Listes de sélection'!$M$56*HLOOKUP(3,'Listes de sélection'!$C$53:$E$58,4,FALSE)),0)","v":0},{"$f":"IF(CU$56=3,IF(CU$34='Listes de sélection'!$A$17,CU$35*HLOOKUP(3,'Listes de sélection'!$C$53:$E$58,4,FALSE),'Listes de sélection'!$M$56*HLOOKUP(3,'Listes de sélection'!$C$53:$E$58,4,FALSE)),0)","v":0},{"$f":"IF(CV$56=3,IF(CV$34='Listes de sélection'!$A$17,CV$35*HLOOKUP(3,'Listes de sélection'!$C$53:$E$58,4,FALSE),'Listes de sélection'!$M$56*HLOOKUP(3,'Listes de sélection'!$C$53:$E$58,4,FALSE)),0)","v":0},{"$f":"IF(CW$56=3,IF(CW$34='Listes de sélection'!$A$17,CW$35*HLOOKUP(3,'Listes de sélection'!$C$53:$E$58,4,FALSE),'Listes de sélection'!$M$56*HLOOKUP(3,'Listes de sélection'!$C$53:$E$58,4,FALSE)),0)","v":0},{"$f":"IF(CX$56=3,IF(CX$34='Listes de sélection'!$A$17,CX$35*HLOOKUP(3,'Listes de sélection'!$C$53:$E$58,4,FALSE),'Listes de sélection'!$M$56*HLOOKUP(3,'Listes de sélection'!$C$53:$E$58,4,FALSE)),0)","v":0},{"$f":"IF(CY$56=3,IF(CY$34='Listes de sélection'!$A$17,CY$35*HLOOKUP(3,'Listes de sélection'!$C$53:$E$58,4,FALSE),'Listes de sélection'!$M$56*HLOOKUP(3,'Listes de sélection'!$C$53:$E$58,4,FALSE)),0)","v":0},{"$f":"IF(CZ$56=3,IF(CZ$34='Listes de sélection'!$A$17,CZ$35*HLOOKUP(3,'Listes de sélection'!$C$53:$E$58,4,FALSE),'Listes de sélection'!$M$56*HLOOKUP(3,'Listes de sélection'!$C$53:$E$58,4,FALSE)),0)","v":0},{"$f":"IF(DA$56=3,IF(DA$34='Listes de sélection'!$A$17,DA$35*HLOOKUP(3,'Listes de sélection'!$C$53:$E$58,4,FALSE),'Listes de sélection'!$M$56*HLOOKUP(3,'Listes de sélection'!$C$53:$E$58,4,FALSE)),0)","v":0},{"$f":"IF(DB$56=3,IF(DB$34='Listes de sélection'!$A$17,DB$35*HLOOKUP(3,'Listes de sélection'!$C$53:$E$58,4,FALSE),'Listes de sélection'!$M$56*HLOOKUP(3,'Listes de sélection'!$C$53:$E$58,4,FALSE)),0)","v":0},{"$f":"IF(DC$56=3,IF(DC$34='Listes de sélection'!$A$17,DC$35*HLOOKUP(3,'Listes de sélection'!$C$53:$E$58,4,FALSE),'Listes de sélection'!$M$56*HLOOKUP(3,'Listes de sélection'!$C$53:$E$58,4,FALSE)),0)","v":0},{"$f":"IF(DD$56=3,IF(DD$34='Listes de sélection'!$A$17,DD$35*HLOOKUP(3,'Listes de sélection'!$C$53:$E$58,4,FALSE),'Listes de sélection'!$M$56*HLOOKUP(3,'Listes de sélection'!$C$53:$E$58,4,FALSE)),0)","v":0},{"$f":"IF(DE$56=3,IF(DE$34='Listes de sélection'!$A$17,DE$35*HLOOKUP(3,'Listes de sélection'!$C$53:$E$58,4,FALSE),'Listes de sélection'!$M$56*HLOOKUP(3,'Listes de sélection'!$C$53:$E$58,4,FALSE)),0)","v":0},{"$f":"IF(DF$56=3,IF(DF$34='Listes de sélection'!$A$17,DF$35*HLOOKUP(3,'Listes de sélection'!$C$53:$E$58,4,FALSE),'Listes de sélection'!$M$56*HLOOKUP(3,'Listes de sélection'!$C$53:$E$58,4,FALSE)),0)","v":0},{"$f":"IF(DG$56=3,IF(DG$34='Listes de sélection'!$A$17,DG$35*HLOOKUP(3,'Listes de sélection'!$C$53:$E$58,4,FALSE),'Listes de sélection'!$M$56*HLOOKUP(3,'Listes de sélection'!$C$53:$E$58,4,FALSE)),0)","v":0},{"$f":"IF(DH$56=3,IF(DH$34='Listes de sélection'!$A$17,DH$35*HLOOKUP(3,'Listes de sélection'!$C$53:$E$58,4,FALSE),'Listes de sélection'!$M$56*HLOOKUP(3,'Listes de sélection'!$C$53:$E$58,4,FALSE)),0)","v":0},{"$f":"IF(DI$56=3,IF(DI$34='Listes de sélection'!$A$17,DI$35*HLOOKUP(3,'Listes de sélection'!$C$53:$E$58,4,FALSE),'Listes de sélection'!$M$56*HLOOKUP(3,'Listes de sélection'!$C$53:$E$58,4,FALSE)),0)","v":0},{"$f":"IF(DJ$56=3,IF(DJ$34='Listes de sélection'!$A$17,DJ$35*HLOOKUP(3,'Listes de sélection'!$C$53:$E$58,4,FALSE),'Listes de sélection'!$M$56*HLOOKUP(3,'Listes de sélection'!$C$53:$E$58,4,FALSE)),0)","v":0},{"$f":"IF(DK$56=3,IF(DK$34='Listes de sélection'!$A$17,DK$35*HLOOKUP(3,'Listes de sélection'!$C$53:$E$58,4,FALSE),'Listes de sélection'!$M$56*HLOOKUP(3,'Listes de sélection'!$C$53:$E$58,4,FALSE)),0)","v":0},{"$f":"IF(DL$56=3,IF(DL$34='Listes de sélection'!$A$17,DL$35*HLOOKUP(3,'Listes de sélection'!$C$53:$E$58,4,FALSE),'Listes de sélection'!$M$56*HLOOKUP(3,'Listes de sélection'!$C$53:$E$58,4,FALSE)),0)","v":0},{"$f":"IF(DM$56=3,IF(DM$34='Listes de sélection'!$A$17,DM$35*HLOOKUP(3,'Listes de sélection'!$C$53:$E$58,4,FALSE),'Listes de sélection'!$M$56*HLOOKUP(3,'Listes de sélection'!$C$53:$E$58,4,FALSE)),0)","v":0},{"$f":"IF(DN$56=3,IF(DN$34='Listes de sélection'!$A$17,DN$35*HLOOKUP(3,'Listes de sélection'!$C$53:$E$58,4,FALSE),'Listes de sélection'!$M$56*HLOOKUP(3,'Listes de sélection'!$C$53:$E$58,4,FALSE)),0)","v":0},{"$f":"IF(DO$56=3,IF(DO$34='Listes de sélection'!$A$17,DO$35*HLOOKUP(3,'Listes de sélection'!$C$53:$E$58,4,FALSE),'Listes de sélection'!$M$56*HLOOKUP(3,'Listes de sélection'!$C$53:$E$58,4,FALSE)),0)","v":0},{"$f":"IF(DP$56=3,IF(DP$34='Listes de sélection'!$A$17,DP$35*HLOOKUP(3,'Listes de sélection'!$C$53:$E$58,4,FALSE),'Listes de sélection'!$M$56*HLOOKUP(3,'Listes de sélection'!$C$53:$E$58,4,FALSE)),0)","v":0},{"$f":"IF(DQ$56=3,IF(DQ$34='Listes de sélection'!$A$17,DQ$35*HLOOKUP(3,'Listes de sélection'!$C$53:$E$58,4,FALSE),'Listes de sélection'!$M$56*HLOOKUP(3,'Listes de sélection'!$C$53:$E$58,4,FALSE)),0)","v":0},{"$f":"IF(DR$56=3,IF(DR$34='Listes de sélection'!$A$17,DR$35*HLOOKUP(3,'Listes de sélection'!$C$53:$E$58,4,FALSE),'Listes de sélection'!$M$56*HLOOKUP(3,'Listes de sélection'!$C$53:$E$58,4,FALSE)),0)","v":0},{"$f":"IF(DS$56=3,IF(DS$34='Listes de sélection'!$A$17,DS$35*HLOOKUP(3,'Listes de sélection'!$C$53:$E$58,4,FALSE),'Listes de sélection'!$M$56*HLOOKUP(3,'Listes de sélection'!$C$53:$E$58,4,FALSE)),0)","v":0},{"$f":"IF(DT$56=3,IF(DT$34='Listes de sélection'!$A$17,DT$35*HLOOKUP(3,'Listes de sélection'!$C$53:$E$58,4,FALSE),'Listes de sélection'!$M$56*HLOOKUP(3,'Listes de sélection'!$C$53:$E$58,4,FALSE)),0)","v":0},{"$f":"IF(DU$56=3,IF(DU$34='Listes de sélection'!$A$17,DU$35*HLOOKUP(3,'Listes de sélection'!$C$53:$E$58,4,FALSE),'Listes de sélection'!$M$56*HLOOKUP(3,'Listes de sélection'!$C$53:$E$58,4,FALSE)),0)","v":0},{"$f":"IF(DV$56=3,IF(DV$34='Listes de sélection'!$A$17,DV$35*HLOOKUP(3,'Listes de sélection'!$C$53:$E$58,4,FALSE),'Listes de sélection'!$M$56*HLOOKUP(3,'Listes de sélection'!$C$53:$E$58,4,FALSE)),0)","v":0},{"$f":"IF(DW$56=3,IF(DW$34='Listes de sélection'!$A$17,DW$35*HLOOKUP(3,'Listes de sélection'!$C$53:$E$58,4,FALSE),'Listes de sélection'!$M$56*HLOOKUP(3,'Listes de sélection'!$C$53:$E$58,4,FALSE)),0)","v":0},{"$f":"IF(DX$56=3,IF(DX$34='Listes de sélection'!$A$17,DX$35*HLOOKUP(3,'Listes de sélection'!$C$53:$E$58,4,FALSE),'Listes de sélection'!$M$56*HLOOKUP(3,'Listes de sélection'!$C$53:$E$58,4,FALSE)),0)","v":0},{"$f":"IF(DY$56=3,IF(DY$34='Listes de sélection'!$A$17,DY$35*HLOOKUP(3,'Listes de sélection'!$C$53:$E$58,4,FALSE),'Listes de sélection'!$M$56*HLOOKUP(3,'Listes de sélection'!$C$53:$E$58,4,FALSE)),0)","v":0},{"$f":"IF(DZ$56=3,IF(DZ$34='Listes de sélection'!$A$17,DZ$35*HLOOKUP(3,'Listes de sélection'!$C$53:$E$58,4,FALSE),'Listes de sélection'!$M$56*HLOOKUP(3,'Listes de sélection'!$C$53:$E$58,4,FALSE)),0)","v":0},{"$f":"IF(EA$56=3,IF(EA$34='Listes de sélection'!$A$17,EA$35*HLOOKUP(3,'Listes de sélection'!$C$53:$E$58,4,FALSE),'Listes de sélection'!$M$56*HLOOKUP(3,'Listes de sélection'!$C$53:$E$58,4,FALSE)),0)","v":0},{"$f":"IF(EB$56=3,IF(EB$34='Listes de sélection'!$A$17,EB$35*HLOOKUP(3,'Listes de sélection'!$C$53:$E$58,4,FALSE),'Listes de sélection'!$M$56*HLOOKUP(3,'Listes de sélection'!$C$53:$E$58,4,FALSE)),0)","v":0},{"$f":"IF(EC$56=3,IF(EC$34='Listes de sélection'!$A$17,EC$35*HLOOKUP(3,'Listes de sélection'!$C$53:$E$58,4,FALSE),'Listes de sélection'!$M$56*HLOOKUP(3,'Listes de sélection'!$C$53:$E$58,4,FALSE)),0)","v":0},{"$f":"IF(ED$56=3,IF(ED$34='Listes de sélection'!$A$17,ED$35*HLOOKUP(3,'Listes de sélection'!$C$53:$E$58,4,FALSE),'Listes de sélection'!$M$56*HLOOKUP(3,'Listes de sélection'!$C$53:$E$58,4,FALSE)),0)","v":0},{"$f":"IF(EE$56=3,IF(EE$34='Listes de sélection'!$A$17,EE$35*HLOOKUP(3,'Listes de sélection'!$C$53:$E$58,4,FALSE),'Listes de sélection'!$M$56*HLOOKUP(3,'Listes de sélection'!$C$53:$E$58,4,FALSE)),0)","v":0},{"$f":"IF(EF$56=3,IF(EF$34='Listes de sélection'!$A$17,EF$35*HLOOKUP(3,'Listes de sélection'!$C$53:$E$58,4,FALSE),'Listes de sélection'!$M$56*HLOOKUP(3,'Listes de sélection'!$C$53:$E$58,4,FALSE)),0)","v":0},{"$f":"IF(EG$56=3,IF(EG$34='Listes de sélection'!$A$17,EG$35*HLOOKUP(3,'Listes de sélection'!$C$53:$E$58,4,FALSE),'Listes de sélection'!$M$56*HLOOKUP(3,'Listes de sélection'!$C$53:$E$58,4,FALSE)),0)","v":0},{"$f":"IF(EH$56=3,IF(EH$34='Listes de sélection'!$A$17,EH$35*HLOOKUP(3,'Listes de sélection'!$C$53:$E$58,4,FALSE),'Listes de sélection'!$M$56*HLOOKUP(3,'Listes de sélection'!$C$53:$E$58,4,FALSE)),0)","v":0},{"$f":"IF(EI$56=3,IF(EI$34='Listes de sélection'!$A$17,EI$35*HLOOKUP(3,'Listes de sélection'!$C$53:$E$58,4,FALSE),'Listes de sélection'!$M$56*HLOOKUP(3,'Listes de sélection'!$C$53:$E$58,4,FALSE)),0)","v":0},{"$f":"IF(EJ$56=3,IF(EJ$34='Listes de sélection'!$A$17,EJ$35*HLOOKUP(3,'Listes de sélection'!$C$53:$E$58,4,FALSE),'Listes de sélection'!$M$56*HLOOKUP(3,'Listes de sélection'!$C$53:$E$58,4,FALSE)),0)","v":0},{"$f":"IF(EK$56=3,IF(EK$34='Listes de sélection'!$A$17,EK$35*HLOOKUP(3,'Listes de sélection'!$C$53:$E$58,4,FALSE),'Listes de sélection'!$M$56*HLOOKUP(3,'Listes de sélection'!$C$53:$E$58,4,FALSE)),0)","v":0},{"$f":"IF(EL$56=3,IF(EL$34='Listes de sélection'!$A$17,EL$35*HLOOKUP(3,'Listes de sélection'!$C$53:$E$58,4,FALSE),'Listes de sélection'!$M$56*HLOOKUP(3,'Listes de sélection'!$C$53:$E$58,4,FALSE)),0)","v":0},{"$f":"IF(EM$56=3,IF(EM$34='Listes de sélection'!$A$17,EM$35*HLOOKUP(3,'Listes de sélection'!$C$53:$E$58,4,FALSE),'Listes de sélection'!$M$56*HLOOKUP(3,'Listes de sélection'!$C$53:$E$58,4,FALSE)),0)","v":0},{"$f":"IF(EN$56=3,IF(EN$34='Listes de sélection'!$A$17,EN$35*HLOOKUP(3,'Listes de sélection'!$C$53:$E$58,4,FALSE),'Listes de sélection'!$M$56*HLOOKUP(3,'Listes de sélection'!$C$53:$E$58,4,FALSE)),0)","v":0},{"$f":"IF(EO$56=3,IF(EO$34='Listes de sélection'!$A$17,EO$35*HLOOKUP(3,'Listes de sélection'!$C$53:$E$58,4,FALSE),'Listes de sélection'!$M$56*HLOOKUP(3,'Listes de sélection'!$C$53:$E$58,4,FALSE)),0)","v":0},{"$f":"IF(EP$56=3,IF(EP$34='Listes de sélection'!$A$17,EP$35*HLOOKUP(3,'Listes de sélection'!$C$53:$E$58,4,FALSE),'Listes de sélection'!$M$56*HLOOKUP(3,'Listes de sélection'!$C$53:$E$58,4,FALSE)),0)","v":0},{"$f":"IF(EQ$56=3,IF(EQ$34='Listes de sélection'!$A$17,EQ$35*HLOOKUP(3,'Listes de sélection'!$C$53:$E$58,4,FALSE),'Listes de sélection'!$M$56*HLOOKUP(3,'Listes de sélection'!$C$53:$E$58,4,FALSE)),0)","v":0},{"$f":"IF(ER$56=3,IF(ER$34='Listes de sélection'!$A$17,ER$35*HLOOKUP(3,'Listes de sélection'!$C$53:$E$58,4,FALSE),'Listes de sélection'!$M$56*HLOOKUP(3,'Listes de sélection'!$C$53:$E$58,4,FALSE)),0)","v":0},{"$f":"IF(ES$56=3,IF(ES$34='Listes de sélection'!$A$17,ES$35*HLOOKUP(3,'Listes de sélection'!$C$53:$E$58,4,FALSE),'Listes de sélection'!$M$56*HLOOKUP(3,'Listes de sélection'!$C$53:$E$58,4,FALSE)),0)","v":0},{"$f":"IF(ET$56=3,IF(ET$34='Listes de sélection'!$A$17,ET$35*HLOOKUP(3,'Listes de sélection'!$C$53:$E$58,4,FALSE),'Listes de sélection'!$M$56*HLOOKUP(3,'Listes de sélection'!$C$53:$E$58,4,FALSE)),0)","v":0},{"$f":"IF(EU$56=3,IF(EU$34='Listes de sélection'!$A$17,EU$35*HLOOKUP(3,'Listes de sélection'!$C$53:$E$58,4,FALSE),'Listes de sélection'!$M$56*HLOOKUP(3,'Listes de sélection'!$C$53:$E$58,4,FALSE)),0)","v":0},{"$f":"IF(EV$56=3,IF(EV$34='Listes de sélection'!$A$17,EV$35*HLOOKUP(3,'Listes de sélection'!$C$53:$E$58,4,FALSE),'Listes de sélection'!$M$56*HLOOKUP(3,'Listes de sélection'!$C$53:$E$58,4,FALSE)),0)","v":0},{"$f":"IF(EW$56=3,IF(EW$34='Listes de sélection'!$A$17,EW$35*HLOOKUP(3,'Listes de sélection'!$C$53:$E$58,4,FALSE),'Listes de sélection'!$M$56*HLOOKUP(3,'Listes de sélection'!$C$53:$E$58,4,FALSE)),0)","v":0},{"$f":"IF(EX$56=3,IF(EX$34='Listes de sélection'!$A$17,EX$35*HLOOKUP(3,'Listes de sélection'!$C$53:$E$58,4,FALSE),'Listes de sélection'!$M$56*HLOOKUP(3,'Listes de sélection'!$C$53:$E$58,4,FALSE)),0)","v":0},{"$f":"IF(EY$56=3,IF(EY$34='Listes de sélection'!$A$17,EY$35*HLOOKUP(3,'Listes de sélection'!$C$53:$E$58,4,FALSE),'Listes de sélection'!$M$56*HLOOKUP(3,'Listes de sélection'!$C$53:$E$58,4,FALSE)),0)","v":0},{"$f":"IF(EZ$56=3,IF(EZ$34='Listes de sélection'!$A$17,EZ$35*HLOOKUP(3,'Listes de sélection'!$C$53:$E$58,4,FALSE),'Listes de sélection'!$M$56*HLOOKUP(3,'Listes de sélection'!$C$53:$E$58,4,FALSE)),0)","v":0},{"$f":"IF(FA$56=3,IF(FA$34='Listes de sélection'!$A$17,FA$35*HLOOKUP(3,'Listes de sélection'!$C$53:$E$58,4,FALSE),'Listes de sélection'!$M$56*HLOOKUP(3,'Listes de sélection'!$C$53:$E$58,4,FALSE)),0)","v":0},{"$f":"IF(FB$56=3,IF(FB$34='Listes de sélection'!$A$17,FB$35*HLOOKUP(3,'Listes de sélection'!$C$53:$E$58,4,FALSE),'Listes de sélection'!$M$56*HLOOKUP(3,'Listes de sélection'!$C$53:$E$58,4,FALSE)),0)","v":0},{"$f":"IF(FC$56=3,IF(FC$34='Listes de sélection'!$A$17,FC$35*HLOOKUP(3,'Listes de sélection'!$C$53:$E$58,4,FALSE),'Listes de sélection'!$M$56*HLOOKUP(3,'Listes de sélection'!$C$53:$E$58,4,FALSE)),0)","v":0},{"$f":"IF(FD$56=3,IF(FD$34='Listes de sélection'!$A$17,FD$35*HLOOKUP(3,'Listes de sélection'!$C$53:$E$58,4,FALSE),'Listes de sélection'!$M$56*HLOOKUP(3,'Listes de sélection'!$C$53:$E$58,4,FALSE)),0)","v":0},{"$f":"IF(FE$56=3,IF(FE$34='Listes de sélection'!$A$17,FE$35*HLOOKUP(3,'Listes de sélection'!$C$53:$E$58,4,FALSE),'Listes de sélection'!$M$56*HLOOKUP(3,'Listes de sélection'!$C$53:$E$58,4,FALSE)),0)","v":0},{"$f":"IF(FF$56=3,IF(FF$34='Listes de sélection'!$A$17,FF$35*HLOOKUP(3,'Listes de sélection'!$C$53:$E$58,4,FALSE),'Listes de sélection'!$M$56*HLOOKUP(3,'Listes de sélection'!$C$53:$E$58,4,FALSE)),0)","v":0},{"$f":"IF(FG$56=3,IF(FG$34='Listes de sélection'!$A$17,FG$35*HLOOKUP(3,'Listes de sélection'!$C$53:$E$58,4,FALSE),'Listes de sélection'!$M$56*HLOOKUP(3,'Listes de sélection'!$C$53:$E$58,4,FALSE)),0)","v":0},{"$f":"IF(FH$56=3,IF(FH$34='Listes de sélection'!$A$17,FH$35*HLOOKUP(3,'Listes de sélection'!$C$53:$E$58,4,FALSE),'Listes de sélection'!$M$56*HLOOKUP(3,'Listes de sélection'!$C$53:$E$58,4,FALSE)),0)","v":0},{"$f":"IF(FI$56=3,IF(FI$34='Listes de sélection'!$A$17,FI$35*HLOOKUP(3,'Listes de sélection'!$C$53:$E$58,4,FALSE),'Listes de sélection'!$M$56*HLOOKUP(3,'Listes de sélection'!$C$53:$E$58,4,FALSE)),0)","v":0},{"$f":"IF(FJ$56=3,IF(FJ$34='Listes de sélection'!$A$17,FJ$35*HLOOKUP(3,'Listes de sélection'!$C$53:$E$58,4,FALSE),'Listes de sélection'!$M$56*HLOOKUP(3,'Listes de sélection'!$C$53:$E$58,4,FALSE)),0)","v":0},{"$f":"IF(FK$56=3,IF(FK$34='Listes de sélection'!$A$17,FK$35*HLOOKUP(3,'Listes de sélection'!$C$53:$E$58,4,FALSE),'Listes de sélection'!$M$56*HLOOKUP(3,'Listes de sélection'!$C$53:$E$58,4,FALSE)),0)","v":0},{"$f":"IF(FL$56=3,IF(FL$34='Listes de sélection'!$A$17,FL$35*HLOOKUP(3,'Listes de sélection'!$C$53:$E$58,4,FALSE),'Listes de sélection'!$M$56*HLOOKUP(3,'Listes de sélection'!$C$53:$E$58,4,FALSE)),0)","v":0},{"$f":"IF(FM$56=3,IF(FM$34='Listes de sélection'!$A$17,FM$35*HLOOKUP(3,'Listes de sélection'!$C$53:$E$58,4,FALSE),'Listes de sélection'!$M$56*HLOOKUP(3,'Listes de sélection'!$C$53:$E$58,4,FALSE)),0)","v":0},{"$f":"IF(FN$56=3,IF(FN$34='Listes de sélection'!$A$17,FN$35*HLOOKUP(3,'Listes de sélection'!$C$53:$E$58,4,FALSE),'Listes de sélection'!$M$56*HLOOKUP(3,'Listes de sélection'!$C$53:$E$58,4,FALSE)),0)","v":0},{"$f":"IF(FO$56=3,IF(FO$34='Listes de sélection'!$A$17,FO$35*HLOOKUP(3,'Listes de sélection'!$C$53:$E$58,4,FALSE),'Listes de sélection'!$M$56*HLOOKUP(3,'Listes de sélection'!$C$53:$E$58,4,FALSE)),0)","v":0},{"$f":"IF(FP$56=3,IF(FP$34='Listes de sélection'!$A$17,FP$35*HLOOKUP(3,'Listes de sélection'!$C$53:$E$58,4,FALSE),'Listes de sélection'!$M$56*HLOOKUP(3,'Listes de sélection'!$C$53:$E$58,4,FALSE)),0)","v":0},{"$f":"IF(FQ$56=3,IF(FQ$34='Listes de sélection'!$A$17,FQ$35*HLOOKUP(3,'Listes de sélection'!$C$53:$E$58,4,FALSE),'Listes de sélection'!$M$56*HLOOKUP(3,'Listes de sélection'!$C$53:$E$58,4,FALSE)),0)","v":0},{"$f":"IF(FR$56=3,IF(FR$34='Listes de sélection'!$A$17,FR$35*HLOOKUP(3,'Listes de sélection'!$C$53:$E$58,4,FALSE),'Listes de sélection'!$M$56*HLOOKUP(3,'Listes de sélection'!$C$53:$E$58,4,FALSE)),0)","v":0},{"$f":"IF(FS$56=3,IF(FS$34='Listes de sélection'!$A$17,FS$35*HLOOKUP(3,'Listes de sélection'!$C$53:$E$58,4,FALSE),'Listes de sélection'!$M$56*HLOOKUP(3,'Listes de sélection'!$C$53:$E$58,4,FALSE)),0)","v":0},{"$f":"IF(FT$56=3,IF(FT$34='Listes de sélection'!$A$17,FT$35*HLOOKUP(3,'Listes de sélection'!$C$53:$E$58,4,FALSE),'Listes de sélection'!$M$56*HLOOKUP(3,'Listes de sélection'!$C$53:$E$58,4,FALSE)),0)","v":0},{"$f":"IF(FU$56=3,IF(FU$34='Listes de sélection'!$A$17,FU$35*HLOOKUP(3,'Listes de sélection'!$C$53:$E$58,4,FALSE),'Listes de sélection'!$M$56*HLOOKUP(3,'Listes de sélection'!$C$53:$E$58,4,FALSE)),0)","v":0},{"$f":"IF(FV$56=3,IF(FV$34='Listes de sélection'!$A$17,FV$35*HLOOKUP(3,'Listes de sélection'!$C$53:$E$58,4,FALSE),'Listes de sélection'!$M$56*HLOOKUP(3,'Listes de sélection'!$C$53:$E$58,4,FALSE)),0)","v":0},{"$f":"IF(FW$56=3,IF(FW$34='Listes de sélection'!$A$17,FW$35*HLOOKUP(3,'Listes de sélection'!$C$53:$E$58,4,FALSE),'Listes de sélection'!$M$56*HLOOKUP(3,'Listes de sélection'!$C$53:$E$58,4,FALSE)),0)","v":0},{"$f":"IF(FX$56=3,IF(FX$34='Listes de sélection'!$A$17,FX$35*HLOOKUP(3,'Listes de sélection'!$C$53:$E$58,4,FALSE),'Listes de sélection'!$M$56*HLOOKUP(3,'Listes de sélection'!$C$53:$E$58,4,FALSE)),0)","v":0},{"$f":"IF(FY$56=3,IF(FY$34='Listes de sélection'!$A$17,FY$35*HLOOKUP(3,'Listes de sélection'!$C$53:$E$58,4,FALSE),'Listes de sélection'!$M$56*HLOOKUP(3,'Listes de sélection'!$C$53:$E$58,4,FALSE)),0)","v":0},{"$f":"IF(FZ$56=3,IF(FZ$34='Listes de sélection'!$A$17,FZ$35*HLOOKUP(3,'Listes de sélection'!$C$53:$E$58,4,FALSE),'Listes de sélection'!$M$56*HLOOKUP(3,'Listes de sélection'!$C$53:$E$58,4,FALSE)),0)","v":0},{"$f":"IF(GA$56=3,IF(GA$34='Listes de sélection'!$A$17,GA$35*HLOOKUP(3,'Listes de sélection'!$C$53:$E$58,4,FALSE),'Listes de sélection'!$M$56*HLOOKUP(3,'Listes de sélection'!$C$53:$E$58,4,FALSE)),0)","v":0},{"$f":"IF(GB$56=3,IF(GB$34='Listes de sélection'!$A$17,GB$35*HLOOKUP(3,'Listes de sélection'!$C$53:$E$58,4,FALSE),'Listes de sélection'!$M$56*HLOOKUP(3,'Listes de sélection'!$C$53:$E$58,4,FALSE)),0)","v":0},{"$f":"IF(GC$56=3,IF(GC$34='Listes de sélection'!$A$17,GC$35*HLOOKUP(3,'Listes de sélection'!$C$53:$E$58,4,FALSE),'Listes de sélection'!$M$56*HLOOKUP(3,'Listes de sélection'!$C$53:$E$58,4,FALSE)),0)","v":0},{"$f":"IF(GD$56=3,IF(GD$34='Listes de sélection'!$A$17,GD$35*HLOOKUP(3,'Listes de sélection'!$C$53:$E$58,4,FALSE),'Listes de sélection'!$M$56*HLOOKUP(3,'Listes de sélection'!$C$53:$E$58,4,FALSE)),0)","v":0},{"$f":"IF(GE$56=3,IF(GE$34='Listes de sélection'!$A$17,GE$35*HLOOKUP(3,'Listes de sélection'!$C$53:$E$58,4,FALSE),'Listes de sélection'!$M$56*HLOOKUP(3,'Listes de sélection'!$C$53:$E$58,4,FALSE)),0)","v":0},{"$f":"IF(GF$56=3,IF(GF$34='Listes de sélection'!$A$17,GF$35*HLOOKUP(3,'Listes de sélection'!$C$53:$E$58,4,FALSE),'Listes de sélection'!$M$56*HLOOKUP(3,'Listes de sélection'!$C$53:$E$58,4,FALSE)),0)","v":0},{"$f":"IF(GG$56=3,IF(GG$34='Listes de sélection'!$A$17,GG$35*HLOOKUP(3,'Listes de sélection'!$C$53:$E$58,4,FALSE),'Listes de sélection'!$M$56*HLOOKUP(3,'Listes de sélection'!$C$53:$E$58,4,FALSE)),0)","v":0},{"$f":"IF(GH$56=3,IF(GH$34='Listes de sélection'!$A$17,GH$35*HLOOKUP(3,'Listes de sélection'!$C$53:$E$58,4,FALSE),'Listes de sélection'!$M$56*HLOOKUP(3,'Listes de sélection'!$C$53:$E$58,4,FALSE)),0)","v":0},{"$f":"IF(GI$56=3,IF(GI$34='Listes de sélection'!$A$17,GI$35*HLOOKUP(3,'Listes de sélection'!$C$53:$E$58,4,FALSE),'Listes de sélection'!$M$56*HLOOKUP(3,'Listes de sélection'!$C$53:$E$58,4,FALSE)),0)","v":0},{"$f":"IF(GJ$56=3,IF(GJ$34='Listes de sélection'!$A$17,GJ$35*HLOOKUP(3,'Listes de sélection'!$C$53:$E$58,4,FALSE),'Listes de sélection'!$M$56*HLOOKUP(3,'Listes de sélection'!$C$53:$E$58,4,FALSE)),0)","v":0},{"$f":"IF(GK$56=3,IF(GK$34='Listes de sélection'!$A$17,GK$35*HLOOKUP(3,'Listes de sélection'!$C$53:$E$58,4,FALSE),'Listes de sélection'!$M$56*HLOOKUP(3,'Listes de sélection'!$C$53:$E$58,4,FALSE)),0)","v":0},{"$f":"IF(GL$56=3,IF(GL$34='Listes de sélection'!$A$17,GL$35*HLOOKUP(3,'Listes de sélection'!$C$53:$E$58,4,FALSE),'Listes de sélection'!$M$56*HLOOKUP(3,'Listes de sélection'!$C$53:$E$58,4,FALSE)),0)","v":0},{"$f":"IF(GM$56=3,IF(GM$34='Listes de sélection'!$A$17,GM$35*HLOOKUP(3,'Listes de sélection'!$C$53:$E$58,4,FALSE),'Listes de sélection'!$M$56*HLOOKUP(3,'Listes de sélection'!$C$53:$E$58,4,FALSE)),0)","v":0},{"$f":"IF(GN$56=3,IF(GN$34='Listes de sélection'!$A$17,GN$35*HLOOKUP(3,'Listes de sélection'!$C$53:$E$58,4,FALSE),'Listes de sélection'!$M$56*HLOOKUP(3,'Listes de sélection'!$C$53:$E$58,4,FALSE)),0)","v":0},{"$f":"IF(GO$56=3,IF(GO$34='Listes de sélection'!$A$17,GO$35*HLOOKUP(3,'Listes de sélection'!$C$53:$E$58,4,FALSE),'Listes de sélection'!$M$56*HLOOKUP(3,'Listes de sélection'!$C$53:$E$58,4,FALSE)),0)","v":0},{"$f":"IF(GP$56=3,IF(GP$34='Listes de sélection'!$A$17,GP$35*HLOOKUP(3,'Listes de sélection'!$C$53:$E$58,4,FALSE),'Listes de sélection'!$M$56*HLOOKUP(3,'Listes de sélection'!$C$53:$E$58,4,FALSE)),0)","v":0},{"$f":"IF(GQ$56=3,IF(GQ$34='Listes de sélection'!$A$17,GQ$35*HLOOKUP(3,'Listes de sélection'!$C$53:$E$58,4,FALSE),'Listes de sélection'!$M$56*HLOOKUP(3,'Listes de sélection'!$C$53:$E$58,4,FALSE)),0)","v":0},{"$f":"IF(GR$56=3,IF(GR$34='Listes de sélection'!$A$17,GR$35*HLOOKUP(3,'Listes de sélection'!$C$53:$E$58,4,FALSE),'Listes de sélection'!$M$56*HLOOKUP(3,'Listes de sélection'!$C$53:$E$58,4,FALSE)),0)","v":0},{"$f":"IF(GS$56=3,IF(GS$34='Listes de sélection'!$A$17,GS$35*HLOOKUP(3,'Listes de sélection'!$C$53:$E$58,4,FALSE),'Listes de sélection'!$M$56*HLOOKUP(3,'Listes de sélection'!$C$53:$E$58,4,FALSE)),0)","v":0},{"$f":"IF(GT$56=3,IF(GT$34='Listes de sélection'!$A$17,GT$35*HLOOKUP(3,'Listes de sélection'!$C$53:$E$58,4,FALSE),'Listes de sélection'!$M$56*HLOOKUP(3,'Listes de sélection'!$C$53:$E$58,4,FALSE)),0)","v":0}]
["Demandeur de chaleur = Habitation pavillonnaire","MJ",{"$f":"IF(C$56=4,IF(C$34='Listes de sélection'!$A$17,C$35*HLOOKUP(3,'Listes de sélection'!$C$53:$E$58,5,FALSE),'Listes de sélection'!$M$57*HLOOKUP(3,'Listes de sélection'!$C$53:$E$58,5,FALSE)),0)","v":0},{"$f":"IF(D$56=4,IF(D$34='Listes de sélection'!$A$17,D$35*HLOOKUP(3,'Listes de sélection'!$C$53:$E$58,5,FALSE),'Listes de sélection'!$M$57*HLOOKUP(3,'Listes de sélection'!$C$53:$E$58,5,FALSE)),0)","v":0},{"$f":"IF(E$56=4,IF(E$34='Listes de sélection'!$A$17,E$35*HLOOKUP(3,'Listes de sélection'!$C$53:$E$58,5,FALSE),'Listes de sélection'!$M$57*HLOOKUP(3,'Listes de sélection'!$C$53:$E$58,5,FALSE)),0)","v":0},{"$f":"IF(F$56=4,IF(F$34='Listes de sélection'!$A$17,F$35*HLOOKUP(3,'Listes de sélection'!$C$53:$E$58,5,FALSE),'Listes de sélection'!$M$57*HLOOKUP(3,'Listes de sélection'!$C$53:$E$58,5,FALSE)),0)","v":0},{"$f":"IF(G$56=4,IF(G$34='Listes de sélection'!$A$17,G$35*HLOOKUP(3,'Listes de sélection'!$C$53:$E$58,5,FALSE),'Listes de sélection'!$M$57*HLOOKUP(3,'Listes de sélection'!$C$53:$E$58,5,FALSE)),0)","v":0},{"$f":"IF(H$56=4,IF(H$34='Listes de sélection'!$A$17,H$35*HLOOKUP(3,'Listes de sélection'!$C$53:$E$58,5,FALSE),'Listes de sélection'!$M$57*HLOOKUP(3,'Listes de sélection'!$C$53:$E$58,5,FALSE)),0)","v":0},{"$f":"IF(I$56=4,IF(I$34='Listes de sélection'!$A$17,I$35*HLOOKUP(3,'Listes de sélection'!$C$53:$E$58,5,FALSE),'Listes de sélection'!$M$57*HLOOKUP(3,'Listes de sélection'!$C$53:$E$58,5,FALSE)),0)","v":0},{"$f":"IF(J$56=4,IF(J$34='Listes de sélection'!$A$17,J$35*HLOOKUP(3,'Listes de sélection'!$C$53:$E$58,5,FALSE),'Listes de sélection'!$M$57*HLOOKUP(3,'Listes de sélection'!$C$53:$E$58,5,FALSE)),0)","v":0},{"$f":"IF(K$56=4,IF(K$34='Listes de sélection'!$A$17,K$35*HLOOKUP(3,'Listes de sélection'!$C$53:$E$58,5,FALSE),'Listes de sélection'!$M$57*HLOOKUP(3,'Listes de sélection'!$C$53:$E$58,5,FALSE)),0)","v":0},{"$f":"IF(L$56=4,IF(L$34='Listes de sélection'!$A$17,L$35*HLOOKUP(3,'Listes de sélection'!$C$53:$E$58,5,FALSE),'Listes de sélection'!$M$57*HLOOKUP(3,'Listes de sélection'!$C$53:$E$58,5,FALSE)),0)","v":0},{"$f":"IF(M$56=4,IF(M$34='Listes de sélection'!$A$17,M$35*HLOOKUP(3,'Listes de sélection'!$C$53:$E$58,5,FALSE),'Listes de sélection'!$M$57*HLOOKUP(3,'Listes de sélection'!$C$53:$E$58,5,FALSE)),0)","v":0},{"$f":"IF(N$56=4,IF(N$34='Listes de sélection'!$A$17,N$35*HLOOKUP(3,'Listes de sélection'!$C$53:$E$58,5,FALSE),'Listes de sélection'!$M$57*HLOOKUP(3,'Listes de sélection'!$C$53:$E$58,5,FALSE)),0)","v":0},{"$f":"IF(O$56=4,IF(O$34='Listes de sélection'!$A$17,O$35*HLOOKUP(3,'Listes de sélection'!$C$53:$E$58,5,FALSE),'Listes de sélection'!$M$57*HLOOKUP(3,'Listes de sélection'!$C$53:$E$58,5,FALSE)),0)","v":0},{"$f":"IF(P$56=4,IF(P$34='Listes de sélection'!$A$17,P$35*HLOOKUP(3,'Listes de sélection'!$C$53:$E$58,5,FALSE),'Listes de sélection'!$M$57*HLOOKUP(3,'Listes de sélection'!$C$53:$E$58,5,FALSE)),0)","v":0},{"$f":"IF(Q$56=4,IF(Q$34='Listes de sélection'!$A$17,Q$35*HLOOKUP(3,'Listes de sélection'!$C$53:$E$58,5,FALSE),'Listes de sélection'!$M$57*HLOOKUP(3,'Listes de sélection'!$C$53:$E$58,5,FALSE)),0)","v":0},{"$f":"IF(R$56=4,IF(R$34='Listes de sélection'!$A$17,R$35*HLOOKUP(3,'Listes de sélection'!$C$53:$E$58,5,FALSE),'Listes de sélection'!$M$57*HLOOKUP(3,'Listes de sélection'!$C$53:$E$58,5,FALSE)),0)","v":0},{"$f":"IF(S$56=4,IF(S$34='Listes de sélection'!$A$17,S$35*HLOOKUP(3,'Listes de sélection'!$C$53:$E$58,5,FALSE),'Listes de sélection'!$M$57*HLOOKUP(3,'Listes de sélection'!$C$53:$E$58,5,FALSE)),0)","v":0},{"$f":"IF(T$56=4,IF(T$34='Listes de sélection'!$A$17,T$35*HLOOKUP(3,'Listes de sélection'!$C$53:$E$58,5,FALSE),'Listes de sélection'!$M$57*HLOOKUP(3,'Listes de sélection'!$C$53:$E$58,5,FALSE)),0)","v":0},{"$f":"IF(U$56=4,IF(U$34='Listes de sélection'!$A$17,U$35*HLOOKUP(3,'Listes de sélection'!$C$53:$E$58,5,FALSE),'Listes de sélection'!$M$57*HLOOKUP(3,'Listes de sélection'!$C$53:$E$58,5,FALSE)),0)","v":0},{"$f":"IF(V$56=4,IF(V$34='Listes de sélection'!$A$17,V$35*HLOOKUP(3,'Listes de sélection'!$C$53:$E$58,5,FALSE),'Listes de sélection'!$M$57*HLOOKUP(3,'Listes de sélection'!$C$53:$E$58,5,FALSE)),0)","v":0},{"$f":"IF(W$56=4,IF(W$34='Listes de sélection'!$A$17,W$35*HLOOKUP(3,'Listes de sélection'!$C$53:$E$58,5,FALSE),'Listes de sélection'!$M$57*HLOOKUP(3,'Listes de sélection'!$C$53:$E$58,5,FALSE)),0)","v":0},{"$f":"IF(X$56=4,IF(X$34='Listes de sélection'!$A$17,X$35*HLOOKUP(3,'Listes de sélection'!$C$53:$E$58,5,FALSE),'Listes de sélection'!$M$57*HLOOKUP(3,'Listes de sélection'!$C$53:$E$58,5,FALSE)),0)","v":0},{"$f":"IF(Y$56=4,IF(Y$34='Listes de sélection'!$A$17,Y$35*HLOOKUP(3,'Listes de sélection'!$C$53:$E$58,5,FALSE),'Listes de sélection'!$M$57*HLOOKUP(3,'Listes de sélection'!$C$53:$E$58,5,FALSE)),0)","v":0},{"$f":"IF(Z$56=4,IF(Z$34='Listes de sélection'!$A$17,Z$35*HLOOKUP(3,'Listes de sélection'!$C$53:$E$58,5,FALSE),'Listes de sélection'!$M$57*HLOOKUP(3,'Listes de sélection'!$C$53:$E$58,5,FALSE)),0)","v":0},{"$f":"IF(AA$56=4,IF(AA$34='Listes de sélection'!$A$17,AA$35*HLOOKUP(3,'Listes de sélection'!$C$53:$E$58,5,FALSE),'Listes de sélection'!$M$57*HLOOKUP(3,'Listes de sélection'!$C$53:$E$58,5,FALSE)),0)","v":0},{"$f":"IF(AB$56=4,IF(AB$34='Listes de sélection'!$A$17,AB$35*HLOOKUP(3,'Listes de sélection'!$C$53:$E$58,5,FALSE),'Listes de sélection'!$M$57*HLOOKUP(3,'Listes de sélection'!$C$53:$E$58,5,FALSE)),0)","v":0},{"$f":"IF(AC$56=4,IF(AC$34='Listes de sélection'!$A$17,AC$35*HLOOKUP(3,'Listes de sélection'!$C$53:$E$58,5,FALSE),'Listes de sélection'!$M$57*HLOOKUP(3,'Listes de sélection'!$C$53:$E$58,5,FALSE)),0)","v":0},{"$f":"IF(AD$56=4,IF(AD$34='Listes de sélection'!$A$17,AD$35*HLOOKUP(3,'Listes de sélection'!$C$53:$E$58,5,FALSE),'Listes de sélection'!$M$57*HLOOKUP(3,'Listes de sélection'!$C$53:$E$58,5,FALSE)),0)","v":0},{"$f":"IF(AE$56=4,IF(AE$34='Listes de sélection'!$A$17,AE$35*HLOOKUP(3,'Listes de sélection'!$C$53:$E$58,5,FALSE),'Listes de sélection'!$M$57*HLOOKUP(3,'Listes de sélection'!$C$53:$E$58,5,FALSE)),0)","v":0},{"$f":"IF(AF$56=4,IF(AF$34='Listes de sélection'!$A$17,AF$35*HLOOKUP(3,'Listes de sélection'!$C$53:$E$58,5,FALSE),'Listes de sélection'!$M$57*HLOOKUP(3,'Listes de sélection'!$C$53:$E$58,5,FALSE)),0)","v":0},{"$f":"IF(AG$56=4,IF(AG$34='Listes de sélection'!$A$17,AG$35*HLOOKUP(3,'Listes de sélection'!$C$53:$E$58,5,FALSE),'Listes de sélection'!$M$57*HLOOKUP(3,'Listes de sélection'!$C$53:$E$58,5,FALSE)),0)","v":0},{"$f":"IF(AH$56=4,IF(AH$34='Listes de sélection'!$A$17,AH$35*HLOOKUP(3,'Listes de sélection'!$C$53:$E$58,5,FALSE),'Listes de sélection'!$M$57*HLOOKUP(3,'Listes de sélection'!$C$53:$E$58,5,FALSE)),0)","v":0},{"$f":"IF(AI$56=4,IF(AI$34='Listes de sélection'!$A$17,AI$35*HLOOKUP(3,'Listes de sélection'!$C$53:$E$58,5,FALSE),'Listes de sélection'!$M$57*HLOOKUP(3,'Listes de sélection'!$C$53:$E$58,5,FALSE)),0)","v":0},{"$f":"IF(AJ$56=4,IF(AJ$34='Listes de sélection'!$A$17,AJ$35*HLOOKUP(3,'Listes de sélection'!$C$53:$E$58,5,FALSE),'Listes de sélection'!$M$57*HLOOKUP(3,'Listes de sélection'!$C$53:$E$58,5,FALSE)),0)","v":0},{"$f":"IF(AK$56=4,IF(AK$34='Listes de sélection'!$A$17,AK$35*HLOOKUP(3,'Listes de sélection'!$C$53:$E$58,5,FALSE),'Listes de sélection'!$M$57*HLOOKUP(3,'Listes de sélection'!$C$53:$E$58,5,FALSE)),0)","v":0},{"$f":"IF(AL$56=4,IF(AL$34='Listes de sélection'!$A$17,AL$35*HLOOKUP(3,'Listes de sélection'!$C$53:$E$58,5,FALSE),'Listes de sélection'!$M$57*HLOOKUP(3,'Listes de sélection'!$C$53:$E$58,5,FALSE)),0)","v":0},{"$f":"IF(AM$56=4,IF(AM$34='Listes de sélection'!$A$17,AM$35*HLOOKUP(3,'Listes de sélection'!$C$53:$E$58,5,FALSE),'Listes de sélection'!$M$57*HLOOKUP(3,'Listes de sélection'!$C$53:$E$58,5,FALSE)),0)","v":0},{"$f":"IF(AN$56=4,IF(AN$34='Listes de sélection'!$A$17,AN$35*HLOOKUP(3,'Listes de sélection'!$C$53:$E$58,5,FALSE),'Listes de sélection'!$M$57*HLOOKUP(3,'Listes de sélection'!$C$53:$E$58,5,FALSE)),0)","v":0},{"$f":"IF(AO$56=4,IF(AO$34='Listes de sélection'!$A$17,AO$35*HLOOKUP(3,'Listes de sélection'!$C$53:$E$58,5,FALSE),'Listes de sélection'!$M$57*HLOOKUP(3,'Listes de sélection'!$C$53:$E$58,5,FALSE)),0)","v":0},{"$f":"IF(AP$56=4,IF(AP$34='Listes de sélection'!$A$17,AP$35*HLOOKUP(3,'Listes de sélection'!$C$53:$E$58,5,FALSE),'Listes de sélection'!$M$57*HLOOKUP(3,'Listes de sélection'!$C$53:$E$58,5,FALSE)),0)","v":0},{"$f":"IF(AQ$56=4,IF(AQ$34='Listes de sélection'!$A$17,AQ$35*HLOOKUP(3,'Listes de sélection'!$C$53:$E$58,5,FALSE),'Listes de sélection'!$M$57*HLOOKUP(3,'Listes de sélection'!$C$53:$E$58,5,FALSE)),0)","v":0},{"$f":"IF(AR$56=4,IF(AR$34='Listes de sélection'!$A$17,AR$35*HLOOKUP(3,'Listes de sélection'!$C$53:$E$58,5,FALSE),'Listes de sélection'!$M$57*HLOOKUP(3,'Listes de sélection'!$C$53:$E$58,5,FALSE)),0)","v":0},{"$f":"IF(AS$56=4,IF(AS$34='Listes de sélection'!$A$17,AS$35*HLOOKUP(3,'Listes de sélection'!$C$53:$E$58,5,FALSE),'Listes de sélection'!$M$57*HLOOKUP(3,'Listes de sélection'!$C$53:$E$58,5,FALSE)),0)","v":0},{"$f":"IF(AT$56=4,IF(AT$34='Listes de sélection'!$A$17,AT$35*HLOOKUP(3,'Listes de sélection'!$C$53:$E$58,5,FALSE),'Listes de sélection'!$M$57*HLOOKUP(3,'Listes de sélection'!$C$53:$E$58,5,FALSE)),0)","v":0},{"$f":"IF(AU$56=4,IF(AU$34='Listes de sélection'!$A$17,AU$35*HLOOKUP(3,'Listes de sélection'!$C$53:$E$58,5,FALSE),'Listes de sélection'!$M$57*HLOOKUP(3,'Listes de sélection'!$C$53:$E$58,5,FALSE)),0)","v":0},{"$f":"IF(AV$56=4,IF(AV$34='Listes de sélection'!$A$17,AV$35*HLOOKUP(3,'Listes de sélection'!$C$53:$E$58,5,FALSE),'Listes de sélection'!$M$57*HLOOKUP(3,'Listes de sélection'!$C$53:$E$58,5,FALSE)),0)","v":0},{"$f":"IF(AW$56=4,IF(AW$34='Listes de sélection'!$A$17,AW$35*HLOOKUP(3,'Listes de sélection'!$C$53:$E$58,5,FALSE),'Listes de sélection'!$M$57*HLOOKUP(3,'Listes de sélection'!$C$53:$E$58,5,FALSE)),0)","v":0},{"$f":"IF(AX$56=4,IF(AX$34='Listes de sélection'!$A$17,AX$35*HLOOKUP(3,'Listes de sélection'!$C$53:$E$58,5,FALSE),'Listes de sélection'!$M$57*HLOOKUP(3,'Listes de sélection'!$C$53:$E$58,5,FALSE)),0)","v":0},{"$f":"IF(AY$56=4,IF(AY$34='Listes de sélection'!$A$17,AY$35*HLOOKUP(3,'Listes de sélection'!$C$53:$E$58,5,FALSE),'Listes de sélection'!$M$57*HLOOKUP(3,'Listes de sélection'!$C$53:$E$58,5,FALSE)),0)","v":0},{"$f":"IF(AZ$56=4,IF(AZ$34='Listes de sélection'!$A$17,AZ$35*HLOOKUP(3,'Listes de sélection'!$C$53:$E$58,5,FALSE),'Listes de sélection'!$M$57*HLOOKUP(3,'Listes de sélection'!$C$53:$E$58,5,FALSE)),0)","v":0},{"$f":"IF(BA$56=4,IF(BA$34='Listes de sélection'!$A$17,BA$35*HLOOKUP(3,'Listes de sélection'!$C$53:$E$58,5,FALSE),'Listes de sélection'!$M$57*HLOOKUP(3,'Listes de sélection'!$C$53:$E$58,5,FALSE)),0)","v":0},{"$f":"IF(BB$56=4,IF(BB$34='Listes de sélection'!$A$17,BB$35*HLOOKUP(3,'Listes de sélection'!$C$53:$E$58,5,FALSE),'Listes de sélection'!$M$57*HLOOKUP(3,'Listes de sélection'!$C$53:$E$58,5,FALSE)),0)","v":0},{"$f":"IF(BC$56=4,IF(BC$34='Listes de sélection'!$A$17,BC$35*HLOOKUP(3,'Listes de sélection'!$C$53:$E$58,5,FALSE),'Listes de sélection'!$M$57*HLOOKUP(3,'Listes de sélection'!$C$53:$E$58,5,FALSE)),0)","v":0},{"$f":"IF(BD$56=4,IF(BD$34='Listes de sélection'!$A$17,BD$35*HLOOKUP(3,'Listes de sélection'!$C$53:$E$58,5,FALSE),'Listes de sélection'!$M$57*HLOOKUP(3,'Listes de sélection'!$C$53:$E$58,5,FALSE)),0)","v":0},{"$f":"IF(BE$56=4,IF(BE$34='Listes de sélection'!$A$17,BE$35*HLOOKUP(3,'Listes de sélection'!$C$53:$E$58,5,FALSE),'Listes de sélection'!$M$57*HLOOKUP(3,'Listes de sélection'!$C$53:$E$58,5,FALSE)),0)","v":0},{"$f":"IF(BF$56=4,IF(BF$34='Listes de sélection'!$A$17,BF$35*HLOOKUP(3,'Listes de sélection'!$C$53:$E$58,5,FALSE),'Listes de sélection'!$M$57*HLOOKUP(3,'Listes de sélection'!$C$53:$E$58,5,FALSE)),0)","v":0},{"$f":"IF(BG$56=4,IF(BG$34='Listes de sélection'!$A$17,BG$35*HLOOKUP(3,'Listes de sélection'!$C$53:$E$58,5,FALSE),'Listes de sélection'!$M$57*HLOOKUP(3,'Listes de sélection'!$C$53:$E$58,5,FALSE)),0)","v":0},{"$f":"IF(BH$56=4,IF(BH$34='Listes de sélection'!$A$17,BH$35*HLOOKUP(3,'Listes de sélection'!$C$53:$E$58,5,FALSE),'Listes de sélection'!$M$57*HLOOKUP(3,'Listes de sélection'!$C$53:$E$58,5,FALSE)),0)","v":0},{"$f":"IF(BI$56=4,IF(BI$34='Listes de sélection'!$A$17,BI$35*HLOOKUP(3,'Listes de sélection'!$C$53:$E$58,5,FALSE),'Listes de sélection'!$M$57*HLOOKUP(3,'Listes de sélection'!$C$53:$E$58,5,FALSE)),0)","v":0},{"$f":"IF(BJ$56=4,IF(BJ$34='Listes de sélection'!$A$17,BJ$35*HLOOKUP(3,'Listes de sélection'!$C$53:$E$58,5,FALSE),'Listes de sélection'!$M$57*HLOOKUP(3,'Listes de sélection'!$C$53:$E$58,5,FALSE)),0)","v":0},{"$f":"IF(BK$56=4,IF(BK$34='Listes de sélection'!$A$17,BK$35*HLOOKUP(3,'Listes de sélection'!$C$53:$E$58,5,FALSE),'Listes de sélection'!$M$57*HLOOKUP(3,'Listes de sélection'!$C$53:$E$58,5,FALSE)),0)","v":0},{"$f":"IF(BL$56=4,IF(BL$34='Listes de sélection'!$A$17,BL$35*HLOOKUP(3,'Listes de sélection'!$C$53:$E$58,5,FALSE),'Listes de sélection'!$M$57*HLOOKUP(3,'Listes de sélection'!$C$53:$E$58,5,FALSE)),0)","v":0},{"$f":"IF(BM$56=4,IF(BM$34='Listes de sélection'!$A$17,BM$35*HLOOKUP(3,'Listes de sélection'!$C$53:$E$58,5,FALSE),'Listes de sélection'!$M$57*HLOOKUP(3,'Listes de sélection'!$C$53:$E$58,5,FALSE)),0)","v":0},{"$f":"IF(BN$56=4,IF(BN$34='Listes de sélection'!$A$17,BN$35*HLOOKUP(3,'Listes de sélection'!$C$53:$E$58,5,FALSE),'Listes de sélection'!$M$57*HLOOKUP(3,'Listes de sélection'!$C$53:$E$58,5,FALSE)),0)","v":0},{"$f":"IF(BO$56=4,IF(BO$34='Listes de sélection'!$A$17,BO$35*HLOOKUP(3,'Listes de sélection'!$C$53:$E$58,5,FALSE),'Listes de sélection'!$M$57*HLOOKUP(3,'Listes de sélection'!$C$53:$E$58,5,FALSE)),0)","v":0},{"$f":"IF(BP$56=4,IF(BP$34='Listes de sélection'!$A$17,BP$35*HLOOKUP(3,'Listes de sélection'!$C$53:$E$58,5,FALSE),'Listes de sélection'!$M$57*HLOOKUP(3,'Listes de sélection'!$C$53:$E$58,5,FALSE)),0)","v":0},{"$f":"IF(BQ$56=4,IF(BQ$34='Listes de sélection'!$A$17,BQ$35*HLOOKUP(3,'Listes de sélection'!$C$53:$E$58,5,FALSE),'Listes de sélection'!$M$57*HLOOKUP(3,'Listes de sélection'!$C$53:$E$58,5,FALSE)),0)","v":0},{"$f":"IF(BR$56=4,IF(BR$34='Listes de sélection'!$A$17,BR$35*HLOOKUP(3,'Listes de sélection'!$C$53:$E$58,5,FALSE),'Listes de sélection'!$M$57*HLOOKUP(3,'Listes de sélection'!$C$53:$E$58,5,FALSE)),0)","v":0},{"$f":"IF(BS$56=4,IF(BS$34='Listes de sélection'!$A$17,BS$35*HLOOKUP(3,'Listes de sélection'!$C$53:$E$58,5,FALSE),'Listes de sélection'!$M$57*HLOOKUP(3,'Listes de sélection'!$C$53:$E$58,5,FALSE)),0)","v":0},{"$f":"IF(BT$56=4,IF(BT$34='Listes de sélection'!$A$17,BT$35*HLOOKUP(3,'Listes de sélection'!$C$53:$E$58,5,FALSE),'Listes de sélection'!$M$57*HLOOKUP(3,'Listes de sélection'!$C$53:$E$58,5,FALSE)),0)","v":0},{"$f":"IF(BU$56=4,IF(BU$34='Listes de sélection'!$A$17,BU$35*HLOOKUP(3,'Listes de sélection'!$C$53:$E$58,5,FALSE),'Listes de sélection'!$M$57*HLOOKUP(3,'Listes de sélection'!$C$53:$E$58,5,FALSE)),0)","v":0},{"$f":"IF(BV$56=4,IF(BV$34='Listes de sélection'!$A$17,BV$35*HLOOKUP(3,'Listes de sélection'!$C$53:$E$58,5,FALSE),'Listes de sélection'!$M$57*HLOOKUP(3,'Listes de sélection'!$C$53:$E$58,5,FALSE)),0)","v":0},{"$f":"IF(BW$56=4,IF(BW$34='Listes de sélection'!$A$17,BW$35*HLOOKUP(3,'Listes de sélection'!$C$53:$E$58,5,FALSE),'Listes de sélection'!$M$57*HLOOKUP(3,'Listes de sélection'!$C$53:$E$58,5,FALSE)),0)","v":0},{"$f":"IF(BX$56=4,IF(BX$34='Listes de sélection'!$A$17,BX$35*HLOOKUP(3,'Listes de sélection'!$C$53:$E$58,5,FALSE),'Listes de sélection'!$M$57*HLOOKUP(3,'Listes de sélection'!$C$53:$E$58,5,FALSE)),0)","v":0},{"$f":"IF(BY$56=4,IF(BY$34='Listes de sélection'!$A$17,BY$35*HLOOKUP(3,'Listes de sélection'!$C$53:$E$58,5,FALSE),'Listes de sélection'!$M$57*HLOOKUP(3,'Listes de sélection'!$C$53:$E$58,5,FALSE)),0)","v":0},{"$f":"IF(BZ$56=4,IF(BZ$34='Listes de sélection'!$A$17,BZ$35*HLOOKUP(3,'Listes de sélection'!$C$53:$E$58,5,FALSE),'Listes de sélection'!$M$57*HLOOKUP(3,'Listes de sélection'!$C$53:$E$58,5,FALSE)),0)","v":0},{"$f":"IF(CA$56=4,IF(CA$34='Listes de sélection'!$A$17,CA$35*HLOOKUP(3,'Listes de sélection'!$C$53:$E$58,5,FALSE),'Listes de sélection'!$M$57*HLOOKUP(3,'Listes de sélection'!$C$53:$E$58,5,FALSE)),0)","v":0},{"$f":"IF(CB$56=4,IF(CB$34='Listes de sélection'!$A$17,CB$35*HLOOKUP(3,'Listes de sélection'!$C$53:$E$58,5,FALSE),'Listes de sélection'!$M$57*HLOOKUP(3,'Listes de sélection'!$C$53:$E$58,5,FALSE)),0)","v":0},{"$f":"IF(CC$56=4,IF(CC$34='Listes de sélection'!$A$17,CC$35*HLOOKUP(3,'Listes de sélection'!$C$53:$E$58,5,FALSE),'Listes de sélection'!$M$57*HLOOKUP(3,'Listes de sélection'!$C$53:$E$58,5,FALSE)),0)","v":0},{"$f":"IF(CD$56=4,IF(CD$34='Listes de sélection'!$A$17,CD$35*HLOOKUP(3,'Listes de sélection'!$C$53:$E$58,5,FALSE),'Listes de sélection'!$M$57*HLOOKUP(3,'Listes de sélection'!$C$53:$E$58,5,FALSE)),0)","v":0},{"$f":"IF(CE$56=4,IF(CE$34='Listes de sélection'!$A$17,CE$35*HLOOKUP(3,'Listes de sélection'!$C$53:$E$58,5,FALSE),'Listes de sélection'!$M$57*HLOOKUP(3,'Listes de sélection'!$C$53:$E$58,5,FALSE)),0)","v":0},{"$f":"IF(CF$56=4,IF(CF$34='Listes de sélection'!$A$17,CF$35*HLOOKUP(3,'Listes de sélection'!$C$53:$E$58,5,FALSE),'Listes de sélection'!$M$57*HLOOKUP(3,'Listes de sélection'!$C$53:$E$58,5,FALSE)),0)","v":0},{"$f":"IF(CG$56=4,IF(CG$34='Listes de sélection'!$A$17,CG$35*HLOOKUP(3,'Listes de sélection'!$C$53:$E$58,5,FALSE),'Listes de sélection'!$M$57*HLOOKUP(3,'Listes de sélection'!$C$53:$E$58,5,FALSE)),0)","v":0},{"$f":"IF(CH$56=4,IF(CH$34='Listes de sélection'!$A$17,CH$35*HLOOKUP(3,'Listes de sélection'!$C$53:$E$58,5,FALSE),'Listes de sélection'!$M$57*HLOOKUP(3,'Listes de sélection'!$C$53:$E$58,5,FALSE)),0)","v":0},{"$f":"IF(CI$56=4,IF(CI$34='Listes de sélection'!$A$17,CI$35*HLOOKUP(3,'Listes de sélection'!$C$53:$E$58,5,FALSE),'Listes de sélection'!$M$57*HLOOKUP(3,'Listes de sélection'!$C$53:$E$58,5,FALSE)),0)","v":0},{"$f":"IF(CJ$56=4,IF(CJ$34='Listes de sélection'!$A$17,CJ$35*HLOOKUP(3,'Listes de sélection'!$C$53:$E$58,5,FALSE),'Listes de sélection'!$M$57*HLOOKUP(3,'Listes de sélection'!$C$53:$E$58,5,FALSE)),0)","v":0},{"$f":"IF(CK$56=4,IF(CK$34='Listes de sélection'!$A$17,CK$35*HLOOKUP(3,'Listes de sélection'!$C$53:$E$58,5,FALSE),'Listes de sélection'!$M$57*HLOOKUP(3,'Listes de sélection'!$C$53:$E$58,5,FALSE)),0)","v":0},{"$f":"IF(CL$56=4,IF(CL$34='Listes de sélection'!$A$17,CL$35*HLOOKUP(3,'Listes de sélection'!$C$53:$E$58,5,FALSE),'Listes de sélection'!$M$57*HLOOKUP(3,'Listes de sélection'!$C$53:$E$58,5,FALSE)),0)","v":0},{"$f":"IF(CM$56=4,IF(CM$34='Listes de sélection'!$A$17,CM$35*HLOOKUP(3,'Listes de sélection'!$C$53:$E$58,5,FALSE),'Listes de sélection'!$M$57*HLOOKUP(3,'Listes de sélection'!$C$53:$E$58,5,FALSE)),0)","v":0},{"$f":"IF(CN$56=4,IF(CN$34='Listes de sélection'!$A$17,CN$35*HLOOKUP(3,'Listes de sélection'!$C$53:$E$58,5,FALSE),'Listes de sélection'!$M$57*HLOOKUP(3,'Listes de sélection'!$C$53:$E$58,5,FALSE)),0)","v":0},{"$f":"IF(CO$56=4,IF(CO$34='Listes de sélection'!$A$17,CO$35*HLOOKUP(3,'Listes de sélection'!$C$53:$E$58,5,FALSE),'Listes de sélection'!$M$57*HLOOKUP(3,'Listes de sélection'!$C$53:$E$58,5,FALSE)),0)","v":0},{"$f":"IF(CP$56=4,IF(CP$34='Listes de sélection'!$A$17,CP$35*HLOOKUP(3,'Listes de sélection'!$C$53:$E$58,5,FALSE),'Listes de sélection'!$M$57*HLOOKUP(3,'Listes de sélection'!$C$53:$E$58,5,FALSE)),0)","v":0},{"$f":"IF(CQ$56=4,IF(CQ$34='Listes de sélection'!$A$17,CQ$35*HLOOKUP(3,'Listes de sélection'!$C$53:$E$58,5,FALSE),'Listes de sélection'!$M$57*HLOOKUP(3,'Listes de sélection'!$C$53:$E$58,5,FALSE)),0)","v":0},{"$f":"IF(CR$56=4,IF(CR$34='Listes de sélection'!$A$17,CR$35*HLOOKUP(3,'Listes de sélection'!$C$53:$E$58,5,FALSE),'Listes de sélection'!$M$57*HLOOKUP(3,'Listes de sélection'!$C$53:$E$58,5,FALSE)),0)","v":0},{"$f":"IF(CS$56=4,IF(CS$34='Listes de sélection'!$A$17,CS$35*HLOOKUP(3,'Listes de sélection'!$C$53:$E$58,5,FALSE),'Listes de sélection'!$M$57*HLOOKUP(3,'Listes de sélection'!$C$53:$E$58,5,FALSE)),0)","v":0},{"$f":"IF(CT$56=4,IF(CT$34='Listes de sélection'!$A$17,CT$35*HLOOKUP(3,'Listes de sélection'!$C$53:$E$58,5,FALSE),'Listes de sélection'!$M$57*HLOOKUP(3,'Listes de sélection'!$C$53:$E$58,5,FALSE)),0)","v":0},{"$f":"IF(CU$56=4,IF(CU$34='Listes de sélection'!$A$17,CU$35*HLOOKUP(3,'Listes de sélection'!$C$53:$E$58,5,FALSE),'Listes de sélection'!$M$57*HLOOKUP(3,'Listes de sélection'!$C$53:$E$58,5,FALSE)),0)","v":0},{"$f":"IF(CV$56=4,IF(CV$34='Listes de sélection'!$A$17,CV$35*HLOOKUP(3,'Listes de sélection'!$C$53:$E$58,5,FALSE),'Listes de sélection'!$M$57*HLOOKUP(3,'Listes de sélection'!$C$53:$E$58,5,FALSE)),0)","v":0},{"$f":"IF(CW$56=4,IF(CW$34='Listes de sélection'!$A$17,CW$35*HLOOKUP(3,'Listes de sélection'!$C$53:$E$58,5,FALSE),'Listes de sélection'!$M$57*HLOOKUP(3,'Listes de sélection'!$C$53:$E$58,5,FALSE)),0)","v":0},{"$f":"IF(CX$56=4,IF(CX$34='Listes de sélection'!$A$17,CX$35*HLOOKUP(3,'Listes de sélection'!$C$53:$E$58,5,FALSE),'Listes de sélection'!$M$57*HLOOKUP(3,'Listes de sélection'!$C$53:$E$58,5,FALSE)),0)","v":0},{"$f":"IF(CY$56=4,IF(CY$34='Listes de sélection'!$A$17,CY$35*HLOOKUP(3,'Listes de sélection'!$C$53:$E$58,5,FALSE),'Listes de sélection'!$M$57*HLOOKUP(3,'Listes de sélection'!$C$53:$E$58,5,FALSE)),0)","v":0},{"$f":"IF(CZ$56=4,IF(CZ$34='Listes de sélection'!$A$17,CZ$35*HLOOKUP(3,'Listes de sélection'!$C$53:$E$58,5,FALSE),'Listes de sélection'!$M$57*HLOOKUP(3,'Listes de sélection'!$C$53:$E$58,5,FALSE)),0)","v":0},{"$f":"IF(DA$56=4,IF(DA$34='Listes de sélection'!$A$17,DA$35*HLOOKUP(3,'Listes de sélection'!$C$53:$E$58,5,FALSE),'Listes de sélection'!$M$57*HLOOKUP(3,'Listes de sélection'!$C$53:$E$58,5,FALSE)),0)","v":0},{"$f":"IF(DB$56=4,IF(DB$34='Listes de sélection'!$A$17,DB$35*HLOOKUP(3,'Listes de sélection'!$C$53:$E$58,5,FALSE),'Listes de sélection'!$M$57*HLOOKUP(3,'Listes de sélection'!$C$53:$E$58,5,FALSE)),0)","v":0},{"$f":"IF(DC$56=4,IF(DC$34='Listes de sélection'!$A$17,DC$35*HLOOKUP(3,'Listes de sélection'!$C$53:$E$58,5,FALSE),'Listes de sélection'!$M$57*HLOOKUP(3,'Listes de sélection'!$C$53:$E$58,5,FALSE)),0)","v":0},{"$f":"IF(DD$56=4,IF(DD$34='Listes de sélection'!$A$17,DD$35*HLOOKUP(3,'Listes de sélection'!$C$53:$E$58,5,FALSE),'Listes de sélection'!$M$57*HLOOKUP(3,'Listes de sélection'!$C$53:$E$58,5,FALSE)),0)","v":0},{"$f":"IF(DE$56=4,IF(DE$34='Listes de sélection'!$A$17,DE$35*HLOOKUP(3,'Listes de sélection'!$C$53:$E$58,5,FALSE),'Listes de sélection'!$M$57*HLOOKUP(3,'Listes de sélection'!$C$53:$E$58,5,FALSE)),0)","v":0},{"$f":"IF(DF$56=4,IF(DF$34='Listes de sélection'!$A$17,DF$35*HLOOKUP(3,'Listes de sélection'!$C$53:$E$58,5,FALSE),'Listes de sélection'!$M$57*HLOOKUP(3,'Listes de sélection'!$C$53:$E$58,5,FALSE)),0)","v":0},{"$f":"IF(DG$56=4,IF(DG$34='Listes de sélection'!$A$17,DG$35*HLOOKUP(3,'Listes de sélection'!$C$53:$E$58,5,FALSE),'Listes de sélection'!$M$57*HLOOKUP(3,'Listes de sélection'!$C$53:$E$58,5,FALSE)),0)","v":0},{"$f":"IF(DH$56=4,IF(DH$34='Listes de sélection'!$A$17,DH$35*HLOOKUP(3,'Listes de sélection'!$C$53:$E$58,5,FALSE),'Listes de sélection'!$M$57*HLOOKUP(3,'Listes de sélection'!$C$53:$E$58,5,FALSE)),0)","v":0},{"$f":"IF(DI$56=4,IF(DI$34='Listes de sélection'!$A$17,DI$35*HLOOKUP(3,'Listes de sélection'!$C$53:$E$58,5,FALSE),'Listes de sélection'!$M$57*HLOOKUP(3,'Listes de sélection'!$C$53:$E$58,5,FALSE)),0)","v":0},{"$f":"IF(DJ$56=4,IF(DJ$34='Listes de sélection'!$A$17,DJ$35*HLOOKUP(3,'Listes de sélection'!$C$53:$E$58,5,FALSE),'Listes de sélection'!$M$57*HLOOKUP(3,'Listes de sélection'!$C$53:$E$58,5,FALSE)),0)","v":0},{"$f":"IF(DK$56=4,IF(DK$34='Listes de sélection'!$A$17,DK$35*HLOOKUP(3,'Listes de sélection'!$C$53:$E$58,5,FALSE),'Listes de sélection'!$M$57*HLOOKUP(3,'Listes de sélection'!$C$53:$E$58,5,FALSE)),0)","v":0},{"$f":"IF(DL$56=4,IF(DL$34='Listes de sélection'!$A$17,DL$35*HLOOKUP(3,'Listes de sélection'!$C$53:$E$58,5,FALSE),'Listes de sélection'!$M$57*HLOOKUP(3,'Listes de sélection'!$C$53:$E$58,5,FALSE)),0)","v":0},{"$f":"IF(DM$56=4,IF(DM$34='Listes de sélection'!$A$17,DM$35*HLOOKUP(3,'Listes de sélection'!$C$53:$E$58,5,FALSE),'Listes de sélection'!$M$57*HLOOKUP(3,'Listes de sélection'!$C$53:$E$58,5,FALSE)),0)","v":0},{"$f":"IF(DN$56=4,IF(DN$34='Listes de sélection'!$A$17,DN$35*HLOOKUP(3,'Listes de sélection'!$C$53:$E$58,5,FALSE),'Listes de sélection'!$M$57*HLOOKUP(3,'Listes de sélection'!$C$53:$E$58,5,FALSE)),0)","v":0},{"$f":"IF(DO$56=4,IF(DO$34='Listes de sélection'!$A$17,DO$35*HLOOKUP(3,'Listes de sélection'!$C$53:$E$58,5,FALSE),'Listes de sélection'!$M$57*HLOOKUP(3,'Listes de sélection'!$C$53:$E$58,5,FALSE)),0)","v":0},{"$f":"IF(DP$56=4,IF(DP$34='Listes de sélection'!$A$17,DP$35*HLOOKUP(3,'Listes de sélection'!$C$53:$E$58,5,FALSE),'Listes de sélection'!$M$57*HLOOKUP(3,'Listes de sélection'!$C$53:$E$58,5,FALSE)),0)","v":0},{"$f":"IF(DQ$56=4,IF(DQ$34='Listes de sélection'!$A$17,DQ$35*HLOOKUP(3,'Listes de sélection'!$C$53:$E$58,5,FALSE),'Listes de sélection'!$M$57*HLOOKUP(3,'Listes de sélection'!$C$53:$E$58,5,FALSE)),0)","v":0},{"$f":"IF(DR$56=4,IF(DR$34='Listes de sélection'!$A$17,DR$35*HLOOKUP(3,'Listes de sélection'!$C$53:$E$58,5,FALSE),'Listes de sélection'!$M$57*HLOOKUP(3,'Listes de sélection'!$C$53:$E$58,5,FALSE)),0)","v":0},{"$f":"IF(DS$56=4,IF(DS$34='Listes de sélection'!$A$17,DS$35*HLOOKUP(3,'Listes de sélection'!$C$53:$E$58,5,FALSE),'Listes de sélection'!$M$57*HLOOKUP(3,'Listes de sélection'!$C$53:$E$58,5,FALSE)),0)","v":0},{"$f":"IF(DT$56=4,IF(DT$34='Listes de sélection'!$A$17,DT$35*HLOOKUP(3,'Listes de sélection'!$C$53:$E$58,5,FALSE),'Listes de sélection'!$M$57*HLOOKUP(3,'Listes de sélection'!$C$53:$E$58,5,FALSE)),0)","v":0},{"$f":"IF(DU$56=4,IF(DU$34='Listes de sélection'!$A$17,DU$35*HLOOKUP(3,'Listes de sélection'!$C$53:$E$58,5,FALSE),'Listes de sélection'!$M$57*HLOOKUP(3,'Listes de sélection'!$C$53:$E$58,5,FALSE)),0)","v":0},{"$f":"IF(DV$56=4,IF(DV$34='Listes de sélection'!$A$17,DV$35*HLOOKUP(3,'Listes de sélection'!$C$53:$E$58,5,FALSE),'Listes de sélection'!$M$57*HLOOKUP(3,'Listes de sélection'!$C$53:$E$58,5,FALSE)),0)","v":0},{"$f":"IF(DW$56=4,IF(DW$34='Listes de sélection'!$A$17,DW$35*HLOOKUP(3,'Listes de sélection'!$C$53:$E$58,5,FALSE),'Listes de sélection'!$M$57*HLOOKUP(3,'Listes de sélection'!$C$53:$E$58,5,FALSE)),0)","v":0},{"$f":"IF(DX$56=4,IF(DX$34='Listes de sélection'!$A$17,DX$35*HLOOKUP(3,'Listes de sélection'!$C$53:$E$58,5,FALSE),'Listes de sélection'!$M$57*HLOOKUP(3,'Listes de sélection'!$C$53:$E$58,5,FALSE)),0)","v":0},{"$f":"IF(DY$56=4,IF(DY$34='Listes de sélection'!$A$17,DY$35*HLOOKUP(3,'Listes de sélection'!$C$53:$E$58,5,FALSE),'Listes de sélection'!$M$57*HLOOKUP(3,'Listes de sélection'!$C$53:$E$58,5,FALSE)),0)","v":0},{"$f":"IF(DZ$56=4,IF(DZ$34='Listes de sélection'!$A$17,DZ$35*HLOOKUP(3,'Listes de sélection'!$C$53:$E$58,5,FALSE),'Listes de sélection'!$M$57*HLOOKUP(3,'Listes de sélection'!$C$53:$E$58,5,FALSE)),0)","v":0},{"$f":"IF(EA$56=4,IF(EA$34='Listes de sélection'!$A$17,EA$35*HLOOKUP(3,'Listes de sélection'!$C$53:$E$58,5,FALSE),'Listes de sélection'!$M$57*HLOOKUP(3,'Listes de sélection'!$C$53:$E$58,5,FALSE)),0)","v":0},{"$f":"IF(EB$56=4,IF(EB$34='Listes de sélection'!$A$17,EB$35*HLOOKUP(3,'Listes de sélection'!$C$53:$E$58,5,FALSE),'Listes de sélection'!$M$57*HLOOKUP(3,'Listes de sélection'!$C$53:$E$58,5,FALSE)),0)","v":0},{"$f":"IF(EC$56=4,IF(EC$34='Listes de sélection'!$A$17,EC$35*HLOOKUP(3,'Listes de sélection'!$C$53:$E$58,5,FALSE),'Listes de sélection'!$M$57*HLOOKUP(3,'Listes de sélection'!$C$53:$E$58,5,FALSE)),0)","v":0},{"$f":"IF(ED$56=4,IF(ED$34='Listes de sélection'!$A$17,ED$35*HLOOKUP(3,'Listes de sélection'!$C$53:$E$58,5,FALSE),'Listes de sélection'!$M$57*HLOOKUP(3,'Listes de sélection'!$C$53:$E$58,5,FALSE)),0)","v":0},{"$f":"IF(EE$56=4,IF(EE$34='Listes de sélection'!$A$17,EE$35*HLOOKUP(3,'Listes de sélection'!$C$53:$E$58,5,FALSE),'Listes de sélection'!$M$57*HLOOKUP(3,'Listes de sélection'!$C$53:$E$58,5,FALSE)),0)","v":0},{"$f":"IF(EF$56=4,IF(EF$34='Listes de sélection'!$A$17,EF$35*HLOOKUP(3,'Listes de sélection'!$C$53:$E$58,5,FALSE),'Listes de sélection'!$M$57*HLOOKUP(3,'Listes de sélection'!$C$53:$E$58,5,FALSE)),0)","v":0},{"$f":"IF(EG$56=4,IF(EG$34='Listes de sélection'!$A$17,EG$35*HLOOKUP(3,'Listes de sélection'!$C$53:$E$58,5,FALSE),'Listes de sélection'!$M$57*HLOOKUP(3,'Listes de sélection'!$C$53:$E$58,5,FALSE)),0)","v":0},{"$f":"IF(EH$56=4,IF(EH$34='Listes de sélection'!$A$17,EH$35*HLOOKUP(3,'Listes de sélection'!$C$53:$E$58,5,FALSE),'Listes de sélection'!$M$57*HLOOKUP(3,'Listes de sélection'!$C$53:$E$58,5,FALSE)),0)","v":0},{"$f":"IF(EI$56=4,IF(EI$34='Listes de sélection'!$A$17,EI$35*HLOOKUP(3,'Listes de sélection'!$C$53:$E$58,5,FALSE),'Listes de sélection'!$M$57*HLOOKUP(3,'Listes de sélection'!$C$53:$E$58,5,FALSE)),0)","v":0},{"$f":"IF(EJ$56=4,IF(EJ$34='Listes de sélection'!$A$17,EJ$35*HLOOKUP(3,'Listes de sélection'!$C$53:$E$58,5,FALSE),'Listes de sélection'!$M$57*HLOOKUP(3,'Listes de sélection'!$C$53:$E$58,5,FALSE)),0)","v":0},{"$f":"IF(EK$56=4,IF(EK$34='Listes de sélection'!$A$17,EK$35*HLOOKUP(3,'Listes de sélection'!$C$53:$E$58,5,FALSE),'Listes de sélection'!$M$57*HLOOKUP(3,'Listes de sélection'!$C$53:$E$58,5,FALSE)),0)","v":0},{"$f":"IF(EL$56=4,IF(EL$34='Listes de sélection'!$A$17,EL$35*HLOOKUP(3,'Listes de sélection'!$C$53:$E$58,5,FALSE),'Listes de sélection'!$M$57*HLOOKUP(3,'Listes de sélection'!$C$53:$E$58,5,FALSE)),0)","v":0},{"$f":"IF(EM$56=4,IF(EM$34='Listes de sélection'!$A$17,EM$35*HLOOKUP(3,'Listes de sélection'!$C$53:$E$58,5,FALSE),'Listes de sélection'!$M$57*HLOOKUP(3,'Listes de sélection'!$C$53:$E$58,5,FALSE)),0)","v":0},{"$f":"IF(EN$56=4,IF(EN$34='Listes de sélection'!$A$17,EN$35*HLOOKUP(3,'Listes de sélection'!$C$53:$E$58,5,FALSE),'Listes de sélection'!$M$57*HLOOKUP(3,'Listes de sélection'!$C$53:$E$58,5,FALSE)),0)","v":0},{"$f":"IF(EO$56=4,IF(EO$34='Listes de sélection'!$A$17,EO$35*HLOOKUP(3,'Listes de sélection'!$C$53:$E$58,5,FALSE),'Listes de sélection'!$M$57*HLOOKUP(3,'Listes de sélection'!$C$53:$E$58,5,FALSE)),0)","v":0},{"$f":"IF(EP$56=4,IF(EP$34='Listes de sélection'!$A$17,EP$35*HLOOKUP(3,'Listes de sélection'!$C$53:$E$58,5,FALSE),'Listes de sélection'!$M$57*HLOOKUP(3,'Listes de sélection'!$C$53:$E$58,5,FALSE)),0)","v":0},{"$f":"IF(EQ$56=4,IF(EQ$34='Listes de sélection'!$A$17,EQ$35*HLOOKUP(3,'Listes de sélection'!$C$53:$E$58,5,FALSE),'Listes de sélection'!$M$57*HLOOKUP(3,'Listes de sélection'!$C$53:$E$58,5,FALSE)),0)","v":0},{"$f":"IF(ER$56=4,IF(ER$34='Listes de sélection'!$A$17,ER$35*HLOOKUP(3,'Listes de sélection'!$C$53:$E$58,5,FALSE),'Listes de sélection'!$M$57*HLOOKUP(3,'Listes de sélection'!$C$53:$E$58,5,FALSE)),0)","v":0},{"$f":"IF(ES$56=4,IF(ES$34='Listes de sélection'!$A$17,ES$35*HLOOKUP(3,'Listes de sélection'!$C$53:$E$58,5,FALSE),'Listes de sélection'!$M$57*HLOOKUP(3,'Listes de sélection'!$C$53:$E$58,5,FALSE)),0)","v":0},{"$f":"IF(ET$56=4,IF(ET$34='Listes de sélection'!$A$17,ET$35*HLOOKUP(3,'Listes de sélection'!$C$53:$E$58,5,FALSE),'Listes de sélection'!$M$57*HLOOKUP(3,'Listes de sélection'!$C$53:$E$58,5,FALSE)),0)","v":0},{"$f":"IF(EU$56=4,IF(EU$34='Listes de sélection'!$A$17,EU$35*HLOOKUP(3,'Listes de sélection'!$C$53:$E$58,5,FALSE),'Listes de sélection'!$M$57*HLOOKUP(3,'Listes de sélection'!$C$53:$E$58,5,FALSE)),0)","v":0},{"$f":"IF(EV$56=4,IF(EV$34='Listes de sélection'!$A$17,EV$35*HLOOKUP(3,'Listes de sélection'!$C$53:$E$58,5,FALSE),'Listes de sélection'!$M$57*HLOOKUP(3,'Listes de sélection'!$C$53:$E$58,5,FALSE)),0)","v":0},{"$f":"IF(EW$56=4,IF(EW$34='Listes de sélection'!$A$17,EW$35*HLOOKUP(3,'Listes de sélection'!$C$53:$E$58,5,FALSE),'Listes de sélection'!$M$57*HLOOKUP(3,'Listes de sélection'!$C$53:$E$58,5,FALSE)),0)","v":0},{"$f":"IF(EX$56=4,IF(EX$34='Listes de sélection'!$A$17,EX$35*HLOOKUP(3,'Listes de sélection'!$C$53:$E$58,5,FALSE),'Listes de sélection'!$M$57*HLOOKUP(3,'Listes de sélection'!$C$53:$E$58,5,FALSE)),0)","v":0},{"$f":"IF(EY$56=4,IF(EY$34='Listes de sélection'!$A$17,EY$35*HLOOKUP(3,'Listes de sélection'!$C$53:$E$58,5,FALSE),'Listes de sélection'!$M$57*HLOOKUP(3,'Listes de sélection'!$C$53:$E$58,5,FALSE)),0)","v":0},{"$f":"IF(EZ$56=4,IF(EZ$34='Listes de sélection'!$A$17,EZ$35*HLOOKUP(3,'Listes de sélection'!$C$53:$E$58,5,FALSE),'Listes de sélection'!$M$57*HLOOKUP(3,'Listes de sélection'!$C$53:$E$58,5,FALSE)),0)","v":0},{"$f":"IF(FA$56=4,IF(FA$34='Listes de sélection'!$A$17,FA$35*HLOOKUP(3,'Listes de sélection'!$C$53:$E$58,5,FALSE),'Listes de sélection'!$M$57*HLOOKUP(3,'Listes de sélection'!$C$53:$E$58,5,FALSE)),0)","v":0},{"$f":"IF(FB$56=4,IF(FB$34='Listes de sélection'!$A$17,FB$35*HLOOKUP(3,'Listes de sélection'!$C$53:$E$58,5,FALSE),'Listes de sélection'!$M$57*HLOOKUP(3,'Listes de sélection'!$C$53:$E$58,5,FALSE)),0)","v":0},{"$f":"IF(FC$56=4,IF(FC$34='Listes de sélection'!$A$17,FC$35*HLOOKUP(3,'Listes de sélection'!$C$53:$E$58,5,FALSE),'Listes de sélection'!$M$57*HLOOKUP(3,'Listes de sélection'!$C$53:$E$58,5,FALSE)),0)","v":0},{"$f":"IF(FD$56=4,IF(FD$34='Listes de sélection'!$A$17,FD$35*HLOOKUP(3,'Listes de sélection'!$C$53:$E$58,5,FALSE),'Listes de sélection'!$M$57*HLOOKUP(3,'Listes de sélection'!$C$53:$E$58,5,FALSE)),0)","v":0},{"$f":"IF(FE$56=4,IF(FE$34='Listes de sélection'!$A$17,FE$35*HLOOKUP(3,'Listes de sélection'!$C$53:$E$58,5,FALSE),'Listes de sélection'!$M$57*HLOOKUP(3,'Listes de sélection'!$C$53:$E$58,5,FALSE)),0)","v":0},{"$f":"IF(FF$56=4,IF(FF$34='Listes de sélection'!$A$17,FF$35*HLOOKUP(3,'Listes de sélection'!$C$53:$E$58,5,FALSE),'Listes de sélection'!$M$57*HLOOKUP(3,'Listes de sélection'!$C$53:$E$58,5,FALSE)),0)","v":0},{"$f":"IF(FG$56=4,IF(FG$34='Listes de sélection'!$A$17,FG$35*HLOOKUP(3,'Listes de sélection'!$C$53:$E$58,5,FALSE),'Listes de sélection'!$M$57*HLOOKUP(3,'Listes de sélection'!$C$53:$E$58,5,FALSE)),0)","v":0},{"$f":"IF(FH$56=4,IF(FH$34='Listes de sélection'!$A$17,FH$35*HLOOKUP(3,'Listes de sélection'!$C$53:$E$58,5,FALSE),'Listes de sélection'!$M$57*HLOOKUP(3,'Listes de sélection'!$C$53:$E$58,5,FALSE)),0)","v":0},{"$f":"IF(FI$56=4,IF(FI$34='Listes de sélection'!$A$17,FI$35*HLOOKUP(3,'Listes de sélection'!$C$53:$E$58,5,FALSE),'Listes de sélection'!$M$57*HLOOKUP(3,'Listes de sélection'!$C$53:$E$58,5,FALSE)),0)","v":0},{"$f":"IF(FJ$56=4,IF(FJ$34='Listes de sélection'!$A$17,FJ$35*HLOOKUP(3,'Listes de sélection'!$C$53:$E$58,5,FALSE),'Listes de sélection'!$M$57*HLOOKUP(3,'Listes de sélection'!$C$53:$E$58,5,FALSE)),0)","v":0},{"$f":"IF(FK$56=4,IF(FK$34='Listes de sélection'!$A$17,FK$35*HLOOKUP(3,'Listes de sélection'!$C$53:$E$58,5,FALSE),'Listes de sélection'!$M$57*HLOOKUP(3,'Listes de sélection'!$C$53:$E$58,5,FALSE)),0)","v":0},{"$f":"IF(FL$56=4,IF(FL$34='Listes de sélection'!$A$17,FL$35*HLOOKUP(3,'Listes de sélection'!$C$53:$E$58,5,FALSE),'Listes de sélection'!$M$57*HLOOKUP(3,'Listes de sélection'!$C$53:$E$58,5,FALSE)),0)","v":0},{"$f":"IF(FM$56=4,IF(FM$34='Listes de sélection'!$A$17,FM$35*HLOOKUP(3,'Listes de sélection'!$C$53:$E$58,5,FALSE),'Listes de sélection'!$M$57*HLOOKUP(3,'Listes de sélection'!$C$53:$E$58,5,FALSE)),0)","v":0},{"$f":"IF(FN$56=4,IF(FN$34='Listes de sélection'!$A$17,FN$35*HLOOKUP(3,'Listes de sélection'!$C$53:$E$58,5,FALSE),'Listes de sélection'!$M$57*HLOOKUP(3,'Listes de sélection'!$C$53:$E$58,5,FALSE)),0)","v":0},{"$f":"IF(FO$56=4,IF(FO$34='Listes de sélection'!$A$17,FO$35*HLOOKUP(3,'Listes de sélection'!$C$53:$E$58,5,FALSE),'Listes de sélection'!$M$57*HLOOKUP(3,'Listes de sélection'!$C$53:$E$58,5,FALSE)),0)","v":0},{"$f":"IF(FP$56=4,IF(FP$34='Listes de sélection'!$A$17,FP$35*HLOOKUP(3,'Listes de sélection'!$C$53:$E$58,5,FALSE),'Listes de sélection'!$M$57*HLOOKUP(3,'Listes de sélection'!$C$53:$E$58,5,FALSE)),0)","v":0},{"$f":"IF(FQ$56=4,IF(FQ$34='Listes de sélection'!$A$17,FQ$35*HLOOKUP(3,'Listes de sélection'!$C$53:$E$58,5,FALSE),'Listes de sélection'!$M$57*HLOOKUP(3,'Listes de sélection'!$C$53:$E$58,5,FALSE)),0)","v":0},{"$f":"IF(FR$56=4,IF(FR$34='Listes de sélection'!$A$17,FR$35*HLOOKUP(3,'Listes de sélection'!$C$53:$E$58,5,FALSE),'Listes de sélection'!$M$57*HLOOKUP(3,'Listes de sélection'!$C$53:$E$58,5,FALSE)),0)","v":0},{"$f":"IF(FS$56=4,IF(FS$34='Listes de sélection'!$A$17,FS$35*HLOOKUP(3,'Listes de sélection'!$C$53:$E$58,5,FALSE),'Listes de sélection'!$M$57*HLOOKUP(3,'Listes de sélection'!$C$53:$E$58,5,FALSE)),0)","v":0},{"$f":"IF(FT$56=4,IF(FT$34='Listes de sélection'!$A$17,FT$35*HLOOKUP(3,'Listes de sélection'!$C$53:$E$58,5,FALSE),'Listes de sélection'!$M$57*HLOOKUP(3,'Listes de sélection'!$C$53:$E$58,5,FALSE)),0)","v":0},{"$f":"IF(FU$56=4,IF(FU$34='Listes de sélection'!$A$17,FU$35*HLOOKUP(3,'Listes de sélection'!$C$53:$E$58,5,FALSE),'Listes de sélection'!$M$57*HLOOKUP(3,'Listes de sélection'!$C$53:$E$58,5,FALSE)),0)","v":0},{"$f":"IF(FV$56=4,IF(FV$34='Listes de sélection'!$A$17,FV$35*HLOOKUP(3,'Listes de sélection'!$C$53:$E$58,5,FALSE),'Listes de sélection'!$M$57*HLOOKUP(3,'Listes de sélection'!$C$53:$E$58,5,FALSE)),0)","v":0},{"$f":"IF(FW$56=4,IF(FW$34='Listes de sélection'!$A$17,FW$35*HLOOKUP(3,'Listes de sélection'!$C$53:$E$58,5,FALSE),'Listes de sélection'!$M$57*HLOOKUP(3,'Listes de sélection'!$C$53:$E$58,5,FALSE)),0)","v":0},{"$f":"IF(FX$56=4,IF(FX$34='Listes de sélection'!$A$17,FX$35*HLOOKUP(3,'Listes de sélection'!$C$53:$E$58,5,FALSE),'Listes de sélection'!$M$57*HLOOKUP(3,'Listes de sélection'!$C$53:$E$58,5,FALSE)),0)","v":0},{"$f":"IF(FY$56=4,IF(FY$34='Listes de sélection'!$A$17,FY$35*HLOOKUP(3,'Listes de sélection'!$C$53:$E$58,5,FALSE),'Listes de sélection'!$M$57*HLOOKUP(3,'Listes de sélection'!$C$53:$E$58,5,FALSE)),0)","v":0},{"$f":"IF(FZ$56=4,IF(FZ$34='Listes de sélection'!$A$17,FZ$35*HLOOKUP(3,'Listes de sélection'!$C$53:$E$58,5,FALSE),'Listes de sélection'!$M$57*HLOOKUP(3,'Listes de sélection'!$C$53:$E$58,5,FALSE)),0)","v":0},{"$f":"IF(GA$56=4,IF(GA$34='Listes de sélection'!$A$17,GA$35*HLOOKUP(3,'Listes de sélection'!$C$53:$E$58,5,FALSE),'Listes de sélection'!$M$57*HLOOKUP(3,'Listes de sélection'!$C$53:$E$58,5,FALSE)),0)","v":0},{"$f":"IF(GB$56=4,IF(GB$34='Listes de sélection'!$A$17,GB$35*HLOOKUP(3,'Listes de sélection'!$C$53:$E$58,5,FALSE),'Listes de sélection'!$M$57*HLOOKUP(3,'Listes de sélection'!$C$53:$E$58,5,FALSE)),0)","v":0},{"$f":"IF(GC$56=4,IF(GC$34='Listes de sélection'!$A$17,GC$35*HLOOKUP(3,'Listes de sélection'!$C$53:$E$58,5,FALSE),'Listes de sélection'!$M$57*HLOOKUP(3,'Listes de sélection'!$C$53:$E$58,5,FALSE)),0)","v":0},{"$f":"IF(GD$56=4,IF(GD$34='Listes de sélection'!$A$17,GD$35*HLOOKUP(3,'Listes de sélection'!$C$53:$E$58,5,FALSE),'Listes de sélection'!$M$57*HLOOKUP(3,'Listes de sélection'!$C$53:$E$58,5,FALSE)),0)","v":0},{"$f":"IF(GE$56=4,IF(GE$34='Listes de sélection'!$A$17,GE$35*HLOOKUP(3,'Listes de sélection'!$C$53:$E$58,5,FALSE),'Listes de sélection'!$M$57*HLOOKUP(3,'Listes de sélection'!$C$53:$E$58,5,FALSE)),0)","v":0},{"$f":"IF(GF$56=4,IF(GF$34='Listes de sélection'!$A$17,GF$35*HLOOKUP(3,'Listes de sélection'!$C$53:$E$58,5,FALSE),'Listes de sélection'!$M$57*HLOOKUP(3,'Listes de sélection'!$C$53:$E$58,5,FALSE)),0)","v":0},{"$f":"IF(GG$56=4,IF(GG$34='Listes de sélection'!$A$17,GG$35*HLOOKUP(3,'Listes de sélection'!$C$53:$E$58,5,FALSE),'Listes de sélection'!$M$57*HLOOKUP(3,'Listes de sélection'!$C$53:$E$58,5,FALSE)),0)","v":0},{"$f":"IF(GH$56=4,IF(GH$34='Listes de sélection'!$A$17,GH$35*HLOOKUP(3,'Listes de sélection'!$C$53:$E$58,5,FALSE),'Listes de sélection'!$M$57*HLOOKUP(3,'Listes de sélection'!$C$53:$E$58,5,FALSE)),0)","v":0},{"$f":"IF(GI$56=4,IF(GI$34='Listes de sélection'!$A$17,GI$35*HLOOKUP(3,'Listes de sélection'!$C$53:$E$58,5,FALSE),'Listes de sélection'!$M$57*HLOOKUP(3,'Listes de sélection'!$C$53:$E$58,5,FALSE)),0)","v":0},{"$f":"IF(GJ$56=4,IF(GJ$34='Listes de sélection'!$A$17,GJ$35*HLOOKUP(3,'Listes de sélection'!$C$53:$E$58,5,FALSE),'Listes de sélection'!$M$57*HLOOKUP(3,'Listes de sélection'!$C$53:$E$58,5,FALSE)),0)","v":0},{"$f":"IF(GK$56=4,IF(GK$34='Listes de sélection'!$A$17,GK$35*HLOOKUP(3,'Listes de sélection'!$C$53:$E$58,5,FALSE),'Listes de sélection'!$M$57*HLOOKUP(3,'Listes de sélection'!$C$53:$E$58,5,FALSE)),0)","v":0},{"$f":"IF(GL$56=4,IF(GL$34='Listes de sélection'!$A$17,GL$35*HLOOKUP(3,'Listes de sélection'!$C$53:$E$58,5,FALSE),'Listes de sélection'!$M$57*HLOOKUP(3,'Listes de sélection'!$C$53:$E$58,5,FALSE)),0)","v":0},{"$f":"IF(GM$56=4,IF(GM$34='Listes de sélection'!$A$17,GM$35*HLOOKUP(3,'Listes de sélection'!$C$53:$E$58,5,FALSE),'Listes de sélection'!$M$57*HLOOKUP(3,'Listes de sélection'!$C$53:$E$58,5,FALSE)),0)","v":0},{"$f":"IF(GN$56=4,IF(GN$34='Listes de sélection'!$A$17,GN$35*HLOOKUP(3,'Listes de sélection'!$C$53:$E$58,5,FALSE),'Listes de sélection'!$M$57*HLOOKUP(3,'Listes de sélection'!$C$53:$E$58,5,FALSE)),0)","v":0},{"$f":"IF(GO$56=4,IF(GO$34='Listes de sélection'!$A$17,GO$35*HLOOKUP(3,'Listes de sélection'!$C$53:$E$58,5,FALSE),'Listes de sélection'!$M$57*HLOOKUP(3,'Listes de sélection'!$C$53:$E$58,5,FALSE)),0)","v":0},{"$f":"IF(GP$56=4,IF(GP$34='Listes de sélection'!$A$17,GP$35*HLOOKUP(3,'Listes de sélection'!$C$53:$E$58,5,FALSE),'Listes de sélection'!$M$57*HLOOKUP(3,'Listes de sélection'!$C$53:$E$58,5,FALSE)),0)","v":0},{"$f":"IF(GQ$56=4,IF(GQ$34='Listes de sélection'!$A$17,GQ$35*HLOOKUP(3,'Listes de sélection'!$C$53:$E$58,5,FALSE),'Listes de sélection'!$M$57*HLOOKUP(3,'Listes de sélection'!$C$53:$E$58,5,FALSE)),0)","v":0},{"$f":"IF(GR$56=4,IF(GR$34='Listes de sélection'!$A$17,GR$35*HLOOKUP(3,'Listes de sélection'!$C$53:$E$58,5,FALSE),'Listes de sélection'!$M$57*HLOOKUP(3,'Listes de sélection'!$C$53:$E$58,5,FALSE)),0)","v":0},{"$f":"IF(GS$56=4,IF(GS$34='Listes de sélection'!$A$17,GS$35*HLOOKUP(3,'Listes de sélection'!$C$53:$E$58,5,FALSE),'Listes de sélection'!$M$57*HLOOKUP(3,'Listes de sélection'!$C$53:$E$58,5,FALSE)),0)","v":0},{"$f":"IF(GT$56=4,IF(GT$34='Listes de sélection'!$A$17,GT$35*HLOOKUP(3,'Listes de sélection'!$C$53:$E$58,5,FALSE),'Listes de sélection'!$M$57*HLOOKUP(3,'Listes de sélection'!$C$53:$E$58,5,FALSE)),0)","v":0}]
["Demandeur de chaleur = Autre unité","MJ",{"$f":"IF(C$56=5,C$35*HLOOKUP(3,'Listes de sélection'!$C$53:$E$58,6,FALSE),0)","v":0},{"$f":"IF(D$56=5,D$35*HLOOKUP(3,'Listes de sélection'!$C$53:$E$58,6,FALSE),0)","v":0},{"$f":"IF(E$56=5,E$35*HLOOKUP(3,'Listes de sélection'!$C$53:$E$58,6,FALSE),0)","v":0},{"$f":"IF(F$56=5,F$35*HLOOKUP(3,'Listes de sélection'!$C$53:$E$58,6,FALSE),0)","v":0},{"$f":"IF(G$56=5,G$35*HLOOKUP(3,'Listes de sélection'!$C$53:$E$58,6,FALSE),0)","v":0},{"$f":"IF(H$56=5,H$35*HLOOKUP(3,'Listes de sélection'!$C$53:$E$58,6,FALSE),0)","v":0},{"$f":"IF(I$56=5,I$35*HLOOKUP(3,'Listes de sélection'!$C$53:$E$58,6,FALSE),0)","v":0},{"$f":"IF(J$56=5,J$35*HLOOKUP(3,'Listes de sélection'!$C$53:$E$58,6,FALSE),0)","v":0},{"$f":"IF(K$56=5,K$35*HLOOKUP(3,'Listes de sélection'!$C$53:$E$58,6,FALSE),0)","v":0},{"$f":"IF(L$56=5,L$35*HLOOKUP(3,'Listes de sélection'!$C$53:$E$58,6,FALSE),0)","v":0},{"$f":"IF(M$56=5,M$35*HLOOKUP(3,'Listes de sélection'!$C$53:$E$58,6,FALSE),0)","v":0},{"$f":"IF(N$56=5,N$35*HLOOKUP(3,'Listes de sélection'!$C$53:$E$58,6,FALSE),0)","v":0},{"$f":"IF(O$56=5,O$35*HLOOKUP(3,'Listes de sélection'!$C$53:$E$58,6,FALSE),0)","v":0},{"$f":"IF(P$56=5,P$35*HLOOKUP(3,'Listes de sélection'!$C$53:$E$58,6,FALSE),0)","v":0},{"$f":"IF(Q$56=5,Q$35*HLOOKUP(3,'Listes de sélection'!$C$53:$E$58,6,FALSE),0)","v":0},{"$f":"IF(R$56=5,R$35*HLOOKUP(3,'Listes de sélection'!$C$53:$E$58,6,FALSE),0)","v":0},{"$f":"IF(S$56=5,S$35*HLOOKUP(3,'Listes de sélection'!$C$53:$E$58,6,FALSE),0)","v":0},{"$f":"IF(T$56=5,T$35*HLOOKUP(3,'Listes de sélection'!$C$53:$E$58,6,FALSE),0)","v":0},{"$f":"IF(U$56=5,U$35*HLOOKUP(3,'Listes de sélection'!$C$53:$E$58,6,FALSE),0)","v":0},{"$f":"IF(V$56=5,V$35*HLOOKUP(3,'Listes de sélection'!$C$53:$E$58,6,FALSE),0)","v":0},{"$f":"IF(W$56=5,W$35*HLOOKUP(3,'Listes de sélection'!$C$53:$E$58,6,FALSE),0)","v":0},{"$f":"IF(X$56=5,X$35*HLOOKUP(3,'Listes de sélection'!$C$53:$E$58,6,FALSE),0)","v":0},{"$f":"IF(Y$56=5,Y$35*HLOOKUP(3,'Listes de sélection'!$C$53:$E$58,6,FALSE),0)","v":0},{"$f":"IF(Z$56=5,Z$35*HLOOKUP(3,'Listes de sélection'!$C$53:$E$58,6,FALSE),0)","v":0},{"$f":"IF(AA$56=5,AA$35*HLOOKUP(3,'Listes de sélection'!$C$53:$E$58,6,FALSE),0)","v":0},{"$f":"IF(AB$56=5,AB$35*HLOOKUP(3,'Listes de sélection'!$C$53:$E$58,6,FALSE),0)","v":0},{"$f":"IF(AC$56=5,AC$35*HLOOKUP(3,'Listes de sélection'!$C$53:$E$58,6,FALSE),0)","v":0},{"$f":"IF(AD$56=5,AD$35*HLOOKUP(3,'Listes de sélection'!$C$53:$E$58,6,FALSE),0)","v":0},{"$f":"IF(AE$56=5,AE$35*HLOOKUP(3,'Listes de sélection'!$C$53:$E$58,6,FALSE),0)","v":0},{"$f":"IF(AF$56=5,AF$35*HLOOKUP(3,'Listes de sélection'!$C$53:$E$58,6,FALSE),0)","v":0},{"$f":"IF(AG$56=5,AG$35*HLOOKUP(3,'Listes de sélection'!$C$53:$E$58,6,FALSE),0)","v":0},{"$f":"IF(AH$56=5,AH$35*HLOOKUP(3,'Listes de sélection'!$C$53:$E$58,6,FALSE),0)","v":0},{"$f":"IF(AI$56=5,AI$35*HLOOKUP(3,'Listes de sélection'!$C$53:$E$58,6,FALSE),0)","v":0},{"$f":"IF(AJ$56=5,AJ$35*HLOOKUP(3,'Listes de sélection'!$C$53:$E$58,6,FALSE),0)","v":0},{"$f":"IF(AK$56=5,AK$35*HLOOKUP(3,'Listes de sélection'!$C$53:$E$58,6,FALSE),0)","v":0},{"$f":"IF(AL$56=5,AL$35*HLOOKUP(3,'Listes de sélection'!$C$53:$E$58,6,FALSE),0)","v":0},{"$f":"IF(AM$56=5,AM$35*HLOOKUP(3,'Listes de sélection'!$C$53:$E$58,6,FALSE),0)","v":0},{"$f":"IF(AN$56=5,AN$35*HLOOKUP(3,'Listes de sélection'!$C$53:$E$58,6,FALSE),0)","v":0},{"$f":"IF(AO$56=5,AO$35*HLOOKUP(3,'Listes de sélection'!$C$53:$E$58,6,FALSE),0)","v":0},{"$f":"IF(AP$56=5,AP$35*HLOOKUP(3,'Listes de sélection'!$C$53:$E$58,6,FALSE),0)","v":0},{"$f":"IF(AQ$56=5,AQ$35*HLOOKUP(3,'Listes de sélection'!$C$53:$E$58,6,FALSE),0)","v":0},{"$f":"IF(AR$56=5,AR$35*HLOOKUP(3,'Listes de sélection'!$C$53:$E$58,6,FALSE),0)","v":0},{"$f":"IF(AS$56=5,AS$35*HLOOKUP(3,'Listes de sélection'!$C$53:$E$58,6,FALSE),0)","v":0},{"$f":"IF(AT$56=5,AT$35*HLOOKUP(3,'Listes de sélection'!$C$53:$E$58,6,FALSE),0)","v":0},{"$f":"IF(AU$56=5,AU$35*HLOOKUP(3,'Listes de sélection'!$C$53:$E$58,6,FALSE),0)","v":0},{"$f":"IF(AV$56=5,AV$35*HLOOKUP(3,'Listes de sélection'!$C$53:$E$58,6,FALSE),0)","v":0},{"$f":"IF(AW$56=5,AW$35*HLOOKUP(3,'Listes de sélection'!$C$53:$E$58,6,FALSE),0)","v":0},{"$f":"IF(AX$56=5,AX$35*HLOOKUP(3,'Listes de sélection'!$C$53:$E$58,6,FALSE),0)","v":0},{"$f":"IF(AY$56=5,AY$35*HLOOKUP(3,'Listes de sélection'!$C$53:$E$58,6,FALSE),0)","v":0},{"$f":"IF(AZ$56=5,AZ$35*HLOOKUP(3,'Listes de sélection'!$C$53:$E$58,6,FALSE),0)","v":0},{"$f":"IF(BA$56=5,BA$35*HLOOKUP(3,'Listes de sélection'!$C$53:$E$58,6,FALSE),0)","v":0},{"$f":"IF(BB$56=5,BB$35*HLOOKUP(3,'Listes de sélection'!$C$53:$E$58,6,FALSE),0)","v":0},{"$f":"IF(BC$56=5,BC$35*HLOOKUP(3,'Listes de sélection'!$C$53:$E$58,6,FALSE),0)","v":0},{"$f":"IF(BD$56=5,BD$35*HLOOKUP(3,'Listes de sélection'!$C$53:$E$58,6,FALSE),0)","v":0},{"$f":"IF(BE$56=5,BE$35*HLOOKUP(3,'Listes de sélection'!$C$53:$E$58,6,FALSE),0)","v":0},{"$f":"IF(BF$56=5,BF$35*HLOOKUP(3,'Listes de sélection'!$C$53:$E$58,6,FALSE),0)","v":0},{"$f":"IF(BG$56=5,BG$35*HLOOKUP(3,'Listes de sélection'!$C$53:$E$58,6,FALSE),0)","v":0},{"$f":"IF(BH$56=5,BH$35*HLOOKUP(3,'Listes de sélection'!$C$53:$E$58,6,FALSE),0)","v":0},{"$f":"IF(BI$56=5,BI$35*HLOOKUP(3,'Listes de sélection'!$C$53:$E$58,6,FALSE),0)","v":0},{"$f":"IF(BJ$56=5,BJ$35*HLOOKUP(3,'Listes de sélection'!$C$53:$E$58,6,FALSE),0)","v":0},{"$f":"IF(BK$56=5,BK$35*HLOOKUP(3,'Listes de sélection'!$C$53:$E$58,6,FALSE),0)","v":0},{"$f":"IF(BL$56=5,BL$35*HLOOKUP(3,'Listes de sélection'!$C$53:$E$58,6,FALSE),0)","v":0},{"$f":"IF(BM$56=5,BM$35*HLOOKUP(3,'Listes de sélection'!$C$53:$E$58,6,FALSE),0)","v":0},{"$f":"IF(BN$56=5,BN$35*HLOOKUP(3,'Listes de sélection'!$C$53:$E$58,6,FALSE),0)","v":0},{"$f":"IF(BO$56=5,BO$35*HLOOKUP(3,'Listes de sélection'!$C$53:$E$58,6,FALSE),0)","v":0},{"$f":"IF(BP$56=5,BP$35*HLOOKUP(3,'Listes de sélection'!$C$53:$E$58,6,FALSE),0)","v":0},{"$f":"IF(BQ$56=5,BQ$35*HLOOKUP(3,'Listes de sélection'!$C$53:$E$58,6,FALSE),0)","v":0},{"$f":"IF(BR$56=5,BR$35*HLOOKUP(3,'Listes de sélection'!$C$53:$E$58,6,FALSE),0)","v":0},{"$f":"IF(BS$56=5,BS$35*HLOOKUP(3,'Listes de sélection'!$C$53:$E$58,6,FALSE),0)","v":0},{"$f":"IF(BT$56=5,BT$35*HLOOKUP(3,'Listes de sélection'!$C$53:$E$58,6,FALSE),0)","v":0},{"$f":"IF(BU$56=5,BU$35*HLOOKUP(3,'Listes de sélection'!$C$53:$E$58,6,FALSE),0)","v":0},{"$f":"IF(BV$56=5,BV$35*HLOOKUP(3,'Listes de sélection'!$C$53:$E$58,6,FALSE),0)","v":0},{"$f":"IF(BW$56=5,BW$35*HLOOKUP(3,'Listes de sélection'!$C$53:$E$58,6,FALSE),0)","v":0},{"$f":"IF(BX$56=5,BX$35*HLOOKUP(3,'Listes de sélection'!$C$53:$E$58,6,FALSE),0)","v":0},{"$f":"IF(BY$56=5,BY$35*HLOOKUP(3,'Listes de sélection'!$C$53:$E$58,6,FALSE),0)","v":0},{"$f":"IF(BZ$56=5,BZ$35*HLOOKUP(3,'Listes de sélection'!$C$53:$E$58,6,FALSE),0)","v":0},{"$f":"IF(CA$56=5,CA$35*HLOOKUP(3,'Listes de sélection'!$C$53:$E$58,6,FALSE),0)","v":0},{"$f":"IF(CB$56=5,CB$35*HLOOKUP(3,'Listes de sélection'!$C$53:$E$58,6,FALSE),0)","v":0},{"$f":"IF(CC$56=5,CC$35*HLOOKUP(3,'Listes de sélection'!$C$53:$E$58,6,FALSE),0)","v":0},{"$f":"IF(CD$56=5,CD$35*HLOOKUP(3,'Listes de sélection'!$C$53:$E$58,6,FALSE),0)","v":0},{"$f":"IF(CE$56=5,CE$35*HLOOKUP(3,'Listes de sélection'!$C$53:$E$58,6,FALSE),0)","v":0},{"$f":"IF(CF$56=5,CF$35*HLOOKUP(3,'Listes de sélection'!$C$53:$E$58,6,FALSE),0)","v":0},{"$f":"IF(CG$56=5,CG$35*HLOOKUP(3,'Listes de sélection'!$C$53:$E$58,6,FALSE),0)","v":0},{"$f":"IF(CH$56=5,CH$35*HLOOKUP(3,'Listes de sélection'!$C$53:$E$58,6,FALSE),0)","v":0},{"$f":"IF(CI$56=5,CI$35*HLOOKUP(3,'Listes de sélection'!$C$53:$E$58,6,FALSE),0)","v":0},{"$f":"IF(CJ$56=5,CJ$35*HLOOKUP(3,'Listes de sélection'!$C$53:$E$58,6,FALSE),0)","v":0},{"$f":"IF(CK$56=5,CK$35*HLOOKUP(3,'Listes de sélection'!$C$53:$E$58,6,FALSE),0)","v":0},{"$f":"IF(CL$56=5,CL$35*HLOOKUP(3,'Listes de sélection'!$C$53:$E$58,6,FALSE),0)","v":0},{"$f":"IF(CM$56=5,CM$35*HLOOKUP(3,'Listes de sélection'!$C$53:$E$58,6,FALSE),0)","v":0},{"$f":"IF(CN$56=5,CN$35*HLOOKUP(3,'Listes de sélection'!$C$53:$E$58,6,FALSE),0)","v":0},{"$f":"IF(CO$56=5,CO$35*HLOOKUP(3,'Listes de sélection'!$C$53:$E$58,6,FALSE),0)","v":0},{"$f":"IF(CP$56=5,CP$35*HLOOKUP(3,'Listes de sélection'!$C$53:$E$58,6,FALSE),0)","v":0},{"$f":"IF(CQ$56=5,CQ$35*HLOOKUP(3,'Listes de sélection'!$C$53:$E$58,6,FALSE),0)","v":0},{"$f":"IF(CR$56=5,CR$35*HLOOKUP(3,'Listes de sélection'!$C$53:$E$58,6,FALSE),0)","v":0},{"$f":"IF(CS$56=5,CS$35*HLOOKUP(3,'Listes de sélection'!$C$53:$E$58,6,FALSE),0)","v":0},{"$f":"IF(CT$56=5,CT$35*HLOOKUP(3,'Listes de sélection'!$C$53:$E$58,6,FALSE),0)","v":0},{"$f":"IF(CU$56=5,CU$35*HLOOKUP(3,'Listes de sélection'!$C$53:$E$58,6,FALSE),0)","v":0},{"$f":"IF(CV$56=5,CV$35*HLOOKUP(3,'Listes de sélection'!$C$53:$E$58,6,FALSE),0)","v":0},{"$f":"IF(CW$56=5,CW$35*HLOOKUP(3,'Listes de sélection'!$C$53:$E$58,6,FALSE),0)","v":0},{"$f":"IF(CX$56=5,CX$35*HLOOKUP(3,'Listes de sélection'!$C$53:$E$58,6,FALSE),0)","v":0},{"$f":"IF(CY$56=5,CY$35*HLOOKUP(3,'Listes de sélection'!$C$53:$E$58,6,FALSE),0)","v":0},{"$f":"IF(CZ$56=5,CZ$35*HLOOKUP(3,'Listes de sélection'!$C$53:$E$58,6,FALSE),0)","v":0},{"$f":"IF(DA$56=5,DA$35*HLOOKUP(3,'Listes de sélection'!$C$53:$E$58,6,FALSE),0)","v":0},{"$f":"IF(DB$56=5,DB$35*HLOOKUP(3,'Listes de sélection'!$C$53:$E$58,6,FALSE),0)","v":0},{"$f":"IF(DC$56=5,DC$35*HLOOKUP(3,'Listes de sélection'!$C$53:$E$58,6,FALSE),0)","v":0},{"$f":"IF(DD$56=5,DD$35*HLOOKUP(3,'Listes de sélection'!$C$53:$E$58,6,FALSE),0)","v":0},{"$f":"IF(DE$56=5,DE$35*HLOOKUP(3,'Listes de sélection'!$C$53:$E$58,6,FALSE),0)","v":0},{"$f":"IF(DF$56=5,DF$35*HLOOKUP(3,'Listes de sélection'!$C$53:$E$58,6,FALSE),0)","v":0},{"$f":"IF(DG$56=5,DG$35*HLOOKUP(3,'Listes de sélection'!$C$53:$E$58,6,FALSE),0)","v":0},{"$f":"IF(DH$56=5,DH$35*HLOOKUP(3,'Listes de sélection'!$C$53:$E$58,6,FALSE),0)","v":0},{"$f":"IF(DI$56=5,DI$35*HLOOKUP(3,'Listes de sélection'!$C$53:$E$58,6,FALSE),0)","v":0},{"$f":"IF(DJ$56=5,DJ$35*HLOOKUP(3,'Listes de sélection'!$C$53:$E$58,6,FALSE),0)","v":0},{"$f":"IF(DK$56=5,DK$35*HLOOKUP(3,'Listes de sélection'!$C$53:$E$58,6,FALSE),0)","v":0},{"$f":"IF(DL$56=5,DL$35*HLOOKUP(3,'Listes de sélection'!$C$53:$E$58,6,FALSE),0)","v":0},{"$f":"IF(DM$56=5,DM$35*HLOOKUP(3,'Listes de sélection'!$C$53:$E$58,6,FALSE),0)","v":0},{"$f":"IF(DN$56=5,DN$35*HLOOKUP(3,'Listes de sélection'!$C$53:$E$58,6,FALSE),0)","v":0},{"$f":"IF(DO$56=5,DO$35*HLOOKUP(3,'Listes de sélection'!$C$53:$E$58,6,FALSE),0)","v":0},{"$f":"IF(DP$56=5,DP$35*HLOOKUP(3,'Listes de sélection'!$C$53:$E$58,6,FALSE),0)","v":0},{"$f":"IF(DQ$56=5,DQ$35*HLOOKUP(3,'Listes de sélection'!$C$53:$E$58,6,FALSE),0)","v":0},{"$f":"IF(DR$56=5,DR$35*HLOOKUP(3,'Listes de sélection'!$C$53:$E$58,6,FALSE),0)","v":0},{"$f":"IF(DS$56=5,DS$35*HLOOKUP(3,'Listes de sélection'!$C$53:$E$58,6,FALSE),0)","v":0},{"$f":"IF(DT$56=5,DT$35*HLOOKUP(3,'Listes de sélection'!$C$53:$E$58,6,FALSE),0)","v":0},{"$f":"IF(DU$56=5,DU$35*HLOOKUP(3,'Listes de sélection'!$C$53:$E$58,6,FALSE),0)","v":0},{"$f":"IF(DV$56=5,DV$35*HLOOKUP(3,'Listes de sélection'!$C$53:$E$58,6,FALSE),0)","v":0},{"$f":"IF(DW$56=5,DW$35*HLOOKUP(3,'Listes de sélection'!$C$53:$E$58,6,FALSE),0)","v":0},{"$f":"IF(DX$56=5,DX$35*HLOOKUP(3,'Listes de sélection'!$C$53:$E$58,6,FALSE),0)","v":0},{"$f":"IF(DY$56=5,DY$35*HLOOKUP(3,'Listes de sélection'!$C$53:$E$58,6,FALSE),0)","v":0},{"$f":"IF(DZ$56=5,DZ$35*HLOOKUP(3,'Listes de sélection'!$C$53:$E$58,6,FALSE),0)","v":0},{"$f":"IF(EA$56=5,EA$35*HLOOKUP(3,'Listes de sélection'!$C$53:$E$58,6,FALSE),0)","v":0},{"$f":"IF(EB$56=5,EB$35*HLOOKUP(3,'Listes de sélection'!$C$53:$E$58,6,FALSE),0)","v":0},{"$f":"IF(EC$56=5,EC$35*HLOOKUP(3,'Listes de sélection'!$C$53:$E$58,6,FALSE),0)","v":0},{"$f":"IF(ED$56=5,ED$35*HLOOKUP(3,'Listes de sélection'!$C$53:$E$58,6,FALSE),0)","v":0},{"$f":"IF(EE$56=5,EE$35*HLOOKUP(3,'Listes de sélection'!$C$53:$E$58,6,FALSE),0)","v":0},{"$f":"IF(EF$56=5,EF$35*HLOOKUP(3,'Listes de sélection'!$C$53:$E$58,6,FALSE),0)","v":0},{"$f":"IF(EG$56=5,EG$35*HLOOKUP(3,'Listes de sélection'!$C$53:$E$58,6,FALSE),0)","v":0},{"$f":"IF(EH$56=5,EH$35*HLOOKUP(3,'Listes de sélection'!$C$53:$E$58,6,FALSE),0)","v":0},{"$f":"IF(EI$56=5,EI$35*HLOOKUP(3,'Listes de sélection'!$C$53:$E$58,6,FALSE),0)","v":0},{"$f":"IF(EJ$56=5,EJ$35*HLOOKUP(3,'Listes de sélection'!$C$53:$E$58,6,FALSE),0)","v":0},{"$f":"IF(EK$56=5,EK$35*HLOOKUP(3,'Listes de sélection'!$C$53:$E$58,6,FALSE),0)","v":0},{"$f":"IF(EL$56=5,EL$35*HLOOKUP(3,'Listes de sélection'!$C$53:$E$58,6,FALSE),0)","v":0},{"$f":"IF(EM$56=5,EM$35*HLOOKUP(3,'Listes de sélection'!$C$53:$E$58,6,FALSE),0)","v":0},{"$f":"IF(EN$56=5,EN$35*HLOOKUP(3,'Listes de sélection'!$C$53:$E$58,6,FALSE),0)","v":0},{"$f":"IF(EO$56=5,EO$35*HLOOKUP(3,'Listes de sélection'!$C$53:$E$58,6,FALSE),0)","v":0},{"$f":"IF(EP$56=5,EP$35*HLOOKUP(3,'Listes de sélection'!$C$53:$E$58,6,FALSE),0)","v":0},{"$f":"IF(EQ$56=5,EQ$35*HLOOKUP(3,'Listes de sélection'!$C$53:$E$58,6,FALSE),0)","v":0},{"$f":"IF(ER$56=5,ER$35*HLOOKUP(3,'Listes de sélection'!$C$53:$E$58,6,FALSE),0)","v":0},{"$f":"IF(ES$56=5,ES$35*HLOOKUP(3,'Listes de sélection'!$C$53:$E$58,6,FALSE),0)","v":0},{"$f":"IF(ET$56=5,ET$35*HLOOKUP(3,'Listes de sélection'!$C$53:$E$58,6,FALSE),0)","v":0},{"$f":"IF(EU$56=5,EU$35*HLOOKUP(3,'Listes de sélection'!$C$53:$E$58,6,FALSE),0)","v":0},{"$f":"IF(EV$56=5,EV$35*HLOOKUP(3,'Listes de sélection'!$C$53:$E$58,6,FALSE),0)","v":0},{"$f":"IF(EW$56=5,EW$35*HLOOKUP(3,'Listes de sélection'!$C$53:$E$58,6,FALSE),0)","v":0},{"$f":"IF(EX$56=5,EX$35*HLOOKUP(3,'Listes de sélection'!$C$53:$E$58,6,FALSE),0)","v":0},{"$f":"IF(EY$56=5,EY$35*HLOOKUP(3,'Listes de sélection'!$C$53:$E$58,6,FALSE),0)","v":0},{"$f":"IF(EZ$56=5,EZ$35*HLOOKUP(3,'Listes de sélection'!$C$53:$E$58,6,FALSE),0)","v":0},{"$f":"IF(FA$56=5,FA$35*HLOOKUP(3,'Listes de sélection'!$C$53:$E$58,6,FALSE),0)","v":0},{"$f":"IF(FB$56=5,FB$35*HLOOKUP(3,'Listes de sélection'!$C$53:$E$58,6,FALSE),0)","v":0},{"$f":"IF(FC$56=5,FC$35*HLOOKUP(3,'Listes de sélection'!$C$53:$E$58,6,FALSE),0)","v":0},{"$f":"IF(FD$56=5,FD$35*HLOOKUP(3,'Listes de sélection'!$C$53:$E$58,6,FALSE),0)","v":0},{"$f":"IF(FE$56=5,FE$35*HLOOKUP(3,'Listes de sélection'!$C$53:$E$58,6,FALSE),0)","v":0},{"$f":"IF(FF$56=5,FF$35*HLOOKUP(3,'Listes de sélection'!$C$53:$E$58,6,FALSE),0)","v":0},{"$f":"IF(FG$56=5,FG$35*HLOOKUP(3,'Listes de sélection'!$C$53:$E$58,6,FALSE),0)","v":0},{"$f":"IF(FH$56=5,FH$35*HLOOKUP(3,'Listes de sélection'!$C$53:$E$58,6,FALSE),0)","v":0},{"$f":"IF(FI$56=5,FI$35*HLOOKUP(3,'Listes de sélection'!$C$53:$E$58,6,FALSE),0)","v":0},{"$f":"IF(FJ$56=5,FJ$35*HLOOKUP(3,'Listes de sélection'!$C$53:$E$58,6,FALSE),0)","v":0},{"$f":"IF(FK$56=5,FK$35*HLOOKUP(3,'Listes de sélection'!$C$53:$E$58,6,FALSE),0)","v":0},{"$f":"IF(FL$56=5,FL$35*HLOOKUP(3,'Listes de sélection'!$C$53:$E$58,6,FALSE),0)","v":0},{"$f":"IF(FM$56=5,FM$35*HLOOKUP(3,'Listes de sélection'!$C$53:$E$58,6,FALSE),0)","v":0},{"$f":"IF(FN$56=5,FN$35*HLOOKUP(3,'Listes de sélection'!$C$53:$E$58,6,FALSE),0)","v":0},{"$f":"IF(FO$56=5,FO$35*HLOOKUP(3,'Listes de sélection'!$C$53:$E$58,6,FALSE),0)","v":0},{"$f":"IF(FP$56=5,FP$35*HLOOKUP(3,'Listes de sélection'!$C$53:$E$58,6,FALSE),0)","v":0},{"$f":"IF(FQ$56=5,FQ$35*HLOOKUP(3,'Listes de sélection'!$C$53:$E$58,6,FALSE),0)","v":0},{"$f":"IF(FR$56=5,FR$35*HLOOKUP(3,'Listes de sélection'!$C$53:$E$58,6,FALSE),0)","v":0},{"$f":"IF(FS$56=5,FS$35*HLOOKUP(3,'Listes de sélection'!$C$53:$E$58,6,FALSE),0)","v":0},{"$f":"IF(FT$56=5,FT$35*HLOOKUP(3,'Listes de sélection'!$C$53:$E$58,6,FALSE),0)","v":0},{"$f":"IF(FU$56=5,FU$35*HLOOKUP(3,'Listes de sélection'!$C$53:$E$58,6,FALSE),0)","v":0},{"$f":"IF(FV$56=5,FV$35*HLOOKUP(3,'Listes de sélection'!$C$53:$E$58,6,FALSE),0)","v":0},{"$f":"IF(FW$56=5,FW$35*HLOOKUP(3,'Listes de sélection'!$C$53:$E$58,6,FALSE),0)","v":0},{"$f":"IF(FX$56=5,FX$35*HLOOKUP(3,'Listes de sélection'!$C$53:$E$58,6,FALSE),0)","v":0},{"$f":"IF(FY$56=5,FY$35*HLOOKUP(3,'Listes de sélection'!$C$53:$E$58,6,FALSE),0)","v":0},{"$f":"IF(FZ$56=5,FZ$35*HLOOKUP(3,'Listes de sélection'!$C$53:$E$58,6,FALSE),0)","v":0},{"$f":"IF(GA$56=5,GA$35*HLOOKUP(3,'Listes de sélection'!$C$53:$E$58,6,FALSE),0)","v":0},{"$f":"IF(GB$56=5,GB$35*HLOOKUP(3,'Listes de sélection'!$C$53:$E$58,6,FALSE),0)","v":0},{"$f":"IF(GC$56=5,GC$35*HLOOKUP(3,'Listes de sélection'!$C$53:$E$58,6,FALSE),0)","v":0},{"$f":"IF(GD$56=5,GD$35*HLOOKUP(3,'Listes de sélection'!$C$53:$E$58,6,FALSE),0)","v":0},{"$f":"IF(GE$56=5,GE$35*HLOOKUP(3,'Listes de sélection'!$C$53:$E$58,6,FALSE),0)","v":0},{"$f":"IF(GF$56=5,GF$35*HLOOKUP(3,'Listes de sélection'!$C$53:$E$58,6,FALSE),0)","v":0},{"$f":"IF(GG$56=5,GG$35*HLOOKUP(3,'Listes de sélection'!$C$53:$E$58,6,FALSE),0)","v":0},{"$f":"IF(GH$56=5,GH$35*HLOOKUP(3,'Listes de sélection'!$C$53:$E$58,6,FALSE),0)","v":0},{"$f":"IF(GI$56=5,GI$35*HLOOKUP(3,'Listes de sélection'!$C$53:$E$58,6,FALSE),0)","v":0},{"$f":"IF(GJ$56=5,GJ$35*HLOOKUP(3,'Listes de sélection'!$C$53:$E$58,6,FALSE),0)","v":0},{"$f":"IF(GK$56=5,GK$35*HLOOKUP(3,'Listes de sélection'!$C$53:$E$58,6,FALSE),0)","v":0},{"$f":"IF(GL$56=5,GL$35*HLOOKUP(3,'Listes de sélection'!$C$53:$E$58,6,FALSE),0)","v":0},{"$f":"IF(GM$56=5,GM$35*HLOOKUP(3,'Listes de sélection'!$C$53:$E$58,6,FALSE),0)","v":0},{"$f":"IF(GN$56=5,GN$35*HLOOKUP(3,'Listes de sélection'!$C$53:$E$58,6,FALSE),0)","v":0},{"$f":"IF(GO$56=5,GO$35*HLOOKUP(3,'Listes de sélection'!$C$53:$E$58,6,FALSE),0)","v":0},{"$f":"IF(GP$56=5,GP$35*HLOOKUP(3,'Listes de sélection'!$C$53:$E$58,6,FALSE),0)","v":0},{"$f":"IF(GQ$56=5,GQ$35*HLOOKUP(3,'Listes de sélection'!$C$53:$E$58,6,FALSE),0)","v":0},{"$f":"IF(GR$56=5,GR$35*HLOOKUP(3,'Listes de sélection'!$C$53:$E$58,6,FALSE),0)","v":0},{"$f":"IF(GS$56=5,GS$35*HLOOKUP(3,'Listes de sélection'!$C$53:$E$58,6,FALSE),0)","v":0},{"$f":"IF(GT$56=5,GT$35*HLOOKUP(3,'Listes de sélection'!$C$53:$E$58,6,FALSE),0)","v":0}]
[]
["4. Calculs pour l'estimation de la demande de chaleur"]
["Index - Méthode de calcul",null,{"$f":"IF(C$23=\"\",0,VLOOKUP(C$23,T_berekeningwarmtevrager,2,FALSE))","v":0},0,0,0,0,0,0,0,0,0,0,0,0,0,0,0,0,0,0,0,0,0,0,0,0,0,0,0,0,0,0,0,0,0,0,0,0,0,0,0,0,0,0,0,0,0,0,0,0,0,0,0,0,0,0,0,0,0,0,0,0,0,0,0,0,0,0,0,0,0,0,0,0,0,0,0,0,0,0,0,0,0,0,0,0,0,0,0,0,0,0,0,0,0,0,0,0,0,0,0,0,0,0,0,0,0,0,0,0,0,0,0,0,0,0,0,0,0,0,0,0,0,0,0,0,0,0,0,0,0,0,0,0,0,0,0,0,0,0,0,0,0,0,0,0,0,0,0,0,0,0,0,0,0,0,0,0,0,0,0,0,0,0,0,0,0,0,0,0,0,0,0,0,0,0,0,0,0,0,0,0,0,0,0,0,0,0,0,0,0,0,0,0,0,0,0,0,0,0,0]
[]
["Chaleur délivrée au demandeur de chaleur sur base de valeurs mesurées [MJ]",null,{"$f":"IF(C$64=1,C$24,0)","v":0},0,0,0,0,0,0,0,0,0,0,0,0,0,0,0,0,0,0,0,0,0,0,0,0,0,0,0,0,0,0,0,{"$f":"IF(AI$64=1,AI$24,0)","v":0},0,0,0,0,0,0,0,0,0,0,0,0,0,0,0,0,0,0,0,0,0,0,0,0,0,0,0,0,0,0,0,{"$f":"IF(BO$64=1,BO$24,0)","v":0},0,0,0,0,0,0,0,0,0,0,0,0,0,0,0,0,0,0,0,0,0,0,0,0,0,0,0,0,0,0,0,{"$f":"IF(CU$64=1,CU$24,0)","v":0},0,0,0,0,0,0,0,0,0,0,0,0,0,0,0,0,0,0,0,0,0,0,0,0,0,0,0,0,0,0,0,{"$f":"IF(EA$64=1,EA$24,0)","v":0},0,0,0,0,0,0,0,0,0,0,0,0,0,0,0,0,0,0,0,0,0,0,0,0,0,0,0,0,0,0,0,{"$f":"IF(FG$64=1,FG$24,0)","v":0},0,0,0,0,0,0,0,0,0,0,0,0,0,0,0,0,0,0,0,0,0,0,0,0,0,0,0,0,0,0,0,{"$f":"IF(GM$64=1,GM$24,0)","v":0},0,0,0,0,0,0,0]
["Chaleur délivrée au demandeur de chaleur sur base de factures [MJ]",null,{"$f":"IF(C$64=2,C$25,0)","v":0},0,0,0,0,0,0,0,0,0,0,0,0,0,0,0,0,0,0,0,0,0,0,0,0,0,0,0,0,0,0,0,{"$f":"IF(AI$64=2,AI$25,0)","v":0},0,0,0,0,0,0,0,0,0,0,0,0,0,0,0,0,0,0,0,0,0,0,0,0,0,0,0,0,0,0,0,{"$f":"IF(BO$64=2,BO$25,0)","v":0},0,0,0,0,0,0,0,0,0,0,0,0,0,0,0,0,0,0,0,0,0,0,0,0,0,0,0,0,0,0,0,{"$f":"IF(CU$64=2,CU$25,0)","v":0},0,0,0,0,0,0,0,0,0,0,0,0,0,0,0,0,0,0,0,0,0,0,0,0,0,0,0,0,0,0,0,{"$f":"IF(EA$64=2,EA$25,0)","v":0},0,0,0,0,0,0,0,0,0,0,0,0,0,0,0,0,0,0,0,0,0,0,0,0,0,0,0,0,0,0,0,{"$f":"IF(FG$64=2,FG$25,0)","v":0},0,0,0,0,0,0,0,0,0,0,0,0,0,0,0,0,0,0,0,0,0,0,0,0,0,0,0,0,0,0,0,{"$f":"IF(GM$64=2,GM$25,0)","v":0},0,0,0,0,0,0,0]
["Chaleur délivrée à l'unité PEB [MJ]",null,{"$f":"IF(C$64=3,SUM(C$48:C$54),0)","v":0},{"$f":"IF(D$64=3,SUM(D$48:D$54),0)","v":0},{"$f":"IF(E$64=3,SUM(E$48:E$54),0)","v":0},{"$f":"IF(F$64=3,SUM(F$48:F$54),0)","v":0},{"$f":"IF(G$64=3,SUM(G$48:G$54),0)","v":0},0,0,0,0,0,0,0,0,0,0,0,0,0,0,0,0,0,0,0,0,0,0,0,0,0,0,0,0,0,0,0,0,0,0,0,0,0,0,0,0,0,0,0,0,0,0,0,0,0,0,0,0,0,0,0,0,0,0,0,0,0,0,0,0,0,0,0,0,0,0,0,0,0,0,0,0,0,0,0,0,0,0,0,0,0,0,0,0,0,0,0,0,0,0,0,0,0,0,0,0,0,0,0,0,0,0,0,0,0,0,0,0,0,0,0,0,0,0,0,0,0,0,0,0,0,0,0,0,0,0,0,0,0,0,0,0,0,0,0,0,0,0,0,0,0,0,0,0,0,0,0,0,0,0,0,0,0,0,0,0,0,0,0,0,0,0,0,0,0,0,0,0,0,0,0,0,0,0,0,0,0,0,0,0,0,0,0,0,0,0,0,0,0,0,0]
["Chaleur délivrée au demandeur de chaleur sur base de la surface Ach [MJ]",null,{"$f":"IF(C$64=4,SUM(C$57:C$61),0)","v":0},{"$f":"IF(D$64=4,SUM(D$57:D$61),0)","v":0},{"$f":"IF(E$64=4,SUM(E$57:E$61),0)","v":0},{"$f":"IF(F$64=4,SUM(F$57:F$61),0)","v":0},0,0,0,0,0,0,0,0,0,0,0,0,0,0,0,0,0,0,0,0,0,0,0,0,0,0,0,0,0,0,0,0,0,0,0,0,0,0,0,0,0,0,0,0,0,0,0,0,0,0,0,0,0,0,0,0,0,0,0,0,0,0,0,0,0,0,0,0,0,0,0,0,0,0,0,0,0,0,0,0,0,0,0,0,0,0,0,0,0,0,0,0,0,0,0,0,0,0,0,0,0,0,0,0,0,0,0,0,0,0,0,0,0,0,0,0,0,0,0,0,0,0,0,0,0,0,0,0,0,0,0,0,0,0,0,0,0,0,0,0,0,0,0,0,0,0,0,0,0,0,0,0,0,0,0,0,0,0,0,0,0,0,0,0,0,0,0,0,0,0,0,0,0,0,0,0,0,0,0,0,0,0,0,0,0,0,0,0,0,0,0,0,0,0,0,0]
["Chaleur délivrée au demandeur de chaleur sur base de la valeur par défaut [MJ]",null,{"$f":"IF(C$64=5,0,0)","v":0},{"$f":"IF(D$64=5,0,0)","v":0},{"$f":"IF(E$64=5,0,0)","v":0},{"$f":"IF(F$64=5,0,0)","v":0},{"$f":"IF(G$64=5,0,0)","v":0},0,0,0,0,0,0,0,0,0,0,0,0,0,0,0,0,0,0,0,0,0,0,0,0,0,0,0,0,0,0,0,0,0,0,0,0,0,0,0,0,0,0,0,0,0,0,0,0,0,0,0,0,0,0,0,0,0,0,0,0,0,0,0,0,0,0,0,0,0,0,0,0,0,0,0,0,0,0,0,0,0,0,0,0,0,0,0,0,0,0,0,0,0,0,0,0,0,0,0,0,0,0,0,0,0,0,0,0,0,0,0,0,0,0,0,0,0,0,0,0,0,0,0,0,0,0,0,0,0,0,0,0,0,0,0,0,0,0,0,0,0,0,0,0,0,0,0,0,0,0,0,0,0,0,0,0,0,0,0,0,0,0,0,0,0,0,0,0,0,0,0,0,0,0,0,0,0,0,0,0,0,0,0,0,0,0,0,0,0,0,0,0,0,0,0]
[]
["Identifiant du demandeur de chaleur",null,1,2,3,4,5,6,7,8,9,10,11,12,13,14,15,16,17,18,19,20,21,22,23,24,25,26,27,28,29,30,31,32,33,34,35,36,37,38,39,40,41,42,43,44,45,46,47,48,49,50,51,52,53,54,55,56,57,58,59,60,61,62,63,64,65,66,67,68,69,70,71,72,73,74,75,76,77,78,79,80,81,82,83,84,85,86,87,88,89,90,91,92,93,94,95,96,97,98,99,100,101,102,103,104,105,106,107,108,109,110,111,112,113,114,115,116,117,118,119,120,121,122,123,124,125,126,127,128,129,130,131,132,133,134,135,136,137,138,139,140,141,142,143,144,145,146,147,148,149,150,151,152,153,154,155,156,157,158,159,160,161,162,163,164,165,166,167,168,169,170,171,172,173,174,175,176,177,178,179,180,181,182,183,184,185,186,187,188,189,190,191,192,193,194,195,196,197,198,199,200]

{"sheet":"Déperditions linéaires","index":6,"n_rows":91,"n_cols":52,"rows_kept":91,"cut":false,"hidden":true,"merged":[[17,0,17,1],[21,0,21,1],[23,0,23,1],[16,0,16,1],[2,0,2,1],[4,0,4,1],[5,0,5,1],[6,0,6,1],[7,0,7,1],[10,0,10,1],[11,0,11,1],[13,0,13,1],[14,0,14,1],[15,0,15,1],[9,0,9,1],[8,0,8,1],[36,0,36,1],[24,0,24,1],[25,0,25,1],[26,0,26,1],[28,0,28,1],[31,0,31,1],[32,0,32,1],[33,0,33,1],[34,0,34,1],[35,0,35,1],[27,0,27,1],[61,0,61,1],[62,0,62,1],[48,0,48,1],[37,0,37,1],[38,0,38,1],[39,0,39,1],[40,0,40,1],[41,0,41,1],[42,0,42,1],[43,0,43,1],[44,0,44,1],[45,0,45,1],[46,0,46,1],[47,0,47,1],[60,0,60,1],[49,0,49,1],[50,0,50,1],[51,0,51,1],[52,0,52,1],[53,0,53,1],[54,0,54,1],[55,0,55,1],[56,0,56,1],[57,0,57,1],[58,0,58,1],[59,0,59,1],[63,0,63,1],[64,0,64,1],[65,0,65,1],[66,0,66,1],[67,0,67,1],[68,0,68,1],[69,0,69,1],[70,0,70,1],[71,0,71,1],[87,0,87,1],[75,0,75,1],[72,0,72,1],[22,0,22,1],[88,0,88,1],[0,0,0,1],[1,0,1,1],[81,0,81,1],[82,0,82,1],[83,0,83,1],[84,0,84,1],[85,0,85,1],[86,0,86,1],[73,0,73,1],[76,0,76,1],[77,0,77,1],[78,0,78,1],[79,0,79,1],[80,0,80,1]]}
["Déperditions de chaleur linéaires"]
[]
["1. Quantité de chaleur perdue annuellement dans le système de fourniture de chaleur, en raison des déperditions de chaleur linéaires"]
["Qlossdist,dh [MJ]",{"$f":"SUM(C25:AZ25)","v":0}]
[]
["2. Déperditions de chaleur mensuelles du segment de conduite j"]
["Caractéristiques",null,{"$f":"\"Segment de conduite \"&C91","v":"Segment de conduite 1"},"Segment de conduite 2","Segment de conduite 3","Segment de conduite 4","Segment de conduite 5","Segment de conduite 6","Segment de conduite 7","Segment de conduite 8","Segment de conduite 9","Segment de conduite 10","Segment de conduite 11","Segment de conduite 12","Segment de conduite 13","Segment de conduite 14","Segment de conduite 15","Segment de conduite 16","Segment de conduite 17","Segment de conduite 18","Segment de conduite 19","Segment de conduite 20","Segment de conduite 21","Segment de conduite 22","Segment de conduite 23","Segment de conduite 24","Segment de conduite 25","Segment de conduite 26","Segment de conduite 27","Segment de conduite 28","Segment de conduite 29","Segment de conduite 30","Segment de conduite 31","Segment de conduite 32",{"$f":"\"Segment de conduite \"&AI91","v":"Segment de conduite 33"},"Segment de conduite 34","Segment de conduite 35","Segment de conduite 36","Segment de conduite 37","Segment de conduite 38","Segment de conduite 39","Segment de conduite 40","Segment de conduite 41","Segment de conduite 42","Segment de conduite 43","Segment de conduite 44","Segment de conduite 45","Segment de conduite 46","Segment de conduite 47","Segment de conduite 48","Segment de conduite 49","Segment de conduite 50"]
["Nom / Description"]
["Segment de conduite existant ou neuf ?"]
["Pour un nouveau segment : timing de l'installation"]
["Conduite souterraine ?"]
["Mode de placement de la conduite souterraine\n"]
["Forme de la conduite"]
["Environnement de la conduite\n"]
["Longueur : lj [m]"]
["Coefficient de conductivité thermique de l'isolant : λinsul,j [W/mK]"]
["Diamètre extérieur de la conduite isolée : De,j [m]"]
["Diamètre extérieur de la conduite non isolée : Di,j [m]"]
["Épaisseur de l'isolation thermique autour de la gaine : dinsul,j [m]"]
["Hauteur de la gaine isolée (dimensions extérieures) : Hj [m]"]
["Largeur de la gaine isolée (dimensions extérieures) : Bj [m]"]
["Distance entre le centre de la conduite et la surface du sol : HE,j [m]"]
["Facteur de correction pour l'impact des ponts thermiques : finsul,netw n [-]\n(déterminé selon le § 9.3.2.2 de l'Annexe A.1 de l'AGW PEB du 15 mai 2014)"]
["Température moyenne du fluide caloporteur : θc,netw n,m [°C]"]
["Résultat partiel : Qdistr,heat,netw,n,a [MJ]",null,{"$f":"IF(C8=\"\",0,IF(OR(C$24=\"\",C$23=\"\"),\"#N/B\",SUM(C$78:C$89)))","v":0},{"$f":"IF(D8=\"\",0,IF(OR(D$24=\"\",D$23=\"\"),\"#N/B\",SUM(D$78:D$89)))","v":0},0,0,0,0,0,0,0,0,0,0,0,0,0,0,0,0,0,0,0,0,0,0,0,0,0,0,0,0,0,0,0,0,0,0,0,0,0,0,0,0,0,0,0,0,0,0,0,0]
[]
["3. Calculs - Masquer à partir d'ici",null,{"$f":"\"Segment de conduite \"&C91","v":"Segment de conduite 1"},"Segment de conduite 2","Segment de conduite 3","Segment de conduite 4","Segment de conduite 5","Segment de conduite 6","Segment de conduite 7","Segment de conduite 8","Segment de conduite 9","Segment de conduite 10","Segment de conduite 11","Segment de conduite 12","Segment de conduite 13","Segment de conduite 14","Segment de conduite 15","Segment de conduite 16","Segment de conduite 17","Segment de conduite 18","Segment de conduite 19","Segment de conduite 20","Segment de conduite 21","Segment de conduite 22","Segment de conduite 23","Segment de conduite 24","Segment de conduite 25","Segment de conduite 26","Segment de conduite 27","Segment de conduite 28","Segment de conduite 29","Segment de conduite 30","Segment de conduite 31","Segment de conduite 32",{"$f":"\"Segment de conduite \"&AI91","v":"Segment de conduite 33"},"Segment de conduite 34","Segment de conduite 35","Segment de conduite 36","Segment de conduite 37","Segment de conduite 38","Segment de conduite 39","Segment de conduite 40","Segment de conduite 41","Segment de conduite 42","Segment de conduite 43","Segment de conduite 44","Segment de conduite 45","Segment de conduite 46","Segment de conduite 47","Segment de conduite 48","Segment de conduite 49","Segment de conduite 50"]
["Conduite souterraine ?",null,{"$f":"IF(C11=\"\",0,VLOOKUP(C11,T_JaNee,2,FALSE))","v":0},0,0,0,0,0,0,0,0,0,0,0,0,0,0,0,0,0,0,0,0,0,0,0,0,0,0,0,0,0,0,0,{"$f":"IF(AI11=\"\",0,VLOOKUP(AI11,T_JaNee,2,FALSE))","v":0},0,0,0,0,0,0,0,0,0,0,0,0,0,0,0,0,0]
["Mode de placement",null,{"$f":"IF(C$28=1,IF(C11=\"\",0,IF(VLOOKUP(C$11,T_JaNee,2,FALSE)=1,VLOOKUP(C$12,T_UitvoeringOndergrondseLeiding,2,FALSE),4)),VLOOKUP(C13,'Listes de sélection'!$A$208:$B$209,2,FALSE))","v":{"$error":"#N/A"}},{"$f":"IF(D$28=1,IF(D11=\"\",0,IF(VLOOKUP(D$11,T_JaNee,2,FALSE)=1,VLOOKUP(D$12,T_UitvoeringOndergrondseLeiding,2,FALSE),4)),VLOOKUP(D13,'Listes de sélection'!$A$208:$B$209,2,FALSE))","v":{"$error":"#N/A"}},{"$f":"IF(E$28=1,IF(E11=\"\",0,IF(VLOOKUP(E$11,T_JaNee,2,FALSE)=1,VLOOKUP(E$12,T_UitvoeringOndergrondseLeiding,2,FALSE),4)),VLOOKUP(E13,'Listes de sélection'!$A$208:$B$209,2,FALSE))","v":{"$error":"#N/A"}},{"$f":"IF(F$28=1,IF(F11=\"\",0,IF(VLOOKUP(F$11,T_JaNee,2,FALSE)=1,VLOOKUP(F$12,T_UitvoeringOndergrondseLeiding,2,FALSE),4)),VLOOKUP(F13,'Listes de sélection'!$A$208:$B$209,2,FALSE))","v":{"$error":"#N/A"}},{"$f":"IF(G$28=1,IF(G11=\"\",0,IF(VLOOKUP(G$11,T_JaNee,2,FALSE)=1,VLOOKUP(G$12,T_UitvoeringOndergrondseLeiding,2,FALSE),4)),VLOOKUP(G13,'Listes de sélection'!$A$208:$B$209,2,FALSE))","v":{"$error":"#N/A"}},{"$f":"IF(H$28=1,IF(H11=\"\",0,IF(VLOOKUP(H$11,T_JaNee,2,FALSE)=1,VLOOKUP(H$12,T_UitvoeringOndergrondseLeiding,2,FALSE),4)),VLOOKUP(H13,'Listes de sélection'!$A$208:$B$209,2,FALSE))","v":{"$error":"#N/A"}},{"$f":"IF(I$28=1,IF(I11=\"\",0,IF(VLOOKUP(I$11,T_JaNee,2,FALSE)=1,VLOOKUP(I$12,T_UitvoeringOndergrondseLeiding,2,FALSE),4)),VLOOKUP(I13,'Listes de sélection'!$A$208:$B$209,2,FALSE))","v":{"$error":"#N/A"}},{"$f":"IF(J$28=1,IF(J11=\"\",0,IF(VLOOKUP(J$11,T_JaNee,2,FALSE)=1,VLOOKUP(J$12,T_UitvoeringOndergrondseLeiding,2,FALSE),4)),VLOOKUP(J13,'Listes de sélection'!$A$208:$B$209,2,FALSE))","v":{"$error":"#N/A"}},{"$f":"IF(K$28=1,IF(K11=\"\",0,IF(VLOOKUP(K$11,T_JaNee,2,FALSE)=1,VLOOKUP(K$12,T_UitvoeringOndergrondseLeiding,2,FALSE),4)),VLOOKUP(K13,'Listes de sélection'!$A$208:$B$209,2,FALSE))","v":{"$error":"#N/A"}},{"$f":"IF(L$28=1,IF(L11=\"\",0,IF(VLOOKUP(L$11,T_JaNee,2,FALSE)=1,VLOOKUP(L$12,T_UitvoeringOndergrondseLeiding,2,FALSE),4)),VLOOKUP(L13,'Listes de sélection'!$A$208:$B$209,2,FALSE))","v":{"$error":"#N/A"}},{"$f":"IF(M$28=1,IF(M11=\"\",0,IF(VLOOKUP(M$11,T_JaNee,2,FALSE)=1,VLOOKUP(M$12,T_UitvoeringOndergrondseLeiding,2,FALSE),4)),VLOOKUP(M13,'Listes de sélection'!$A$208:$B$209,2,FALSE))","v":{"$error":"#N/A"}},{"$f":"IF(N$28=1,IF(N11=\"\",0,IF(VLOOKUP(N$11,T_JaNee,2,FALSE)=1,VLOOKUP(N$12,T_UitvoeringOndergrondseLeiding,2,FALSE),4)),VLOOKUP(N13,'Listes de sélection'!$A$208:$B$209,2,FALSE))","v":{"$error":"#N/A"}},{"$f":"IF(O$28=1,IF(O11=\"\",0,IF(VLOOKUP(O$11,T_JaNee,2,FALSE)=1,VLOOKUP(O$12,T_UitvoeringOndergrondseLeiding,2,FALSE),4)),VLOOKUP(O13,'Listes de sélection'!$A$208:$B$209,2,FALSE))","v":{"$error":"#N/A"}},{"$f":"IF(P$28=1,IF(P11=\"\",0,IF(VLOOKUP(P$11,T_JaNee,2,FALSE)=1,VLOOKUP(P$12,T_UitvoeringOndergrondseLeiding,2,FALSE),4)),VLOOKUP(P13,'Listes de sélection'!$A$208:$B$209,2,FALSE))","v":{"$error":"#N/A"}},{"$f":"IF(Q$28=1,IF(Q11=\"\",0,IF(VLOOKUP(Q$11,T_JaNee,2,FALSE)=1,VLOOKUP(Q$12,T_UitvoeringOndergrondseLeiding,2,FALSE),4)),VLOOKUP(Q13,'Listes de sélection'!$A$208:$B$209,2,FALSE))","v":{"$error":"#N/A"}},{"$f":"IF(R$28=1,IF(R11=\"\",0,IF(VLOOKUP(R$11,T_JaNee,2,FALSE)=1,VLOOKUP(R$12,T_UitvoeringOndergrondseLeiding,2,FALSE),4)),VLOOKUP(R13,'Listes de sélection'!$A$208:$B$209,2,FALSE))","v":{"$error":"#N/A"}},{"$f":"IF(S$28=1,IF(S11=\"\",0,IF(VLOOKUP(S$11,T_JaNee,2,FALSE)=1,VLOOKUP(S$12,T_UitvoeringOndergrondseLeiding,2,FALSE),4)),VLOOKUP(S13,'Listes de sélection'!$A$208:$B$209,2,FALSE))","v":{"$error":"#N/A"}},{"$f":"IF(T$28=1,IF(T11=\"\",0,IF(VLOOKUP(T$11,T_JaNee,2,FALSE)=1,VLOOKUP(T$12,T_UitvoeringOndergrondseLeiding,2,FALSE),4)),VLOOKUP(T13,'Listes de sélection'!$A$208:$B$209,2,FALSE))","v":{"$error":"#N/A"}},{"$f":"IF(U$28=1,IF(U11=\"\",0,IF(VLOOKUP(U$11,T_JaNee,2,FALSE)=1,VLOOKUP(U$12,T_UitvoeringOndergrondseLeiding,2,FALSE),4)),VLOOKUP(U13,'Listes de sélection'!$A$208:$B$209,2,FALSE))","v":{"$error":"#N/A"}},{"$f":"IF(V$28=1,IF(V11=\"\",0,IF(VLOOKUP(V$11,T_JaNee,2,FALSE)=1,VLOOKUP(V$12,T_UitvoeringOndergrondseLeiding,2,FALSE),4)),VLOOKUP(V13,'Listes de sélection'!$A$208:$B$209,2,FALSE))","v":{"$error":"#N/A"}},{"$f":"IF(W$28=1,IF(W11=\"\",0,IF(VLOOKUP(W$11,T_JaNee,2,FALSE)=1,VLOOKUP(W$12,T_UitvoeringOndergrondseLeiding,2,FALSE),4)),VLOOKUP(W13,'Listes de sélection'!$A$208:$B$209,2,FALSE))","v":{"$error":"#N/A"}},{"$f":"IF(X$28=1,IF(X11=\"\",0,IF(VLOOKUP(X$11,T_JaNee,2,FALSE)=1,VLOOKUP(X$12,T_UitvoeringOndergrondseLeiding,2,FALSE),4)),VLOOKUP(X13,'Listes de sélection'!$A$208:$B$209,2,FALSE))","v":{"$error":"#N/A"}},{"$f":"IF(Y$28=1,IF(Y11=\"\",0,IF(VLOOKUP(Y$11,T_JaNee,2,FALSE)=1,VLOOKUP(Y$12,T_UitvoeringOndergrondseLeiding,2,FALSE),4)),VLOOKUP(Y13,'Listes de sélection'!$A$208:$B$209,2,FALSE))","v":{"$error":"#N/A"}},{"$f":"IF(Z$28=1,IF(Z11=\"\",0,IF(VLOOKUP(Z$11,T_JaNee,2,FALSE)=1,VLOOKUP(Z$12,T_UitvoeringOndergrondseLeiding,2,FALSE),4)),VLOOKUP(Z13,'Listes de sélection'!$A$208:$B$209,2,FALSE))","v":{"$error":"#N/A"}},{"$f":"IF(AA$28=1,IF(AA11=\"\",0,IF(VLOOKUP(AA$11,T_JaNee,2,FALSE)=1,VLOOKUP(AA$12,T_UitvoeringOndergrondseLeiding,2,FALSE),4)),VLOOKUP(AA13,'Listes de sélection'!$A$208:$B$209,2,FALSE))","v":{"$error":"#N/A"}},{"$f":"IF(AB$28=1,IF(AB11=\"\",0,IF(VLOOKUP(AB$11,T_JaNee,2,FALSE)=1,VLOOKUP(AB$12,T_UitvoeringOndergrondseLeiding,2,FALSE),4)),VLOOKUP(AB13,'Listes de sélection'!$A$208:$B$209,2,FALSE))","v":{"$error":"#N/A"}},{"$f":"IF(AC$28=1,IF(AC11=\"\",0,IF(VLOOKUP(AC$11,T_JaNee,2,FALSE)=1,VLOOKUP(AC$12,T_UitvoeringOndergrondseLeiding,2,FALSE),4)),VLOOKUP(AC13,'Listes de sélection'!$A$208:$B$209,2,FALSE))","v":{"$error":"#N/A"}},{"$f":"IF(AD$28=1,IF(AD11=\"\",0,IF(VLOOKUP(AD$11,T_JaNee,2,FALSE)=1,VLOOKUP(AD$12,T_UitvoeringOndergrondseLeiding,2,FALSE),4)),VLOOKUP(AD13,'Listes de sélection'!$A$208:$B$209,2,FALSE))","v":{"$error":"#N/A"}},{"$f":"IF(AE$28=1,IF(AE11=\"\",0,IF(VLOOKUP(AE$11,T_JaNee,2,FALSE)=1,VLOOKUP(AE$12,T_UitvoeringOndergrondseLeiding,2,FALSE),4)),VLOOKUP(AE13,'Listes de sélection'!$A$208:$B$209,2,FALSE))","v":{"$error":"#N/A"}},{"$f":"IF(AF$28=1,IF(AF11=\"\",0,IF(VLOOKUP(AF$11,T_JaNee,2,FALSE)=1,VLOOKUP(AF$12,T_UitvoeringOndergrondseLeiding,2,FALSE),4)),VLOOKUP(AF13,'Listes de sélection'!$A$208:$B$209,2,FALSE))","v":{"$error":"#N/A"}},{"$f":"IF(AG$28=1,IF(AG11=\"\",0,IF(VLOOKUP(AG$11,T_JaNee,2,FALSE)=1,VLOOKUP(AG$12,T_UitvoeringOndergrondseLeiding,2,FALSE),4)),VLOOKUP(AG13,'Listes de sélection'!$A$208:$B$209,2,FALSE))","v":{"$error":"#N/A"}},{"$f":"IF(AH$28=1,IF(AH11=\"\",0,IF(VLOOKUP(AH$11,T_JaNee,2,FALSE)=1,VLOOKUP(AH$12,T_UitvoeringOndergrondseLeiding,2,FALSE),4)),VLOOKUP(AH13,'Listes de sélection'!$A$208:$B$209,2,FALSE))","v":{"$error":"#N/A"}},{"$f":"IF(AI$28=1,IF(AI11=\"\",0,IF(VLOOKUP(AI$11,T_JaNee,2,FALSE)=1,VLOOKUP(AI$12,T_UitvoeringOndergrondseLeiding,2,FALSE),4)),VLOOKUP(AI13,'Listes de sélection'!$A$208:$B$209,2,FALSE))","v":{"$error":"#N/A"}},{"$f":"IF(AJ$28=1,IF(AJ11=\"\",0,IF(VLOOKUP(AJ$11,T_JaNee,2,FALSE)=1,VLOOKUP(AJ$12,T_UitvoeringOndergrondseLeiding,2,FALSE),4)),VLOOKUP(AJ13,'Listes de sélection'!$A$208:$B$209,2,FALSE))","v":{"$error":"#N/A"}},{"$f":"IF(AK$28=1,IF(AK11=\"\",0,IF(VLOOKUP(AK$11,T_JaNee,2,FALSE)=1,VLOOKUP(AK$12,T_UitvoeringOndergrondseLeiding,2,FALSE),4)),VLOOKUP(AK13,'Listes de sélection'!$A$208:$B$209,2,FALSE))","v":{"$error":"#N/A"}},{"$f":"IF(AL$28=1,IF(AL11=\"\",0,IF(VLOOKUP(AL$11,T_JaNee,2,FALSE)=1,VLOOKUP(AL$12,T_UitvoeringOndergrondseLeiding,2,FALSE),4)),VLOOKUP(AL13,'Listes de sélection'!$A$208:$B$209,2,FALSE))","v":{"$error":"#N/A"}},{"$f":"IF(AM$28=1,IF(AM11=\"\",0,IF(VLOOKUP(AM$11,T_JaNee,2,FALSE)=1,VLOOKUP(AM$12,T_UitvoeringOndergrondseLeiding,2,FALSE),4)),VLOOKUP(AM13,'Listes de sélection'!$A$208:$B$209,2,FALSE))","v":{"$error":"#N/A"}},{"$f":"IF(AN$28=1,IF(AN11=\"\",0,IF(VLOOKUP(AN$11,T_JaNee,2,FALSE)=1,VLOOKUP(AN$12,T_UitvoeringOndergrondseLeiding,2,FALSE),4)),VLOOKUP(AN13,'Listes de sélection'!$A$208:$B$209,2,FALSE))","v":{"$error":"#N/A"}},{"$f":"IF(AO$28=1,IF(AO11=\"\",0,IF(VLOOKUP(AO$11,T_JaNee,2,FALSE)=1,VLOOKUP(AO$12,T_UitvoeringOndergrondseLeiding,2,FALSE),4)),VLOOKUP(AO13,'Listes de sélection'!$A$208:$B$209,2,FALSE))","v":{"$error":"#N/A"}},{"$f":"IF(AP$28=1,IF(AP11=\"\",0,IF(VLOOKUP(AP$11,T_JaNee,2,FALSE)=1,VLOOKUP(AP$12,T_UitvoeringOndergrondseLeiding,2,FALSE),4)),VLOOKUP(AP13,'Listes de sélection'!$A$208:$B$209,2,FALSE))","v":{"$error":"#N/A"}},{"$f":"IF(AQ$28=1,IF(AQ11=\"\",0,IF(VLOOKUP(AQ$11,T_JaNee,2,FALSE)=1,VLOOKUP(AQ$12,T_UitvoeringOndergrondseLeiding,2,FALSE),4)),VLOOKUP(AQ13,'Listes de sélection'!$A$208:$B$209,2,FALSE))","v":{"$error":"#N/A"}},{"$f":"IF(AR$28=1,IF(AR11=\"\",0,IF(VLOOKUP(AR$11,T_JaNee,2,FALSE)=1,VLOOKUP(AR$12,T_UitvoeringOndergrondseLeiding,2,FALSE),4)),VLOOKUP(AR13,'Listes de sélection'!$A$208:$B$209,2,FALSE))","v":{"$error":"#N/A"}},{"$f":"IF(AS$28=1,IF(AS11=\"\",0,IF(VLOOKUP(AS$11,T_JaNee,2,FALSE)=1,VLOOKUP(AS$12,T_UitvoeringOndergrondseLeiding,2,FALSE),4)),VLOOKUP(AS13,'Listes de sélection'!$A$208:$B$209,2,FALSE))","v":{"$error":"#N/A"}},{"$f":"IF(AT$28=1,IF(AT11=\"\",0,IF(VLOOKUP(AT$11,T_JaNee,2,FALSE)=1,VLOOKUP(AT$12,T_UitvoeringOndergrondseLeiding,2,FALSE),4)),VLOOKUP(AT13,'Listes de sélection'!$A$208:$B$209,2,FALSE))","v":{"$error":"#N/A"}},{"$f":"IF(AU$28=1,IF(AU11=\"\",0,IF(VLOOKUP(AU$11,T_JaNee,2,FALSE)=1,VLOOKUP(AU$12,T_UitvoeringOndergrondseLeiding,2,FALSE),4)),VLOOKUP(AU13,'Listes de sélection'!$A$208:$B$209,2,FALSE))","v":{"$error":"#N/A"}},{"$f":"IF(AV$28=1,IF(AV11=\"\",0,IF(VLOOKUP(AV$11,T_JaNee,2,FALSE)=1,VLOOKUP(AV$12,T_UitvoeringOndergrondseLeiding,2,FALSE),4)),VLOOKUP(AV13,'Listes de sélection'!$A$208:$B$209,2,FALSE))","v":{"$error":"#N/A"}},{"$f":"IF(AW$28=1,IF(AW11=\"\",0,IF(VLOOKUP(AW$11,T_JaNee,2,FALSE)=1,VLOOKUP(AW$12,T_UitvoeringOndergrondseLeiding,2,FALSE),4)),VLOOKUP(AW13,'Listes de sélection'!$A$208:$B$209,2,FALSE))","v":{"$error":"#N/A"}},{"$f":"IF(AX$28=1,IF(AX11=\"\",0,IF(VLOOKUP(AX$11,T_JaNee,2,FALSE)=1,VLOOKUP(AX$12,T_UitvoeringOndergrondseLeiding,2,FALSE),4)),VLOOKUP(AX13,'Listes de sélection'!$A$208:$B$209,2,FALSE))","v":{"$error":"#N/A"}},{"$f":"IF(AY$28=1,IF(AY11=\"\",0,IF(VLOOKUP(AY$11,T_JaNee,2,FALSE)=1,VLOOKUP(AY$12,T_UitvoeringOndergrondseLeiding,2,FALSE),4)),VLOOKUP(AY13,'Listes de sélection'!$A$208:$B$209,2,FALSE))","v":{"$error":"#N/A"}},{"$f":"IF(AZ$28=1,IF(AZ11=\"\",0,IF(VLOOKUP(AZ$11,T_JaNee,2,FALSE)=1,VLOOKUP(AZ$12,T_UitvoeringOndergrondseLeiding,2,FALSE),4)),VLOOKUP(AZ13,'Listes de sélection'!$A$208:$B$209,2,FALSE))","v":{"$error":"#N/A"}}]
["Forme de la conduite",null,{"$f":"IF(C$28=1,\"nvt\",IF(C11=\"\",0,VLOOKUP(C$14,T_LiggingSegment,2,FALSE)))","v":0},0,0,0,0,0,0,0,0,0,0,0,0,0,0,0,0,0,0,0,0,0,0,0,0,0,0,0,0,0,0,0,{"$f":"IF(AI$28=1,\"nvt\",IF(AI11=\"\",0,VLOOKUP(AI$14,T_LiggingSegment,2,FALSE)))","v":0},0,0,0,0,0,0,0,0,0,0,0,0,0,0,0,0,0]
["hse,j [W/m²K]",null,{"$f":"IF(C28=1,\"nvt\",VLOOKUP(C14,'Listes de sélection'!$A$96:$C$98,3,FALSE))","v":{"$error":"#N/A"}},{"$f":"IF(D28=1,\"nvt\",VLOOKUP(D14,'Listes de sélection'!$A$96:$C$98,3,FALSE))","v":{"$error":"#N/A"}},{"$f":"IF(E28=1,\"nvt\",VLOOKUP(E14,'Listes de sélection'!$A$96:$C$98,3,FALSE))","v":{"$error":"#N/A"}},{"$f":"IF(F28=1,\"nvt\",VLOOKUP(F14,'Listes de sélection'!$A$96:$C$98,3,FALSE))","v":{"$error":"#N/A"}},{"$f":"IF(G28=1,\"nvt\",VLOOKUP(G14,'Listes de sélection'!$A$96:$C$98,3,FALSE))","v":{"$error":"#N/A"}},{"$f":"IF(H28=1,\"nvt\",VLOOKUP(H14,'Listes de sélection'!$A$96:$C$98,3,FALSE))","v":{"$error":"#N/A"}},{"$f":"IF(I28=1,\"nvt\",VLOOKUP(I14,'Listes de sélection'!$A$96:$C$98,3,FALSE))","v":{"$error":"#N/A"}},{"$f":"IF(J28=1,\"nvt\",VLOOKUP(J14,'Listes de sélection'!$A$96:$C$98,3,FALSE))","v":{"$error":"#N/A"}},{"$f":"IF(K28=1,\"nvt\",VLOOKUP(K14,'Listes de sélection'!$A$96:$C$98,3,FALSE))","v":{"$error":"#N/A"}},{"$f":"IF(L28=1,\"nvt\",VLOOKUP(L14,'Listes de sélection'!$A$96:$C$98,3,FALSE))","v":{"$error":"#N/A"}},{"$f":"IF(M28=1,\"nvt\",VLOOKUP(M14,'Listes de sélection'!$A$96:$C$98,3,FALSE))","v":{"$error":"#N/A"}},{"$f":"IF(N28=1,\"nvt\",VLOOKUP(N14,'Listes de sélection'!$A$96:$C$98,3,FALSE))","v":{"$error":"#N/A"}},{"$f":"IF(O28=1,\"nvt\",VLOOKUP(O14,'Listes de sélection'!$A$96:$C$98,3,FALSE))","v":{"$error":"#N/A"}},{"$f":"IF(P28=1,\"nvt\",VLOOKUP(P14,'Listes de sélection'!$A$96:$C$98,3,FALSE))","v":{"$error":"#N/A"}},{"$f":"IF(Q28=1,\"nvt\",VLOOKUP(Q14,'Listes de sélection'!$A$96:$C$98,3,FALSE))","v":{"$error":"#N/A"}},{"$f":"IF(R28=1,\"nvt\",VLOOKUP(R14,'Listes de sélection'!$A$96:$C$98,3,FALSE))","v":{"$error":"#N/A"}},{"$f":"IF(S28=1,\"nvt\",VLOOKUP(S14,'Listes de sélection'!$A$96:$C$98,3,FALSE))","v":{"$error":"#N/A"}},{"$f":"IF(T28=1,\"nvt\",VLOOKUP(T14,'Listes de sélection'!$A$96:$C$98,3,FALSE))","v":{"$error":"#N/A"}},{"$f":"IF(U28=1,\"nvt\",VLOOKUP(U14,'Listes de sélection'!$A$96:$C$98,3,FALSE))","v":{"$error":"#N/A"}},{"$f":"IF(V28=1,\"nvt\",VLOOKUP(V14,'Listes de sélection'!$A$96:$C$98,3,FALSE))","v":{"$error":"#N/A"}},{"$f":"IF(W28=1,\"nvt\",VLOOKUP(W14,'Listes de sélection'!$A$96:$C$98,3,FALSE))","v":{"$error":"#N/A"}},{"$f":"IF(X28=1,\"nvt\",VLOOKUP(X14,'Listes de sélection'!$A$96:$C$98,3,FALSE))","v":{"$error":"#N/A"}},{"$f":"IF(Y28=1,\"nvt\",VLOOKUP(Y14,'Listes de sélection'!$A$96:$C$98,3,FALSE))","v":{"$error":"#N/A"}},{"$f":"IF(Z28=1,\"nvt\",VLOOKUP(Z14,'Listes de sélection'!$A$96:$C$98,3,FALSE))","v":{"$error":"#N/A"}},{"$f":"IF(AA28=1,\"nvt\",VLOOKUP(AA14,'Listes de sélection'!$A$96:$C$98,3,FALSE))","v":{"$error":"#N/A"}},{"$f":"IF(AB28=1,\"nvt\",VLOOKUP(AB14,'Listes de sélection'!$A$96:$C$98,3,FALSE))","v":{"$error":"#N/A"}},{"$f":"IF(AC28=1,\"nvt\",VLOOKUP(AC14,'Listes de sélection'!$A$96:$C$98,3,FALSE))","v":{"$error":"#N/A"}},{"$f":"IF(AD28=1,\"nvt\",VLOOKUP(AD14,'Listes de sélection'!$A$96:$C$98,3,FALSE))","v":{"$error":"#N/A"}},{"$f":"IF(AE28=1,\"nvt\",VLOOKUP(AE14,'Listes de sélection'!$A$96:$C$98,3,FALSE))","v":{"$error":"#N/A"}},{"$f":"IF(AF28=1,\"nvt\",VLOOKUP(AF14,'Listes de sélection'!$A$96:$C$98,3,FALSE))","v":{"$error":"#N/A"}},{"$f":"IF(AG28=1,\"nvt\",VLOOKUP(AG14,'Listes de sélection'!$A$96:$C$98,3,FALSE))","v":{"$error":"#N/A"}},{"$f":"IF(AH28=1,\"nvt\",VLOOKUP(AH14,'Listes de sélection'!$A$96:$C$98,3,FALSE))","v":{"$error":"#N/A"}},{"$f":"IF(AI28=1,\"nvt\",VLOOKUP(AI14,'Listes de sélection'!$A$96:$C$98,3,FALSE))","v":{"$error":"#N/A"}},{"$f":"IF(AJ28=1,\"nvt\",VLOOKUP(AJ14,'Listes de sélection'!$A$96:$C$98,3,FALSE))","v":{"$error":"#N/A"}},{"$f":"IF(AK28=1,\"nvt\",VLOOKUP(AK14,'Listes de sélection'!$A$96:$C$98,3,FALSE))","v":{"$error":"#N/A"}},{"$f":"IF(AL28=1,\"nvt\",VLOOKUP(AL14,'Listes de sélection'!$A$96:$C$98,3,FALSE))","v":{"$error":"#N/A"}},{"$f":"IF(AM28=1,\"nvt\",VLOOKUP(AM14,'Listes de sélection'!$A$96:$C$98,3,FALSE))","v":{"$error":"#N/A"}},{"$f":"IF(AN28=1,\"nvt\",VLOOKUP(AN14,'Listes de sélection'!$A$96:$C$98,3,FALSE))","v":{"$error":"#N/A"}},{"$f":"IF(AO28=1,\"nvt\",VLOOKUP(AO14,'Listes de sélection'!$A$96:$C$98,3,FALSE))","v":{"$error":"#N/A"}},{"$f":"IF(AP28=1,\"nvt\",VLOOKUP(AP14,'Listes de sélection'!$A$96:$C$98,3,FALSE))","v":{"$error":"#N/A"}},{"$f":"IF(AQ28=1,\"nvt\",VLOOKUP(AQ14,'Listes de sélection'!$A$96:$C$98,3,FALSE))","v":{"$error":"#N/A"}},{"$f":"IF(AR28=1,\"nvt\",VLOOKUP(AR14,'Listes de sélection'!$A$96:$C$98,3,FALSE))","v":{"$error":"#N/A"}},{"$f":"IF(AS28=1,\"nvt\",VLOOKUP(AS14,'Listes de sélection'!$A$96:$C$98,3,FALSE))","v":{"$error":"#N/A"}},{"$f":"IF(AT28=1,\"nvt\",VLOOKUP(AT14,'Listes de sélection'!$A$96:$C$98,3,FALSE))","v":{"$error":"#N/A"}},{"$f":"IF(AU28=1,\"nvt\",VLOOKUP(AU14,'Listes de sélection'!$A$96:$C$98,3,FALSE))","v":{"$error":"#N/A"}},{"$f":"IF(AV28=1,\"nvt\",VLOOKUP(AV14,'Listes de sélection'!$A$96:$C$98,3,FALSE))","v":{"$error":"#N/A"}},{"$f":"IF(AW28=1,\"nvt\",VLOOKUP(AW14,'Listes de sélection'!$A$96:$C$98,3,FALSE))","v":{"$error":"#N/A"}},{"$f":"IF(AX28=1,\"nvt\",VLOOKUP(AX14,'Listes de sélection'!$A$96:$C$98,3,FALSE))","v":{"$error":"#N/A"}},{"$f":"IF(AY28=1,\"nvt\",VLOOKUP(AY14,'Listes de sélection'!$A$96:$C$98,3,FALSE))","v":{"$error":"#N/A"}},{"$f":"IF(AZ28=1,\"nvt\",VLOOKUP(AZ14,'Listes de sélection'!$A$96:$C$98,3,FALSE))","v":{"$error":"#N/A"}}]
["Rl,j [mK/W]",null,{"$f":"IF(C$28=1,C$33+C$34,IF(C$29=1,(1/(2*PI()*C$16))*(LN(C$17/C$18))+(1/(C$31*PI()*C$17)),(((C$19)/(2*C$16*(C$20+C$21-(2*C$19))))+(1/(2*C$31*(C$20+C$21))))))","v":{"$error":"#N/A"}},{"$f":"IF(D$28=1,D$33+D$34,IF(D$29=1,(1/(2*PI()*D$16))*(LN(D$17/D$18))+(1/(D$31*PI()*D$17)),((D$19)/(2*D$16*(D$20+D$21-(2*D$19))))+(1/(2*D$31*(D$20+D$21)))))","v":{"$error":"#N/A"}},{"$f":"IF(E$28=1,E$33+E$34,IF(E$29=1,(1/(2*PI()*E$16))*(LN(E$17/E$18))+(1/(E$31*PI()*E$17)),((E$19)/(2*E$16*(E$20+E$21-(2*E$19))))+(1/(2*E$31*(E$20+E$21)))))","v":{"$error":"#N/A"}},{"$error":"#N/A"},{"$error":"#N/A"},{"$error":"#N/A"},{"$error":"#N/A"},{"$error":"#N/A"},{"$error":"#N/A"},{"$error":"#N/A"},{"$error":"#N/A"},{"$error":"#N/A"},{"$error":"#N/A"},{"$error":"#N/A"},{"$error":"#N/A"},{"$error":"#N/A"},{"$error":"#N/A"},{"$error":"#N/A"},{"$error":"#N/A"},{"$error":"#N/A"},{"$error":"#N/A"},{"$error":"#N/A"},{"$error":"#N/A"},{"$error":"#N/A"},{"$error":"#N/A"},{"$error":"#N/A"},{"$error":"#N/A"},{"$error":"#N/A"},{"$error":"#N/A"},{"$error":"#N/A"},{"$error":"#N/A"},{"$error":"#N/A"},{"$error":"#N/A"},{"$error":"#N/A"},{"$error":"#N/A"},{"$error":"#N/A"},{"$error":"#N/A"},{"$error":"#N/A"},{"$error":"#N/A"},{"$error":"#N/A"},{"$error":"#N/A"},{"$error":"#N/A"},{"$error":"#N/A"},{"$error":"#N/A"},{"$error":"#N/A"},{"$error":"#N/A"},{"$error":"#N/A"},{"$error":"#N/A"},{"$error":"#N/A"},{"$error":"#N/A"}]
["R'l,jcorr [mK/W]",null,{"$f":"IF(C$28=2,\"nvt\",IF(C$29=0,0,VLOOKUP(C29,T_Leiding,2,FALSE)*LN(C17/C18)*(1/(2*PI()*C16))*(1/0.6)))","v":{"$error":"#N/A"}},{"$error":"#N/A"},{"$error":"#N/A"},{"$error":"#N/A"},{"$error":"#N/A"},{"$error":"#N/A"},{"$error":"#N/A"},{"$error":"#N/A"},{"$error":"#N/A"},{"$error":"#N/A"},{"$error":"#N/A"},{"$error":"#N/A"},{"$error":"#N/A"},{"$error":"#N/A"},{"$error":"#N/A"},{"$error":"#N/A"},{"$error":"#N/A"},{"$error":"#N/A"},{"$error":"#N/A"},{"$error":"#N/A"},{"$error":"#N/A"},{"$error":"#N/A"},{"$error":"#N/A"},{"$error":"#N/A"},{"$error":"#N/A"},{"$error":"#N/A"},{"$error":"#N/A"},{"$error":"#N/A"},{"$error":"#N/A"},{"$error":"#N/A"},{"$error":"#N/A"},{"$error":"#N/A"},{"$f":"IF(AI$28=2,\"nvt\",IF(AI$29=0,0,VLOOKUP(AI29,T_Leiding,2,FALSE)*LN(AI17/AI18)*(1/(2*PI()*AI16))*(1/0.6)))","v":{"$error":"#N/A"}},{"$error":"#N/A"},{"$error":"#N/A"},{"$error":"#N/A"},{"$error":"#N/A"},{"$error":"#N/A"},{"$error":"#N/A"},{"$error":"#N/A"},{"$error":"#N/A"},{"$error":"#N/A"},{"$error":"#N/A"},{"$error":"#N/A"},{"$error":"#N/A"},{"$error":"#N/A"},{"$error":"#N/A"},{"$error":"#N/A"},{"$error":"#N/A"},{"$error":"#N/A"}]
["RE [mK/W]",null,{"$f":"IF(C$28=2,\"nvt\",IF(C17=0,0,(1/(2*PI()*C35))*ACOSH(2*C22/C17)))","v":0},{"$f":"IF(D$28=2,\"nvt\",IF(D17=0,0,(1/(2*PI()*D35))*ACOSH(2*D22/D17)))","v":0},{"$f":"IF(E$28=2,\"nvt\",IF(E17=0,0,(1/(2*PI()*E35))*ACOSH(2*E22/E17)))","v":0},0,0,0,0,0,0,0,0,0,0,0,0,0,0,0,0,0,0,0,0,0,0,0,0,0,0,0,0,0,0,0,0,0,0,0,0,0,0,0,0,0,0,0,0,0,0,0]
["λE [W/mK]",null,{"$f":"IF(C$28=2,\"nvt\",2)","v":2},2,2,2,2,2,2,2,2,2,2,2,2,2,2,2,2,2,2,2,2,2,2,2,2,2,2,2,2,2,2,2,2,2,2,2,2,2,2,2,2,2,2,2,2,2,2,2,2,2]
["theat,netw,m [Ms]"]
["Janv.",null,{"$f":"VLOOKUP($A37,T_MaandDuur,3,FALSE)","v":2.6783999999999999},2.6783999999999999,2.6783999999999999,2.6783999999999999,2.6783999999999999,2.6783999999999999,2.6783999999999999,2.6783999999999999,2.6783999999999999,2.6783999999999999,2.6783999999999999,2.6783999999999999,2.6783999999999999,2.6783999999999999,2.6783999999999999,2.6783999999999999,{"$f":"VLOOKUP($A37,T_MaandDuur,3,FALSE)","v":2.6783999999999999},2.6783999999999999,2.6783999999999999,2.6783999999999999,2.6783999999999999,2.6783999999999999,2.6783999999999999,2.6783999999999999,2.6783999999999999,2.6783999999999999,2.6783999999999999,2.6783999999999999,2.6783999999999999,2.6783999999999999,2.6783999999999999,2.6783999999999999,2.6783999999999999,2.6783999999999999,2.6783999999999999,2.6783999999999999,2.6783999999999999,2.6783999999999999,2.6783999999999999,2.6783999999999999,2.6783999999999999,2.6783999999999999,2.6783999999999999,2.6783999999999999,2.6783999999999999,2.6783999999999999,2.6783999999999999,2.6783999999999999,2.6783999999999999,2.6783999999999999]
["Févr.",null,2.4192,2.4192,2.4192,2.4192,2.4192,2.4192,2.4192,2.4192,2.4192,2.4192,2.4192,2.4192,2.4192,2.4192,2.4192,2.4192,2.4192,2.4192,2.4192,2.4192,2.4192,2.4192,2.4192,2.4192,2.4192,2.4192,2.4192,2.4192,2.4192,2.4192,2.4192,2.4192,2.4192,2.4192,2.4192,2.4192,2.4192,2.4192,2.4192,2.4192,2.4192,2.4192,2.4192,2.4192,2.4192,2.4192,2.4192,2.4192,2.4192,2.4192]
["Mars",null,2.6783999999999999,2.6783999999999999,2.6783999999999999,2.6783999999999999,2.6783999999999999,2.6783999999999999,2.6783999999999999,2.6783999999999999,2.6783999999999999,2.6783999999999999,2.6783999999999999,2.6783999999999999,2.6783999999999999,2.6783999999999999,2.6783999999999999,2.6783999999999999,2.6783999999999999,2.6783999999999999,2.6783999999999999,2.6783999999999999,2.6783999999999999,2.6783999999999999,2.6783999999999999,2.6783999999999999,2.6783999999999999,2.6783999999999999,2.6783999999999999,2.6783999999999999,2.6783999999999999,2.6783999999999999,2.6783999999999999,2.6783999999999999,2.6783999999999999,2.6783999999999999,2.6783999999999999,2.6783999999999999,2.6783999999999999,2.6783999999999999,2.6783999999999999,2.6783999999999999,2.6783999999999999,2.6783999999999999,2.6783999999999999,2.6783999999999999,2.6783999999999999,2.6783999999999999,2.6783999999999999,2.6783999999999999,2.6783999999999999,2.6783999999999999]
["Avr.",null,2.5920000000000001,2.5920000000000001,2.5920000000000001,2.5920000000000001,2.5920000000000001,2.5920000000000001,2.5920000000000001,2.5920000000000001,2.5920000000000001,2.5920000000000001,2.5920000000000001,2.5920000000000001,2.5920000000000001,2.5920000000000001,2.5920000000000001,2.5920000000000001,2.5920000000000001,2.5920000000000001,2.5920000000000001,2.5920000000000001,2.5920000000000001,2.5920000000000001,2.5920000000000001,2.5920000000000001,2.5920000000000001,2.5920000000000001,2.5920000000000001,2.5920000000000001,2.5920000000000001,2.5920000000000001,2.5920000000000001,2.5920000000000001,2.5920000000000001,2.5920000000000001,2.5920000000000001,2.5920000000000001,2.5920000000000001,2.5920000000000001,2.5920000000000001,2.5920000000000001,2.5920000000000001,2.5920000000000001,2.5920000000000001,2.5920000000000001,2.5920000000000001,2.5920000000000001,2.5920000000000001,2.5920000000000001,2.5920000000000001,2.5920000000000001]
["Mai",null,2.6783999999999999,2.6783999999999999,2.6783999999999999,2.6783999999999999,2.6783999999999999,2.6783999999999999,2.6783999999999999,2.6783999999999999,2.6783999999999999,2.6783999999999999,2.6783999999999999,2.6783999999999999,2.6783999999999999,2.6783999999999999,2.6783999999999999,2.6783999999999999,2.6783999999999999,2.6783999999999999,2.6783999999999999,2.6783999999999999,2.6783999999999999,2.6783999999999999,2.6783999999999999,2.6783999999999999,2.6783999999999999,2.6783999999999999,2.6783999999999999,2.6783999999999999,2.6783999999999999,2.6783999999999999,2.6783999999999999,2.6783999999999999,2.6783999999999999,2.6783999999999999,2.6783999999999999,2.6783999999999999,2.6783999999999999,2.6783999999999999,2.6783999999999999,2.6783999999999999,2.6783999999999999,2.6783999999999999,2.6783999999999999,2.6783999999999999,2.6783999999999999,2.6783999999999999,2.6783999999999999,2.6783999999999999,2.6783999999999999,2.6783999999999999]
["Juin",null,2.5920000000000001,2.5920000000000001,2.5920000000000001,2.5920000000000001,2.5920000000000001,2.5920000000000001,2.5920000000000001,2.5920000000000001,2.5920000000000001,2.5920000000000001,2.5920000000000001,2.5920000000000001,2.5920000000000001,2.5920000000000001,2.5920000000000001,2.5920000000000001,2.5920000000000001,2.5920000000000001,2.5920000000000001,2.5920000000000001,2.5920000000000001,2.5920000000000001,2.5920000000000001,2.5920000000000001,2.5920000000000001,2.5920000000000001,2.5920000000000001,2.5920000000000001,2.5920000000000001,2.5920000000000001,2.5920000000000001,{"$f":"VLOOKUP($A42,T_MaandDuur,3,FALSE)","v":2.5920000000000001},2.5920000000000001,2.5920000000000001,2.5920000000000001,2.5920000000000001,2.5920000000000001,2.5920000000000001,2.5920000000000001,2.5920000000000001,2.5920000000000001,2.5920000000000001,2.5920000000000001,2.5920000000000001,2.5920000000000001,2.5920000000000001,2.5920000000000001,2.5920000000000001,2.5920000000000001,2.5920000000000001]
["Juil.",null,2.6783999999999999,2.6783999999999999,2.6783999999999999,2.6783999999999999,2.6783999999999999,2.6783999999999999,2.6783999999999999,2.6783999999999999,2.6783999999999999,2.6783999999999999,2.6783999999999999,2.6783999999999999,2.6783999999999999,2.6783999999999999,2.6783999999999999,2.6783999999999999,2.6783999999999999,2.6783999999999999,2.6783999999999999,2.6783999999999999,2.6783999999999999,2.6783999999999999,2.6783999999999999,2.6783999999999999,2.6783999999999999,2.6783999999999999,2.6783999999999999,2.6783999999999999,2.6783999999999999,2.6783999999999999,2.6783999999999999,2.6783999999999999,2.6783999999999999,2.6783999999999999,2.6783999999999999,2.6783999999999999,2.6783999999999999,2.6783999999999999,2.6783999999999999,2.6783999999999999,2.6783999999999999,2.6783999999999999,2.6783999999999999,2.6783999999999999,2.6783999999999999,2.6783999999999999,2.6783999999999999,2.6783999999999999,2.6783999999999999,2.6783999999999999]
["Août",null,2.6783999999999999,2.6783999999999999,2.6783999999999999,2.6783999999999999,2.6783999999999999,2.6783999999999999,2.6783999999999999,2.6783999999999999,2.6783999999999999,2.6783999999999999,2.6783999999999999,2.6783999999999999,2.6783999999999999,2.6783999999999999,2.6783999999999999,2.6783999999999999,2.6783999999999999,2.6783999999999999,2.6783999999999999,2.6783999999999999,2.6783999999999999,2.6783999999999999,2.6783999999999999,2.6783999999999999,2.6783999999999999,2.6783999999999999,2.6783999999999999,2.6783999999999999,2.6783999999999999,2.6783999999999999,2.6783999999999999,2.6783999999999999,2.6783999999999999,2.6783999999999999,2.6783999999999999,2.6783999999999999,2.6783999999999999,2.6783999999999999,2.6783999999999999,2.6783999999999999,2.6783999999999999,2.6783999999999999,2.6783999999999999,2.6783999999999999,2.6783999999999999,2.6783999999999999,2.6783999999999999,2.6783999999999999,2.6783999999999999,2.6783999999999999]
["Sept.",null,2.5920000000000001,2.5920000000000001,2.5920000000000001,2.5920000000000001,2.5920000000000001,2.5920000000000001,2.5920000000000001,2.5920000000000001,2.5920000000000001,2.5920000000000001,2.5920000000000001,2.5920000000000001,2.5920000000000001,2.5920000000000001,2.5920000000000001,2.5920000000000001,2.5920000000000001,2.5920000000000001,2.5920000000000001,2.5920000000000001,2.5920000000000001,2.5920000000000001,2.5920000000000001,2.5920000000000001,2.5920000000000001,2.5920000000000001,2.5920000000000001,2.5920000000000001,2.5920000000000001,2.5920000000000001,2.5920000000000001,2.5920000000000001,2.5920000000000001,2.5920000000000001,2.5920000000000001,2.5920000000000001,2.5920000000000001,2.5920000000000001,2.5920000000000001,2.5920000000000001,2.5920000000000001,2.5920000000000001,2.5920000000000001,2.5920000000000001,2.5920000000000001,2.5920000000000001,2.5920000000000001,2.5920000000000001,2.5920000000000001,2.5920000000000001]
["Oct.",null,2.6783999999999999,2.6783999999999999,2.6783999999999999,2.6783999999999999,2.6783999999999999,2.6783999999999999,2.6783999999999999,2.6783999999999999,2.6783999999999999,2.6783999999999999,2.6783999999999999,2.6783999999999999,2.6783999999999999,2.6783999999999999,2.6783999999999999,2.6783999999999999,2.6783999999999999,2.6783999999999999,2.6783999999999999,2.6783999999999999,2.6783999999999999,2.6783999999999999,2.6783999999999999,2.6783999999999999,2.6783999999999999,2.6783999999999999,2.6783999999999999,2.6783999999999999,2.6783999999999999,2.6783999999999999,2.6783999999999999,2.6783999999999999,2.6783999999999999,2.6783999999999999,2.6783999999999999,2.6783999999999999,2.6783999999999999,2.6783999999999999,2.6783999999999999,2.6783999999999999,2.6783999999999999,2.6783999999999999,2.6783999999999999,2.6783999999999999,2.6783999999999999,2.6783999999999999,2.6783999999999999,2.6783999999999999,2.6783999999999999,2.6783999999999999]
["Nov.",null,2.5920000000000001,2.5920000000000001,2.5920000000000001,2.5920000000000001,2.5920000000000001,2.5920000000000001,2.5920000000000001,2.5920000000000001,2.5920000000000001,2.5920000000000001,2.5920000000000001,2.5920000000000001,2.5920000000000001,2.5920000000000001,2.5920000000000001,2.5920000000000001,2.5920000000000001,2.5920000000000001,2.5920000000000001,2.5920000000000001,2.5920000000000001,2.5920000000000001,2.5920000000000001,2.5920000000000001,2.5920000000000001,2.5920000000000001,2.5920000000000001,2.5920000000000001,2.5920000000000001,2.5920000000000001,2.5920000000000001,2.5920000000000001,2.5920000000000001,2.5920000000000001,2.5920000000000001,2.5920000000000001,2.5920000000000001,2.5920000000000001,2.5920000000000001,2.5920000000000001,2.5920000000000001,2.5920000000000001,2.5920000000000001,2.5920000000000001,2.5920000000000001,2.5920000000000001,{"$f":"VLOOKUP($A47,T_MaandDuur,3,FALSE)","v":2.5920000000000001},2.5920000000000001,2.5920000000000001,2.5920000000000001]
["Déc.",null,2.6783999999999999,2.6783999999999999,2.6783999999999999,2.6783999999999999,2.6783999999999999,2.6783999999999999,2.6783999999999999,2.6783999999999999,2.6783999999999999,2.6783999999999999,2.6783999999999999,2.6783999999999999,2.6783999999999999,2.6783999999999999,2.6783999999999999,2.6783999999999999,2.6783999999999999,2.6783999999999999,2.6783999999999999,2.6783999999999999,2.6783999999999999,2.6783999999999999,2.6783999999999999,2.6783999999999999,2.6783999999999999,2.6783999999999999,2.6783999999999999,2.6783999999999999,2.6783999999999999,2.6783999999999999,2.6783999999999999,2.6783999999999999,2.6783999999999999,2.6783999999999999,2.6783999999999999,2.6783999999999999,2.6783999999999999,2.6783999999999999,2.6783999999999999,2.6783999999999999,2.6783999999999999,2.6783999999999999,2.6783999999999999,2.6783999999999999,2.6783999999999999,2.6783999999999999,2.6783999999999999,2.6783999999999999,2.6783999999999999,2.6783999999999999]
["θc,netw n,m [°C]"]
["Janv.",null,{"$f":"C24","v":0},{"$f":"D24","v":0},{"$f":"E24","v":0},0,0,0,0,0,0,0,0,0,0,0,0,0,0,0,0,0,0,0,0,0,0,0,0,0,0,0,0,0,0,0,0,0,0,0,0,0,0,0,0,0,0,0,0,0,0,0]
["Févr.",null,{"$f":"C24","v":0},{"$f":"D24","v":0},{"$f":"E24","v":0},0,0,0,0,0,0,0,0,0,0,0,0,0,0,0,0,0,0,0,0,0,0,0,0,0,0,0,0,0,0,0,0,0,0,0,0,0,0,0,0,0,0,0,0,0,0,0]
["Mars",null,{"$f":"C24","v":0},{"$f":"D24","v":0},{"$f":"E24","v":0},0,0,0,0,0,0,0,0,0,0,0,0,0,0,0,0,0,0,0,0,0,0,0,0,0,0,0,0,0,0,0,0,0,0,0,0,0,0,0,0,0,0,0,0,0,0,0]
["Avr.",null,{"$f":"C24","v":0},{"$f":"D24","v":0},{"$f":"E24","v":0},0,0,0,0,0,0,0,0,0,0,0,0,0,0,0,0,0,0,0,0,0,0,0,0,0,0,0,0,0,0,0,0,0,0,0,0,0,0,0,0,0,0,0,0,0,0,0]
["Mai",null,{"$f":"C24","v":0},{"$f":"D24","v":0},{"$f":"E24","v":0},0,0,0,0,0,0,0,0,0,0,0,0,0,0,0,0,0,0,0,0,0,0,0,0,0,0,0,0,0,0,0,0,0,0,0,0,0,0,0,0,0,0,0,0,0,0,0]
["Juin",null,{"$f":"C24","v":0},{"$f":"D24","v":0},{"$f":"E24","v":0},0,0,0,0,0,0,0,0,0,0,0,0,0,0,0,0,0,0,0,0,0,0,0,0,0,0,0,0,0,0,0,0,0,0,0,0,0,0,0,0,0,0,0,0,0,0,0]
["Juil.",null,{"$f":"C24","v":0},{"$f":"D24","v":0},{"$f":"E24","v":0},0,0,0,0,0,0,0,0,0,0,0,0,0,0,0,0,0,0,0,0,0,0,0,0,0,0,0,0,0,0,0,0,0,0,0,0,0,0,0,0,0,0,0,0,0,0,0]
["Août",null,{"$f":"C24","v":0},{"$f":"D24","v":0},{"$f":"E24","v":0},0,0,0,0,0,0,0,0,0,0,0,0,0,0,0,0,0,0,0,0,0,0,0,0,0,0,0,0,0,0,0,0,0,0,0,0,0,0,0,0,0,0,0,0,0,0,0]
["Sept.",null,{"$f":"C24","v":0},{"$f":"D24","v":0},{"$f":"E24","v":0},0,0,0,0,0,0,0,0,0,0,0,0,0,0,0,0,0,0,0,0,0,0,0,0,0,0,0,0,0,0,0,0,0,0,0,0,0,0,0,0,0,0,0,0,0,0,0]
["Oct.",null,{"$f":"C24","v":0},{"$f":"D24","v":0},{"$f":"E24","v":0},0,0,0,0,0,0,0,0,0,0,0,0,0,0,0,0,0,0,0,0,0,0,0,0,0,0,0,0,0,0,0,0,0,0,0,0,0,0,0,0,0,0,0,0,0,0,0]
["Nov.",null,{"$f":"C24","v":0},{"$f":"D24","v":0},{"$f":"E24","v":0},0,0,0,0,0,0,0,0,0,0,0,0,0,0,0,0,0,0,0,0,0,0,0,0,0,0,0,0,0,0,0,0,0,0,0,0,0,0,0,0,0,0,0,0,0,0,0]
["Déc.",null,{"$f":"C24","v":0},{"$f":"D24","v":0},{"$f":"E24","v":0},0,0,0,0,0,0,0,0,0,0,0,0,0,0,0,0,0,0,0,0,0,0,0,0,0,0,0,0,0,0,0,0,0,0,0,0,0,0,0,0,0,0,0,0,0,0,0]
["θamb,m,j [°C]"]
["Janv.",null,{"$f":"IF(OR(C$28=1,AND(C$28=2,C$30=3)),VLOOKUP($A63,T_MaandTemp,4,FALSE),IF(AND(C$28=2,C$30=1),VLOOKUP($A63,T_MaandTemp,6,FALSE),VLOOKUP($A63,T_MaandTemp,5,FALSE)))","v":12.280000000000001},12.280000000000001,12.280000000000001,12.280000000000001,12.280000000000001,12.280000000000001,12.280000000000001,12.280000000000001,12.280000000000001,12.280000000000001,{"$f":"IF(OR(M$28=1,AND(M$28=2,M$30=3)),VLOOKUP($A63,T_MaandTemp,4,FALSE),IF(AND(M$28=2,M$30=1),VLOOKUP($A63,T_MaandTemp,6,FALSE),VLOOKUP($A63,T_MaandTemp,5,FALSE)))","v":12.280000000000001},12.280000000000001,12.280000000000001,12.280000000000001,12.280000000000001,12.280000000000001,12.280000000000001,12.280000000000001,12.280000000000001,12.280000000000001,{"$f":"IF(OR(W$28=1,AND(W$28=2,W$30=3)),VLOOKUP($A63,T_MaandTemp,4,FALSE),IF(AND(W$28=2,W$30=1),VLOOKUP($A63,T_MaandTemp,6,FALSE),VLOOKUP($A63,T_MaandTemp,5,FALSE)))","v":12.280000000000001},12.280000000000001,12.280000000000001,12.280000000000001,12.280000000000001,12.280000000000001,12.280000000000001,12.280000000000001,12.280000000000001,12.280000000000001,{"$f":"IF(OR(AG$28=1,AND(AG$28=2,AG$30=3)),VLOOKUP($A63,T_MaandTemp,4,FALSE),IF(AND(AG$28=2,AG$30=1),VLOOKUP($A63,T_MaandTemp,6,FALSE),VLOOKUP($A63,T_MaandTemp,5,FALSE)))","v":12.280000000000001},12.280000000000001,12.280000000000001,12.280000000000001,12.280000000000001,12.280000000000001,12.280000000000001,12.280000000000001,12.280000000000001,12.280000000000001,{"$f":"IF(OR(AQ$28=1,AND(AQ$28=2,AQ$30=3)),VLOOKUP($A63,T_MaandTemp,4,FALSE),IF(AND(AQ$28=2,AQ$30=1),VLOOKUP($A63,T_MaandTemp,6,FALSE),VLOOKUP($A63,T_MaandTemp,5,FALSE)))","v":12.280000000000001},12.280000000000001,12.280000000000001,12.280000000000001,12.280000000000001,12.280000000000001,12.280000000000001,12.280000000000001,12.280000000000001,12.280000000000001]
["Févr.",null,12.56,12.56,12.56,12.56,12.56,12.56,12.56,12.56,12.56,12.56,12.56,12.56,12.56,12.56,12.56,12.56,12.56,12.56,12.56,12.56,12.56,12.56,12.56,12.56,12.56,12.56,12.56,12.56,12.56,12.56,12.56,12.56,12.56,12.56,12.56,12.56,12.56,12.56,12.56,12.56,12.56,12.56,12.56,12.56,12.56,12.56,12.56,12.56,12.56,12.56]
["Mars",null,13.36,13.36,13.36,13.36,13.36,13.36,13.36,13.36,13.36,13.36,13.36,13.36,13.36,13.36,13.36,13.36,13.36,13.36,13.36,13.36,13.36,13.36,13.36,13.36,13.36,13.36,13.36,13.36,13.36,13.36,13.36,13.36,13.36,13.36,13.36,13.36,13.36,13.36,13.36,13.36,13.36,13.36,13.36,13.36,13.36,13.36,13.36,13.36,13.36,13.36]
["Avr.",null,14.68,14.68,14.68,14.68,14.68,14.68,14.68,14.68,14.68,14.68,14.68,14.68,14.68,14.68,14.68,14.68,14.68,14.68,14.68,14.68,14.68,14.68,14.68,14.68,14.68,14.68,14.68,14.68,14.68,14.68,14.68,14.68,14.68,14.68,14.68,14.68,14.68,14.68,14.68,14.68,14.68,14.68,14.68,14.68,14.68,14.68,14.68,14.68,14.68,14.68]
["Mai",null,16.32,16.32,16.32,16.32,16.32,16.32,16.32,16.32,16.32,16.32,16.32,16.32,16.32,16.32,16.32,16.32,16.32,16.32,16.32,16.32,16.32,16.32,16.32,16.32,16.32,16.32,16.32,16.32,16.32,16.32,16.32,16.32,16.32,16.32,16.32,16.32,16.32,16.32,16.32,16.32,16.32,16.32,16.32,16.32,16.32,16.32,16.32,16.32,16.32,16.32]
["Juin",null,17.48,17.48,17.48,17.48,17.48,17.48,17.48,17.48,17.48,17.48,17.48,17.48,17.48,17.48,17.48,17.48,17.48,17.48,17.48,17.48,17.48,17.48,17.48,17.48,17.48,17.48,17.48,17.48,17.48,17.48,17.48,17.48,17.48,17.48,17.48,17.48,17.48,17.48,17.48,17.48,17.48,17.48,17.48,17.48,17.48,17.48,17.48,17.48,17.48,17.48]
["Juil.",null,18.04,18.04,18.04,18.04,18.04,18.04,18.04,18.04,18.04,18.04,18.04,18.04,18.04,18.04,18.04,18.04,18.04,18.04,18.04,18.04,18.04,18.04,18.04,18.04,18.04,18.04,18.04,18.04,18.04,18.04,18.04,18.04,18.04,18.04,18.04,18.04,18.04,18.04,18.04,18.04,18.04,18.04,18.04,18.04,18.04,18.04,18.04,18.04,18.04,18.04]
["Août",null,18.04,18.04,18.04,18.04,18.04,18.04,18.04,18.04,18.04,18.04,18.04,18.04,18.04,18.04,18.04,18.04,18.04,18.04,18.04,18.04,18.04,18.04,18.04,18.04,18.04,18.04,18.04,18.04,18.04,18.04,18.04,18.04,18.04,18.04,18.04,18.04,18.04,18.04,18.04,18.04,18.04,18.04,18.04,18.04,18.04,18.04,18.04,18.04,18.04,18.04]
["Sept.",null,17.079999999999998,17.079999999999998,17.079999999999998,17.079999999999998,17.079999999999998,17.079999999999998,17.079999999999998,17.079999999999998,17.079999999999998,17.079999999999998,17.079999999999998,17.079999999999998,17.079999999999998,17.079999999999998,17.079999999999998,17.079999999999998,17.079999999999998,17.079999999999998,17.079999999999998,17.079999999999998,17.079999999999998,17.079999999999998,17.079999999999998,17.079999999999998,17.079999999999998,17.079999999999998,17.079999999999998,17.079999999999998,17.079999999999998,17.079999999999998,17.079999999999998,17.079999999999998,17.079999999999998,17.079999999999998,17.079999999999998,17.079999999999998,17.079999999999998,17.079999999999998,17.079999999999998,17.079999999999998,17.079999999999998,17.079999999999998,17.079999999999998,17.079999999999998,17.079999999999998,17.079999999999998,17.079999999999998,17.079999999999998,17.079999999999998,17.079999999999998]
["Oct.",null,15.48,15.48,15.48,15.48,15.48,15.48,15.48,15.48,15.48,15.48,15.48,15.48,15.48,15.48,15.48,15.48,15.48,15.48,15.48,15.48,15.48,15.48,15.48,15.48,15.48,15.48,15.48,15.48,15.48,15.48,15.48,15.48,15.48,15.48,15.48,15.48,15.48,15.48,15.48,15.48,15.48,15.48,15.48,15.48,15.48,15.48,15.48,15.48,15.48,15.48]
["Nov.",null,13.52,13.52,13.52,13.52,13.52,13.52,13.52,13.52,13.52,13.52,13.52,13.52,13.52,13.52,13.52,13.52,13.52,13.52,13.52,13.52,13.52,13.52,13.52,13.52,13.52,13.52,13.52,13.52,13.52,13.52,13.52,13.52,13.52,13.52,13.52,13.52,13.52,13.52,13.52,13.52,13.52,13.52,13.52,13.52,13.52,13.52,13.52,13.52,13.52,13.52]
["Déc.",null,12.4,12.4,12.4,12.4,12.4,12.4,12.4,12.4,12.4,12.4,12.4,12.4,12.4,12.4,12.4,12.4,12.4,12.4,12.4,12.4,12.4,12.4,12.4,12.4,12.4,12.4,12.4,12.4,12.4,12.4,12.4,12.4,12.4,12.4,12.4,12.4,12.4,12.4,12.4,12.4,12.4,12.4,12.4,12.4,12.4,12.4,12.4,12.4,12.4,12.4]
[]
["finsul,netw n",null,{"$f":"VLOOKUP(C$23,'Listes de sélection'!$A$201:$C$203,3,FALSE)","v":{"$error":"#N/A"}},{"$f":"VLOOKUP(D$23,'Listes de sélection'!$A$201:$C$203,3,FALSE)","v":{"$error":"#N/A"}},{"$f":"VLOOKUP(E$23,'Listes de sélection'!$A$201:$C$203,3,FALSE)","v":{"$error":"#N/A"}},{"$f":"VLOOKUP(F$23,'Listes de sélection'!$A$201:$C$203,3,FALSE)","v":{"$error":"#N/A"}},{"$f":"VLOOKUP(G$23,'Listes de sélection'!$A$201:$C$203,3,FALSE)","v":{"$error":"#N/A"}},{"$f":"VLOOKUP(H$23,'Listes de sélection'!$A$201:$C$203,3,FALSE)","v":{"$error":"#N/A"}},{"$f":"VLOOKUP(I$23,'Listes de sélection'!$A$201:$C$203,3,FALSE)","v":{"$error":"#N/A"}},{"$f":"VLOOKUP(J$23,'Listes de sélection'!$A$201:$C$203,3,FALSE)","v":{"$error":"#N/A"}},{"$f":"VLOOKUP(K$23,'Listes de sélection'!$A$201:$C$203,3,FALSE)","v":{"$error":"#N/A"}},{"$f":"VLOOKUP(L$23,'Listes de sélection'!$A$201:$C$203,3,FALSE)","v":{"$error":"#N/A"}},{"$f":"VLOOKUP(M$23,'Listes de sélection'!$A$201:$C$203,3,FALSE)","v":{"$error":"#N/A"}},{"$f":"VLOOKUP(N$23,'Listes de sélection'!$A$201:$C$203,3,FALSE)","v":{"$error":"#N/A"}},{"$f":"VLOOKUP(O$23,'Listes de sélection'!$A$201:$C$203,3,FALSE)","v":{"$error":"#N/A"}},{"$f":"VLOOKUP(P$23,'Listes de sélection'!$A$201:$C$203,3,FALSE)","v":{"$error":"#N/A"}},{"$f":"VLOOKUP(Q$23,'Listes de sélection'!$A$201:$C$203,3,FALSE)","v":{"$error":"#N/A"}},{"$f":"VLOOKUP(R$23,'Listes de sélection'!$A$201:$C$203,3,FALSE)","v":{"$error":"#N/A"}},{"$f":"VLOOKUP(S$23,'Listes de sélection'!$A$201:$C$203,3,FALSE)","v":{"$error":"#N/A"}},{"$f":"VLOOKUP(T$23,'Listes de sélection'!$A$201:$C$203,3,FALSE)","v":{"$error":"#N/A"}},{"$f":"VLOOKUP(U$23,'Listes de sélection'!$A$201:$C$203,3,FALSE)","v":{"$error":"#N/A"}},{"$f":"VLOOKUP(V$23,'Listes de sélection'!$A$201:$C$203,3,FALSE)","v":{"$error":"#N/A"}},{"$f":"VLOOKUP(W$23,'Listes de sélection'!$A$201:$C$203,3,FALSE)","v":{"$error":"#N/A"}},{"$f":"VLOOKUP(X$23,'Listes de sélection'!$A$201:$C$203,3,FALSE)","v":{"$error":"#N/A"}},{"$f":"VLOOKUP(Y$23,'Listes de sélection'!$A$201:$C$203,3,FALSE)","v":{"$error":"#N/A"}},{"$f":"VLOOKUP(Z$23,'Listes de sélection'!$A$201:$C$203,3,FALSE)","v":{"$error":"#N/A"}},{"$f":"VLOOKUP(AA$23,'Listes de sélection'!$A$201:$C$203,3,FALSE)","v":{"$error":"#N/A"}},{"$f":"VLOOKUP(AB$23,'Listes de sélection'!$A$201:$C$203,3,FALSE)","v":{"$error":"#N/A"}},{"$f":"VLOOKUP(AC$23,'Listes de sélection'!$A$201:$C$203,3,FALSE)","v":{"$error":"#N/A"}},{"$f":"VLOOKUP(AD$23,'Listes de sélection'!$A$201:$C$203,3,FALSE)","v":{"$error":"#N/A"}},{"$f":"VLOOKUP(AE$23,'Listes de sélection'!$A$201:$C$203,3,FALSE)","v":{"$error":"#N/A"}},{"$f":"VLOOKUP(AF$23,'Listes de sélection'!$A$201:$C$203,3,FALSE)","v":{"$error":"#N/A"}},{"$f":"VLOOKUP(AG$23,'Listes de sélection'!$A$201:$C$203,3,FALSE)","v":{"$error":"#N/A"}},{"$f":"VLOOKUP(AH$23,'Listes de sélection'!$A$201:$C$203,3,FALSE)","v":{"$error":"#N/A"}},{"$f":"VLOOKUP(AI$23,'Listes de sélection'!$A$201:$C$203,3,FALSE)","v":{"$error":"#N/A"}},{"$f":"VLOOKUP(AJ$23,'Listes de sélection'!$A$201:$C$203,3,FALSE)","v":{"$error":"#N/A"}},{"$f":"VLOOKUP(AK$23,'Listes de sélection'!$A$201:$C$203,3,FALSE)","v":{"$error":"#N/A"}},{"$f":"VLOOKUP(AL$23,'Listes de sélection'!$A$201:$C$203,3,FALSE)","v":{"$error":"#N/A"}},{"$f":"VLOOKUP(AM$23,'Listes de sélection'!$A$201:$C$203,3,FALSE)","v":{"$error":"#N/A"}},{"$f":"VLOOKUP(AN$23,'Listes de sélection'!$A$201:$C$203,3,FALSE)","v":{"$error":"#N/A"}},{"$f":"VLOOKUP(AO$23,'Listes de sélection'!$A$201:$C$203,3,FALSE)","v":{"$error":"#N/A"}},{"$f":"VLOOKUP(AP$23,'Listes de sélection'!$A$201:$C$203,3,FALSE)","v":{"$error":"#N/A"}},{"$f":"VLOOKUP(AQ$23,'Listes de sélection'!$A$201:$C$203,3,FALSE)","v":{"$error":"#N/A"}},{"$f":"VLOOKUP(AR$23,'Listes de sélection'!$A$201:$C$203,3,FALSE)","v":{"$error":"#N/A"}},{"$f":"VLOOKUP(AS$23,'Listes de sélection'!$A$201:$C$203,3,FALSE)","v":{"$error":"#N/A"}},{"$f":"VLOOKUP(AT$23,'Listes de sélection'!$A$201:$C$203,3,FALSE)","v":{"$error":"#N/A"}},{"$f":"VLOOKUP(AU$23,'Listes de sélection'!$A$201:$C$203,3,FALSE)","v":{"$error":"#N/A"}},{"$f":"VLOOKUP(AV$23,'Listes de sélection'!$A$201:$C$203,3,FALSE)","v":{"$error":"#N/A"}},{"$f":"VLOOKUP(AW$23,'Listes de sélection'!$A$201:$C$203,3,FALSE)","v":{"$error":"#N/A"}},{"$f":"VLOOKUP(AX$23,'Listes de sélection'!$A$201:$C$203,3,FALSE)","v":{"$error":"#N/A"}},{"$f":"VLOOKUP(AY$23,'Listes de sélection'!$A$201:$C$203,3,FALSE)","v":{"$error":"#N/A"}},{"$f":"VLOOKUP(AZ$23,'Listes de sélection'!$A$201:$C$203,3,FALSE)","v":{"$error":"#N/A"}}]
["Qdistr,heat,netw,n,m [MJ]"]
["Janv.",null,{"$f":"IF(C$32=0,0,C37*C$76*(C50-C63)*C$15/C$32)","v":{"$error":"#N/A"}},{"$f":"IF(D$32=0,0,D37*D$76*(D50-D63)*D$15/D$32)","v":{"$error":"#N/A"}},{"$f":"IF(E$32=0,0,E37*E$76*(E50-E63)*E$15/E$32)","v":{"$error":"#N/A"}},{"$error":"#N/A"},{"$error":"#N/A"},{"$error":"#N/A"},{"$error":"#N/A"},{"$error":"#N/A"},{"$error":"#N/A"},{"$error":"#N/A"},{"$error":"#N/A"},{"$error":"#N/A"},{"$error":"#N/A"},{"$error":"#N/A"},{"$error":"#N/A"},{"$error":"#N/A"},{"$error":"#N/A"},{"$error":"#N/A"},{"$error":"#N/A"},{"$error":"#N/A"},{"$error":"#N/A"},{"$error":"#N/A"},{"$error":"#N/A"},{"$error":"#N/A"},{"$error":"#N/A"},{"$error":"#N/A"},{"$error":"#N/A"},{"$error":"#N/A"},{"$error":"#N/A"},{"$error":"#N/A"},{"$error":"#N/A"},{"$error":"#N/A"},{"$error":"#N/A"},{"$error":"#N/A"},{"$error":"#N/A"},{"$error":"#N/A"},{"$error":"#N/A"},{"$error":"#N/A"},{"$error":"#N/A"},{"$error":"#N/A"},{"$error":"#N/A"},{"$error":"#N/A"},{"$error":"#N/A"},{"$error":"#N/A"},{"$error":"#N/A"},{"$error":"#N/A"},{"$error":"#N/A"},{"$error":"#N/A"},{"$error":"#N/A"},{"$error":"#N/A"}]
["Févr.",null,{"$error":"#N/A"},{"$error":"#N/A"},{"$f":"IF(E$32=0,0,E38*E$76*(E51-E64)*E$15/E$32)","v":{"$error":"#N/A"}},{"$error":"#N/A"},{"$error":"#N/A"},{"$error":"#N/A"},{"$error":"#N/A"},{"$error":"#N/A"},{"$error":"#N/A"},{"$error":"#N/A"},{"$error":"#N/A"},{"$error":"#N/A"},{"$error":"#N/A"},{"$error":"#N/A"},{"$error":"#N/A"},{"$error":"#N/A"},{"$error":"#N/A"},{"$error":"#N/A"},{"$error":"#N/A"},{"$error":"#N/A"},{"$error":"#N/A"},{"$error":"#N/A"},{"$error":"#N/A"},{"$error":"#N/A"},{"$error":"#N/A"},{"$error":"#N/A"},{"$error":"#N/A"},{"$error":"#N/A"},{"$error":"#N/A"},{"$error":"#N/A"},{"$error":"#N/A"},{"$error":"#N/A"},{"$error":"#N/A"},{"$error":"#N/A"},{"$error":"#N/A"},{"$error":"#N/A"},{"$error":"#N/A"},{"$error":"#N/A"},{"$error":"#N/A"},{"$error":"#N/A"},{"$error":"#N/A"},{"$error":"#N/A"},{"$error":"#N/A"},{"$error":"#N/A"},{"$error":"#N/A"},{"$error":"#N/A"},{"$error":"#N/A"},{"$error":"#N/A"},{"$error":"#N/A"},{"$error":"#N/A"}]
["Mars",null,{"$error":"#N/A"},{"$error":"#N/A"},{"$f":"IF(E$32=0,0,E39*E$76*(E52-E65)*E$15/E$32)","v":{"$error":"#N/A"}},{"$error":"#N/A"},{"$error":"#N/A"},{"$error":"#N/A"},{"$error":"#N/A"},{"$error":"#N/A"},{"$error":"#N/A"},{"$error":"#N/A"},{"$error":"#N/A"},{"$error":"#N/A"},{"$error":"#N/A"},{"$error":"#N/A"},{"$error":"#N/A"},{"$error":"#N/A"},{"$error":"#N/A"},{"$error":"#N/A"},{"$error":"#N/A"},{"$error":"#N/A"},{"$error":"#N/A"},{"$error":"#N/A"},{"$error":"#N/A"},{"$error":"#N/A"},{"$error":"#N/A"},{"$error":"#N/A"},{"$error":"#N/A"},{"$error":"#N/A"},{"$error":"#N/A"},{"$error":"#N/A"},{"$error":"#N/A"},{"$error":"#N/A"},{"$error":"#N/A"},{"$error":"#N/A"},{"$error":"#N/A"},{"$error":"#N/A"},{"$error":"#N/A"},{"$error":"#N/A"},{"$error":"#N/A"},{"$error":"#N/A"},{"$error":"#N/A"},{"$error":"#N/A"},{"$error":"#N/A"},{"$error":"#N/A"},{"$error":"#N/A"},{"$error":"#N/A"},{"$error":"#N/A"},{"$error":"#N/A"},{"$error":"#N/A"},{"$error":"#N/A"}]
["Avr.",null,{"$error":"#N/A"},{"$error":"#N/A"},{"$f":"IF(E$32=0,0,E40*E$76*(E53-E66)*E$15/E$32)","v":{"$error":"#N/A"}},{"$error":"#N/A"},{"$error":"#N/A"},{"$error":"#N/A"},{"$error":"#N/A"},{"$error":"#N/A"},{"$error":"#N/A"},{"$error":"#N/A"},{"$error":"#N/A"},{"$error":"#N/A"},{"$error":"#N/A"},{"$error":"#N/A"},{"$error":"#N/A"},{"$error":"#N/A"},{"$error":"#N/A"},{"$error":"#N/A"},{"$error":"#N/A"},{"$error":"#N/A"},{"$error":"#N/A"},{"$error":"#N/A"},{"$error":"#N/A"},{"$error":"#N/A"},{"$error":"#N/A"},{"$error":"#N/A"},{"$error":"#N/A"},{"$error":"#N/A"},{"$error":"#N/A"},{"$error":"#N/A"},{"$error":"#N/A"},{"$error":"#N/A"},{"$error":"#N/A"},{"$error":"#N/A"},{"$error":"#N/A"},{"$error":"#N/A"},{"$error":"#N/A"},{"$error":"#N/A"},{"$error":"#N/A"},{"$error":"#N/A"},{"$error":"#N/A"},{"$error":"#N/A"},{"$error":"#N/A"},{"$error":"#N/A"},{"$error":"#N/A"},{"$error":"#N/A"},{"$error":"#N/A"},{"$error":"#N/A"},{"$error":"#N/A"},{"$error":"#N/A"}]
["Mai",null,{"$error":"#N/A"},{"$error":"#N/A"},{"$f":"IF(E$32=0,0,E41*E$76*(E54-E67)*E$15/E$32)","v":{"$error":"#N/A"}},{"$error":"#N/A"},{"$error":"#N/A"},{"$error":"#N/A"},{"$error":"#N/A"},{"$error":"#N/A"},{"$error":"#N/A"},{"$error":"#N/A"},{"$error":"#N/A"},{"$error":"#N/A"},{"$error":"#N/A"},{"$error":"#N/A"},{"$error":"#N/A"},{"$error":"#N/A"},{"$error":"#N/A"},{"$error":"#N/A"},{"$error":"#N/A"},{"$error":"#N/A"},{"$error":"#N/A"},{"$error":"#N/A"},{"$error":"#N/A"},{"$error":"#N/A"},{"$error":"#N/A"},{"$error":"#N/A"},{"$error":"#N/A"},{"$error":"#N/A"},{"$error":"#N/A"},{"$error":"#N/A"},{"$error":"#N/A"},{"$error":"#N/A"},{"$error":"#N/A"},{"$error":"#N/A"},{"$error":"#N/A"},{"$error":"#N/A"},{"$error":"#N/A"},{"$error":"#N/A"},{"$error":"#N/A"},{"$error":"#N/A"},{"$error":"#N/A"},{"$error":"#N/A"},{"$error":"#N/A"},{"$error":"#N/A"},{"$error":"#N/A"},{"$error":"#N/A"},{"$error":"#N/A"},{"$error":"#N/A"},{"$error":"#N/A"},{"$error":"#N/A"}]
["Juin",null,{"$error":"#N/A"},{"$error":"#N/A"},{"$f":"IF(E$32=0,0,E42*E$76*(E55-E68)*E$15/E$32)","v":{"$error":"#N/A"}},{"$error":"#N/A"},{"$error":"#N/A"},{"$error":"#N/A"},{"$error":"#N/A"},{"$error":"#N/A"},{"$error":"#N/A"},{"$error":"#N/A"},{"$error":"#N/A"},{"$error":"#N/A"},{"$error":"#N/A"},{"$error":"#N/A"},{"$error":"#N/A"},{"$error":"#N/A"},{"$error":"#N/A"},{"$error":"#N/A"},{"$error":"#N/A"},{"$error":"#N/A"},{"$error":"#N/A"},{"$error":"#N/A"},{"$error":"#N/A"},{"$error":"#N/A"},{"$error":"#N/A"},{"$error":"#N/A"},{"$error":"#N/A"},{"$error":"#N/A"},{"$error":"#N/A"},{"$error":"#N/A"},{"$error":"#N/A"},{"$error":"#N/A"},{"$error":"#N/A"},{"$error":"#N/A"},{"$error":"#N/A"},{"$error":"#N/A"},{"$error":"#N/A"},{"$error":"#N/A"},{"$error":"#N/A"},{"$error":"#N/A"},{"$error":"#N/A"},{"$error":"#N/A"},{"$error":"#N/A"},{"$error":"#N/A"},{"$error":"#N/A"},{"$error":"#N/A"},{"$error":"#N/A"},{"$error":"#N/A"},{"$error":"#N/A"},{"$error":"#N/A"}]
["Juil.",null,{"$error":"#N/A"},{"$error":"#N/A"},{"$f":"IF(E$32=0,0,E43*E$76*(E56-E69)*E$15/E$32)","v":{"$error":"#N/A"}},{"$error":"#N/A"},{"$error":"#N/A"},{"$error":"#N/A"},{"$error":"#N/A"},{"$error":"#N/A"},{"$error":"#N/A"},{"$error":"#N/A"},{"$error":"#N/A"},{"$error":"#N/A"},{"$error":"#N/A"},{"$error":"#N/A"},{"$error":"#N/A"},{"$error":"#N/A"},{"$error":"#N/A"},{"$error":"#N/A"},{"$error":"#N/A"},{"$error":"#N/A"},{"$error":"#N/A"},{"$error":"#N/A"},{"$error":"#N/A"},{"$error":"#N/A"},{"$error":"#N/A"},{"$error":"#N/A"},{"$error":"#N/A"},{"$error":"#N/A"},{"$error":"#N/A"},{"$error":"#N/A"},{"$error":"#N/A"},{"$error":"#N/A"},{"$error":"#N/A"},{"$error":"#N/A"},{"$error":"#N/A"},{"$error":"#N/A"},{"$error":"#N/A"},{"$error":"#N/A"},{"$error":"#N/A"},{"$error":"#N/A"},{"$error":"#N/A"},{"$error":"#N/A"},{"$error":"#N/A"},{"$error":"#N/A"},{"$error":"#N/A"},{"$error":"#N/A"},{"$error":"#N/A"},{"$error":"#N/A"},{"$error":"#N/A"},{"$error":"#N/A"}]
["Août",null,{"$error":"#N/A"},{"$error":"#N/A"},{"$f":"IF(E$32=0,0,E44*E$76*(E57-E70)*E$15/E$32)","v":{"$error":"#N/A"}},{"$error":"#N/A"},{"$error":"#N/A"},{"$error":"#N/A"},{"$error":"#N/A"},{"$error":"#N/A"},{"$error":"#N/A"},{"$error":"#N/A"},{"$error":"#N/A"},{"$error":"#N/A"},{"$error":"#N/A"},{"$error":"#N/A"},{"$error":"#N/A"},{"$error":"#N/A"},{"$error":"#N/A"},{"$error":"#N/A"},{"$error":"#N/A"},{"$error":"#N/A"},{"$error":"#N/A"},{"$error":"#N/A"},{"$error":"#N/A"},{"$error":"#N/A"},{"$error":"#N/A"},{"$error":"#N/A"},{"$error":"#N/A"},{"$error":"#N/A"},{"$error":"#N/A"},{"$error":"#N/A"},{"$error":"#N/A"},{"$error":"#N/A"},{"$error":"#N/A"},{"$error":"#N/A"},{"$error":"#N/A"},{"$error":"#N/A"},{"$error":"#N/A"},{"$error":"#N/A"},{"$error":"#N/A"},{"$error":"#N/A"},{"$error":"#N/A"},{"$error":"#N/A"},{"$error":"#N/A"},{"$error":"#N/A"},{"$error":"#N/A"},{"$error":"#N/A"},{"$error":"#N/A"},{"$error":"#N/A"},{"$error":"#N/A"},{"$error":"#N/A"}]
["Sept.",null,{"$error":"#N/A"},{"$error":"#N/A"},{"$f":"IF(E$32=0,0,E45*E$76*(E58-E71)*E$15/E$32)","v":{"$error":"#N/A"}},{"$error":"#N/A"},{"$error":"#N/A"},{"$error":"#N/A"},{"$error":"#N/A"},{"$error":"#N/A"},{"$error":"#N/A"},{"$error":"#N/A"},{"$error":"#N/A"},{"$error":"#N/A"},{"$error":"#N/A"},{"$error":"#N/A"},{"$error":"#N/A"},{"$error":"#N/A"},{"$error":"#N/A"},{"$error":"#N/A"},{"$error":"#N/A"},{"$error":"#N/A"},{"$error":"#N/A"},{"$error":"#N/A"},{"$error":"#N/A"},{"$error":"#N/A"},{"$error":"#N/A"},{"$error":"#N/A"},{"$error":"#N/A"},{"$error":"#N/A"},{"$error":"#N/A"},{"$error":"#N/A"},{"$error":"#N/A"},{"$error":"#N/A"},{"$error":"#N/A"},{"$error":"#N/A"},{"$error":"#N/A"},{"$error":"#N/A"},{"$error":"#N/A"},{"$error":"#N/A"},{"$error":"#N/A"},{"$error":"#N/A"},{"$error":"#N/A"},{"$error":"#N/A"},{"$error":"#N/A"},{"$error":"#N/A"},{"$error":"#N/A"},{"$error":"#N/A"},{"$error":"#N/A"},{"$error":"#N/A"},{"$error":"#N/A"},{"$error":"#N/A"}]
["Oct.",null,{"$error":"#N/A"},{"$error":"#N/A"},{"$f":"IF(E$32=0,0,E46*E$76*(E59-E72)*E$15/E$32)","v":{"$error":"#N/A"}},{"$error":"#N/A"},{"$error":"#N/A"},{"$error":"#N/A"},{"$error":"#N/A"},{"$error":"#N/A"},{"$error":"#N/A"},{"$error":"#N/A"},{"$error":"#N/A"},{"$error":"#N/A"},{"$error":"#N/A"},{"$error":"#N/A"},{"$error":"#N/A"},{"$error":"#N/A"},{"$error":"#N/A"},{"$error":"#N/A"},{"$error":"#N/A"},{"$error":"#N/A"},{"$error":"#N/A"},{"$error":"#N/A"},{"$error":"#N/A"},{"$error":"#N/A"},{"$error":"#N/A"},{"$error":"#N/A"},{"$error":"#N/A"},{"$error":"#N/A"},{"$error":"#N/A"},{"$error":"#N/A"},{"$error":"#N/A"},{"$error":"#N/A"},{"$error":"#N/A"},{"$error":"#N/A"},{"$error":"#N/A"},{"$error":"#N/A"},{"$error":"#N/A"},{"$error":"#N/A"},{"$error":"#N/A"},{"$error":"#N/A"},{"$error":"#N/A"},{"$error":"#N/A"},{"$error":"#N/A"},{"$error":"#N/A"},{"$error":"#N/A"},{"$error":"#N/A"},{"$error":"#N/A"},{"$error":"#N/A"},{"$error":"#N/A"},{"$error":"#N/A"}]
["Nov.",null,{"$error":"#N/A"},{"$error":"#N/A"},{"$f":"IF(E$32=0,0,E47*E$76*(E60-E73)*E$15/E$32)","v":{"$error":"#N/A"}},{"$error":"#N/A"},{"$error":"#N/A"},{"$error":"#N/A"},{"$error":"#N/A"},{"$error":"#N/A"},{"$error":"#N/A"},{"$error":"#N/A"},{"$error":"#N/A"},{"$error":"#N/A"},{"$error":"#N/A"},{"$error":"#N/A"},{"$error":"#N/A"},{"$error":"#N/A"},{"$error":"#N/A"},{"$error":"#N/A"},{"$error":"#N/A"},{"$error":"#N/A"},{"$error":"#N/A"},{"$error":"#N/A"},{"$error":"#N/A"},{"$error":"#N/A"},{"$error":"#N/A"},{"$error":"#N/A"},{"$error":"#N/A"},{"$error":"#N/A"},{"$error":"#N/A"},{"$error":"#N/A"},{"$error":"#N/A"},{"$error":"#N/A"},{"$error":"#N/A"},{"$error":"#N/A"},{"$error":"#N/A"},{"$error":"#N/A"},{"$error":"#N/A"},{"$error":"#N/A"},{"$error":"#N/A"},{"$error":"#N/A"},{"$error":"#N/A"},{"$error":"#N/A"},{"$error":"#N/A"},{"$error":"#N/A"},{"$error":"#N/A"},{"$error":"#N/A"},{"$error":"#N/A"},{"$error":"#N/A"},{"$error":"#N/A"},{"$error":"#N/A"}]
["Déc.",null,{"$error":"#N/A"},{"$error":"#N/A"},{"$f":"IF(E$32=0,0,E48*E$76*(E61-E74)*E$15/E$32)","v":{"$error":"#N/A"}},{"$error":"#N/A"},{"$error":"#N/A"},{"$error":"#N/A"},{"$error":"#N/A"},{"$error":"#N/A"},{"$error":"#N/A"},{"$error":"#N/A"},{"$error":"#N/A"},{"$error":"#N/A"},{"$error":"#N/A"},{"$error":"#N/A"},{"$error":"#N/A"},{"$error":"#N/A"},{"$error":"#N/A"},{"$error":"#N/A"},{"$error":"#N/A"},{"$error":"#N/A"},{"$error":"#N/A"},{"$error":"#N/A"},{"$error":"#N/A"},{"$error":"#N/A"},{"$error":"#N/A"},{"$error":"#N/A"},{"$error":"#N/A"},{"$error":"#N/A"},{"$error":"#N/A"},{"$error":"#N/A"},{"$error":"#N/A"},{"$error":"#N/A"},{"$error":"#N/A"},{"$error":"#N/A"},{"$error":"#N/A"},{"$error":"#N/A"},{"$error":"#N/A"},{"$error":"#N/A"},{"$error":"#N/A"},{"$error":"#N/A"},{"$error":"#N/A"},{"$error":"#N/A"},{"$error":"#N/A"},{"$error":"#N/A"},{"$error":"#N/A"},{"$error":"#N/A"},{"$error":"#N/A"},{"$error":"#N/A"},{"$error":"#N/A"},{"$error":"#N/A"}]
[]
["Identifiant du segment de conduite",null,1,2,3,4,5,6,7,8,9,10,11,12,13,14,15,16,17,18,19,20,21,22,23,24,25,26,27,28,29,30,31,32,33,34,35,36,37,38,39,40,41,42,43,44,45,46,47,48,49,50]

{"sheet":"Déperditions locales","index":7,"n_rows":515,"n_cols":53,"rows_kept":515,"cut":false,"hidden":true,"merged":[[0,0,0,1],[259,0,259,1],[260,0,260,1],[261,0,261,1],[262,0,262,1],[2,0,2,1],[7,0,7,1],[1,0,1,1],[4,0,4,1],[5,0,5,1],[6,0,6,1],[258,0,258,1]]}
["Déperditions de chaleur locales",null,"Masquer"]
[]
["1. Quantité de chaleur perdue annuellement dans le système de fourniture de chaleur, en raison des déperditions locales"]
["Qlossloc,dh [MJ]",{"$f":"SUM(D259:BA259 )","v":0}]
[]
["2. Déperditions de chaleur mensuelles du ballon de stockage ou de l'échangeur de chaleur l."]
["Caractéristiques",null,null,{"$f":"\"Ballon / Échangeur \"&D$515","v":"Ballon / Échangeur 1"},"Ballon / Échangeur 2","Ballon / Échangeur 3","Ballon / Échangeur 4","Ballon / Échangeur 5","Ballon / Échangeur 6","Ballon / Échangeur 7","Ballon / Échangeur 8","Ballon / Échangeur 9","Ballon / Échangeur 10","Ballon / Échangeur 11","Ballon / Échangeur 12","Ballon / Échangeur 13","Ballon / Échangeur 14","Ballon / Échangeur 15","Ballon / Échangeur 16","Ballon / Échangeur 17","Ballon / Échangeur 18","Ballon / Échangeur 19","Ballon / Échangeur 20","Ballon / Échangeur 21","Ballon / Échangeur 22","Ballon / Échangeur 23","Ballon / Échangeur 24","Ballon / Échangeur 25","Ballon / Échangeur 26","Ballon / Échangeur 27","Ballon / Échangeur 28","Ballon / Échangeur 29","Ballon / Échangeur 30","Ballon / Échangeur 31","Ballon / Échangeur 32",{"$f":"\"Ballon / Échangeur \"&AJ$515","v":"Ballon / Échangeur 33"},"Ballon / Échangeur 34","Ballon / Échangeur 35","Ballon / Échangeur 36","Ballon / Échangeur 37","Ballon / Échangeur 38","Ballon / Échangeur 39","Ballon / Échangeur 40","Ballon / Échangeur 41","Ballon / Échangeur 42","Ballon / Échangeur 43","Ballon / Échangeur 44","Ballon / Échangeur 45","Ballon / Échangeur 46","Ballon / Échangeur 47","Ballon / Échangeur 48","Ballon / Échangeur 49","Ballon / Échangeur 50"]
["Le ballon de stockage / L'échangeur de chaleur est-il suffisamment isolé ? "]
["Le segment est-il situé en aval du ballon de stockage ou de l'échangeur de chaleur ?",{"$f":"\"Segment \"&C9","v":"Segment 1"},1]
["Le segment est-il situé en aval du ballon de stockage ou de l'échangeur de chaleur ?","Segment 2",{"$f":"C9+1","v":2}]
["Le segment est-il situé en aval du ballon de stockage ou de l'échangeur de chaleur ?","Segment 3",{"$f":"C10+1","v":3}]
["Le segment est-il situé en aval du ballon de stockage ou de l'échangeur de chaleur ?","Segment 4",4]
["Le segment est-il situé en aval du ballon de stockage ou de l'échangeur de chaleur ?","Segment 5",5]
["Le segment est-il situé en aval du ballon de stockage ou de l'échangeur de chaleur ?","Segment 6",6]
["Le segment est-il situé en aval du ballon de stockage ou de l'échangeur de chaleur ?","Segment 7",7]
["Le segment est-il situé en aval du ballon de stockage ou de l'échangeur de chaleur ?","Segment 8",8]
["Le segment est-il situé en aval du ballon de stockage ou de l'échangeur de chaleur ?","Segment 9",9]
["Le segment est-il situé en aval du ballon de stockage ou de l'échangeur de chaleur ?","Segment 10",10]
["Le segment est-il situé en aval du ballon de stockage ou de l'échangeur de chaleur ?","Segment 11",11]
["Le segment est-il situé en aval du ballon de stockage ou de l'échangeur de chaleur ?","Segment 12",12]
["Le segment est-il situé en aval du ballon de stockage ou de l'échangeur de chaleur ?","Segment 13",13]
["Le segment est-il situé en aval du ballon de stockage ou de l'échangeur de chaleur ?","Segment 14",14]
["Le segment est-il situé en aval du ballon de stockage ou de l'échangeur de chaleur ?","Segment 15",15]
["Le segment est-il situé en aval du ballon de stockage ou de l'échangeur de chaleur ?","Segment 16",16]
["Le segment est-il situé en aval du ballon de stockage ou de l'échangeur de chaleur ?","Segment 17",17]
["Le segment est-il situé en aval du ballon de stockage ou de l'échangeur de chaleur ?","Segment 18",18]
["Le segment est-il situé en aval du ballon de stockage ou de l'échangeur de chaleur ?","Segment 19",19]
["Le segment est-il situé en aval du ballon de stockage ou de l'échangeur de chaleur ?","Segment 20",20]
["Le segment est-il situé en aval du ballon de stockage ou de l'échangeur de chaleur ?","Segment 21",21]
["Le segment est-il situé en aval du ballon de stockage ou de l'échangeur de chaleur ?","Segment 22",22]
["Le segment est-il situé en aval du ballon de stockage ou de l'échangeur de chaleur ?","Segment 23",23]
["Le segment est-il situé en aval du ballon de stockage ou de l'échangeur de chaleur ?","Segment 24",24]
["Le segment est-il situé en aval du ballon de stockage ou de l'échangeur de chaleur ?","Segment 25",25]
["Le segment est-il situé en aval du ballon de stockage ou de l'échangeur de chaleur ?","Segment 26",26]
["Le segment est-il situé en aval du ballon de stockage ou de l'échangeur de chaleur ?","Segment 27",27]
["Le segment est-il situé en aval du ballon de stockage ou de l'échangeur de chaleur ?","Segment 28",28]
["Le segment est-il situé en aval du ballon de stockage ou de l'échangeur de chaleur ?","Segment 29",29]
["Le segment est-il situé en aval du ballon de stockage ou de l'échangeur de chaleur ?","Segment 30",30]
["Le segment est-il situé en aval du ballon de stockage ou de l'échangeur de chaleur ?","Segment 31",31]
["Le segment est-il situé en aval du ballon de stockage ou de l'échangeur de chaleur ?","Segment 32",32]
["Le segment est-il situé en aval du ballon de stockage ou de l'échangeur de chaleur ?",{"$f":"\"Segment \"&C41","v":"Segment 33"},33]
["Le segment est-il situé en aval du ballon de stockage ou de l'échangeur de chaleur ?","Segment 34",34]
["Le segment est-il situé en aval du ballon de stockage ou de l'échangeur de chaleur ?","Segment 35",35]
["Le segment est-il situé en aval du ballon de stockage ou de l'échangeur de chaleur ?","Segment 36",36]
["Le segment est-il situé en aval du ballon de stockage ou de l'échangeur de chaleur ?","Segment 37",37]
["Le segment est-il situé en aval du ballon de stockage ou de l'échangeur de chaleur ?","Segment 38",38]
["Le segment est-il situé en aval du ballon de stockage ou de l'échangeur de chaleur ?","Segment 39",39]
["Le segment est-il situé en aval du ballon de stockage ou de l'échangeur de chaleur ?","Segment 40",40]
["Le segment est-il situé en aval du ballon de stockage ou de l'échangeur de chaleur ?","Segment 41",41]
["Le segment est-il situé en aval du ballon de stockage ou de l'échangeur de chaleur ?","Segment 42",42]
["Le segment est-il situé en aval du ballon de stockage ou de l'échangeur de chaleur ?","Segment 43",43]
["Le segment est-il situé en aval du ballon de stockage ou de l'échangeur de chaleur ?","Segment 44",44]
["Le segment est-il situé en aval du ballon de stockage ou de l'échangeur de chaleur ?","Segment 45",45]
["Le segment est-il situé en aval du ballon de stockage ou de l'échangeur de chaleur ?","Segment 46",46]
["Le segment est-il situé en aval du ballon de stockage ou de l'échangeur de chaleur ?","Segment 47",47]
["Le segment est-il situé en aval du ballon de stockage ou de l'échangeur de chaleur ?","Segment 48",48]
["Le segment est-il situé en aval du ballon de stockage ou de l'échangeur de chaleur ?","Segment 49",49]
["Le segment est-il situé en aval du ballon de stockage ou de l'échangeur de chaleur ?","Segment 50",50]
["Le demandeur de chaleur est-il situé en aval du ballon de stockage ou de l'échangeur de chaleur ? ",{"$f":"\"Demandeur de chaleur \"&C59","v":"Demandeur de chaleur 1"},1]
["Le demandeur de chaleur est-il situé en aval du ballon de stockage ou de l'échangeur de chaleur ? ","Demandeur de chaleur 2",{"$f":"C59+1","v":2}]
["Le demandeur de chaleur est-il situé en aval du ballon de stockage ou de l'échangeur de chaleur ? ","Demandeur de chaleur 3",{"$f":"C60+1","v":3}]
["Le demandeur de chaleur est-il situé en aval du ballon de stockage ou de l'échangeur de chaleur ? ","Demandeur de chaleur 4",4]
["Le demandeur de chaleur est-il situé en aval du ballon de stockage ou de l'échangeur de chaleur ? ","Demandeur de chaleur 5",5]
["Le demandeur de chaleur est-il situé en aval du ballon de stockage ou de l'échangeur de chaleur ? ","Demandeur de chaleur 6",6]
["Le demandeur de chaleur est-il situé en aval du ballon de stockage ou de l'échangeur de chaleur ? ","Demandeur de chaleur 7",7]
["Le demandeur de chaleur est-il situé en aval du ballon de stockage ou de l'échangeur de chaleur ? ","Demandeur de chaleur 8",8]
["Le demandeur de chaleur est-il situé en aval du ballon de stockage ou de l'échangeur de chaleur ? ","Demandeur de chaleur 9",9]
["Le demandeur de chaleur est-il situé en aval du ballon de stockage ou de l'échangeur de chaleur ? ","Demandeur de chaleur 10",10]
["Le demandeur de chaleur est-il situé en aval du ballon de stockage ou de l'échangeur de chaleur ? ","Demandeur de chaleur 11",11]
["Le demandeur de chaleur est-il situé en aval du ballon de stockage ou de l'échangeur de chaleur ? ","Demandeur de chaleur 12",12]
["Le demandeur de chaleur est-il situé en aval du ballon de stockage ou de l'échangeur de chaleur ? ","Demandeur de chaleur 13",13]
["Le demandeur de chaleur est-il situé en aval du ballon de stockage ou de l'échangeur de chaleur ? ","Demandeur de chaleur 14",14]
["Le demandeur de chaleur est-il situé en aval du ballon de stockage ou de l'échangeur de chaleur ? ","Demandeur de chaleur 15",15]
["Le demandeur de chaleur est-il situé en aval du ballon de stockage ou de l'échangeur de chaleur ? ","Demandeur de chaleur 16",16]
["Le demandeur de chaleur est-il situé en aval du ballon de stockage ou de l'échangeur de chaleur ? ","Demandeur de chaleur 17",17]
["Le demandeur de chaleur est-il situé en aval du ballon de stockage ou de l'échangeur de chaleur ? ","Demandeur de chaleur 18",18]
["Le demandeur de chaleur est-il situé en aval du ballon de stockage ou de l'échangeur de chaleur ? ","Demandeur de chaleur 19",19]
["Le demandeur de chaleur est-il situé en aval du ballon de stockage ou de l'échangeur de chaleur ? ","Demandeur de chaleur 20",20]
["Le demandeur de chaleur est-il situé en aval du ballon de stockage ou de l'échangeur de chaleur ? ","Demandeur de chaleur 21",21]
["Le demandeur de chaleur est-il situé en aval du ballon de stockage ou de l'échangeur de chaleur ? ","Demandeur de chaleur 22",22]
["Le demandeur de chaleur est-il situé en aval du ballon de stockage ou de l'échangeur de chaleur ? ","Demandeur de chaleur 23",23]
["Le demandeur de chaleur est-il situé en aval du ballon de stockage ou de l'échangeur de chaleur ? ","Demandeur de chaleur 24",24]
["Le demandeur de chaleur est-il situé en aval du ballon de stockage ou de l'échangeur de chaleur ? ","Demandeur de chaleur 25",25]
["Le demandeur de chaleur est-il situé en aval du ballon de stockage ou de l'échangeur de chaleur ? ","Demandeur de chaleur 26",26]
["Le demandeur de chaleur est-il situé en aval du ballon de stockage ou de l'échangeur de chaleur ? ","Demandeur de chaleur 27",27]
["Le demandeur de chaleur est-il situé en aval du ballon de stockage ou de l'échangeur de chaleur ? ","Demandeur de chaleur 28",28]
["Le demandeur de chaleur est-il situé en aval du ballon de stockage ou de l'échangeur de chaleur ? ","Demandeur de chaleur 29",29]
["Le demandeur de chaleur est-il situé en aval du ballon de stockage ou de l'échangeur de chaleur ? ","Demandeur de chaleur 30",30]
["Le demandeur de chaleur est-il situé en aval du ballon de stockage ou de l'échangeur de chaleur ? ","Demandeur de chaleur 31",31]
["Le demandeur de chaleur est-il situé en aval du ballon de stockage ou de l'échangeur de chaleur ? ","Demandeur de chaleur 32",32]
["Le demandeur de chaleur est-il situé en aval du ballon de stockage ou de l'échangeur de chaleur ? ",{"$f":"\"Demandeur de chaleur \"&C91","v":"Demandeur de chaleur 33"},33]
["Le demandeur de chaleur est-il situé en aval du ballon de stockage ou de l'échangeur de chaleur ? ","Demandeur de chaleur 34",34]
["Le demandeur de chaleur est-il situé en aval du ballon de stockage ou de l'échangeur de chaleur ? ","Demandeur de chaleur 35",35]
["Le demandeur de chaleur est-il situé en aval du ballon de stockage ou de l'échangeur de chaleur ? ","Demandeur de chaleur 36",36]
["Le demandeur de chaleur est-il situé en aval du ballon de stockage ou de l'échangeur de chaleur ? ","Demandeur de chaleur 37",37]
["Le demandeur de chaleur est-il situé en aval du ballon de stockage ou de l'échangeur de chaleur ? ","Demandeur de chaleur 38",38]
["Le demandeur de chaleur est-il situé en aval du ballon de stockage ou de l'échangeur de chaleur ? ","Demandeur de chaleur 39",39]
["Le demandeur de chaleur est-il situé en aval du ballon de stockage ou de l'échangeur de chaleur ? ","Demandeur de chaleur 40",40]
["Le demandeur de chaleur est-il situé en aval du ballon de stockage ou de l'échangeur de chaleur ? ","Demandeur de chaleur 41",41]
["Le demandeur de chaleur est-il situé en aval du ballon de stockage ou de l'échangeur de chaleur ? ","Demandeur de chaleur 42",42]
["Le demandeur de chaleur est-il situé en aval du ballon de stockage ou de l'échangeur de chaleur ? ","Demandeur de chaleur 43",43]
["Le demandeur de chaleur est-il situé en aval du ballon de stockage ou de l'échangeur de chaleur ? ","Demandeur de chaleur 44",44]
["Le demandeur de chaleur est-il situé en aval du ballon de stockage ou de l'échangeur de chaleur ? ","Demandeur de chaleur 45",45]
["Le demandeur de chaleur est-il situé en aval du ballon de stockage ou de l'échangeur de chaleur ? ","Demandeur de chaleur 46",46]
["Le demandeur de chaleur est-il situé en aval du ballon de stockage ou de l'échangeur de chaleur ? ","Demandeur de chaleur 47",47]
["Le demandeur de chaleur est-il situé en aval du ballon de stockage ou de l'échangeur de chaleur ? ","Demandeur de chaleur 48",48]
["Le demandeur de chaleur est-il situé en aval du ballon de stockage ou de l'échangeur de chaleur ? ","Demandeur de chaleur 49",49]
["Le demandeur de chaleur est-il situé en aval du ballon de stockage ou de l'échangeur de chaleur ? ","Demandeur de chaleur 50",50]
["Le demandeur de chaleur est-il situé en aval du ballon de stockage ou de l'échangeur de chaleur ? ","Demandeur de chaleur 51",51]
["Le demandeur de chaleur est-il situé en aval du ballon de stockage ou de l'échangeur de chaleur ? ","Demandeur de chaleur 52",52]
["Le demandeur de chaleur est-il situé en aval du ballon de stockage ou de l'échangeur de chaleur ? ","Demandeur de chaleur 53",53]
["Le demandeur de chaleur est-il situé en aval du ballon de stockage ou de l'échangeur de chaleur ? ","Demandeur de chaleur 54",54]
["Le demandeur de chaleur est-il situé en aval du ballon de stockage ou de l'échangeur de chaleur ? ","Demandeur de chaleur 55",55]
["Le demandeur de chaleur est-il situé en aval du ballon de stockage ou de l'échangeur de chaleur ? ","Demandeur de chaleur 56",56]
["Le demandeur de chaleur est-il situé en aval du ballon de stockage ou de l'échangeur de chaleur ? ","Demandeur de chaleur 57",57]
["Le demandeur de chaleur est-il situé en aval du ballon de stockage ou de l'échangeur de chaleur ? ","Demandeur de chaleur 58",58]
["Le demandeur de chaleur est-il situé en aval du ballon de stockage ou de l'échangeur de chaleur ? ","Demandeur de chaleur 59",59]
["Le demandeur de chaleur est-il situé en aval du ballon de stockage ou de l'échangeur de chaleur ? ","Demandeur de chaleur 60",60]
["Le demandeur de chaleur est-il situé en aval du ballon de stockage ou de l'échangeur de chaleur ? ","Demandeur de chaleur 61",61]
["Le demandeur de chaleur est-il situé en aval du ballon de stockage ou de l'échangeur de chaleur ? ","Demandeur de chaleur 62",62]
["Le demandeur de chaleur est-il situé en aval du ballon de stockage ou de l'échangeur de chaleur ? ","Demandeur de chaleur 63",63]
["Le demandeur de chaleur est-il situé en aval du ballon de stockage ou de l'échangeur de chaleur ? ","Demandeur de chaleur 64",64]
["Le demandeur de chaleur est-il situé en aval du ballon de stockage ou de l'échangeur de chaleur ? ",{"$f":"\"Demandeur de chaleur \"&C123","v":"Demandeur de chaleur 65"},65]
["Le demandeur de chaleur est-il situé en aval du ballon de stockage ou de l'échangeur de chaleur ? ","Demandeur de chaleur 66",66]
["Le demandeur de chaleur est-il situé en aval du ballon de stockage ou de l'échangeur de chaleur ? ","Demandeur de chaleur 67",{"$f":"C124+1","v":67}]
["Le demandeur de chaleur est-il situé en aval du ballon de stockage ou de l'échangeur de chaleur ? ","Demandeur de chaleur 68",68]
["Le demandeur de chaleur est-il situé en aval du ballon de stockage ou de l'échangeur de chaleur ? ","Demandeur de chaleur 69",69]
["Le demandeur de chaleur est-il situé en aval du ballon de stockage ou de l'échangeur de chaleur ? ","Demandeur de chaleur 70",70]
["Le demandeur de chaleur est-il situé en aval du ballon de stockage ou de l'échangeur de chaleur ? ","Demandeur de chaleur 71",71]
["Le demandeur de chaleur est-il situé en aval du ballon de stockage ou de l'échangeur de chaleur ? ","Demandeur de chaleur 72",72]
["Le demandeur de chaleur est-il situé en aval du ballon de stockage ou de l'échangeur de chaleur ? ","Demandeur de chaleur 73",73]
["Le demandeur de chaleur est-il situé en aval du ballon de stockage ou de l'échangeur de chaleur ? ","Demandeur de chaleur 74",74]
["Le demandeur de chaleur est-il situé en aval du ballon de stockage ou de l'échangeur de chaleur ? ","Demandeur de chaleur 75",75]
["Le demandeur de chaleur est-il situé en aval du ballon de stockage ou de l'échangeur de chaleur ? ","Demandeur de chaleur 76",76]
["Le demandeur de chaleur est-il situé en aval du ballon de stockage ou de l'échangeur de chaleur ? ","Demandeur de chaleur 77",77]
["Le demandeur de chaleur est-il situé en aval du ballon de stockage ou de l'échangeur de chaleur ? ","Demandeur de chaleur 78",78]
["Le demandeur de chaleur est-il situé en aval du ballon de stockage ou de l'échangeur de chaleur ? ","Demandeur de chaleur 79",79]
["Le demandeur de chaleur est-il situé en aval du ballon de stockage ou de l'échangeur de chaleur ? ","Demandeur de chaleur 80",80]
["Le demandeur de chaleur est-il situé en aval du ballon de stockage ou de l'échangeur de chaleur ? ","Demandeur de chaleur 81",81]
["Le demandeur de chaleur est-il situé en aval du ballon de stockage ou de l'échangeur de chaleur ? ","Demandeur de chaleur 82",82]
["Le demandeur de chaleur est-il situé en aval du ballon de stockage ou de l'échangeur de chaleur ? ","Demandeur de chaleur 83",83]
["Le demandeur de chaleur est-il situé en aval du ballon de stockage ou de l'échangeur de chaleur ? ","Demandeur de chaleur 84",84]
["Le demandeur de chaleur est-il situé en aval du ballon de stockage ou de l'échangeur de chaleur ? ","Demandeur de chaleur 85",85]
["Le demandeur de chaleur est-il situé en aval du ballon de stockage ou de l'échangeur de chaleur ? ","Demandeur de chaleur 86",86]
["Le demandeur de chaleur est-il situé en aval du ballon de stockage ou de l'échangeur de chaleur ? ","Demandeur de chaleur 87",87]
["Le demandeur de chaleur est-il situé en aval du ballon de stockage ou de l'échangeur de chaleur ? ","Demandeur de chaleur 88",88]
["Le demandeur de chaleur est-il situé en aval du ballon de stockage ou de l'échangeur de chaleur ? ","Demandeur de chaleur 89",89]
["Le demandeur de chaleur est-il situé en aval du ballon de stockage ou de l'échangeur de chaleur ? ","Demandeur de chaleur 90",90]
["Le demandeur de chaleur est-il situé en aval du ballon de stockage ou de l'échangeur de chaleur ? ","Demandeur de chaleur 91",91]
["Le demandeur de chaleur est-il situé en aval du ballon de stockage ou de l'échangeur de chaleur ? ","Demandeur de chaleur 92",92]
["Le demandeur de chaleur est-il situé en aval du ballon de stockage ou de l'échangeur de chaleur ? ","Demandeur de chaleur 93",93]
["Le demandeur de chaleur est-il situé en aval du ballon de stockage ou de l'échangeur de chaleur ? ","Demandeur de chaleur 94",94]
["Le demandeur de chaleur est-il situé en aval du ballon de stockage ou de l'échangeur de chaleur ? ","Demandeur de chaleur 95",95]
["Le demandeur de chaleur est-il situé en aval du ballon de stockage ou de l'échangeur de chaleur ? ","Demandeur de chaleur 96",96]
["Le demandeur de chaleur est-il situé en aval du ballon de stockage ou de l'échangeur de chaleur ? ",{"$f":"\"Demandeur de chaleur \"&C155","v":"Demandeur de chaleur 97"},97]
["Le demandeur de chaleur est-il situé en aval du ballon de stockage ou de l'échangeur de chaleur ? ","Demandeur de chaleur 98",98]
["Le demandeur de chaleur est-il situé en aval du ballon de stockage ou de l'échangeur de chaleur ? ","Demandeur de chaleur 99",99]
["Le demandeur de chaleur est-il situé en aval du ballon de stockage ou de l'échangeur de chaleur ? ","Demandeur de chaleur 100",100]
["Le demandeur de chaleur est-il situé en aval du ballon de stockage ou de l'échangeur de chaleur ? ","Demandeur de chaleur 101",101]
["Le demandeur de chaleur est-il situé en aval du ballon de stockage ou de l'échangeur de chaleur ? ","Demandeur de chaleur 102",102]
["Le demandeur de chaleur est-il situé en aval du ballon de stockage ou de l'échangeur de chaleur ? ","Demandeur de chaleur 103",103]
["Le demandeur de chaleur est-il situé en aval du ballon de stockage ou de l'échangeur de chaleur ? ","Demandeur de chaleur 104",104]
["Le demandeur de chaleur est-il situé en aval du ballon de stockage ou de l'échangeur de chaleur ? ","Demandeur de chaleur 105",105]
["Le demandeur de chaleur est-il situé en aval du ballon de stockage ou de l'échangeur de chaleur ? ","Demandeur de chaleur 106",106]
["Le demandeur de chaleur est-il situé en aval du ballon de stockage ou de l'échangeur de chaleur ? ","Demandeur de chaleur 107",107]
["Le demandeur de chaleur est-il situé en aval du ballon de stockage ou de l'échangeur de chaleur ? ","Demandeur de chaleur 108",108]
["Le demandeur de chaleur est-il situé en aval du ballon de stockage ou de l'échangeur de chaleur ? ","Demandeur de chaleur 109",109]
["Le demandeur de chaleur est-il situé en aval du ballon de stockage ou de l'échangeur de chaleur ? ","Demandeur de chaleur 110",110]
["Le demandeur de chaleur est-il situé en aval du ballon de stockage ou de l'échangeur de chaleur ? ","Demandeur de chaleur 111",111]
["Le demandeur de chaleur est-il situé en aval du ballon de stockage ou de l'échangeur de chaleur ? ","Demandeur de chaleur 112",112]
["Le demandeur de chaleur est-il situé en aval du ballon de stockage ou de l'échangeur de chaleur ? ","Demandeur de chaleur 113",113]
["Le demandeur de chaleur est-il situé en aval du ballon de stockage ou de l'échangeur de chaleur ? ","Demandeur de chaleur 114",114]
["Le demandeur de chaleur est-il situé en aval du ballon de stockage ou de l'échangeur de chaleur ? ","Demandeur de chaleur 115",115]
["Le demandeur de chaleur est-il situé en aval du ballon de stockage ou de l'échangeur de chaleur ? ","Demandeur de chaleur 116",116]
["Le demandeur de chaleur est-il situé en aval du ballon de stockage ou de l'échangeur de chaleur ? ","Demandeur de chaleur 117",117]
["Le demandeur de chaleur est-il situé en aval du ballon de stockage ou de l'échangeur de chaleur ? ","Demandeur de chaleur 118",118]
["Le demandeur de chaleur est-il situé en aval du ballon de stockage ou de l'échangeur de chaleur ? ","Demandeur de chaleur 119",119]
["Le demandeur de chaleur est-il situé en aval du ballon de stockage ou de l'échangeur de chaleur ? ","Demandeur de chaleur 120",120]
["Le demandeur de chaleur est-il situé en aval du ballon de stockage ou de l'échangeur de chaleur ? ","Demandeur de chaleur 121",121]
["Le demandeur de chaleur est-il situé en aval du ballon de stockage ou de l'échangeur de chaleur ? ","Demandeur de chaleur 122",122]
["Le demandeur de chaleur est-il situé en aval du ballon de stockage ou de l'échangeur de chaleur ? ","Demandeur de chaleur 123",123]
["Le demandeur de chaleur est-il situé en aval du ballon de stockage ou de l'échangeur de chaleur ? ","Demandeur de chaleur 124",124]
["Le demandeur de chaleur est-il situé en aval du ballon de stockage ou de l'échangeur de chaleur ? ","Demandeur de chaleur 125",125]
["Le demandeur de chaleur est-il situé en aval du ballon de stockage ou de l'échangeur de chaleur ? ","Demandeur de chaleur 126",126]
["Le demandeur de chaleur est-il situé en aval du ballon de stockage ou de l'échangeur de chaleur ? ","Demandeur de chaleur 127",127]
["Le demandeur de chaleur est-il situé en aval du ballon de stockage ou de l'échangeur de chaleur ? ","Demandeur de chaleur 128",128]
["Le demandeur de chaleur est-il situé en aval du ballon de stockage ou de l'échangeur de chaleur ? ",{"$f":"\"Demandeur de chaleur \"&C187","v":"Demandeur de chaleur 129"},129]
["Le demandeur de chaleur est-il situé en aval du ballon de stockage ou de l'échangeur de chaleur ? ","Demandeur de chaleur 130",130]
["Le demandeur de chaleur est-il situé en aval du ballon de stockage ou de l'échangeur de chaleur ? ","Demandeur de chaleur 131",{"$f":"C188+1","v":131}]
["Le demandeur de chaleur est-il situé en aval du ballon de stockage ou de l'échangeur de chaleur ? ","Demandeur de chaleur 132",132]
["Le demandeur de chaleur est-il situé en aval du ballon de stockage ou de l'échangeur de chaleur ? ","Demandeur de chaleur 133",133]
["Le demandeur de chaleur est-il situé en aval du ballon de stockage ou de l'échangeur de chaleur ? ","Demandeur de chaleur 134",134]
["Le demandeur de chaleur est-il situé en aval du ballon de stockage ou de l'échangeur de chaleur ? ","Demandeur de chaleur 135",135]
["Le demandeur de chaleur est-il situé en aval du ballon de stockage ou de l'échangeur de chaleur ? ","Demandeur de chaleur 136",136]
["Le demandeur de chaleur est-il situé en aval du ballon de stockage ou de l'échangeur de chaleur ? ","Demandeur de chaleur 137",137]
["Le demandeur de chaleur est-il situé en aval du ballon de stockage ou de l'échangeur de chaleur ? ","Demandeur de chaleur 138",138]
["Le demandeur de chaleur est-il situé en aval du ballon de stockage ou de l'échangeur de chaleur ? ","Demandeur de chaleur 139",139]
["Le demandeur de chaleur est-il situé en aval du ballon de stockage ou de l'échangeur de chaleur ? ","Demandeur de chaleur 140",140]
["Le demandeur de chaleur est-il situé en aval du ballon de stockage ou de l'échangeur de chaleur ? ","Demandeur de chaleur 141",141]
["Le demandeur de chaleur est-il situé en aval du ballon de stockage ou de l'échangeur de chaleur ? ","Demandeur de chaleur 142",142]
["Le demandeur de chaleur est-il situé en aval du ballon de stockage ou de l'échangeur de chaleur ? ","Demandeur de chaleur 143",143]
["Le demandeur de chaleur est-il situé en aval du ballon de stockage ou de l'échangeur de chaleur ? ","Demandeur de chaleur 144",144]
["Le demandeur de chaleur est-il situé en aval du ballon de stockage ou de l'échangeur de chaleur ? ","Demandeur de chaleur 145",145]
["Le demandeur de chaleur est-il situé en aval du ballon de stockage ou de l'échangeur de chaleur ? ","Demandeur de chaleur 146",146]
["Le demandeur de chaleur est-il situé en aval du ballon de stockage ou de l'échangeur de chaleur ? ","Demandeur de chaleur 147",147]
["Le demandeur de chaleur est-il situé en aval du ballon de stockage ou de l'échangeur de chaleur ? ","Demandeur de chaleur 148",148]
["Le demandeur de chaleur est-il situé en aval du ballon de stockage ou de l'échangeur de chaleur ? ","Demandeur de chaleur 149",149]
["Le demandeur de chaleur est-il situé en aval du ballon de stockage ou de l'échangeur de chaleur ? ","Demandeur de chaleur 150",150]
["Le demandeur de chaleur est-il situé en aval du ballon de stockage ou de l'échangeur de chaleur ? ","Demandeur de chaleur 151",151]
["Le demandeur de chaleur est-il situé en aval du ballon de stockage ou de l'échangeur de chaleur ? ","Demandeur de chaleur 152",152]
["Le demandeur de chaleur est-il situé en aval du ballon de stockage ou de l'échangeur de chaleur ? ","Demandeur de chaleur 153",153]
["Le demandeur de chaleur est-il situé en aval du ballon de stockage ou de l'échangeur de chaleur ? ","Demandeur de chaleur 154",154]
["Le demandeur de chaleur est-il situé en aval du ballon de stockage ou de l'échangeur de chaleur ? ","Demandeur de chaleur 155",155]
["Le demandeur de chaleur est-il situé en aval du ballon de stockage ou de l'échangeur de chaleur ? ","Demandeur de chaleur 156",156]
["Le demandeur de chaleur est-il situé en aval du ballon de stockage ou de l'échangeur de chaleur ? ","Demandeur de chaleur 157",157]
["Le demandeur de chaleur est-il situé en aval du ballon de stockage ou de l'échangeur de chaleur ? ","Demandeur de chaleur 158",158]
["Le demandeur de chaleur est-il situé en aval du ballon de stockage ou de l'échangeur de chaleur ? ","Demandeur de chaleur 159",159]
["Le demandeur de chaleur est-il situé en aval du ballon de stockage ou de l'échangeur de chaleur ? ","Demandeur de chaleur 160",160]
["Le demandeur de chaleur est-il situé en aval du ballon de stockage ou de l'échangeur de chaleur ? ",{"$f":"\"Demandeur de chaleur \"&C219","v":"Demandeur de chaleur 161"},161]
["Le demandeur de chaleur est-il situé en aval du ballon de stockage ou de l'échangeur de chaleur ? ","Demandeur de chaleur 162",162]
["Le demandeur de chaleur est-il situé en aval du ballon de stockage ou de l'échangeur de chaleur ? ","Demandeur de chaleur 163",163]
["Le demandeur de chaleur est-il situé en aval du ballon de stockage ou de l'échangeur de chaleur ? ","Demandeur de chaleur 164",164]
["Le demandeur de chaleur est-il situé en aval du ballon de stockage ou de l'échangeur de chaleur ? ","Demandeur de chaleur 165",165]
["Le demandeur de chaleur est-il situé en aval du ballon de stockage ou de l'échangeur de chaleur ? ","Demandeur de chaleur 166",166]
["Le demandeur de chaleur est-il situé en aval du ballon de stockage ou de l'échangeur de chaleur ? ","Demandeur de chaleur 167",167]
["Le demandeur de chaleur est-il situé en aval du ballon de stockage ou de l'échangeur de chaleur ? ","Demandeur de chaleur 168",168]
["Le demandeur de chaleur est-il situé en aval du ballon de stockage ou de l'échangeur de chaleur ? ","Demandeur de chaleur 169",169]
["Le demandeur de chaleur est-il situé en aval du ballon de stockage ou de l'échangeur de chaleur ? ","Demandeur de chaleur 170",170]
["Le demandeur de chaleur est-il situé en aval du ballon de stockage ou de l'échangeur de chaleur ? ","Demandeur de chaleur 171",171]
["Le demandeur de chaleur est-il situé en aval du ballon de stockage ou de l'échangeur de chaleur ? ","Demandeur de chaleur 172",172]
["Le demandeur de chaleur est-il situé en aval du ballon de stockage ou de l'échangeur de chaleur ? ","Demandeur de chaleur 173",173]
["Le demandeur de chaleur est-il situé en aval du ballon de stockage ou de l'échangeur de chaleur ? ","Demandeur de chaleur 174",174]
["Le demandeur de chaleur est-il situé en aval du ballon de stockage ou de l'échangeur de chaleur ? ","Demandeur de chaleur 175",175]
["Le demandeur de chaleur est-il situé en aval du ballon de stockage ou de l'échangeur de chaleur ? ","Demandeur de chaleur 176",176]
["Le demandeur de chaleur est-il situé en aval du ballon de stockage ou de l'échangeur de chaleur ? ","Demandeur de chaleur 177",177]
["Le demandeur de chaleur est-il situé en aval du ballon de stockage ou de l'échangeur de chaleur ? ","Demandeur de chaleur 178",178]
["Le demandeur de chaleur est-il situé en aval du ballon de stockage ou de l'échangeur de chaleur ? ","Demandeur de chaleur 179",179]
["Le demandeur de chaleur est-il situé en aval du ballon de stockage ou de l'échangeur de chaleur ? ","Demandeur de chaleur 180",180]
["Le demandeur de chaleur est-il situé en aval du ballon de stockage ou de l'échangeur de chaleur ? ","Demandeur de chaleur 181",181]
["Le demandeur de chaleur est-il situé en aval du ballon de stockage ou de l'échangeur de chaleur ? ","Demandeur de chaleur 182",182]
["Le demandeur de chaleur est-il situé en aval du ballon de stockage ou de l'échangeur de chaleur ? ","Demandeur de chaleur 183",183]
["Le demandeur de chaleur est-il situé en aval du ballon de stockage ou de l'échangeur de chaleur ? ","Demandeur de chaleur 184",184]
["Le demandeur de chaleur est-il situé en aval du ballon de stockage ou de l'échangeur de chaleur ? ","Demandeur de chaleur 185",185]
["Le demandeur de chaleur est-il situé en aval du ballon de stockage ou de l'échangeur de chaleur ? ","Demandeur de chaleur 186",186]
["Le demandeur de chaleur est-il situé en aval du ballon de stockage ou de l'échangeur de chaleur ? ","Demandeur de chaleur 187",187]
["Le demandeur de chaleur est-il situé en aval du ballon de stockage ou de l'échangeur de chaleur ? ","Demandeur de chaleur 188",188]
["Le demandeur de chaleur est-il situé en aval du ballon de stockage ou de l'échangeur de chaleur ? ","Demandeur de chaleur 189",189]
["Le demandeur de chaleur est-il situé en aval du ballon de stockage ou de l'échangeur de chaleur ? ","Demandeur de chaleur 190",190]
["Le demandeur de chaleur est-il situé en aval du ballon de stockage ou de l'échangeur de chaleur ? ","Demandeur de chaleur 191",191]
["Le demandeur de chaleur est-il situé en aval du ballon de stockage ou de l'échangeur de chaleur ? ","Demandeur de chaleur 192",192]
["Le demandeur de chaleur est-il situé en aval du ballon de stockage ou de l'échangeur de chaleur ? ",{"$f":"\"Demandeur de chaleur \"&C251","v":"Demandeur de chaleur 193"},193]
["Le demandeur de chaleur est-il situé en aval du ballon de stockage ou de l'échangeur de chaleur ? ","Demandeur de chaleur 194",194]
["Le demandeur de chaleur est-il situé en aval du ballon de stockage ou de l'échangeur de chaleur ? ","Demandeur de chaleur 195",{"$f":"C252+1","v":195}]
["Le demandeur de chaleur est-il situé en aval du ballon de stockage ou de l'échangeur de chaleur ? ","Demandeur de chaleur 196",196]
["Le demandeur de chaleur est-il situé en aval du ballon de stockage ou de l'échangeur de chaleur ? ","Demandeur de chaleur 197",197]
["Le demandeur de chaleur est-il situé en aval du ballon de stockage ou de l'échangeur de chaleur ? ","Demandeur de chaleur 198",198]
["Le demandeur de chaleur est-il situé en aval du ballon de stockage ou de l'échangeur de chaleur ? ","Demandeur de chaleur 199",199]
["Le demandeur de chaleur est-il situé en aval du ballon de stockage ou de l'échangeur de chaleur ? ","Demandeur de chaleur 200",200]
["Résultat partiel : Qlossloc,l [MJ]",null,null,{"$f":"D263*(1-D262)","v":0},{"$f":"E263*(1-E262)","v":0},0,0,0,0,0,0,0,0,0,0,0,0,0,0,0,0,0,0,0,0,0,0,0,0,0,0,0,0,0,0,0,0,0,0,0,0,0,0,0,0,0,0,0,0,0,0,{"$f":"AZ263*(1-AZ262)","v":0},0]
[]
["3. Calculs - Masquer à partir d'ici",null,null,{"$f":"\"Ballon / Échangeur \"&D$515","v":"Ballon / Échangeur 1"},"Ballon / Échangeur 2","Ballon / Échangeur 3","Ballon / Échangeur 4","Ballon / Échangeur 5","Ballon / Échangeur 6","Ballon / Échangeur 7","Ballon / Échangeur 8","Ballon / Échangeur 9","Ballon / Échangeur 10","Ballon / Échangeur 11","Ballon / Échangeur 12","Ballon / Échangeur 13","Ballon / Échangeur 14","Ballon / Échangeur 15","Ballon / Échangeur 16","Ballon / Échangeur 17","Ballon / Échangeur 18","Ballon / Échangeur 19","Ballon / Échangeur 20","Ballon / Échangeur 21","Ballon / Échangeur 22","Ballon / Échangeur 23","Ballon / Échangeur 24","Ballon / Échangeur 25","Ballon / Échangeur 26","Ballon / Échangeur 27","Ballon / Échangeur 28","Ballon / Échangeur 29","Ballon / Échangeur 30","Ballon / Échangeur 31","Ballon / Échangeur 32",{"$f":"\"Ballon / Échangeur \"&AJ$515","v":"Ballon / Échangeur 33"},"Ballon / Échangeur 34","Ballon / Échangeur 35","Ballon / Échangeur 36","Ballon / Échangeur 37","Ballon / Échangeur 38","Ballon / Échangeur 39","Ballon / Échangeur 40","Ballon / Échangeur 41","Ballon / Échangeur 42","Ballon / Échangeur 43","Ballon / Échangeur 44","Ballon / Échangeur 45","Ballon / Échangeur 46","Ballon / Échangeur 47","Ballon / Échangeur 48","Ballon / Échangeur 49","Ballon / Échangeur 50"]
["hl",null,null,{"$f":"IF(D8='Listes de sélection'!$A$17,1,0.97)","v":0.97},{"$f":"IF(E8='Listes de sélection'!$A$17,1,0.97)","v":0.97},{"$f":"IF(F8='Listes de sélection'!$A$17,1,0.97)","v":0.97},{"$f":"IF(G8='Listes de sélection'!$A$17,1,0.97)","v":0.97},{"$f":"IF(H8='Listes de sélection'!$A$17,1,0.97)","v":0.97},{"$f":"IF(I8='Listes de sélection'!$A$17,1,0.97)","v":0.97},{"$f":"IF(J8='Listes de sélection'!$A$17,1,0.97)","v":0.97},{"$f":"IF(K8='Listes de sélection'!$A$17,1,0.97)","v":0.97},{"$f":"IF(L8='Listes de sélection'!$A$17,1,0.97)","v":0.97},{"$f":"IF(M8='Listes de sélection'!$A$17,1,0.97)","v":0.97},{"$f":"IF(N8='Listes de sélection'!$A$17,1,0.97)","v":0.97},{"$f":"IF(O8='Listes de sélection'!$A$17,1,0.97)","v":0.97},{"$f":"IF(P8='Listes de sélection'!$A$17,1,0.97)","v":0.97},{"$f":"IF(Q8='Listes de sélection'!$A$17,1,0.97)","v":0.97},{"$f":"IF(R8='Listes de sélection'!$A$17,1,0.97)","v":0.97},{"$f":"IF(S8='Listes de sélection'!$A$17,1,0.97)","v":0.97},{"$f":"IF(T8='Listes de sélection'!$A$17,1,0.97)","v":0.97},{"$f":"IF(U8='Listes de sélection'!$A$17,1,0.97)","v":0.97},{"$f":"IF(V8='Listes de sélection'!$A$17,1,0.97)","v":0.97},{"$f":"IF(W8='Listes de sélection'!$A$17,1,0.97)","v":0.97},{"$f":"IF(X8='Listes de sélection'!$A$17,1,0.97)","v":0.97},{"$f":"IF(Y8='Listes de sélection'!$A$17,1,0.97)","v":0.97},{"$f":"IF(Z8='Listes de sélection'!$A$17,1,0.97)","v":0.97},{"$f":"IF(AA8='Listes de sélection'!$A$17,1,0.97)","v":0.97},{"$f":"IF(AB8='Listes de sélection'!$A$17,1,0.97)","v":0.97},{"$f":"IF(AC8='Listes de sélection'!$A$17,1,0.97)","v":0.97},{"$f":"IF(AD8='Listes de sélection'!$A$17,1,0.97)","v":0.97},{"$f":"IF(AE8='Listes de sélection'!$A$17,1,0.97)","v":0.97},{"$f":"IF(AF8='Listes de sélection'!$A$17,1,0.97)","v":0.97},{"$f":"IF(AG8='Listes de sélection'!$A$17,1,0.97)","v":0.97},{"$f":"IF(AH8='Listes de sélection'!$A$17,1,0.97)","v":0.97},{"$f":"IF(AI8='Listes de sélection'!$A$17,1,0.97)","v":0.97},{"$f":"IF(AJ8='Listes de sélection'!$A$17,1,0.97)","v":0.97},{"$f":"IF(AK8='Listes de sélection'!$A$17,1,0.97)","v":0.97},{"$f":"IF(AL8='Listes de sélection'!$A$17,1,0.97)","v":0.97},{"$f":"IF(AM8='Listes de sélection'!$A$17,1,0.97)","v":0.97},{"$f":"IF(AN8='Listes de sélection'!$A$17,1,0.97)","v":0.97},{"$f":"IF(AO8='Listes de sélection'!$A$17,1,0.97)","v":0.97},{"$f":"IF(AP8='Listes de sélection'!$A$17,1,0.97)","v":0.97},{"$f":"IF(AQ8='Listes de sélection'!$A$17,1,0.97)","v":0.97},{"$f":"IF(AR8='Listes de sélection'!$A$17,1,0.97)","v":0.97},{"$f":"IF(AS8='Listes de sélection'!$A$17,1,0.97)","v":0.97},{"$f":"IF(AT8='Listes de sélection'!$A$17,1,0.97)","v":0.97},{"$f":"IF(AU8='Listes de sélection'!$A$17,1,0.97)","v":0.97},{"$f":"IF(AV8='Listes de sélection'!$A$17,1,0.97)","v":0.97},{"$f":"IF(AW8='Listes de sélection'!$A$17,1,0.97)","v":0.97},{"$f":"IF(AX8='Listes de sélection'!$A$17,1,0.97)","v":0.97},{"$f":"IF(AY8='Listes de sélection'!$A$17,1,0.97)","v":0.97},{"$f":"IF(AZ8='Listes de sélection'!$A$17,1,0.97)","v":0.97},{"$f":"IF(BA8='Listes de sélection'!$A$17,1,0.97)","v":0.97}]
["Qdelloc,l [MJ]",null,null,{"$f":"SUM(D264:D513 )","v":0},{"$f":"SUM(E264:E513 )","v":0},{"$f":"SUM(F264:F513 )","v":0},{"$f":"SUM(G264:G513 )","v":0},0,0,0,0,0,0,0,0,0,0,0,0,0,0,0,0,0,0,0,0,0,0,0,0,0,0,0,0,0,0,0,0,0,0,0,0,0,0,0,0,0,0,0,0,0,0]
["Qlossdist,l,n [MJ]",{"$f":"\"Segment \"&C264","v":"Segment 1"},1,{"$f":"IF(D9=\"Oui\",'Qlossdist,dh'!$C8,0)","v":0},{"$f":"IF(E9=\"Oui\",'Qlossdist,dh'!$C8,0)","v":0},{"$f":"IF(F9=\"Oui\",'Qlossdist,dh'!$C8,0)","v":0},{"$f":"IF(G9=\"Oui\",'Qlossdist,dh'!$C8,0)","v":0},{"$f":"IF(H9=\"Oui\",'Qlossdist,dh'!$C8,0)","v":0},{"$f":"IF(I9=\"Oui\",'Qlossdist,dh'!$C8,0)","v":0},{"$f":"IF(J9=\"Oui\",'Qlossdist,dh'!$C8,0)","v":0},{"$f":"IF(K9=\"Oui\",'Qlossdist,dh'!$C8,0)","v":0},{"$f":"IF(L9=\"Oui\",'Qlossdist,dh'!$C8,0)","v":0},{"$f":"IF(M9=\"Oui\",'Qlossdist,dh'!$C8,0)","v":0},{"$f":"IF(N9=\"Oui\",'Qlossdist,dh'!$C8,0)","v":0},{"$f":"IF(O9=\"Oui\",'Qlossdist,dh'!$C8,0)","v":0},{"$f":"IF(P9=\"Oui\",'Qlossdist,dh'!$C8,0)","v":0},{"$f":"IF(Q9=\"Oui\",'Qlossdist,dh'!$C8,0)","v":0},{"$f":"IF(R9=\"Oui\",'Qlossdist,dh'!$C8,0)","v":0},{"$f":"IF(S9=\"Oui\",'Qlossdist,dh'!$C8,0)","v":0},{"$f":"IF(T9=\"Oui\",'Qlossdist,dh'!$C8,0)","v":0},{"$f":"IF(U9=\"Oui\",'Qlossdist,dh'!$C8,0)","v":0},{"$f":"IF(V9=\"Oui\",'Qlossdist,dh'!$C8,0)","v":0},{"$f":"IF(W9=\"Oui\",'Qlossdist,dh'!$C8,0)","v":0},{"$f":"IF(X9=\"Oui\",'Qlossdist,dh'!$C8,0)","v":0},{"$f":"IF(Y9=\"Oui\",'Qlossdist,dh'!$C8,0)","v":0},{"$f":"IF(Z9=\"Oui\",'Qlossdist,dh'!$C8,0)","v":0},{"$f":"IF(AA9=\"Oui\",'Qlossdist,dh'!$C8,0)","v":0},{"$f":"IF(AB9=\"Oui\",'Qlossdist,dh'!$C8,0)","v":0},{"$f":"IF(AC9=\"Oui\",'Qlossdist,dh'!$C8,0)","v":0},{"$f":"IF(AD9=\"Oui\",'Qlossdist,dh'!$C8,0)","v":0},{"$f":"IF(AE9=\"Oui\",'Qlossdist,dh'!$C8,0)","v":0},{"$f":"IF(AF9=\"Oui\",'Qlossdist,dh'!$C8,0)","v":0},{"$f":"IF(AG9=\"Oui\",'Qlossdist,dh'!$C8,0)","v":0},{"$f":"IF(AH9=\"Oui\",'Qlossdist,dh'!$C8,0)","v":0},{"$f":"IF(AI9=\"Oui\",'Qlossdist,dh'!$C8,0)","v":0},{"$f":"IF(AJ9=\"Oui\",'Qlossdist,dh'!$C8,0)","v":0},{"$f":"IF(AK9=\"Oui\",'Qlossdist,dh'!$C8,0)","v":0},{"$f":"IF(AL9=\"Oui\",'Qlossdist,dh'!$C8,0)","v":0},{"$f":"IF(AM9=\"Oui\",'Qlossdist,dh'!$C8,0)","v":0},{"$f":"IF(AN9=\"Oui\",'Qlossdist,dh'!$C8,0)","v":0},{"$f":"IF(AO9=\"Oui\",'Qlossdist,dh'!$C8,0)","v":0},{"$f":"IF(AP9=\"Oui\",'Qlossdist,dh'!$C8,0)","v":0},{"$f":"IF(AQ9=\"Oui\",'Qlossdist,dh'!$C8,0)","v":0},{"$f":"IF(AR9=\"Oui\",'Qlossdist,dh'!$C8,0)","v":0},{"$f":"IF(AS9=\"Oui\",'Qlossdist,dh'!$C8,0)","v":0},{"$f":"IF(AT9=\"Oui\",'Qlossdist,dh'!$C8,0)","v":0},{"$f":"IF(AU9=\"Oui\",'Qlossdist,dh'!$C8,0)","v":0},{"$f":"IF(AV9=\"Oui\",'Qlossdist,dh'!$C8,0)","v":0},{"$f":"IF(AW9=\"Oui\",'Qlossdist,dh'!$C8,0)","v":0},{"$f":"IF(AX9=\"Oui\",'Qlossdist,dh'!$C8,0)","v":0},{"$f":"IF(AY9=\"Oui\",'Qlossdist,dh'!$C8,0)","v":0},{"$f":"IF(AZ9=\"Oui\",'Qlossdist,dh'!$C8,0)","v":0},{"$f":"IF(BA9=\"Oui\",'Qlossdist,dh'!$C8,0)","v":0}]
["Qlossdist,l,n [MJ]","Segment 2",{"$f":"C264+1","v":2},{"$f":"IF(D10=\"Oui\",'Qlossdist,dh'!$C9,0)","v":0},{"$f":"IF(E10=\"Oui\",'Qlossdist,dh'!$C9,0)","v":0},{"$f":"IF(F10=\"Oui\",'Qlossdist,dh'!$C9,0)","v":0},{"$f":"IF(G10=\"Oui\",'Qlossdist,dh'!$C9,0)","v":0},{"$f":"IF(H10=\"Oui\",'Qlossdist,dh'!$C9,0)","v":0},{"$f":"IF(I10=\"Oui\",'Qlossdist,dh'!$C9,0)","v":0},{"$f":"IF(J10=\"Oui\",'Qlossdist,dh'!$C9,0)","v":0},{"$f":"IF(K10=\"Oui\",'Qlossdist,dh'!$C9,0)","v":0},{"$f":"IF(L10=\"Oui\",'Qlossdist,dh'!$C9,0)","v":0},{"$f":"IF(M10=\"Oui\",'Qlossdist,dh'!$C9,0)","v":0},{"$f":"IF(N10=\"Oui\",'Qlossdist,dh'!$C9,0)","v":0},{"$f":"IF(O10=\"Oui\",'Qlossdist,dh'!$C9,0)","v":0},{"$f":"IF(P10=\"Oui\",'Qlossdist,dh'!$C9,0)","v":0},{"$f":"IF(Q10=\"Oui\",'Qlossdist,dh'!$C9,0)","v":0},{"$f":"IF(R10=\"Oui\",'Qlossdist,dh'!$C9,0)","v":0},{"$f":"IF(S10=\"Oui\",'Qlossdist,dh'!$C9,0)","v":0},{"$f":"IF(T10=\"Oui\",'Qlossdist,dh'!$C9,0)","v":0},{"$f":"IF(U10=\"Oui\",'Qlossdist,dh'!$C9,0)","v":0},{"$f":"IF(V10=\"Oui\",'Qlossdist,dh'!$C9,0)","v":0},{"$f":"IF(W10=\"Oui\",'Qlossdist,dh'!$C9,0)","v":0},{"$f":"IF(X10=\"Oui\",'Qlossdist,dh'!$C9,0)","v":0},{"$f":"IF(Y10=\"Oui\",'Qlossdist,dh'!$C9,0)","v":0},{"$f":"IF(Z10=\"Oui\",'Qlossdist,dh'!$C9,0)","v":0},{"$f":"IF(AA10=\"Oui\",'Qlossdist,dh'!$C9,0)","v":0},{"$f":"IF(AB10=\"Oui\",'Qlossdist,dh'!$C9,0)","v":0},{"$f":"IF(AC10=\"Oui\",'Qlossdist,dh'!$C9,0)","v":0},{"$f":"IF(AD10=\"Oui\",'Qlossdist,dh'!$C9,0)","v":0},{"$f":"IF(AE10=\"Oui\",'Qlossdist,dh'!$C9,0)","v":0},{"$f":"IF(AF10=\"Oui\",'Qlossdist,dh'!$C9,0)","v":0},{"$f":"IF(AG10=\"Oui\",'Qlossdist,dh'!$C9,0)","v":0},{"$f":"IF(AH10=\"Oui\",'Qlossdist,dh'!$C9,0)","v":0},{"$f":"IF(AI10=\"Oui\",'Qlossdist,dh'!$C9,0)","v":0},{"$f":"IF(AJ10=\"Oui\",'Qlossdist,dh'!$C9,0)","v":0},{"$f":"IF(AK10=\"Oui\",'Qlossdist,dh'!$C9,0)","v":0},{"$f":"IF(AL10=\"Oui\",'Qlossdist,dh'!$C9,0)","v":0},{"$f":"IF(AM10=\"Oui\",'Qlossdist,dh'!$C9,0)","v":0},{"$f":"IF(AN10=\"Oui\",'Qlossdist,dh'!$C9,0)","v":0},{"$f":"IF(AO10=\"Oui\",'Qlossdist,dh'!$C9,0)","v":0},{"$f":"IF(AP10=\"Oui\",'Qlossdist,dh'!$C9,0)","v":0},{"$f":"IF(AQ10=\"Oui\",'Qlossdist,dh'!$C9,0)","v":0},{"$f":"IF(AR10=\"Oui\",'Qlossdist,dh'!$C9,0)","v":0},{"$f":"IF(AS10=\"Oui\",'Qlossdist,dh'!$C9,0)","v":0},{"$f":"IF(AT10=\"Oui\",'Qlossdist,dh'!$C9,0)","v":0},{"$f":"IF(AU10=\"Oui\",'Qlossdist,dh'!$C9,0)","v":0},{"$f":"IF(AV10=\"Oui\",'Qlossdist,dh'!$C9,0)","v":0},{"$f":"IF(AW10=\"Oui\",'Qlossdist,dh'!$C9,0)","v":0},{"$f":"IF(AX10=\"Oui\",'Qlossdist,dh'!$C9,0)","v":0},{"$f":"IF(AY10=\"Oui\",'Qlossdist,dh'!$C9,0)","v":0},{"$f":"IF(AZ10=\"Oui\",'Qlossdist,dh'!$C9,0)","v":0},{"$f":"IF(BA10=\"Oui\",'Qlossdist,dh'!$C9,0)","v":0}]
["Qlossdist,l,n [MJ]","Segment 3",{"$f":"C265+1","v":3},{"$f":"IF(D11=\"Oui\",'Qlossdist,dh'!$C10,0)","v":0},{"$f":"IF(E11=\"Oui\",'Qlossdist,dh'!$C10,0)","v":0},{"$f":"IF(F11=\"Oui\",'Qlossdist,dh'!$C10,0)","v":0},{"$f":"IF(G11=\"Oui\",'Qlossdist,dh'!$C10,0)","v":0},{"$f":"IF(H11=\"Oui\",'Qlossdist,dh'!$C10,0)","v":0},{"$f":"IF(I11=\"Oui\",'Qlossdist,dh'!$C10,0)","v":0},{"$f":"IF(J11=\"Oui\",'Qlossdist,dh'!$C10,0)","v":0},{"$f":"IF(K11=\"Oui\",'Qlossdist,dh'!$C10,0)","v":0},{"$f":"IF(L11=\"Oui\",'Qlossdist,dh'!$C10,0)","v":0},{"$f":"IF(M11=\"Oui\",'Qlossdist,dh'!$C10,0)","v":0},{"$f":"IF(N11=\"Oui\",'Qlossdist,dh'!$C10,0)","v":0},{"$f":"IF(O11=\"Oui\",'Qlossdist,dh'!$C10,0)","v":0},{"$f":"IF(P11=\"Oui\",'Qlossdist,dh'!$C10,0)","v":0},{"$f":"IF(Q11=\"Oui\",'Qlossdist,dh'!$C10,0)","v":0},{"$f":"IF(R11=\"Oui\",'Qlossdist,dh'!$C10,0)","v":0},{"$f":"IF(S11=\"Oui\",'Qlossdist,dh'!$C10,0)","v":0},{"$f":"IF(T11=\"Oui\",'Qlossdist,dh'!$C10,0)","v":0},{"$f":"IF(U11=\"Oui\",'Qlossdist,dh'!$C10,0)","v":0},{"$f":"IF(V11=\"Oui\",'Qlossdist,dh'!$C10,0)","v":0},{"$f":"IF(W11=\"Oui\",'Qlossdist,dh'!$C10,0)","v":0},{"$f":"IF(X11=\"Oui\",'Qlossdist,dh'!$C10,0)","v":0},{"$f":"IF(Y11=\"Oui\",'Qlossdist,dh'!$C10,0)","v":0},{"$f":"IF(Z11=\"Oui\",'Qlossdist,dh'!$C10,0)","v":0},{"$f":"IF(AA11=\"Oui\",'Qlossdist,dh'!$C10,0)","v":0},{"$f":"IF(AB11=\"Oui\",'Qlossdist,dh'!$C10,0)","v":0},{"$f":"IF(AC11=\"Oui\",'Qlossdist,dh'!$C10,0)","v":0},{"$f":"IF(AD11=\"Oui\",'Qlossdist,dh'!$C10,0)","v":0},{"$f":"IF(AE11=\"Oui\",'Qlossdist,dh'!$C10,0)","v":0},{"$f":"IF(AF11=\"Oui\",'Qlossdist,dh'!$C10,0)","v":0},{"$f":"IF(AG11=\"Oui\",'Qlossdist,dh'!$C10,0)","v":0},{"$f":"IF(AH11=\"Oui\",'Qlossdist,dh'!$C10,0)","v":0},{"$f":"IF(AI11=\"Oui\",'Qlossdist,dh'!$C10,0)","v":0},{"$f":"IF(AJ11=\"Oui\",'Qlossdist,dh'!$C10,0)","v":0},{"$f":"IF(AK11=\"Oui\",'Qlossdist,dh'!$C10,0)","v":0},{"$f":"IF(AL11=\"Oui\",'Qlossdist,dh'!$C10,0)","v":0},{"$f":"IF(AM11=\"Oui\",'Qlossdist,dh'!$C10,0)","v":0},{"$f":"IF(AN11=\"Oui\",'Qlossdist,dh'!$C10,0)","v":0},{"$f":"IF(AO11=\"Oui\",'Qlossdist,dh'!$C10,0)","v":0},{"$f":"IF(AP11=\"Oui\",'Qlossdist,dh'!$C10,0)","v":0},{"$f":"IF(AQ11=\"Oui\",'Qlossdist,dh'!$C10,0)","v":0},{"$f":"IF(AR11=\"Oui\",'Qlossdist,dh'!$C10,0)","v":0},{"$f":"IF(AS11=\"Oui\",'Qlossdist,dh'!$C10,0)","v":0},{"$f":"IF(AT11=\"Oui\",'Qlossdist,dh'!$C10,0)","v":0},{"$f":"IF(AU11=\"Oui\",'Qlossdist,dh'!$C10,0)","v":0},{"$f":"IF(AV11=\"Oui\",'Qlossdist,dh'!$C10,0)","v":0},{"$f":"IF(AW11=\"Oui\",'Qlossdist,dh'!$C10,0)","v":0},{"$f":"IF(AX11=\"Oui\",'Qlossdist,dh'!$C10,0)","v":0},{"$f":"IF(AY11=\"Oui\",'Qlossdist,dh'!$C10,0)","v":0},{"$f":"IF(AZ11=\"Oui\",'Qlossdist,dh'!$C10,0)","v":0},{"$f":"IF(BA11=\"Oui\",'Qlossdist,dh'!$C10,0)","v":0}]
["Qlossdist,l,n [MJ]","Segment 4",4,{"$f":"IF(D12=\"Oui\",'Qlossdist,dh'!$C11,0)","v":0},{"$f":"IF(E12=\"Oui\",'Qlossdist,dh'!$C11,0)","v":0},{"$f":"IF(F12=\"Oui\",'Qlossdist,dh'!$C11,0)","v":0},{"$f":"IF(G12=\"Oui\",'Qlossdist,dh'!$C11,0)","v":0},{"$f":"IF(H12=\"Oui\",'Qlossdist,dh'!$C11,0)","v":0},{"$f":"IF(I12=\"Oui\",'Qlossdist,dh'!$C11,0)","v":0},{"$f":"IF(J12=\"Oui\",'Qlossdist,dh'!$C11,0)","v":0},{"$f":"IF(K12=\"Oui\",'Qlossdist,dh'!$C11,0)","v":0},{"$f":"IF(L12=\"Oui\",'Qlossdist,dh'!$C11,0)","v":0},{"$f":"IF(M12=\"Oui\",'Qlossdist,dh'!$C11,0)","v":0},{"$f":"IF(N12=\"Oui\",'Qlossdist,dh'!$C11,0)","v":0},{"$f":"IF(O12=\"Oui\",'Qlossdist,dh'!$C11,0)","v":0},{"$f":"IF(P12=\"Oui\",'Qlossdist,dh'!$C11,0)","v":0},{"$f":"IF(Q12=\"Oui\",'Qlossdist,dh'!$C11,0)","v":0},{"$f":"IF(R12=\"Oui\",'Qlossdist,dh'!$C11,0)","v":0},{"$f":"IF(S12=\"Oui\",'Qlossdist,dh'!$C11,0)","v":0},{"$f":"IF(T12=\"Oui\",'Qlossdist,dh'!$C11,0)","v":0},{"$f":"IF(U12=\"Oui\",'Qlossdist,dh'!$C11,0)","v":0},{"$f":"IF(V12=\"Oui\",'Qlossdist,dh'!$C11,0)","v":0},{"$f":"IF(W12=\"Oui\",'Qlossdist,dh'!$C11,0)","v":0},{"$f":"IF(X12=\"Oui\",'Qlossdist,dh'!$C11,0)","v":0},{"$f":"IF(Y12=\"Oui\",'Qlossdist,dh'!$C11,0)","v":0},{"$f":"IF(Z12=\"Oui\",'Qlossdist,dh'!$C11,0)","v":0},{"$f":"IF(AA12=\"Oui\",'Qlossdist,dh'!$C11,0)","v":0},{"$f":"IF(AB12=\"Oui\",'Qlossdist,dh'!$C11,0)","v":0},{"$f":"IF(AC12=\"Oui\",'Qlossdist,dh'!$C11,0)","v":0},{"$f":"IF(AD12=\"Oui\",'Qlossdist,dh'!$C11,0)","v":0},{"$f":"IF(AE12=\"Oui\",'Qlossdist,dh'!$C11,0)","v":0},{"$f":"IF(AF12=\"Oui\",'Qlossdist,dh'!$C11,0)","v":0},{"$f":"IF(AG12=\"Oui\",'Qlossdist,dh'!$C11,0)","v":0},{"$f":"IF(AH12=\"Oui\",'Qlossdist,dh'!$C11,0)","v":0},{"$f":"IF(AI12=\"Oui\",'Qlossdist,dh'!$C11,0)","v":0},{"$f":"IF(AJ12=\"Oui\",'Qlossdist,dh'!$C11,0)","v":0},{"$f":"IF(AK12=\"Oui\",'Qlossdist,dh'!$C11,0)","v":0},{"$f":"IF(AL12=\"Oui\",'Qlossdist,dh'!$C11,0)","v":0},{"$f":"IF(AM12=\"Oui\",'Qlossdist,dh'!$C11,0)","v":0},{"$f":"IF(AN12=\"Oui\",'Qlossdist,dh'!$C11,0)","v":0},{"$f":"IF(AO12=\"Oui\",'Qlossdist,dh'!$C11,0)","v":0},{"$f":"IF(AP12=\"Oui\",'Qlossdist,dh'!$C11,0)","v":0},{"$f":"IF(AQ12=\"Oui\",'Qlossdist,dh'!$C11,0)","v":0},{"$f":"IF(AR12=\"Oui\",'Qlossdist,dh'!$C11,0)","v":0},{"$f":"IF(AS12=\"Oui\",'Qlossdist,dh'!$C11,0)","v":0},{"$f":"IF(AT12=\"Oui\",'Qlossdist,dh'!$C11,0)","v":0},{"$f":"IF(AU12=\"Oui\",'Qlossdist,dh'!$C11,0)","v":0},{"$f":"IF(AV12=\"Oui\",'Qlossdist,dh'!$C11,0)","v":0},{"$f":"IF(AW12=\"Oui\",'Qlossdist,dh'!$C11,0)","v":0},{"$f":"IF(AX12=\"Oui\",'Qlossdist,dh'!$C11,0)","v":0},{"$f":"IF(AY12=\"Oui\",'Qlossdist,dh'!$C11,0)","v":0},{"$f":"IF(AZ12=\"Oui\",'Qlossdist,dh'!$C11,0)","v":0},{"$f":"IF(BA12=\"Oui\",'Qlossdist,dh'!$C11,0)","v":0}]
["Qlossdist,l,n [MJ]","Segment 5",5,{"$f":"IF(D13=\"Oui\",'Qlossdist,dh'!$C12,0)","v":0},{"$f":"IF(E13=\"Oui\",'Qlossdist,dh'!$C12,0)","v":0},{"$f":"IF(F13=\"Oui\",'Qlossdist,dh'!$C12,0)","v":0},{"$f":"IF(G13=\"Oui\",'Qlossdist,dh'!$C12,0)","v":0},{"$f":"IF(H13=\"Oui\",'Qlossdist,dh'!$C12,0)","v":0},{"$f":"IF(I13=\"Oui\",'Qlossdist,dh'!$C12,0)","v":0},{"$f":"IF(J13=\"Oui\",'Qlossdist,dh'!$C12,0)","v":0},{"$f":"IF(K13=\"Oui\",'Qlossdist,dh'!$C12,0)","v":0},{"$f":"IF(L13=\"Oui\",'Qlossdist,dh'!$C12,0)","v":0},{"$f":"IF(M13=\"Oui\",'Qlossdist,dh'!$C12,0)","v":0},{"$f":"IF(N13=\"Oui\",'Qlossdist,dh'!$C12,0)","v":0},{"$f":"IF(O13=\"Oui\",'Qlossdist,dh'!$C12,0)","v":0},{"$f":"IF(P13=\"Oui\",'Qlossdist,dh'!$C12,0)","v":0},{"$f":"IF(Q13=\"Oui\",'Qlossdist,dh'!$C12,0)","v":0},{"$f":"IF(R13=\"Oui\",'Qlossdist,dh'!$C12,0)","v":0},{"$f":"IF(S13=\"Oui\",'Qlossdist,dh'!$C12,0)","v":0},{"$f":"IF(T13=\"Oui\",'Qlossdist,dh'!$C12,0)","v":0},{"$f":"IF(U13=\"Oui\",'Qlossdist,dh'!$C12,0)","v":0},{"$f":"IF(V13=\"Oui\",'Qlossdist,dh'!$C12,0)","v":0},{"$f":"IF(W13=\"Oui\",'Qlossdist,dh'!$C12,0)","v":0},{"$f":"IF(X13=\"Oui\",'Qlossdist,dh'!$C12,0)","v":0},{"$f":"IF(Y13=\"Oui\",'Qlossdist,dh'!$C12,0)","v":0},{"$f":"IF(Z13=\"Oui\",'Qlossdist,dh'!$C12,0)","v":0},{"$f":"IF(AA13=\"Oui\",'Qlossdist,dh'!$C12,0)","v":0},{"$f":"IF(AB13=\"Oui\",'Qlossdist,dh'!$C12,0)","v":0},{"$f":"IF(AC13=\"Oui\",'Qlossdist,dh'!$C12,0)","v":0},{"$f":"IF(AD13=\"Oui\",'Qlossdist,dh'!$C12,0)","v":0},{"$f":"IF(AE13=\"Oui\",'Qlossdist,dh'!$C12,0)","v":0},{"$f":"IF(AF13=\"Oui\",'Qlossdist,dh'!$C12,0)","v":0},{"$f":"IF(AG13=\"Oui\",'Qlossdist,dh'!$C12,0)","v":0},{"$f":"IF(AH13=\"Oui\",'Qlossdist,dh'!$C12,0)","v":0},{"$f":"IF(AI13=\"Oui\",'Qlossdist,dh'!$C12,0)","v":0},{"$f":"IF(AJ13=\"Oui\",'Qlossdist,dh'!$C12,0)","v":0},{"$f":"IF(AK13=\"Oui\",'Qlossdist,dh'!$C12,0)","v":0},{"$f":"IF(AL13=\"Oui\",'Qlossdist,dh'!$C12,0)","v":0},{"$f":"IF(AM13=\"Oui\",'Qlossdist,dh'!$C12,0)","v":0},{"$f":"IF(AN13=\"Oui\",'Qlossdist,dh'!$C12,0)","v":0},{"$f":"IF(AO13=\"Oui\",'Qlossdist,dh'!$C12,0)","v":0},{"$f":"IF(AP13=\"Oui\",'Qlossdist,dh'!$C12,0)","v":0},{"$f":"IF(AQ13=\"Oui\",'Qlossdist,dh'!$C12,0)","v":0},{"$f":"IF(AR13=\"Oui\",'Qlossdist,dh'!$C12,0)","v":0},{"$f":"IF(AS13=\"Oui\",'Qlossdist,dh'!$C12,0)","v":0},{"$f":"IF(AT13=\"Oui\",'Qlossdist,dh'!$C12,0)","v":0},{"$f":"IF(AU13=\"Oui\",'Qlossdist,dh'!$C12,0)","v":0},{"$f":"IF(AV13=\"Oui\",'Qlossdist,dh'!$C12,0)","v":0},{"$f":"IF(AW13=\"Oui\",'Qlossdist,dh'!$C12,0)","v":0},{"$f":"IF(AX13=\"Oui\",'Qlossdist,dh'!$C12,0)","v":0},{"$f":"IF(AY13=\"Oui\",'Qlossdist,dh'!$C12,0)","v":0},{"$f":"IF(AZ13=\"Oui\",'Qlossdist,dh'!$C12,0)","v":0},{"$f":"IF(BA13=\"Oui\",'Qlossdist,dh'!$C12,0)","v":0}]
["Qlossdist,l,n [MJ]","Segment 6",6,{"$f":"IF(D14=\"Oui\",'Qlossdist,dh'!$C13,0)","v":0},{"$f":"IF(E14=\"Oui\",'Qlossdist,dh'!$C13,0)","v":0},{"$f":"IF(F14=\"Oui\",'Qlossdist,dh'!$C13,0)","v":0},{"$f":"IF(G14=\"Oui\",'Qlossdist,dh'!$C13,0)","v":0},{"$f":"IF(H14=\"Oui\",'Qlossdist,dh'!$C13,0)","v":0},{"$f":"IF(I14=\"Oui\",'Qlossdist,dh'!$C13,0)","v":0},{"$f":"IF(J14=\"Oui\",'Qlossdist,dh'!$C13,0)","v":0},{"$f":"IF(K14=\"Oui\",'Qlossdist,dh'!$C13,0)","v":0},{"$f":"IF(L14=\"Oui\",'Qlossdist,dh'!$C13,0)","v":0},{"$f":"IF(M14=\"Oui\",'Qlossdist,dh'!$C13,0)","v":0},{"$f":"IF(N14=\"Oui\",'Qlossdist,dh'!$C13,0)","v":0},{"$f":"IF(O14=\"Oui\",'Qlossdist,dh'!$C13,0)","v":0},{"$f":"IF(P14=\"Oui\",'Qlossdist,dh'!$C13,0)","v":0},{"$f":"IF(Q14=\"Oui\",'Qlossdist,dh'!$C13,0)","v":0},{"$f":"IF(R14=\"Oui\",'Qlossdist,dh'!$C13,0)","v":0},{"$f":"IF(S14=\"Oui\",'Qlossdist,dh'!$C13,0)","v":0},{"$f":"IF(T14=\"Oui\",'Qlossdist,dh'!$C13,0)","v":0},{"$f":"IF(U14=\"Oui\",'Qlossdist,dh'!$C13,0)","v":0},{"$f":"IF(V14=\"Oui\",'Qlossdist,dh'!$C13,0)","v":0},{"$f":"IF(W14=\"Oui\",'Qlossdist,dh'!$C13,0)","v":0},{"$f":"IF(X14=\"Oui\",'Qlossdist,dh'!$C13,0)","v":0},{"$f":"IF(Y14=\"Oui\",'Qlossdist,dh'!$C13,0)","v":0},{"$f":"IF(Z14=\"Oui\",'Qlossdist,dh'!$C13,0)","v":0},{"$f":"IF(AA14=\"Oui\",'Qlossdist,dh'!$C13,0)","v":0},{"$f":"IF(AB14=\"Oui\",'Qlossdist,dh'!$C13,0)","v":0},{"$f":"IF(AC14=\"Oui\",'Qlossdist,dh'!$C13,0)","v":0},{"$f":"IF(AD14=\"Oui\",'Qlossdist,dh'!$C13,0)","v":0},{"$f":"IF(AE14=\"Oui\",'Qlossdist,dh'!$C13,0)","v":0},{"$f":"IF(AF14=\"Oui\",'Qlossdist,dh'!$C13,0)","v":0},{"$f":"IF(AG14=\"Oui\",'Qlossdist,dh'!$C13,0)","v":0},{"$f":"IF(AH14=\"Oui\",'Qlossdist,dh'!$C13,0)","v":0},{"$f":"IF(AI14=\"Oui\",'Qlossdist,dh'!$C13,0)","v":0},{"$f":"IF(AJ14=\"Oui\",'Qlossdist,dh'!$C13,0)","v":0},{"$f":"IF(AK14=\"Oui\",'Qlossdist,dh'!$C13,0)","v":0},{"$f":"IF(AL14=\"Oui\",'Qlossdist,dh'!$C13,0)","v":0},{"$f":"IF(AM14=\"Oui\",'Qlossdist,dh'!$C13,0)","v":0},{"$f":"IF(AN14=\"Oui\",'Qlossdist,dh'!$C13,0)","v":0},{"$f":"IF(AO14=\"Oui\",'Qlossdist,dh'!$C13,0)","v":0},{"$f":"IF(AP14=\"Oui\",'Qlossdist,dh'!$C13,0)","v":0},{"$f":"IF(AQ14=\"Oui\",'Qlossdist,dh'!$C13,0)","v":0},{"$f":"IF(AR14=\"Oui\",'Qlossdist,dh'!$C13,0)","v":0},{"$f":"IF(AS14=\"Oui\",'Qlossdist,dh'!$C13,0)","v":0},{"$f":"IF(AT14=\"Oui\",'Qlossdist,dh'!$C13,0)","v":0},{"$f":"IF(AU14=\"Oui\",'Qlossdist,dh'!$C13,0)","v":0},{"$f":"IF(AV14=\"Oui\",'Qlossdist,dh'!$C13,0)","v":0},{"$f":"IF(AW14=\"Oui\",'Qlossdist,dh'!$C13,0)","v":0},{"$f":"IF(AX14=\"Oui\",'Qlossdist,dh'!$C13,0)","v":0},{"$f":"IF(AY14=\"Oui\",'Qlossdist,dh'!$C13,0)","v":0},{"$f":"IF(AZ14=\"Oui\",'Qlossdist,dh'!$C13,0)","v":0},{"$f":"IF(BA14=\"Oui\",'Qlossdist,dh'!$C13,0)","v":0}]
["Qlossdist,l,n [MJ]","Segment 7",7,{"$f":"IF(D15=\"Oui\",'Qlossdist,dh'!$C14,0)","v":0},{"$f":"IF(E15=\"Oui\",'Qlossdist,dh'!$C14,0)","v":0},{"$f":"IF(F15=\"Oui\",'Qlossdist,dh'!$C14,0)","v":0},{"$f":"IF(G15=\"Oui\",'Qlossdist,dh'!$C14,0)","v":0},{"$f":"IF(H15=\"Oui\",'Qlossdist,dh'!$C14,0)","v":0},{"$f":"IF(I15=\"Oui\",'Qlossdist,dh'!$C14,0)","v":0},{"$f":"IF(J15=\"Oui\",'Qlossdist,dh'!$C14,0)","v":0},{"$f":"IF(K15=\"Oui\",'Qlossdist,dh'!$C14,0)","v":0},{"$f":"IF(L15=\"Oui\",'Qlossdist,dh'!$C14,0)","v":0},{"$f":"IF(M15=\"Oui\",'Qlossdist,dh'!$C14,0)","v":0},{"$f":"IF(N15=\"Oui\",'Qlossdist,dh'!$C14,0)","v":0},{"$f":"IF(O15=\"Oui\",'Qlossdist,dh'!$C14,0)","v":0},{"$f":"IF(P15=\"Oui\",'Qlossdist,dh'!$C14,0)","v":0},{"$f":"IF(Q15=\"Oui\",'Qlossdist,dh'!$C14,0)","v":0},{"$f":"IF(R15=\"Oui\",'Qlossdist,dh'!$C14,0)","v":0},{"$f":"IF(S15=\"Oui\",'Qlossdist,dh'!$C14,0)","v":0},{"$f":"IF(T15=\"Oui\",'Qlossdist,dh'!$C14,0)","v":0},{"$f":"IF(U15=\"Oui\",'Qlossdist,dh'!$C14,0)","v":0},{"$f":"IF(V15=\"Oui\",'Qlossdist,dh'!$C14,0)","v":0},{"$f":"IF(W15=\"Oui\",'Qlossdist,dh'!$C14,0)","v":0},{"$f":"IF(X15=\"Oui\",'Qlossdist,dh'!$C14,0)","v":0},{"$f":"IF(Y15=\"Oui\",'Qlossdist,dh'!$C14,0)","v":0},{"$f":"IF(Z15=\"Oui\",'Qlossdist,dh'!$C14,0)","v":0},{"$f":"IF(AA15=\"Oui\",'Qlossdist,dh'!$C14,0)","v":0},{"$f":"IF(AB15=\"Oui\",'Qlossdist,dh'!$C14,0)","v":0},{"$f":"IF(AC15=\"Oui\",'Qlossdist,dh'!$C14,0)","v":0},{"$f":"IF(AD15=\"Oui\",'Qlossdist,dh'!$C14,0)","v":0},{"$f":"IF(AE15=\"Oui\",'Qlossdist,dh'!$C14,0)","v":0},{"$f":"IF(AF15=\"Oui\",'Qlossdist,dh'!$C14,0)","v":0},{"$f":"IF(AG15=\"Oui\",'Qlossdist,dh'!$C14,0)","v":0},{"$f":"IF(AH15=\"Oui\",'Qlossdist,dh'!$C14,0)","v":0},{"$f":"IF(AI15=\"Oui\",'Qlossdist,dh'!$C14,0)","v":0},{"$f":"IF(AJ15=\"Oui\",'Qlossdist,dh'!$C14,0)","v":0},{"$f":"IF(AK15=\"Oui\",'Qlossdist,dh'!$C14,0)","v":0},{"$f":"IF(AL15=\"Oui\",'Qlossdist,dh'!$C14,0)","v":0},{"$f":"IF(AM15=\"Oui\",'Qlossdist,dh'!$C14,0)","v":0},{"$f":"IF(AN15=\"Oui\",'Qlossdist,dh'!$C14,0)","v":0},{"$f":"IF(AO15=\"Oui\",'Qlossdist,dh'!$C14,0)","v":0},{"$f":"IF(AP15=\"Oui\",'Qlossdist,dh'!$C14,0)","v":0},{"$f":"IF(AQ15=\"Oui\",'Qlossdist,dh'!$C14,0)","v":0},{"$f":"IF(AR15=\"Oui\",'Qlossdist,dh'!$C14,0)","v":0},{"$f":"IF(AS15=\"Oui\",'Qlossdist,dh'!$C14,0)","v":0},{"$f":"IF(AT15=\"Oui\",'Qlossdist,dh'!$C14,0)","v":0},{"$f":"IF(AU15=\"Oui\",'Qlossdist,dh'!$C14,0)","v":0},{"$f":"IF(AV15=\"Oui\",'Qlossdist,dh'!$C14,0)","v":0},{"$f":"IF(AW15=\"Oui\",'Qlossdist,dh'!$C14,0)","v":0},{"$f":"IF(AX15=\"Oui\",'Qlossdist,dh'!$C14,0)","v":0},{"$f":"IF(AY15=\"Oui\",'Qlossdist,dh'!$C14,0)","v":0},{"$f":"IF(AZ15=\"Oui\",'Qlossdist,dh'!$C14,0)","v":0},{"$f":"IF(BA15=\"Oui\",'Qlossdist,dh'!$C14,0)","v":0}]
["Qlossdist,l,n [MJ]","Segment 8",8,{"$f":"IF(D16=\"Oui\",'Qlossdist,dh'!$C15,0)","v":0},{"$f":"IF(E16=\"Oui\",'Qlossdist,dh'!$C15,0)","v":0},{"$f":"IF(F16=\"Oui\",'Qlossdist,dh'!$C15,0)","v":0},{"$f":"IF(G16=\"Oui\",'Qlossdist,dh'!$C15,0)","v":0},{"$f":"IF(H16=\"Oui\",'Qlossdist,dh'!$C15,0)","v":0},{"$f":"IF(I16=\"Oui\",'Qlossdist,dh'!$C15,0)","v":0},{"$f":"IF(J16=\"Oui\",'Qlossdist,dh'!$C15,0)","v":0},{"$f":"IF(K16=\"Oui\",'Qlossdist,dh'!$C15,0)","v":0},{"$f":"IF(L16=\"Oui\",'Qlossdist,dh'!$C15,0)","v":0},{"$f":"IF(M16=\"Oui\",'Qlossdist,dh'!$C15,0)","v":0},{"$f":"IF(N16=\"Oui\",'Qlossdist,dh'!$C15,0)","v":0},{"$f":"IF(O16=\"Oui\",'Qlossdist,dh'!$C15,0)","v":0},{"$f":"IF(P16=\"Oui\",'Qlossdist,dh'!$C15,0)","v":0},{"$f":"IF(Q16=\"Oui\",'Qlossdist,dh'!$C15,0)","v":0},{"$f":"IF(R16=\"Oui\",'Qlossdist,dh'!$C15,0)","v":0},{"$f":"IF(S16=\"Oui\",'Qlossdist,dh'!$C15,0)","v":0},{"$f":"IF(T16=\"Oui\",'Qlossdist,dh'!$C15,0)","v":0},{"$f":"IF(U16=\"Oui\",'Qlossdist,dh'!$C15,0)","v":0},{"$f":"IF(V16=\"Oui\",'Qlossdist,dh'!$C15,0)","v":0},{"$f":"IF(W16=\"Oui\",'Qlossdist,dh'!$C15,0)","v":0},{"$f":"IF(X16=\"Oui\",'Qlossdist,dh'!$C15,0)","v":0},{"$f":"IF(Y16=\"Oui\",'Qlossdist,dh'!$C15,0)","v":0},{"$f":"IF(Z16=\"Oui\",'Qlossdist,dh'!$C15,0)","v":0},{"$f":"IF(AA16=\"Oui\",'Qlossdist,dh'!$C15,0)","v":0},{"$f":"IF(AB16=\"Oui\",'Qlossdist,dh'!$C15,0)","v":0},{"$f":"IF(AC16=\"Oui\",'Qlossdist,dh'!$C15,0)","v":0},{"$f":"IF(AD16=\"Oui\",'Qlossdist,dh'!$C15,0)","v":0},{"$f":"IF(AE16=\"Oui\",'Qlossdist,dh'!$C15,0)","v":0},{"$f":"IF(AF16=\"Oui\",'Qlossdist,dh'!$C15,0)","v":0},{"$f":"IF(AG16=\"Oui\",'Qlossdist,dh'!$C15,0)","v":0},{"$f":"IF(AH16=\"Oui\",'Qlossdist,dh'!$C15,0)","v":0},{"$f":"IF(AI16=\"Oui\",'Qlossdist,dh'!$C15,0)","v":0},{"$f":"IF(AJ16=\"Oui\",'Qlossdist,dh'!$C15,0)","v":0},{"$f":"IF(AK16=\"Oui\",'Qlossdist,dh'!$C15,0)","v":0},{"$f":"IF(AL16=\"Oui\",'Qlossdist,dh'!$C15,0)","v":0},{"$f":"IF(AM16=\"Oui\",'Qlossdist,dh'!$C15,0)","v":0},{"$f":"IF(AN16=\"Oui\",'Qlossdist,dh'!$C15,0)","v":0},{"$f":"IF(AO16=\"Oui\",'Qlossdist,dh'!$C15,0)","v":0},{"$f":"IF(AP16=\"Oui\",'Qlossdist,dh'!$C15,0)","v":0},{"$f":"IF(AQ16=\"Oui\",'Qlossdist,dh'!$C15,0)","v":0},{"$f":"IF(AR16=\"Oui\",'Qlossdist,dh'!$C15,0)","v":0},{"$f":"IF(AS16=\"Oui\",'Qlossdist,dh'!$C15,0)","v":0},{"$f":"IF(AT16=\"Oui\",'Qlossdist,dh'!$C15,0)","v":0},{"$f":"IF(AU16=\"Oui\",'Qlossdist,dh'!$C15,0)","v":0},{"$f":"IF(AV16=\"Oui\",'Qlossdist,dh'!$C15,0)","v":0},{"$f":"IF(AW16=\"Oui\",'Qlossdist,dh'!$C15,0)","v":0},{"$f":"IF(AX16=\"Oui\",'Qlossdist,dh'!$C15,0)","v":0},{"$f":"IF(AY16=\"Oui\",'Qlossdist,dh'!$C15,0)","v":0},{"$f":"IF(AZ16=\"Oui\",'Qlossdist,dh'!$C15,0)","v":0},{"$f":"IF(BA16=\"Oui\",'Qlossdist,dh'!$C15,0)","v":0}]
["Qlossdist,l,n [MJ]","Segment 9",9,{"$f":"IF(D17=\"Oui\",'Qlossdist,dh'!$C16,0)","v":0},{"$f":"IF(E17=\"Oui\",'Qlossdist,dh'!$C16,0)","v":0},{"$f":"IF(F17=\"Oui\",'Qlossdist,dh'!$C16,0)","v":0},{"$f":"IF(G17=\"Oui\",'Qlossdist,dh'!$C16,0)","v":0},{"$f":"IF(H17=\"Oui\",'Qlossdist,dh'!$C16,0)","v":0},{"$f":"IF(I17=\"Oui\",'Qlossdist,dh'!$C16,0)","v":0},{"$f":"IF(J17=\"Oui\",'Qlossdist,dh'!$C16,0)","v":0},{"$f":"IF(K17=\"Oui\",'Qlossdist,dh'!$C16,0)","v":0},{"$f":"IF(L17=\"Oui\",'Qlossdist,dh'!$C16,0)","v":0},{"$f":"IF(M17=\"Oui\",'Qlossdist,dh'!$C16,0)","v":0},{"$f":"IF(N17=\"Oui\",'Qlossdist,dh'!$C16,0)","v":0},{"$f":"IF(O17=\"Oui\",'Qlossdist,dh'!$C16,0)","v":0},{"$f":"IF(P17=\"Oui\",'Qlossdist,dh'!$C16,0)","v":0},{"$f":"IF(Q17=\"Oui\",'Qlossdist,dh'!$C16,0)","v":0},{"$f":"IF(R17=\"Oui\",'Qlossdist,dh'!$C16,0)","v":0},{"$f":"IF(S17=\"Oui\",'Qlossdist,dh'!$C16,0)","v":0},{"$f":"IF(T17=\"Oui\",'Qlossdist,dh'!$C16,0)","v":0},{"$f":"IF(U17=\"Oui\",'Qlossdist,dh'!$C16,0)","v":0},{"$f":"IF(V17=\"Oui\",'Qlossdist,dh'!$C16,0)","v":0},{"$f":"IF(W17=\"Oui\",'Qlossdist,dh'!$C16,0)","v":0},{"$f":"IF(X17=\"Oui\",'Qlossdist,dh'!$C16,0)","v":0},{"$f":"IF(Y17=\"Oui\",'Qlossdist,dh'!$C16,0)","v":0},{"$f":"IF(Z17=\"Oui\",'Qlossdist,dh'!$C16,0)","v":0},{"$f":"IF(AA17=\"Oui\",'Qlossdist,dh'!$C16,0)","v":0},{"$f":"IF(AB17=\"Oui\",'Qlossdist,dh'!$C16,0)","v":0},{"$f":"IF(AC17=\"Oui\",'Qlossdist,dh'!$C16,0)","v":0},{"$f":"IF(AD17=\"Oui\",'Qlossdist,dh'!$C16,0)","v":0},{"$f":"IF(AE17=\"Oui\",'Qlossdist,dh'!$C16,0)","v":0},{"$f":"IF(AF17=\"Oui\",'Qlossdist,dh'!$C16,0)","v":0},{"$f":"IF(AG17=\"Oui\",'Qlossdist,dh'!$C16,0)","v":0},{"$f":"IF(AH17=\"Oui\",'Qlossdist,dh'!$C16,0)","v":0},{"$f":"IF(AI17=\"Oui\",'Qlossdist,dh'!$C16,0)","v":0},{"$f":"IF(AJ17=\"Oui\",'Qlossdist,dh'!$C16,0)","v":0},{"$f":"IF(AK17=\"Oui\",'Qlossdist,dh'!$C16,0)","v":0},{"$f":"IF(AL17=\"Oui\",'Qlossdist,dh'!$C16,0)","v":0},{"$f":"IF(AM17=\"Oui\",'Qlossdist,dh'!$C16,0)","v":0},{"$f":"IF(AN17=\"Oui\",'Qlossdist,dh'!$C16,0)","v":0},{"$f":"IF(AO17=\"Oui\",'Qlossdist,dh'!$C16,0)","v":0},{"$f":"IF(AP17=\"Oui\",'Qlossdist,dh'!$C16,0)","v":0},{"$f":"IF(AQ17=\"Oui\",'Qlossdist,dh'!$C16,0)","v":0},{"$f":"IF(AR17=\"Oui\",'Qlossdist,dh'!$C16,0)","v":0},{"$f":"IF(AS17=\"Oui\",'Qlossdist,dh'!$C16,0)","v":0},{"$f":"IF(AT17=\"Oui\",'Qlossdist,dh'!$C16,0)","v":0},{"$f":"IF(AU17=\"Oui\",'Qlossdist,dh'!$C16,0)","v":0},{"$f":"IF(AV17=\"Oui\",'Qlossdist,dh'!$C16,0)","v":0},{"$f":"IF(AW17=\"Oui\",'Qlossdist,dh'!$C16,0)","v":0},{"$f":"IF(AX17=\"Oui\",'Qlossdist,dh'!$C16,0)","v":0},{"$f":"IF(AY17=\"Oui\",'Qlossdist,dh'!$C16,0)","v":0},{"$f":"IF(AZ17=\"Oui\",'Qlossdist,dh'!$C16,0)","v":0},{"$f":"IF(BA17=\"Oui\",'Qlossdist,dh'!$C16,0)","v":0}]
["Qlossdist,l,n [MJ]","Segment 10",10,{"$f":"IF(D18=\"Oui\",'Qlossdist,dh'!$C17,0)","v":0},{"$f":"IF(E18=\"Oui\",'Qlossdist,dh'!$C17,0)","v":0},{"$f":"IF(F18=\"Oui\",'Qlossdist,dh'!$C17,0)","v":0},{"$f":"IF(G18=\"Oui\",'Qlossdist,dh'!$C17,0)","v":0},{"$f":"IF(H18=\"Oui\",'Qlossdist,dh'!$C17,0)","v":0},{"$f":"IF(I18=\"Oui\",'Qlossdist,dh'!$C17,0)","v":0},{"$f":"IF(J18=\"Oui\",'Qlossdist,dh'!$C17,0)","v":0},{"$f":"IF(K18=\"Oui\",'Qlossdist,dh'!$C17,0)","v":0},{"$f":"IF(L18=\"Oui\",'Qlossdist,dh'!$C17,0)","v":0},{"$f":"IF(M18=\"Oui\",'Qlossdist,dh'!$C17,0)","v":0},{"$f":"IF(N18=\"Oui\",'Qlossdist,dh'!$C17,0)","v":0},{"$f":"IF(O18=\"Oui\",'Qlossdist,dh'!$C17,0)","v":0},{"$f":"IF(P18=\"Oui\",'Qlossdist,dh'!$C17,0)","v":0},{"$f":"IF(Q18=\"Oui\",'Qlossdist,dh'!$C17,0)","v":0},{"$f":"IF(R18=\"Oui\",'Qlossdist,dh'!$C17,0)","v":0},{"$f":"IF(S18=\"Oui\",'Qlossdist,dh'!$C17,0)","v":0},{"$f":"IF(T18=\"Oui\",'Qlossdist,dh'!$C17,0)","v":0},{"$f":"IF(U18=\"Oui\",'Qlossdist,dh'!$C17,0)","v":0},{"$f":"IF(V18=\"Oui\",'Qlossdist,dh'!$C17,0)","v":0},{"$f":"IF(W18=\"Oui\",'Qlossdist,dh'!$C17,0)","v":0},{"$f":"IF(X18=\"Oui\",'Qlossdist,dh'!$C17,0)","v":0},{"$f":"IF(Y18=\"Oui\",'Qlossdist,dh'!$C17,0)","v":0},{"$f":"IF(Z18=\"Oui\",'Qlossdist,dh'!$C17,0)","v":0},{"$f":"IF(AA18=\"Oui\",'Qlossdist,dh'!$C17,0)","v":0},{"$f":"IF(AB18=\"Oui\",'Qlossdist,dh'!$C17,0)","v":0},{"$f":"IF(AC18=\"Oui\",'Qlossdist,dh'!$C17,0)","v":0},{"$f":"IF(AD18=\"Oui\",'Qlossdist,dh'!$C17,0)","v":0},{"$f":"IF(AE18=\"Oui\",'Qlossdist,dh'!$C17,0)","v":0},{"$f":"IF(AF18=\"Oui\",'Qlossdist,dh'!$C17,0)","v":0},{"$f":"IF(AG18=\"Oui\",'Qlossdist,dh'!$C17,0)","v":0},{"$f":"IF(AH18=\"Oui\",'Qlossdist,dh'!$C17,0)","v":0},{"$f":"IF(AI18=\"Oui\",'Qlossdist,dh'!$C17,0)","v":0},{"$f":"IF(AJ18=\"Oui\",'Qlossdist,dh'!$C17,0)","v":0},{"$f":"IF(AK18=\"Oui\",'Qlossdist,dh'!$C17,0)","v":0},{"$f":"IF(AL18=\"Oui\",'Qlossdist,dh'!$C17,0)","v":0},{"$f":"IF(AM18=\"Oui\",'Qlossdist,dh'!$C17,0)","v":0},{"$f":"IF(AN18=\"Oui\",'Qlossdist,dh'!$C17,0)","v":0},{"$f":"IF(AO18=\"Oui\",'Qlossdist,dh'!$C17,0)","v":0},{"$f":"IF(AP18=\"Oui\",'Qlossdist,dh'!$C17,0)","v":0},{"$f":"IF(AQ18=\"Oui\",'Qlossdist,dh'!$C17,0)","v":0},{"$f":"IF(AR18=\"Oui\",'Qlossdist,dh'!$C17,0)","v":0},{"$f":"IF(AS18=\"Oui\",'Qlossdist,dh'!$C17,0)","v":0},{"$f":"IF(AT18=\"Oui\",'Qlossdist,dh'!$C17,0)","v":0},{"$f":"IF(AU18=\"Oui\",'Qlossdist,dh'!$C17,0)","v":0},{"$f":"IF(AV18=\"Oui\",'Qlossdist,dh'!$C17,0)","v":0},{"$f":"IF(AW18=\"Oui\",'Qlossdist,dh'!$C17,0)","v":0},{"$f":"IF(AX18=\"Oui\",'Qlossdist,dh'!$C17,0)","v":0},{"$f":"IF(AY18=\"Oui\",'Qlossdist,dh'!$C17,0)","v":0},{"$f":"IF(AZ18=\"Oui\",'Qlossdist,dh'!$C17,0)","v":0},{"$f":"IF(BA18=\"Oui\",'Qlossdist,dh'!$C17,0)","v":0}]
["Qlossdist,l,n [MJ]","Segment 11",11,{"$f":"IF(D19=\"Oui\",'Qlossdist,dh'!$C18,0)","v":0},{"$f":"IF(E19=\"Oui\",'Qlossdist,dh'!$C18,0)","v":0},{"$f":"IF(F19=\"Oui\",'Qlossdist,dh'!$C18,0)","v":0},{"$f":"IF(G19=\"Oui\",'Qlossdist,dh'!$C18,0)","v":0},{"$f":"IF(H19=\"Oui\",'Qlossdist,dh'!$C18,0)","v":0},{"$f":"IF(I19=\"Oui\",'Qlossdist,dh'!$C18,0)","v":0},{"$f":"IF(J19=\"Oui\",'Qlossdist,dh'!$C18,0)","v":0},{"$f":"IF(K19=\"Oui\",'Qlossdist,dh'!$C18,0)","v":0},{"$f":"IF(L19=\"Oui\",'Qlossdist,dh'!$C18,0)","v":0},{"$f":"IF(M19=\"Oui\",'Qlossdist,dh'!$C18,0)","v":0},{"$f":"IF(N19=\"Oui\",'Qlossdist,dh'!$C18,0)","v":0},{"$f":"IF(O19=\"Oui\",'Qlossdist,dh'!$C18,0)","v":0},{"$f":"IF(P19=\"Oui\",'Qlossdist,dh'!$C18,0)","v":0},{"$f":"IF(Q19=\"Oui\",'Qlossdist,dh'!$C18,0)","v":0},{"$f":"IF(R19=\"Oui\",'Qlossdist,dh'!$C18,0)","v":0},{"$f":"IF(S19=\"Oui\",'Qlossdist,dh'!$C18,0)","v":0},{"$f":"IF(T19=\"Oui\",'Qlossdist,dh'!$C18,0)","v":0},{"$f":"IF(U19=\"Oui\",'Qlossdist,dh'!$C18,0)","v":0},{"$f":"IF(V19=\"Oui\",'Qlossdist,dh'!$C18,0)","v":0},{"$f":"IF(W19=\"Oui\",'Qlossdist,dh'!$C18,0)","v":0},{"$f":"IF(X19=\"Oui\",'Qlossdist,dh'!$C18,0)","v":0},{"$f":"IF(Y19=\"Oui\",'Qlossdist,dh'!$C18,0)","v":0},{"$f":"IF(Z19=\"Oui\",'Qlossdist,dh'!$C18,0)","v":0},{"$f":"IF(AA19=\"Oui\",'Qlossdist,dh'!$C18,0)","v":0},{"$f":"IF(AB19=\"Oui\",'Qlossdist,dh'!$C18,0)","v":0},{"$f":"IF(AC19=\"Oui\",'Qlossdist,dh'!$C18,0)","v":0},{"$f":"IF(AD19=\"Oui\",'Qlossdist,dh'!$C18,0)","v":0},{"$f":"IF(AE19=\"Oui\",'Qlossdist,dh'!$C18,0)","v":0},{"$f":"IF(AF19=\"Oui\",'Qlossdist,dh'!$C18,0)","v":0},{"$f":"IF(AG19=\"Oui\",'Qlossdist,dh'!$C18,0)","v":0},{"$f":"IF(AH19=\"Oui\",'Qlossdist,dh'!$C18,0)","v":0},{"$f":"IF(AI19=\"Oui\",'Qlossdist,dh'!$C18,0)","v":0},{"$f":"IF(AJ19=\"Oui\",'Qlossdist,dh'!$C18,0)","v":0},{"$f":"IF(AK19=\"Oui\",'Qlossdist,dh'!$C18,0)","v":0},{"$f":"IF(AL19=\"Oui\",'Qlossdist,dh'!$C18,0)","v":0},{"$f":"IF(AM19=\"Oui\",'Qlossdist,dh'!$C18,0)","v":0},{"$f":"IF(AN19=\"Oui\",'Qlossdist,dh'!$C18,0)","v":0},{"$f":"IF(AO19=\"Oui\",'Qlossdist,dh'!$C18,0)","v":0},{"$f":"IF(AP19=\"Oui\",'Qlossdist,dh'!$C18,0)","v":0},{"$f":"IF(AQ19=\"Oui\",'Qlossdist,dh'!$C18,0)","v":0},{"$f":"IF(AR19=\"Oui\",'Qlossdist,dh'!$C18,0)","v":0},{"$f":"IF(AS19=\"Oui\",'Qlossdist,dh'!$C18,0)","v":0},{"$f":"IF(AT19=\"Oui\",'Qlossdist,dh'!$C18,0)","v":0},{"$f":"IF(AU19=\"Oui\",'Qlossdist,dh'!$C18,0)","v":0},{"$f":"IF(AV19=\"Oui\",'Qlossdist,dh'!$C18,0)","v":0},{"$f":"IF(AW19=\"Oui\",'Qlossdist,dh'!$C18,0)","v":0},{"$f":"IF(AX19=\"Oui\",'Qlossdist,dh'!$C18,0)","v":0},{"$f":"IF(AY19=\"Oui\",'Qlossdist,dh'!$C18,0)","v":0},{"$f":"IF(AZ19=\"Oui\",'Qlossdist,dh'!$C18,0)","v":0},{"$f":"IF(BA19=\"Oui\",'Qlossdist,dh'!$C18,0)","v":0}]
["Qlossdist,l,n [MJ]","Segment 12",12,{"$f":"IF(D20=\"Oui\",'Qlossdist,dh'!$C19,0)","v":0},{"$f":"IF(E20=\"Oui\",'Qlossdist,dh'!$C19,0)","v":0},{"$f":"IF(F20=\"Oui\",'Qlossdist,dh'!$C19,0)","v":0},{"$f":"IF(G20=\"Oui\",'Qlossdist,dh'!$C19,0)","v":0},{"$f":"IF(H20=\"Oui\",'Qlossdist,dh'!$C19,0)","v":0},{"$f":"IF(I20=\"Oui\",'Qlossdist,dh'!$C19,0)","v":0},{"$f":"IF(J20=\"Oui\",'Qlossdist,dh'!$C19,0)","v":0},{"$f":"IF(K20=\"Oui\",'Qlossdist,dh'!$C19,0)","v":0},{"$f":"IF(L20=\"Oui\",'Qlossdist,dh'!$C19,0)","v":0},{"$f":"IF(M20=\"Oui\",'Qlossdist,dh'!$C19,0)","v":0},{"$f":"IF(N20=\"Oui\",'Qlossdist,dh'!$C19,0)","v":0},{"$f":"IF(O20=\"Oui\",'Qlossdist,dh'!$C19,0)","v":0},{"$f":"IF(P20=\"Oui\",'Qlossdist,dh'!$C19,0)","v":0},{"$f":"IF(Q20=\"Oui\",'Qlossdist,dh'!$C19,0)","v":0},{"$f":"IF(R20=\"Oui\",'Qlossdist,dh'!$C19,0)","v":0},{"$f":"IF(S20=\"Oui\",'Qlossdist,dh'!$C19,0)","v":0},{"$f":"IF(T20=\"Oui\",'Qlossdist,dh'!$C19,0)","v":0},{"$f":"IF(U20=\"Oui\",'Qlossdist,dh'!$C19,0)","v":0},{"$f":"IF(V20=\"Oui\",'Qlossdist,dh'!$C19,0)","v":0},{"$f":"IF(W20=\"Oui\",'Qlossdist,dh'!$C19,0)","v":0},{"$f":"IF(X20=\"Oui\",'Qlossdist,dh'!$C19,0)","v":0},{"$f":"IF(Y20=\"Oui\",'Qlossdist,dh'!$C19,0)","v":0},{"$f":"IF(Z20=\"Oui\",'Qlossdist,dh'!$C19,0)","v":0},{"$f":"IF(AA20=\"Oui\",'Qlossdist,dh'!$C19,0)","v":0},{"$f":"IF(AB20=\"Oui\",'Qlossdist,dh'!$C19,0)","v":0},{"$f":"IF(AC20=\"Oui\",'Qlossdist,dh'!$C19,0)","v":0},{"$f":"IF(AD20=\"Oui\",'Qlossdist,dh'!$C19,0)","v":0},{"$f":"IF(AE20=\"Oui\",'Qlossdist,dh'!$C19,0)","v":0},{"$f":"IF(AF20=\"Oui\",'Qlossdist,dh'!$C19,0)","v":0},{"$f":"IF(AG20=\"Oui\",'Qlossdist,dh'!$C19,0)","v":0},{"$f":"IF(AH20=\"Oui\",'Qlossdist,dh'!$C19,0)","v":0},{"$f":"IF(AI20=\"Oui\",'Qlossdist,dh'!$C19,0)","v":0},{"$f":"IF(AJ20=\"Oui\",'Qlossdist,dh'!$C19,0)","v":0},{"$f":"IF(AK20=\"Oui\",'Qlossdist,dh'!$C19,0)","v":0},{"$f":"IF(AL20=\"Oui\",'Qlossdist,dh'!$C19,0)","v":0},{"$f":"IF(AM20=\"Oui\",'Qlossdist,dh'!$C19,0)","v":0},{"$f":"IF(AN20=\"Oui\",'Qlossdist,dh'!$C19,0)","v":0},{"$f":"IF(AO20=\"Oui\",'Qlossdist,dh'!$C19,0)","v":0},{"$f":"IF(AP20=\"Oui\",'Qlossdist,dh'!$C19,0)","v":0},{"$f":"IF(AQ20=\"Oui\",'Qlossdist,dh'!$C19,0)","v":0},{"$f":"IF(AR20=\"Oui\",'Qlossdist,dh'!$C19,0)","v":0},{"$f":"IF(AS20=\"Oui\",'Qlossdist,dh'!$C19,0)","v":0},{"$f":"IF(AT20=\"Oui\",'Qlossdist,dh'!$C19,0)","v":0},{"$f":"IF(AU20=\"Oui\",'Qlossdist,dh'!$C19,0)","v":0},{"$f":"IF(AV20=\"Oui\",'Qlossdist,dh'!$C19,0)","v":0},{"$f":"IF(AW20=\"Oui\",'Qlossdist,dh'!$C19,0)","v":0},{"$f":"IF(AX20=\"Oui\",'Qlossdist,dh'!$C19,0)","v":0},{"$f":"IF(AY20=\"Oui\",'Qlossdist,dh'!$C19,0)","v":0},{"$f":"IF(AZ20=\"Oui\",'Qlossdist,dh'!$C19,0)","v":0},{"$f":"IF(BA20=\"Oui\",'Qlossdist,dh'!$C19,0)","v":0}]
["Qlossdist,l,n [MJ]","Segment 13",13,{"$f":"IF(D21=\"Oui\",'Qlossdist,dh'!$C20,0)","v":0},{"$f":"IF(E21=\"Oui\",'Qlossdist,dh'!$C20,0)","v":0},{"$f":"IF(F21=\"Oui\",'Qlossdist,dh'!$C20,0)","v":0},{"$f":"IF(G21=\"Oui\",'Qlossdist,dh'!$C20,0)","v":0},{"$f":"IF(H21=\"Oui\",'Qlossdist,dh'!$C20,0)","v":0},{"$f":"IF(I21=\"Oui\",'Qlossdist,dh'!$C20,0)","v":0},{"$f":"IF(J21=\"Oui\",'Qlossdist,dh'!$C20,0)","v":0},{"$f":"IF(K21=\"Oui\",'Qlossdist,dh'!$C20,0)","v":0},{"$f":"IF(L21=\"Oui\",'Qlossdist,dh'!$C20,0)","v":0},{"$f":"IF(M21=\"Oui\",'Qlossdist,dh'!$C20,0)","v":0},{"$f":"IF(N21=\"Oui\",'Qlossdist,dh'!$C20,0)","v":0},{"$f":"IF(O21=\"Oui\",'Qlossdist,dh'!$C20,0)","v":0},{"$f":"IF(P21=\"Oui\",'Qlossdist,dh'!$C20,0)","v":0},{"$f":"IF(Q21=\"Oui\",'Qlossdist,dh'!$C20,0)","v":0},{"$f":"IF(R21=\"Oui\",'Qlossdist,dh'!$C20,0)","v":0},{"$f":"IF(S21=\"Oui\",'Qlossdist,dh'!$C20,0)","v":0},{"$f":"IF(T21=\"Oui\",'Qlossdist,dh'!$C20,0)","v":0},{"$f":"IF(U21=\"Oui\",'Qlossdist,dh'!$C20,0)","v":0},{"$f":"IF(V21=\"Oui\",'Qlossdist,dh'!$C20,0)","v":0},{"$f":"IF(W21=\"Oui\",'Qlossdist,dh'!$C20,0)","v":0},{"$f":"IF(X21=\"Oui\",'Qlossdist,dh'!$C20,0)","v":0},{"$f":"IF(Y21=\"Oui\",'Qlossdist,dh'!$C20,0)","v":0},{"$f":"IF(Z21=\"Oui\",'Qlossdist,dh'!$C20,0)","v":0},{"$f":"IF(AA21=\"Oui\",'Qlossdist,dh'!$C20,0)","v":0},{"$f":"IF(AB21=\"Oui\",'Qlossdist,dh'!$C20,0)","v":0},{"$f":"IF(AC21=\"Oui\",'Qlossdist,dh'!$C20,0)","v":0},{"$f":"IF(AD21=\"Oui\",'Qlossdist,dh'!$C20,0)","v":0},{"$f":"IF(AE21=\"Oui\",'Qlossdist,dh'!$C20,0)","v":0},{"$f":"IF(AF21=\"Oui\",'Qlossdist,dh'!$C20,0)","v":0},{"$f":"IF(AG21=\"Oui\",'Qlossdist,dh'!$C20,0)","v":0},{"$f":"IF(AH21=\"Oui\",'Qlossdist,dh'!$C20,0)","v":0},{"$f":"IF(AI21=\"Oui\",'Qlossdist,dh'!$C20,0)","v":0},{"$f":"IF(AJ21=\"Oui\",'Qlossdist,dh'!$C20,0)","v":0},{"$f":"IF(AK21=\"Oui\",'Qlossdist,dh'!$C20,0)","v":0},{"$f":"IF(AL21=\"Oui\",'Qlossdist,dh'!$C20,0)","v":0},{"$f":"IF(AM21=\"Oui\",'Qlossdist,dh'!$C20,0)","v":0},{"$f":"IF(AN21=\"Oui\",'Qlossdist,dh'!$C20,0)","v":0},{"$f":"IF(AO21=\"Oui\",'Qlossdist,dh'!$C20,0)","v":0},{"$f":"IF(AP21=\"Oui\",'Qlossdist,dh'!$C20,0)","v":0},{"$f":"IF(AQ21=\"Oui\",'Qlossdist,dh'!$C20,0)","v":0},{"$f":"IF(AR21=\"Oui\",'Qlossdist,dh'!$C20,0)","v":0},{"$f":"IF(AS21=\"Oui\",'Qlossdist,dh'!$C20,0)","v":0},{"$f":"IF(AT21=\"Oui\",'Qlossdist,dh'!$C20,0)","v":0},{"$f":"IF(AU21=\"Oui\",'Qlossdist,dh'!$C20,0)","v":0},{"$f":"IF(AV21=\"Oui\",'Qlossdist,dh'!$C20,0)","v":0},{"$f":"IF(AW21=\"Oui\",'Qlossdist,dh'!$C20,0)","v":0},{"$f":"IF(AX21=\"Oui\",'Qlossdist,dh'!$C20,0)","v":0},{"$f":"IF(AY21=\"Oui\",'Qlossdist,dh'!$C20,0)","v":0},{"$f":"IF(AZ21=\"Oui\",'Qlossdist,dh'!$C20,0)","v":0},{"$f":"IF(BA21=\"Oui\",'Qlossdist,dh'!$C20,0)","v":0}]
["Qlossdist,l,n [MJ]","Segment 14",14,{"$f":"IF(D22=\"Oui\",'Qlossdist,dh'!$C21,0)","v":0},{"$f":"IF(E22=\"Oui\",'Qlossdist,dh'!$C21,0)","v":0},{"$f":"IF(F22=\"Oui\",'Qlossdist,dh'!$C21,0)","v":0},{"$f":"IF(G22=\"Oui\",'Qlossdist,dh'!$C21,0)","v":0},{"$f":"IF(H22=\"Oui\",'Qlossdist,dh'!$C21,0)","v":0},{"$f":"IF(I22=\"Oui\",'Qlossdist,dh'!$C21,0)","v":0},{"$f":"IF(J22=\"Oui\",'Qlossdist,dh'!$C21,0)","v":0},{"$f":"IF(K22=\"Oui\",'Qlossdist,dh'!$C21,0)","v":0},{"$f":"IF(L22=\"Oui\",'Qlossdist,dh'!$C21,0)","v":0},{"$f":"IF(M22=\"Oui\",'Qlossdist,dh'!$C21,0)","v":0},{"$f":"IF(N22=\"Oui\",'Qlossdist,dh'!$C21,0)","v":0},{"$f":"IF(O22=\"Oui\",'Qlossdist,dh'!$C21,0)","v":0},{"$f":"IF(P22=\"Oui\",'Qlossdist,dh'!$C21,0)","v":0},{"$f":"IF(Q22=\"Oui\",'Qlossdist,dh'!$C21,0)","v":0},{"$f":"IF(R22=\"Oui\",'Qlossdist,dh'!$C21,0)","v":0},{"$f":"IF(S22=\"Oui\",'Qlossdist,dh'!$C21,0)","v":0},{"$f":"IF(T22=\"Oui\",'Qlossdist,dh'!$C21,0)","v":0},{"$f":"IF(U22=\"Oui\",'Qlossdist,dh'!$C21,0)","v":0},{"$f":"IF(V22=\"Oui\",'Qlossdist,dh'!$C21,0)","v":0},{"$f":"IF(W22=\"Oui\",'Qlossdist,dh'!$C21,0)","v":0},{"$f":"IF(X22=\"Oui\",'Qlossdist,dh'!$C21,0)","v":0},{"$f":"IF(Y22=\"Oui\",'Qlossdist,dh'!$C21,0)","v":0},{"$f":"IF(Z22=\"Oui\",'Qlossdist,dh'!$C21,0)","v":0},{"$f":"IF(AA22=\"Oui\",'Qlossdist,dh'!$C21,0)","v":0},{"$f":"IF(AB22=\"Oui\",'Qlossdist,dh'!$C21,0)","v":0},{"$f":"IF(AC22=\"Oui\",'Qlossdist,dh'!$C21,0)","v":0},{"$f":"IF(AD22=\"Oui\",'Qlossdist,dh'!$C21,0)","v":0},{"$f":"IF(AE22=\"Oui\",'Qlossdist,dh'!$C21,0)","v":0},{"$f":"IF(AF22=\"Oui\",'Qlossdist,dh'!$C21,0)","v":0},{"$f":"IF(AG22=\"Oui\",'Qlossdist,dh'!$C21,0)","v":0},{"$f":"IF(AH22=\"Oui\",'Qlossdist,dh'!$C21,0)","v":0},{"$f":"IF(AI22=\"Oui\",'Qlossdist,dh'!$C21,0)","v":0},{"$f":"IF(AJ22=\"Oui\",'Qlossdist,dh'!$C21,0)","v":0},{"$f":"IF(AK22=\"Oui\",'Qlossdist,dh'!$C21,0)","v":0},{"$f":"IF(AL22=\"Oui\",'Qlossdist,dh'!$C21,0)","v":0},{"$f":"IF(AM22=\"Oui\",'Qlossdist,dh'!$C21,0)","v":0},{"$f":"IF(AN22=\"Oui\",'Qlossdist,dh'!$C21,0)","v":0},{"$f":"IF(AO22=\"Oui\",'Qlossdist,dh'!$C21,0)","v":0},{"$f":"IF(AP22=\"Oui\",'Qlossdist,dh'!$C21,0)","v":0},{"$f":"IF(AQ22=\"Oui\",'Qlossdist,dh'!$C21,0)","v":0},{"$f":"IF(AR22=\"Oui\",'Qlossdist,dh'!$C21,0)","v":0},{"$f":"IF(AS22=\"Oui\",'Qlossdist,dh'!$C21,0)","v":0},{"$f":"IF(AT22=\"Oui\",'Qlossdist,dh'!$C21,0)","v":0},{"$f":"IF(AU22=\"Oui\",'Qlossdist,dh'!$C21,0)","v":0},{"$f":"IF(AV22=\"Oui\",'Qlossdist,dh'!$C21,0)","v":0},{"$f":"IF(AW22=\"Oui\",'Qlossdist,dh'!$C21,0)","v":0},{"$f":"IF(AX22=\"Oui\",'Qlossdist,dh'!$C21,0)","v":0},{"$f":"IF(AY22=\"Oui\",'Qlossdist,dh'!$C21,0)","v":0},{"$f":"IF(AZ22=\"Oui\",'Qlossdist,dh'!$C21,0)","v":0},{"$f":"IF(BA22=\"Oui\",'Qlossdist,dh'!$C21,0)","v":0}]
["Qlossdist,l,n [MJ]","Segment 15",15,{"$f":"IF(D23=\"Oui\",'Qlossdist,dh'!$C22,0)","v":0},{"$f":"IF(E23=\"Oui\",'Qlossdist,dh'!$C22,0)","v":0},{"$f":"IF(F23=\"Oui\",'Qlossdist,dh'!$C22,0)","v":0},{"$f":"IF(G23=\"Oui\",'Qlossdist,dh'!$C22,0)","v":0},{"$f":"IF(H23=\"Oui\",'Qlossdist,dh'!$C22,0)","v":0},{"$f":"IF(I23=\"Oui\",'Qlossdist,dh'!$C22,0)","v":0},{"$f":"IF(J23=\"Oui\",'Qlossdist,dh'!$C22,0)","v":0},{"$f":"IF(K23=\"Oui\",'Qlossdist,dh'!$C22,0)","v":0},{"$f":"IF(L23=\"Oui\",'Qlossdist,dh'!$C22,0)","v":0},{"$f":"IF(M23=\"Oui\",'Qlossdist,dh'!$C22,0)","v":0},{"$f":"IF(N23=\"Oui\",'Qlossdist,dh'!$C22,0)","v":0},{"$f":"IF(O23=\"Oui\",'Qlossdist,dh'!$C22,0)","v":0},{"$f":"IF(P23=\"Oui\",'Qlossdist,dh'!$C22,0)","v":0},{"$f":"IF(Q23=\"Oui\",'Qlossdist,dh'!$C22,0)","v":0},{"$f":"IF(R23=\"Oui\",'Qlossdist,dh'!$C22,0)","v":0},{"$f":"IF(S23=\"Oui\",'Qlossdist,dh'!$C22,0)","v":0},{"$f":"IF(T23=\"Oui\",'Qlossdist,dh'!$C22,0)","v":0},{"$f":"IF(U23=\"Oui\",'Qlossdist,dh'!$C22,0)","v":0},{"$f":"IF(V23=\"Oui\",'Qlossdist,dh'!$C22,0)","v":0},{"$f":"IF(W23=\"Oui\",'Qlossdist,dh'!$C22,0)","v":0},{"$f":"IF(X23=\"Oui\",'Qlossdist,dh'!$C22,0)","v":0},{"$f":"IF(Y23=\"Oui\",'Qlossdist,dh'!$C22,0)","v":0},{"$f":"IF(Z23=\"Oui\",'Qlossdist,dh'!$C22,0)","v":0},{"$f":"IF(AA23=\"Oui\",'Qlossdist,dh'!$C22,0)","v":0},{"$f":"IF(AB23=\"Oui\",'Qlossdist,dh'!$C22,0)","v":0},{"$f":"IF(AC23=\"Oui\",'Qlossdist,dh'!$C22,0)","v":0},{"$f":"IF(AD23=\"Oui\",'Qlossdist,dh'!$C22,0)","v":0},{"$f":"IF(AE23=\"Oui\",'Qlossdist,dh'!$C22,0)","v":0},{"$f":"IF(AF23=\"Oui\",'Qlossdist,dh'!$C22,0)","v":0},{"$f":"IF(AG23=\"Oui\",'Qlossdist,dh'!$C22,0)","v":0},{"$f":"IF(AH23=\"Oui\",'Qlossdist,dh'!$C22,0)","v":0},{"$f":"IF(AI23=\"Oui\",'Qlossdist,dh'!$C22,0)","v":0},{"$f":"IF(AJ23=\"Oui\",'Qlossdist,dh'!$C22,0)","v":0},{"$f":"IF(AK23=\"Oui\",'Qlossdist,dh'!$C22,0)","v":0},{"$f":"IF(AL23=\"Oui\",'Qlossdist,dh'!$C22,0)","v":0},{"$f":"IF(AM23=\"Oui\",'Qlossdist,dh'!$C22,0)","v":0},{"$f":"IF(AN23=\"Oui\",'Qlossdist,dh'!$C22,0)","v":0},{"$f":"IF(AO23=\"Oui\",'Qlossdist,dh'!$C22,0)","v":0},{"$f":"IF(AP23=\"Oui\",'Qlossdist,dh'!$C22,0)","v":0},{"$f":"IF(AQ23=\"Oui\",'Qlossdist,dh'!$C22,0)","v":0},{"$f":"IF(AR23=\"Oui\",'Qlossdist,dh'!$C22,0)","v":0},{"$f":"IF(AS23=\"Oui\",'Qlossdist,dh'!$C22,0)","v":0},{"$f":"IF(AT23=\"Oui\",'Qlossdist,dh'!$C22,0)","v":0},{"$f":"IF(AU23=\"Oui\",'Qlossdist,dh'!$C22,0)","v":0},{"$f":"IF(AV23=\"Oui\",'Qlossdist,dh'!$C22,0)","v":0},{"$f":"IF(AW23=\"Oui\",'Qlossdist,dh'!$C22,0)","v":0},{"$f":"IF(AX23=\"Oui\",'Qlossdist,dh'!$C22,0)","v":0},{"$f":"IF(AY23=\"Oui\",'Qlossdist,dh'!$C22,0)","v":0},{"$f":"IF(AZ23=\"Oui\",'Qlossdist,dh'!$C22,0)","v":0},{"$f":"IF(BA23=\"Oui\",'Qlossdist,dh'!$C22,0)","v":0}]
["Qlossdist,l,n [MJ]","Segment 16",16,{"$f":"IF(D24=\"Oui\",'Qlossdist,dh'!$C23,0)","v":0},{"$f":"IF(E24=\"Oui\",'Qlossdist,dh'!$C23,0)","v":0},{"$f":"IF(F24=\"Oui\",'Qlossdist,dh'!$C23,0)","v":0},{"$f":"IF(G24=\"Oui\",'Qlossdist,dh'!$C23,0)","v":0},{"$f":"IF(H24=\"Oui\",'Qlossdist,dh'!$C23,0)","v":0},{"$f":"IF(I24=\"Oui\",'Qlossdist,dh'!$C23,0)","v":0},{"$f":"IF(J24=\"Oui\",'Qlossdist,dh'!$C23,0)","v":0},{"$f":"IF(K24=\"Oui\",'Qlossdist,dh'!$C23,0)","v":0},{"$f":"IF(L24=\"Oui\",'Qlossdist,dh'!$C23,0)","v":0},{"$f":"IF(M24=\"Oui\",'Qlossdist,dh'!$C23,0)","v":0},{"$f":"IF(N24=\"Oui\",'Qlossdist,dh'!$C23,0)","v":0},{"$f":"IF(O24=\"Oui\",'Qlossdist,dh'!$C23,0)","v":0},{"$f":"IF(P24=\"Oui\",'Qlossdist,dh'!$C23,0)","v":0},{"$f":"IF(Q24=\"Oui\",'Qlossdist,dh'!$C23,0)","v":0},{"$f":"IF(R24=\"Oui\",'Qlossdist,dh'!$C23,0)","v":0},{"$f":"IF(S24=\"Oui\",'Qlossdist,dh'!$C23,0)","v":0},{"$f":"IF(T24=\"Oui\",'Qlossdist,dh'!$C23,0)","v":0},{"$f":"IF(U24=\"Oui\",'Qlossdist,dh'!$C23,0)","v":0},{"$f":"IF(V24=\"Oui\",'Qlossdist,dh'!$C23,0)","v":0},{"$f":"IF(W24=\"Oui\",'Qlossdist,dh'!$C23,0)","v":0},{"$f":"IF(X24=\"Oui\",'Qlossdist,dh'!$C23,0)","v":0},{"$f":"IF(Y24=\"Oui\",'Qlossdist,dh'!$C23,0)","v":0},{"$f":"IF(Z24=\"Oui\",'Qlossdist,dh'!$C23,0)","v":0},{"$f":"IF(AA24=\"Oui\",'Qlossdist,dh'!$C23,0)","v":0},{"$f":"IF(AB24=\"Oui\",'Qlossdist,dh'!$C23,0)","v":0},{"$f":"IF(AC24=\"Oui\",'Qlossdist,dh'!$C23,0)","v":0},{"$f":"IF(AD24=\"Oui\",'Qlossdist,dh'!$C23,0)","v":0},{"$f":"IF(AE24=\"Oui\",'Qlossdist,dh'!$C23,0)","v":0},{"$f":"IF(AF24=\"Oui\",'Qlossdist,dh'!$C23,0)","v":0},{"$f":"IF(AG24=\"Oui\",'Qlossdist,dh'!$C23,0)","v":0},{"$f":"IF(AH24=\"Oui\",'Qlossdist,dh'!$C23,0)","v":0},{"$f":"IF(AI24=\"Oui\",'Qlossdist,dh'!$C23,0)","v":0},{"$f":"IF(AJ24=\"Oui\",'Qlossdist,dh'!$C23,0)","v":0},{"$f":"IF(AK24=\"Oui\",'Qlossdist,dh'!$C23,0)","v":0},{"$f":"IF(AL24=\"Oui\",'Qlossdist,dh'!$C23,0)","v":0},{"$f":"IF(AM24=\"Oui\",'Qlossdist,dh'!$C23,0)","v":0},{"$f":"IF(AN24=\"Oui\",'Qlossdist,dh'!$C23,0)","v":0},{"$f":"IF(AO24=\"Oui\",'Qlossdist,dh'!$C23,0)","v":0},{"$f":"IF(AP24=\"Oui\",'Qlossdist,dh'!$C23,0)","v":0},{"$f":"IF(AQ24=\"Oui\",'Qlossdist,dh'!$C23,0)","v":0},{"$f":"IF(AR24=\"Oui\",'Qlossdist,dh'!$C23,0)","v":0},{"$f":"IF(AS24=\"Oui\",'Qlossdist,dh'!$C23,0)","v":0},{"$f":"IF(AT24=\"Oui\",'Qlossdist,dh'!$C23,0)","v":0},{"$f":"IF(AU24=\"Oui\",'Qlossdist,dh'!$C23,0)","v":0},{"$f":"IF(AV24=\"Oui\",'Qlossdist,dh'!$C23,0)","v":0},{"$f":"IF(AW24=\"Oui\",'Qlossdist,dh'!$C23,0)","v":0},{"$f":"IF(AX24=\"Oui\",'Qlossdist,dh'!$C23,0)","v":0},{"$f":"IF(AY24=\"Oui\",'Qlossdist,dh'!$C23,0)","v":0},{"$f":"IF(AZ24=\"Oui\",'Qlossdist,dh'!$C23,0)","v":0},{"$f":"IF(BA24=\"Oui\",'Qlossdist,dh'!$C23,0)","v":0}]
["Qlossdist,l,n [MJ]","Segment 17",17,{"$f":"IF(D25=\"Oui\",'Qlossdist,dh'!$C24,0)","v":0},{"$f":"IF(E25=\"Oui\",'Qlossdist,dh'!$C24,0)","v":0},{"$f":"IF(F25=\"Oui\",'Qlossdist,dh'!$C24,0)","v":0},{"$f":"IF(G25=\"Oui\",'Qlossdist,dh'!$C24,0)","v":0},{"$f":"IF(H25=\"Oui\",'Qlossdist,dh'!$C24,0)","v":0},{"$f":"IF(I25=\"Oui\",'Qlossdist,dh'!$C24,0)","v":0},{"$f":"IF(J25=\"Oui\",'Qlossdist,dh'!$C24,0)","v":0},{"$f":"IF(K25=\"Oui\",'Qlossdist,dh'!$C24,0)","v":0},{"$f":"IF(L25=\"Oui\",'Qlossdist,dh'!$C24,0)","v":0},{"$f":"IF(M25=\"Oui\",'Qlossdist,dh'!$C24,0)","v":0},{"$f":"IF(N25=\"Oui\",'Qlossdist,dh'!$C24,0)","v":0},{"$f":"IF(O25=\"Oui\",'Qlossdist,dh'!$C24,0)","v":0},{"$f":"IF(P25=\"Oui\",'Qlossdist,dh'!$C24,0)","v":0},{"$f":"IF(Q25=\"Oui\",'Qlossdist,dh'!$C24,0)","v":0},{"$f":"IF(R25=\"Oui\",'Qlossdist,dh'!$C24,0)","v":0},{"$f":"IF(S25=\"Oui\",'Qlossdist,dh'!$C24,0)","v":0},{"$f":"IF(T25=\"Oui\",'Qlossdist,dh'!$C24,0)","v":0},{"$f":"IF(U25=\"Oui\",'Qlossdist,dh'!$C24,0)","v":0},{"$f":"IF(V25=\"Oui\",'Qlossdist,dh'!$C24,0)","v":0},{"$f":"IF(W25=\"Oui\",'Qlossdist,dh'!$C24,0)","v":0},{"$f":"IF(X25=\"Oui\",'Qlossdist,dh'!$C24,0)","v":0},{"$f":"IF(Y25=\"Oui\",'Qlossdist,dh'!$C24,0)","v":0},{"$f":"IF(Z25=\"Oui\",'Qlossdist,dh'!$C24,0)","v":0},{"$f":"IF(AA25=\"Oui\",'Qlossdist,dh'!$C24,0)","v":0},{"$f":"IF(AB25=\"Oui\",'Qlossdist,dh'!$C24,0)","v":0},{"$f":"IF(AC25=\"Oui\",'Qlossdist,dh'!$C24,0)","v":0},{"$f":"IF(AD25=\"Oui\",'Qlossdist,dh'!$C24,0)","v":0},{"$f":"IF(AE25=\"Oui\",'Qlossdist,dh'!$C24,0)","v":0},{"$f":"IF(AF25=\"Oui\",'Qlossdist,dh'!$C24,0)","v":0},{"$f":"IF(AG25=\"Oui\",'Qlossdist,dh'!$C24,0)","v":0},{"$f":"IF(AH25=\"Oui\",'Qlossdist,dh'!$C24,0)","v":0},{"$f":"IF(AI25=\"Oui\",'Qlossdist,dh'!$C24,0)","v":0},{"$f":"IF(AJ25=\"Oui\",'Qlossdist,dh'!$C24,0)","v":0},{"$f":"IF(AK25=\"Oui\",'Qlossdist,dh'!$C24,0)","v":0},{"$f":"IF(AL25=\"Oui\",'Qlossdist,dh'!$C24,0)","v":0},{"$f":"IF(AM25=\"Oui\",'Qlossdist,dh'!$C24,0)","v":0},{"$f":"IF(AN25=\"Oui\",'Qlossdist,dh'!$C24,0)","v":0},{"$f":"IF(AO25=\"Oui\",'Qlossdist,dh'!$C24,0)","v":0},{"$f":"IF(AP25=\"Oui\",'Qlossdist,dh'!$C24,0)","v":0},{"$f":"IF(AQ25=\"Oui\",'Qlossdist,dh'!$C24,0)","v":0},{"$f":"IF(AR25=\"Oui\",'Qlossdist,dh'!$C24,0)","v":0},{"$f":"IF(AS25=\"Oui\",'Qlossdist,dh'!$C24,0)","v":0},{"$f":"IF(AT25=\"Oui\",'Qlossdist,dh'!$C24,0)","v":0},{"$f":"IF(AU25=\"Oui\",'Qlossdist,dh'!$C24,0)","v":0},{"$f":"IF(AV25=\"Oui\",'Qlossdist,dh'!$C24,0)","v":0},{"$f":"IF(AW25=\"Oui\",'Qlossdist,dh'!$C24,0)","v":0},{"$f":"IF(AX25=\"Oui\",'Qlossdist,dh'!$C24,0)","v":0},{"$f":"IF(AY25=\"Oui\",'Qlossdist,dh'!$C24,0)","v":0},{"$f":"IF(AZ25=\"Oui\",'Qlossdist,dh'!$C24,0)","v":0},{"$f":"IF(BA25=\"Oui\",'Qlossdist,dh'!$C24,0)","v":0}]
["Qlossdist,l,n [MJ]","Segment 18",18,{"$f":"IF(D26=\"Oui\",'Qlossdist,dh'!$C25,0)","v":0},{"$f":"IF(E26=\"Oui\",'Qlossdist,dh'!$C25,0)","v":0},{"$f":"IF(F26=\"Oui\",'Qlossdist,dh'!$C25,0)","v":0},{"$f":"IF(G26=\"Oui\",'Qlossdist,dh'!$C25,0)","v":0},{"$f":"IF(H26=\"Oui\",'Qlossdist,dh'!$C25,0)","v":0},{"$f":"IF(I26=\"Oui\",'Qlossdist,dh'!$C25,0)","v":0},{"$f":"IF(J26=\"Oui\",'Qlossdist,dh'!$C25,0)","v":0},{"$f":"IF(K26=\"Oui\",'Qlossdist,dh'!$C25,0)","v":0},{"$f":"IF(L26=\"Oui\",'Qlossdist,dh'!$C25,0)","v":0},{"$f":"IF(M26=\"Oui\",'Qlossdist,dh'!$C25,0)","v":0},{"$f":"IF(N26=\"Oui\",'Qlossdist,dh'!$C25,0)","v":0},{"$f":"IF(O26=\"Oui\",'Qlossdist,dh'!$C25,0)","v":0},{"$f":"IF(P26=\"Oui\",'Qlossdist,dh'!$C25,0)","v":0},{"$f":"IF(Q26=\"Oui\",'Qlossdist,dh'!$C25,0)","v":0},{"$f":"IF(R26=\"Oui\",'Qlossdist,dh'!$C25,0)","v":0},{"$f":"IF(S26=\"Oui\",'Qlossdist,dh'!$C25,0)","v":0},{"$f":"IF(T26=\"Oui\",'Qlossdist,dh'!$C25,0)","v":0},{"$f":"IF(U26=\"Oui\",'Qlossdist,dh'!$C25,0)","v":0},{"$f":"IF(V26=\"Oui\",'Qlossdist,dh'!$C25,0)","v":0},{"$f":"IF(W26=\"Oui\",'Qlossdist,dh'!$C25,0)","v":0},{"$f":"IF(X26=\"Oui\",'Qlossdist,dh'!$C25,0)","v":0},{"$f":"IF(Y26=\"Oui\",'Qlossdist,dh'!$C25,0)","v":0},{"$f":"IF(Z26=\"Oui\",'Qlossdist,dh'!$C25,0)","v":0},{"$f":"IF(AA26=\"Oui\",'Qlossdist,dh'!$C25,0)","v":0},{"$f":"IF(AB26=\"Oui\",'Qlossdist,dh'!$C25,0)","v":0},{"$f":"IF(AC26=\"Oui\",'Qlossdist,dh'!$C25,0)","v":0},{"$f":"IF(AD26=\"Oui\",'Qlossdist,dh'!$C25,0)","v":0},{"$f":"IF(AE26=\"Oui\",'Qlossdist,dh'!$C25,0)","v":0},{"$f":"IF(AF26=\"Oui\",'Qlossdist,dh'!$C25,0)","v":0},{"$f":"IF(AG26=\"Oui\",'Qlossdist,dh'!$C25,0)","v":0},{"$f":"IF(AH26=\"Oui\",'Qlossdist,dh'!$C25,0)","v":0},{"$f":"IF(AI26=\"Oui\",'Qlossdist,dh'!$C25,0)","v":0},{"$f":"IF(AJ26=\"Oui\",'Qlossdist,dh'!$C25,0)","v":0},{"$f":"IF(AK26=\"Oui\",'Qlossdist,dh'!$C25,0)","v":0},{"$f":"IF(AL26=\"Oui\",'Qlossdist,dh'!$C25,0)","v":0},{"$f":"IF(AM26=\"Oui\",'Qlossdist,dh'!$C25,0)","v":0},{"$f":"IF(AN26=\"Oui\",'Qlossdist,dh'!$C25,0)","v":0},{"$f":"IF(AO26=\"Oui\",'Qlossdist,dh'!$C25,0)","v":0},{"$f":"IF(AP26=\"Oui\",'Qlossdist,dh'!$C25,0)","v":0},{"$f":"IF(AQ26=\"Oui\",'Qlossdist,dh'!$C25,0)","v":0},{"$f":"IF(AR26=\"Oui\",'Qlossdist,dh'!$C25,0)","v":0},{"$f":"IF(AS26=\"Oui\",'Qlossdist,dh'!$C25,0)","v":0},{"$f":"IF(AT26=\"Oui\",'Qlossdist,dh'!$C25,0)","v":0},{"$f":"IF(AU26=\"Oui\",'Qlossdist,dh'!$C25,0)","v":0},{"$f":"IF(AV26=\"Oui\",'Qlossdist,dh'!$C25,0)","v":0},{"$f":"IF(AW26=\"Oui\",'Qlossdist,dh'!$C25,0)","v":0},{"$f":"IF(AX26=\"Oui\",'Qlossdist,dh'!$C25,0)","v":0},{"$f":"IF(AY26=\"Oui\",'Qlossdist,dh'!$C25,0)","v":0},{"$f":"IF(AZ26=\"Oui\",'Qlossdist,dh'!$C25,0)","v":0},{"$f":"IF(BA26=\"Oui\",'Qlossdist,dh'!$C25,0)","v":0}]
["Qlossdist,l,n [MJ]","Segment 19",19,{"$f":"IF(D27=\"Oui\",'Qlossdist,dh'!$C26,0)","v":0},{"$f":"IF(E27=\"Oui\",'Qlossdist,dh'!$C26,0)","v":0},{"$f":"IF(F27=\"Oui\",'Qlossdist,dh'!$C26,0)","v":0},{"$f":"IF(G27=\"Oui\",'Qlossdist,dh'!$C26,0)","v":0},{"$f":"IF(H27=\"Oui\",'Qlossdist,dh'!$C26,0)","v":0},{"$f":"IF(I27=\"Oui\",'Qlossdist,dh'!$C26,0)","v":0},{"$f":"IF(J27=\"Oui\",'Qlossdist,dh'!$C26,0)","v":0},{"$f":"IF(K27=\"Oui\",'Qlossdist,dh'!$C26,0)","v":0},{"$f":"IF(L27=\"Oui\",'Qlossdist,dh'!$C26,0)","v":0},{"$f":"IF(M27=\"Oui\",'Qlossdist,dh'!$C26,0)","v":0},{"$f":"IF(N27=\"Oui\",'Qlossdist,dh'!$C26,0)","v":0},{"$f":"IF(O27=\"Oui\",'Qlossdist,dh'!$C26,0)","v":0},{"$f":"IF(P27=\"Oui\",'Qlossdist,dh'!$C26,0)","v":0},{"$f":"IF(Q27=\"Oui\",'Qlossdist,dh'!$C26,0)","v":0},{"$f":"IF(R27=\"Oui\",'Qlossdist,dh'!$C26,0)","v":0},{"$f":"IF(S27=\"Oui\",'Qlossdist,dh'!$C26,0)","v":0},{"$f":"IF(T27=\"Oui\",'Qlossdist,dh'!$C26,0)","v":0},{"$f":"IF(U27=\"Oui\",'Qlossdist,dh'!$C26,0)","v":0},{"$f":"IF(V27=\"Oui\",'Qlossdist,dh'!$C26,0)","v":0},{"$f":"IF(W27=\"Oui\",'Qlossdist,dh'!$C26,0)","v":0},{"$f":"IF(X27=\"Oui\",'Qlossdist,dh'!$C26,0)","v":0},{"$f":"IF(Y27=\"Oui\",'Qlossdist,dh'!$C26,0)","v":0},{"$f":"IF(Z27=\"Oui\",'Qlossdist,dh'!$C26,0)","v":0},{"$f":"IF(AA27=\"Oui\",'Qlossdist,dh'!$C26,0)","v":0},{"$f":"IF(AB27=\"Oui\",'Qlossdist,dh'!$C26,0)","v":0},{"$f":"IF(AC27=\"Oui\",'Qlossdist,dh'!$C26,0)","v":0},{"$f":"IF(AD27=\"Oui\",'Qlossdist,dh'!$C26,0)","v":0},{"$f":"IF(AE27=\"Oui\",'Qlossdist,dh'!$C26,0)","v":0},{"$f":"IF(AF27=\"Oui\",'Qlossdist,dh'!$C26,0)","v":0},{"$f":"IF(AG27=\"Oui\",'Qlossdist,dh'!$C26,0)","v":0},{"$f":"IF(AH27=\"Oui\",'Qlossdist,dh'!$C26,0)","v":0},{"$f":"IF(AI27=\"Oui\",'Qlossdist,dh'!$C26,0)","v":0},{"$f":"IF(AJ27=\"Oui\",'Qlossdist,dh'!$C26,0)","v":0},{"$f":"IF(AK27=\"Oui\",'Qlossdist,dh'!$C26,0)","v":0},{"$f":"IF(AL27=\"Oui\",'Qlossdist,dh'!$C26,0)","v":0},{"$f":"IF(AM27=\"Oui\",'Qlossdist,dh'!$C26,0)","v":0},{"$f":"IF(AN27=\"Oui\",'Qlossdist,dh'!$C26,0)","v":0},{"$f":"IF(AO27=\"Oui\",'Qlossdist,dh'!$C26,0)","v":0},{"$f":"IF(AP27=\"Oui\",'Qlossdist,dh'!$C26,0)","v":0},{"$f":"IF(AQ27=\"Oui\",'Qlossdist,dh'!$C26,0)","v":0},{"$f":"IF(AR27=\"Oui\",'Qlossdist,dh'!$C26,0)","v":0},{"$f":"IF(AS27=\"Oui\",'Qlossdist,dh'!$C26,0)","v":0},{"$f":"IF(AT27=\"Oui\",'Qlossdist,dh'!$C26,0)","v":0},{"$f":"IF(AU27=\"Oui\",'Qlossdist,dh'!$C26,0)","v":0},{"$f":"IF(AV27=\"Oui\",'Qlossdist,dh'!$C26,0)","v":0},{"$f":"IF(AW27=\"Oui\",'Qlossdist,dh'!$C26,0)","v":0},{"$f":"IF(AX27=\"Oui\",'Qlossdist,dh'!$C26,0)","v":0},{"$f":"IF(AY27=\"Oui\",'Qlossdist,dh'!$C26,0)","v":0},{"$f":"IF(AZ27=\"Oui\",'Qlossdist,dh'!$C26,0)","v":0},{"$f":"IF(BA27=\"Oui\",'Qlossdist,dh'!$C26,0)","v":0}]
["Qlossdist,l,n [MJ]","Segment 20",20,{"$f":"IF(D28=\"Oui\",'Qlossdist,dh'!$C27,0)","v":0},{"$f":"IF(E28=\"Oui\",'Qlossdist,dh'!$C27,0)","v":0},{"$f":"IF(F28=\"Oui\",'Qlossdist,dh'!$C27,0)","v":0},{"$f":"IF(G28=\"Oui\",'Qlossdist,dh'!$C27,0)","v":0},{"$f":"IF(H28=\"Oui\",'Qlossdist,dh'!$C27,0)","v":0},{"$f":"IF(I28=\"Oui\",'Qlossdist,dh'!$C27,0)","v":0},{"$f":"IF(J28=\"Oui\",'Qlossdist,dh'!$C27,0)","v":0},{"$f":"IF(K28=\"Oui\",'Qlossdist,dh'!$C27,0)","v":0},{"$f":"IF(L28=\"Oui\",'Qlossdist,dh'!$C27,0)","v":0},{"$f":"IF(M28=\"Oui\",'Qlossdist,dh'!$C27,0)","v":0},{"$f":"IF(N28=\"Oui\",'Qlossdist,dh'!$C27,0)","v":0},{"$f":"IF(O28=\"Oui\",'Qlossdist,dh'!$C27,0)","v":0},{"$f":"IF(P28=\"Oui\",'Qlossdist,dh'!$C27,0)","v":0},{"$f":"IF(Q28=\"Oui\",'Qlossdist,dh'!$C27,0)","v":0},{"$f":"IF(R28=\"Oui\",'Qlossdist,dh'!$C27,0)","v":0},{"$f":"IF(S28=\"Oui\",'Qlossdist,dh'!$C27,0)","v":0},{"$f":"IF(T28=\"Oui\",'Qlossdist,dh'!$C27,0)","v":0},{"$f":"IF(U28=\"Oui\",'Qlossdist,dh'!$C27,0)","v":0},{"$f":"IF(V28=\"Oui\",'Qlossdist,dh'!$C27,0)","v":0},{"$f":"IF(W28=\"Oui\",'Qlossdist,dh'!$C27,0)","v":0},{"$f":"IF(X28=\"Oui\",'Qlossdist,dh'!$C27,0)","v":0},{"$f":"IF(Y28=\"Oui\",'Qlossdist,dh'!$C27,0)","v":0},{"$f":"IF(Z28=\"Oui\",'Qlossdist,dh'!$C27,0)","v":0},{"$f":"IF(AA28=\"Oui\",'Qlossdist,dh'!$C27,0)","v":0},{"$f":"IF(AB28=\"Oui\",'Qlossdist,dh'!$C27,0)","v":0},{"$f":"IF(AC28=\"Oui\",'Qlossdist,dh'!$C27,0)","v":0},{"$f":"IF(AD28=\"Oui\",'Qlossdist,dh'!$C27,0)","v":0},{"$f":"IF(AE28=\"Oui\",'Qlossdist,dh'!$C27,0)","v":0},{"$f":"IF(AF28=\"Oui\",'Qlossdist,dh'!$C27,0)","v":0},{"$f":"IF(AG28=\"Oui\",'Qlossdist,dh'!$C27,0)","v":0},{"$f":"IF(AH28=\"Oui\",'Qlossdist,dh'!$C27,0)","v":0},{"$f":"IF(AI28=\"Oui\",'Qlossdist,dh'!$C27,0)","v":0},{"$f":"IF(AJ28=\"Oui\",'Qlossdist,dh'!$C27,0)","v":0},{"$f":"IF(AK28=\"Oui\",'Qlossdist,dh'!$C27,0)","v":0},{"$f":"IF(AL28=\"Oui\",'Qlossdist,dh'!$C27,0)","v":0},{"$f":"IF(AM28=\"Oui\",'Qlossdist,dh'!$C27,0)","v":0},{"$f":"IF(AN28=\"Oui\",'Qlossdist,dh'!$C27,0)","v":0},{"$f":"IF(AO28=\"Oui\",'Qlossdist,dh'!$C27,0)","v":0},{"$f":"IF(AP28=\"Oui\",'Qlossdist,dh'!$C27,0)","v":0},{"$f":"IF(AQ28=\"Oui\",'Qlossdist,dh'!$C27,0)","v":0},{"$f":"IF(AR28=\"Oui\",'Qlossdist,dh'!$C27,0)","v":0},{"$f":"IF(AS28=\"Oui\",'Qlossdist,dh'!$C27,0)","v":0},{"$f":"IF(AT28=\"Oui\",'Qlossdist,dh'!$C27,0)","v":0},{"$f":"IF(AU28=\"Oui\",'Qlossdist,dh'!$C27,0)","v":0},{"$f":"IF(AV28=\"Oui\",'Qlossdist,dh'!$C27,0)","v":0},{"$f":"IF(AW28=\"Oui\",'Qlossdist,dh'!$C27,0)","v":0},{"$f":"IF(AX28=\"Oui\",'Qlossdist,dh'!$C27,0)","v":0},{"$f":"IF(AY28=\"Oui\",'Qlossdist,dh'!$C27,0)","v":0},{"$f":"IF(AZ28=\"Oui\",'Qlossdist,dh'!$C27,0)","v":0},{"$f":"IF(BA28=\"Oui\",'Qlossdist,dh'!$C27,0)","v":0}]
["Qlossdist,l,n [MJ]","Segment 21",21,{"$f":"IF(D29=\"Oui\",'Qlossdist,dh'!$C28,0)","v":0},{"$f":"IF(E29=\"Oui\",'Qlossdist,dh'!$C28,0)","v":0},{"$f":"IF(F29=\"Oui\",'Qlossdist,dh'!$C28,0)","v":0},{"$f":"IF(G29=\"Oui\",'Qlossdist,dh'!$C28,0)","v":0},{"$f":"IF(H29=\"Oui\",'Qlossdist,dh'!$C28,0)","v":0},{"$f":"IF(I29=\"Oui\",'Qlossdist,dh'!$C28,0)","v":0},{"$f":"IF(J29=\"Oui\",'Qlossdist,dh'!$C28,0)","v":0},{"$f":"IF(K29=\"Oui\",'Qlossdist,dh'!$C28,0)","v":0},{"$f":"IF(L29=\"Oui\",'Qlossdist,dh'!$C28,0)","v":0},{"$f":"IF(M29=\"Oui\",'Qlossdist,dh'!$C28,0)","v":0},{"$f":"IF(N29=\"Oui\",'Qlossdist,dh'!$C28,0)","v":0},{"$f":"IF(O29=\"Oui\",'Qlossdist,dh'!$C28,0)","v":0},{"$f":"IF(P29=\"Oui\",'Qlossdist,dh'!$C28,0)","v":0},{"$f":"IF(Q29=\"Oui\",'Qlossdist,dh'!$C28,0)","v":0},{"$f":"IF(R29=\"Oui\",'Qlossdist,dh'!$C28,0)","v":0},{"$f":"IF(S29=\"Oui\",'Qlossdist,dh'!$C28,0)","v":0},{"$f":"IF(T29=\"Oui\",'Qlossdist,dh'!$C28,0)","v":0},{"$f":"IF(U29=\"Oui\",'Qlossdist,dh'!$C28,0)","v":0},{"$f":"IF(V29=\"Oui\",'Qlossdist,dh'!$C28,0)","v":0},{"$f":"IF(W29=\"Oui\",'Qlossdist,dh'!$C28,0)","v":0},{"$f":"IF(X29=\"Oui\",'Qlossdist,dh'!$C28,0)","v":0},{"$f":"IF(Y29=\"Oui\",'Qlossdist,dh'!$C28,0)","v":0},{"$f":"IF(Z29=\"Oui\",'Qlossdist,dh'!$C28,0)","v":0},{"$f":"IF(AA29=\"Oui\",'Qlossdist,dh'!$C28,0)","v":0},{"$f":"IF(AB29=\"Oui\",'Qlossdist,dh'!$C28,0)","v":0},{"$f":"IF(AC29=\"Oui\",'Qlossdist,dh'!$C28,0)","v":0},{"$f":"IF(AD29=\"Oui\",'Qlossdist,dh'!$C28,0)","v":0},{"$f":"IF(AE29=\"Oui\",'Qlossdist,dh'!$C28,0)","v":0},{"$f":"IF(AF29=\"Oui\",'Qlossdist,dh'!$C28,0)","v":0},{"$f":"IF(AG29=\"Oui\",'Qlossdist,dh'!$C28,0)","v":0},{"$f":"IF(AH29=\"Oui\",'Qlossdist,dh'!$C28,0)","v":0},{"$f":"IF(AI29=\"Oui\",'Qlossdist,dh'!$C28,0)","v":0},{"$f":"IF(AJ29=\"Oui\",'Qlossdist,dh'!$C28,0)","v":0},{"$f":"IF(AK29=\"Oui\",'Qlossdist,dh'!$C28,0)","v":0},{"$f":"IF(AL29=\"Oui\",'Qlossdist,dh'!$C28,0)","v":0},{"$f":"IF(AM29=\"Oui\",'Qlossdist,dh'!$C28,0)","v":0},{"$f":"IF(AN29=\"Oui\",'Qlossdist,dh'!$C28,0)","v":0},{"$f":"IF(AO29=\"Oui\",'Qlossdist,dh'!$C28,0)","v":0},{"$f":"IF(AP29=\"Oui\",'Qlossdist,dh'!$C28,0)","v":0},{"$f":"IF(AQ29=\"Oui\",'Qlossdist,dh'!$C28,0)","v":0},{"$f":"IF(AR29=\"Oui\",'Qlossdist,dh'!$C28,0)","v":0},{"$f":"IF(AS29=\"Oui\",'Qlossdist,dh'!$C28,0)","v":0},{"$f":"IF(AT29=\"Oui\",'Qlossdist,dh'!$C28,0)","v":0},{"$f":"IF(AU29=\"Oui\",'Qlossdist,dh'!$C28,0)","v":0},{"$f":"IF(AV29=\"Oui\",'Qlossdist,dh'!$C28,0)","v":0},{"$f":"IF(AW29=\"Oui\",'Qlossdist,dh'!$C28,0)","v":0},{"$f":"IF(AX29=\"Oui\",'Qlossdist,dh'!$C28,0)","v":0},{"$f":"IF(AY29=\"Oui\",'Qlossdist,dh'!$C28,0)","v":0},{"$f":"IF(AZ29=\"Oui\",'Qlossdist,dh'!$C28,0)","v":0},{"$f":"IF(BA29=\"Oui\",'Qlossdist,dh'!$C28,0)","v":0}]
["Qlossdist,l,n [MJ]","Segment 22",22,{"$f":"IF(D30=\"Oui\",'Qlossdist,dh'!$C29,0)","v":0},{"$f":"IF(E30=\"Oui\",'Qlossdist,dh'!$C29,0)","v":0},{"$f":"IF(F30=\"Oui\",'Qlossdist,dh'!$C29,0)","v":0},{"$f":"IF(G30=\"Oui\",'Qlossdist,dh'!$C29,0)","v":0},{"$f":"IF(H30=\"Oui\",'Qlossdist,dh'!$C29,0)","v":0},{"$f":"IF(I30=\"Oui\",'Qlossdist,dh'!$C29,0)","v":0},{"$f":"IF(J30=\"Oui\",'Qlossdist,dh'!$C29,0)","v":0},{"$f":"IF(K30=\"Oui\",'Qlossdist,dh'!$C29,0)","v":0},{"$f":"IF(L30=\"Oui\",'Qlossdist,dh'!$C29,0)","v":0},{"$f":"IF(M30=\"Oui\",'Qlossdist,dh'!$C29,0)","v":0},{"$f":"IF(N30=\"Oui\",'Qlossdist,dh'!$C29,0)","v":0},{"$f":"IF(O30=\"Oui\",'Qlossdist,dh'!$C29,0)","v":0},{"$f":"IF(P30=\"Oui\",'Qlossdist,dh'!$C29,0)","v":0},{"$f":"IF(Q30=\"Oui\",'Qlossdist,dh'!$C29,0)","v":0},{"$f":"IF(R30=\"Oui\",'Qlossdist,dh'!$C29,0)","v":0},{"$f":"IF(S30=\"Oui\",'Qlossdist,dh'!$C29,0)","v":0},{"$f":"IF(T30=\"Oui\",'Qlossdist,dh'!$C29,0)","v":0},{"$f":"IF(U30=\"Oui\",'Qlossdist,dh'!$C29,0)","v":0},{"$f":"IF(V30=\"Oui\",'Qlossdist,dh'!$C29,0)","v":0},{"$f":"IF(W30=\"Oui\",'Qlossdist,dh'!$C29,0)","v":0},{"$f":"IF(X30=\"Oui\",'Qlossdist,dh'!$C29,0)","v":0},{"$f":"IF(Y30=\"Oui\",'Qlossdist,dh'!$C29,0)","v":0},{"$f":"IF(Z30=\"Oui\",'Qlossdist,dh'!$C29,0)","v":0},{"$f":"IF(AA30=\"Oui\",'Qlossdist,dh'!$C29,0)","v":0},{"$f":"IF(AB30=\"Oui\",'Qlossdist,dh'!$C29,0)","v":0},{"$f":"IF(AC30=\"Oui\",'Qlossdist,dh'!$C29,0)","v":0},{"$f":"IF(AD30=\"Oui\",'Qlossdist,dh'!$C29,0)","v":0},{"$f":"IF(AE30=\"Oui\",'Qlossdist,dh'!$C29,0)","v":0},{"$f":"IF(AF30=\"Oui\",'Qlossdist,dh'!$C29,0)","v":0},{"$f":"IF(AG30=\"Oui\",'Qlossdist,dh'!$C29,0)","v":0},{"$f":"IF(AH30=\"Oui\",'Qlossdist,dh'!$C29,0)","v":0},{"$f":"IF(AI30=\"Oui\",'Qlossdist,dh'!$C29,0)","v":0},{"$f":"IF(AJ30=\"Oui\",'Qlossdist,dh'!$C29,0)","v":0},{"$f":"IF(AK30=\"Oui\",'Qlossdist,dh'!$C29,0)","v":0},{"$f":"IF(AL30=\"Oui\",'Qlossdist,dh'!$C29,0)","v":0},{"$f":"IF(AM30=\"Oui\",'Qlossdist,dh'!$C29,0)","v":0},{"$f":"IF(AN30=\"Oui\",'Qlossdist,dh'!$C29,0)","v":0},{"$f":"IF(AO30=\"Oui\",'Qlossdist,dh'!$C29,0)","v":0},{"$f":"IF(AP30=\"Oui\",'Qlossdist,dh'!$C29,0)","v":0},{"$f":"IF(AQ30=\"Oui\",'Qlossdist,dh'!$C29,0)","v":0},{"$f":"IF(AR30=\"Oui\",'Qlossdist,dh'!$C29,0)","v":0},{"$f":"IF(AS30=\"Oui\",'Qlossdist,dh'!$C29,0)","v":0},{"$f":"IF(AT30=\"Oui\",'Qlossdist,dh'!$C29,0)","v":0},{"$f":"IF(AU30=\"Oui\",'Qlossdist,dh'!$C29,0)","v":0},{"$f":"IF(AV30=\"Oui\",'Qlossdist,dh'!$C29,0)","v":0},{"$f":"IF(AW30=\"Oui\",'Qlossdist,dh'!$C29,0)","v":0},{"$f":"IF(AX30=\"Oui\",'Qlossdist,dh'!$C29,0)","v":0},{"$f":"IF(AY30=\"Oui\",'Qlossdist,dh'!$C29,0)","v":0},{"$f":"IF(AZ30=\"Oui\",'Qlossdist,dh'!$C29,0)","v":0},{"$f":"IF(BA30=\"Oui\",'Qlossdist,dh'!$C29,0)","v":0}]
["Qlossdist,l,n [MJ]","Segment 23",23,{"$f":"IF(D31=\"Oui\",'Qlossdist,dh'!$C30,0)","v":0},{"$f":"IF(E31=\"Oui\",'Qlossdist,dh'!$C30,0)","v":0},{"$f":"IF(F31=\"Oui\",'Qlossdist,dh'!$C30,0)","v":0},{"$f":"IF(G31=\"Oui\",'Qlossdist,dh'!$C30,0)","v":0},{"$f":"IF(H31=\"Oui\",'Qlossdist,dh'!$C30,0)","v":0},{"$f":"IF(I31=\"Oui\",'Qlossdist,dh'!$C30,0)","v":0},{"$f":"IF(J31=\"Oui\",'Qlossdist,dh'!$C30,0)","v":0},{"$f":"IF(K31=\"Oui\",'Qlossdist,dh'!$C30,0)","v":0},{"$f":"IF(L31=\"Oui\",'Qlossdist,dh'!$C30,0)","v":0},{"$f":"IF(M31=\"Oui\",'Qlossdist,dh'!$C30,0)","v":0},{"$f":"IF(N31=\"Oui\",'Qlossdist,dh'!$C30,0)","v":0},{"$f":"IF(O31=\"Oui\",'Qlossdist,dh'!$C30,0)","v":0},{"$f":"IF(P31=\"Oui\",'Qlossdist,dh'!$C30,0)","v":0},{"$f":"IF(Q31=\"Oui\",'Qlossdist,dh'!$C30,0)","v":0},{"$f":"IF(R31=\"Oui\",'Qlossdist,dh'!$C30,0)","v":0},{"$f":"IF(S31=\"Oui\",'Qlossdist,dh'!$C30,0)","v":0},{"$f":"IF(T31=\"Oui\",'Qlossdist,dh'!$C30,0)","v":0},{"$f":"IF(U31=\"Oui\",'Qlossdist,dh'!$C30,0)","v":0},{"$f":"IF(V31=\"Oui\",'Qlossdist,dh'!$C30,0)","v":0},{"$f":"IF(W31=\"Oui\",'Qlossdist,dh'!$C30,0)","v":0},{"$f":"IF(X31=\"Oui\",'Qlossdist,dh'!$C30,0)","v":0},{"$f":"IF(Y31=\"Oui\",'Qlossdist,dh'!$C30,0)","v":0},{"$f":"IF(Z31=\"Oui\",'Qlossdist,dh'!$C30,0)","v":0},{"$f":"IF(AA31=\"Oui\",'Qlossdist,dh'!$C30,0)","v":0},{"$f":"IF(AB31=\"Oui\",'Qlossdist,dh'!$C30,0)","v":0},{"$f":"IF(AC31=\"Oui\",'Qlossdist,dh'!$C30,0)","v":0},{"$f":"IF(AD31=\"Oui\",'Qlossdist,dh'!$C30,0)","v":0},{"$f":"IF(AE31=\"Oui\",'Qlossdist,dh'!$C30,0)","v":0},{"$f":"IF(AF31=\"Oui\",'Qlossdist,dh'!$C30,0)","v":0},{"$f":"IF(AG31=\"Oui\",'Qlossdist,dh'!$C30,0)","v":0},{"$f":"IF(AH31=\"Oui\",'Qlossdist,dh'!$C30,0)","v":0},{"$f":"IF(AI31=\"Oui\",'Qlossdist,dh'!$C30,0)","v":0},{"$f":"IF(AJ31=\"Oui\",'Qlossdist,dh'!$C30,0)","v":0},{"$f":"IF(AK31=\"Oui\",'Qlossdist,dh'!$C30,0)","v":0},{"$f":"IF(AL31=\"Oui\",'Qlossdist,dh'!$C30,0)","v":0},{"$f":"IF(AM31=\"Oui\",'Qlossdist,dh'!$C30,0)","v":0},{"$f":"IF(AN31=\"Oui\",'Qlossdist,dh'!$C30,0)","v":0},{"$f":"IF(AO31=\"Oui\",'Qlossdist,dh'!$C30,0)","v":0},{"$f":"IF(AP31=\"Oui\",'Qlossdist,dh'!$C30,0)","v":0},{"$f":"IF(AQ31=\"Oui\",'Qlossdist,dh'!$C30,0)","v":0},{"$f":"IF(AR31=\"Oui\",'Qlossdist,dh'!$C30,0)","v":0},{"$f":"IF(AS31=\"Oui\",'Qlossdist,dh'!$C30,0)","v":0},{"$f":"IF(AT31=\"Oui\",'Qlossdist,dh'!$C30,0)","v":0},{"$f":"IF(AU31=\"Oui\",'Qlossdist,dh'!$C30,0)","v":0},{"$f":"IF(AV31=\"Oui\",'Qlossdist,dh'!$C30,0)","v":0},{"$f":"IF(AW31=\"Oui\",'Qlossdist,dh'!$C30,0)","v":0},{"$f":"IF(AX31=\"Oui\",'Qlossdist,dh'!$C30,0)","v":0},{"$f":"IF(AY31=\"Oui\",'Qlossdist,dh'!$C30,0)","v":0},{"$f":"IF(AZ31=\"Oui\",'Qlossdist,dh'!$C30,0)","v":0},{"$f":"IF(BA31=\"Oui\",'Qlossdist,dh'!$C30,0)","v":0}]
["Qlossdist,l,n [MJ]","Segment 24",24,{"$f":"IF(D32=\"Oui\",'Qlossdist,dh'!$C31,0)","v":0},{"$f":"IF(E32=\"Oui\",'Qlossdist,dh'!$C31,0)","v":0},{"$f":"IF(F32=\"Oui\",'Qlossdist,dh'!$C31,0)","v":0},{"$f":"IF(G32=\"Oui\",'Qlossdist,dh'!$C31,0)","v":0},{"$f":"IF(H32=\"Oui\",'Qlossdist,dh'!$C31,0)","v":0},{"$f":"IF(I32=\"Oui\",'Qlossdist,dh'!$C31,0)","v":0},{"$f":"IF(J32=\"Oui\",'Qlossdist,dh'!$C31,0)","v":0},{"$f":"IF(K32=\"Oui\",'Qlossdist,dh'!$C31,0)","v":0},{"$f":"IF(L32=\"Oui\",'Qlossdist,dh'!$C31,0)","v":0},{"$f":"IF(M32=\"Oui\",'Qlossdist,dh'!$C31,0)","v":0},{"$f":"IF(N32=\"Oui\",'Qlossdist,dh'!$C31,0)","v":0},{"$f":"IF(O32=\"Oui\",'Qlossdist,dh'!$C31,0)","v":0},{"$f":"IF(P32=\"Oui\",'Qlossdist,dh'!$C31,0)","v":0},{"$f":"IF(Q32=\"Oui\",'Qlossdist,dh'!$C31,0)","v":0},{"$f":"IF(R32=\"Oui\",'Qlossdist,dh'!$C31,0)","v":0},{"$f":"IF(S32=\"Oui\",'Qlossdist,dh'!$C31,0)","v":0},{"$f":"IF(T32=\"Oui\",'Qlossdist,dh'!$C31,0)","v":0},{"$f":"IF(U32=\"Oui\",'Qlossdist,dh'!$C31,0)","v":0},{"$f":"IF(V32=\"Oui\",'Qlossdist,dh'!$C31,0)","v":0},{"$f":"IF(W32=\"Oui\",'Qlossdist,dh'!$C31,0)","v":0},{"$f":"IF(X32=\"Oui\",'Qlossdist,dh'!$C31,0)","v":0},{"$f":"IF(Y32=\"Oui\",'Qlossdist,dh'!$C31,0)","v":0},{"$f":"IF(Z32=\"Oui\",'Qlossdist,dh'!$C31,0)","v":0},{"$f":"IF(AA32=\"Oui\",'Qlossdist,dh'!$C31,0)","v":0},{"$f":"IF(AB32=\"Oui\",'Qlossdist,dh'!$C31,0)","v":0},{"$f":"IF(AC32=\"Oui\",'Qlossdist,dh'!$C31,0)","v":0},{"$f":"IF(AD32=\"Oui\",'Qlossdist,dh'!$C31,0)","v":0},{"$f":"IF(AE32=\"Oui\",'Qlossdist,dh'!$C31,0)","v":0},{"$f":"IF(AF32=\"Oui\",'Qlossdist,dh'!$C31,0)","v":0},{"$f":"IF(AG32=\"Oui\",'Qlossdist,dh'!$C31,0)","v":0},{"$f":"IF(AH32=\"Oui\",'Qlossdist,dh'!$C31,0)","v":0},{"$f":"IF(AI32=\"Oui\",'Qlossdist,dh'!$C31,0)","v":0},{"$f":"IF(AJ32=\"Oui\",'Qlossdist,dh'!$C31,0)","v":0},{"$f":"IF(AK32=\"Oui\",'Qlossdist,dh'!$C31,0)","v":0},{"$f":"IF(AL32=\"Oui\",'Qlossdist,dh'!$C31,0)","v":0},{"$f":"IF(AM32=\"Oui\",'Qlossdist,dh'!$C31,0)","v":0},{"$f":"IF(AN32=\"Oui\",'Qlossdist,dh'!$C31,0)","v":0},{"$f":"IF(AO32=\"Oui\",'Qlossdist,dh'!$C31,0)","v":0},{"$f":"IF(AP32=\"Oui\",'Qlossdist,dh'!$C31,0)","v":0},{"$f":"IF(AQ32=\"Oui\",'Qlossdist,dh'!$C31,0)","v":0},{"$f":"IF(AR32=\"Oui\",'Qlossdist,dh'!$C31,0)","v":0},{"$f":"IF(AS32=\"Oui\",'Qlossdist,dh'!$C31,0)","v":0},{"$f":"IF(AT32=\"Oui\",'Qlossdist,dh'!$C31,0)","v":0},{"$f":"IF(AU32=\"Oui\",'Qlossdist,dh'!$C31,0)","v":0},{"$f":"IF(AV32=\"Oui\",'Qlossdist,dh'!$C31,0)","v":0},{"$f":"IF(AW32=\"Oui\",'Qlossdist,dh'!$C31,0)","v":0},{"$f":"IF(AX32=\"Oui\",'Qlossdist,dh'!$C31,0)","v":0},{"$f":"IF(AY32=\"Oui\",'Qlossdist,dh'!$C31,0)","v":0},{"$f":"IF(AZ32=\"Oui\",'Qlossdist,dh'!$C31,0)","v":0},{"$f":"IF(BA32=\"Oui\",'Qlossdist,dh'!$C31,0)","v":0}]
["Qlossdist,l,n [MJ]","Segment 25",25,{"$f":"IF(D33=\"Oui\",'Qlossdist,dh'!$C32,0)","v":0},{"$f":"IF(E33=\"Oui\",'Qlossdist,dh'!$C32,0)","v":0},{"$f":"IF(F33=\"Oui\",'Qlossdist,dh'!$C32,0)","v":0},{"$f":"IF(G33=\"Oui\",'Qlossdist,dh'!$C32,0)","v":0},{"$f":"IF(H33=\"Oui\",'Qlossdist,dh'!$C32,0)","v":0},{"$f":"IF(I33=\"Oui\",'Qlossdist,dh'!$C32,0)","v":0},{"$f":"IF(J33=\"Oui\",'Qlossdist,dh'!$C32,0)","v":0},{"$f":"IF(K33=\"Oui\",'Qlossdist,dh'!$C32,0)","v":0},{"$f":"IF(L33=\"Oui\",'Qlossdist,dh'!$C32,0)","v":0},{"$f":"IF(M33=\"Oui\",'Qlossdist,dh'!$C32,0)","v":0},{"$f":"IF(N33=\"Oui\",'Qlossdist,dh'!$C32,0)","v":0},{"$f":"IF(O33=\"Oui\",'Qlossdist,dh'!$C32,0)","v":0},{"$f":"IF(P33=\"Oui\",'Qlossdist,dh'!$C32,0)","v":0},{"$f":"IF(Q33=\"Oui\",'Qlossdist,dh'!$C32,0)","v":0},{"$f":"IF(R33=\"Oui\",'Qlossdist,dh'!$C32,0)","v":0},{"$f":"IF(S33=\"Oui\",'Qlossdist,dh'!$C32,0)","v":0},{"$f":"IF(T33=\"Oui\",'Qlossdist,dh'!$C32,0)","v":0},{"$f":"IF(U33=\"Oui\",'Qlossdist,dh'!$C32,0)","v":0},{"$f":"IF(V33=\"Oui\",'Qlossdist,dh'!$C32,0)","v":0},{"$f":"IF(W33=\"Oui\",'Qlossdist,dh'!$C32,0)","v":0},{"$f":"IF(X33=\"Oui\",'Qlossdist,dh'!$C32,0)","v":0},{"$f":"IF(Y33=\"Oui\",'Qlossdist,dh'!$C32,0)","v":0},{"$f":"IF(Z33=\"Oui\",'Qlossdist,dh'!$C32,0)","v":0},{"$f":"IF(AA33=\"Oui\",'Qlossdist,dh'!$C32,0)","v":0},{"$f":"IF(AB33=\"Oui\",'Qlossdist,dh'!$C32,0)","v":0},{"$f":"IF(AC33=\"Oui\",'Qlossdist,dh'!$C32,0)","v":0},{"$f":"IF(AD33=\"Oui\",'Qlossdist,dh'!$C32,0)","v":0},{"$f":"IF(AE33=\"Oui\",'Qlossdist,dh'!$C32,0)","v":0},{"$f":"IF(AF33=\"Oui\",'Qlossdist,dh'!$C32,0)","v":0},{"$f":"IF(AG33=\"Oui\",'Qlossdist,dh'!$C32,0)","v":0},{"$f":"IF(AH33=\"Oui\",'Qlossdist,dh'!$C32,0)","v":0},{"$f":"IF(AI33=\"Oui\",'Qlossdist,dh'!$C32,0)","v":0},{"$f":"IF(AJ33=\"Oui\",'Qlossdist,dh'!$C32,0)","v":0},{"$f":"IF(AK33=\"Oui\",'Qlossdist,dh'!$C32,0)","v":0},{"$f":"IF(AL33=\"Oui\",'Qlossdist,dh'!$C32,0)","v":0},{"$f":"IF(AM33=\"Oui\",'Qlossdist,dh'!$C32,0)","v":0},{"$f":"IF(AN33=\"Oui\",'Qlossdist,dh'!$C32,0)","v":0},{"$f":"IF(AO33=\"Oui\",'Qlossdist,dh'!$C32,0)","v":0},{"$f":"IF(AP33=\"Oui\",'Qlossdist,dh'!$C32,0)","v":0},{"$f":"IF(AQ33=\"Oui\",'Qlossdist,dh'!$C32,0)","v":0},{"$f":"IF(AR33=\"Oui\",'Qlossdist,dh'!$C32,0)","v":0},{"$f":"IF(AS33=\"Oui\",'Qlossdist,dh'!$C32,0)","v":0},{"$f":"IF(AT33=\"Oui\",'Qlossdist,dh'!$C32,0)","v":0},{"$f":"IF(AU33=\"Oui\",'Qlossdist,dh'!$C32,0)","v":0},{"$f":"IF(AV33=\"Oui\",'Qlossdist,dh'!$C32,0)","v":0},{"$f":"IF(AW33=\"Oui\",'Qlossdist,dh'!$C32,0)","v":0},{"$f":"IF(AX33=\"Oui\",'Qlossdist,dh'!$C32,0)","v":0},{"$f":"IF(AY33=\"Oui\",'Qlossdist,dh'!$C32,0)","v":0},{"$f":"IF(AZ33=\"Oui\",'Qlossdist,dh'!$C32,0)","v":0},{"$f":"IF(BA33=\"Oui\",'Qlossdist,dh'!$C32,0)","v":0}]
["Qlossdist,l,n [MJ]","Segment 26",26,{"$f":"IF(D34=\"Oui\",'Qlossdist,dh'!$C33,0)","v":0},{"$f":"IF(E34=\"Oui\",'Qlossdist,dh'!$C33,0)","v":0},{"$f":"IF(F34=\"Oui\",'Qlossdist,dh'!$C33,0)","v":0},{"$f":"IF(G34=\"Oui\",'Qlossdist,dh'!$C33,0)","v":0},{"$f":"IF(H34=\"Oui\",'Qlossdist,dh'!$C33,0)","v":0},{"$f":"IF(I34=\"Oui\",'Qlossdist,dh'!$C33,0)","v":0},{"$f":"IF(J34=\"Oui\",'Qlossdist,dh'!$C33,0)","v":0},{"$f":"IF(K34=\"Oui\",'Qlossdist,dh'!$C33,0)","v":0},{"$f":"IF(L34=\"Oui\",'Qlossdist,dh'!$C33,0)","v":0},{"$f":"IF(M34=\"Oui\",'Qlossdist,dh'!$C33,0)","v":0},{"$f":"IF(N34=\"Oui\",'Qlossdist,dh'!$C33,0)","v":0},{"$f":"IF(O34=\"Oui\",'Qlossdist,dh'!$C33,0)","v":0},{"$f":"IF(P34=\"Oui\",'Qlossdist,dh'!$C33,0)","v":0},{"$f":"IF(Q34=\"Oui\",'Qlossdist,dh'!$C33,0)","v":0},{"$f":"IF(R34=\"Oui\",'Qlossdist,dh'!$C33,0)","v":0},{"$f":"IF(S34=\"Oui\",'Qlossdist,dh'!$C33,0)","v":0},{"$f":"IF(T34=\"Oui\",'Qlossdist,dh'!$C33,0)","v":0},{"$f":"IF(U34=\"Oui\",'Qlossdist,dh'!$C33,0)","v":0},{"$f":"IF(V34=\"Oui\",'Qlossdist,dh'!$C33,0)","v":0},{"$f":"IF(W34=\"Oui\",'Qlossdist,dh'!$C33,0)","v":0},{"$f":"IF(X34=\"Oui\",'Qlossdist,dh'!$C33,0)","v":0},{"$f":"IF(Y34=\"Oui\",'Qlossdist,dh'!$C33,0)","v":0},{"$f":"IF(Z34=\"Oui\",'Qlossdist,dh'!$C33,0)","v":0},{"$f":"IF(AA34=\"Oui\",'Qlossdist,dh'!$C33,0)","v":0},{"$f":"IF(AB34=\"Oui\",'Qlossdist,dh'!$C33,0)","v":0},{"$f":"IF(AC34=\"Oui\",'Qlossdist,dh'!$C33,0)","v":0},{"$f":"IF(AD34=\"Oui\",'Qlossdist,dh'!$C33,0)","v":0},{"$f":"IF(AE34=\"Oui\",'Qlossdist,dh'!$C33,0)","v":0},{"$f":"IF(AF34=\"Oui\",'Qlossdist,dh'!$C33,0)","v":0},{"$f":"IF(AG34=\"Oui\",'Qlossdist,dh'!$C33,0)","v":0},{"$f":"IF(AH34=\"Oui\",'Qlossdist,dh'!$C33,0)","v":0},{"$f":"IF(AI34=\"Oui\",'Qlossdist,dh'!$C33,0)","v":0},{"$f":"IF(AJ34=\"Oui\",'Qlossdist,dh'!$C33,0)","v":0},{"$f":"IF(AK34=\"Oui\",'Qlossdist,dh'!$C33,0)","v":0},{"$f":"IF(AL34=\"Oui\",'Qlossdist,dh'!$C33,0)","v":0},{"$f":"IF(AM34=\"Oui\",'Qlossdist,dh'!$C33,0)","v":0},{"$f":"IF(AN34=\"Oui\",'Qlossdist,dh'!$C33,0)","v":0},{"$f":"IF(AO34=\"Oui\",'Qlossdist,dh'!$C33,0)","v":0},{"$f":"IF(AP34=\"Oui\",'Qlossdist,dh'!$C33,0)","v":0},{"$f":"IF(AQ34=\"Oui\",'Qlossdist,dh'!$C33,0)","v":0},{"$f":"IF(AR34=\"Oui\",'Qlossdist,dh'!$C33,0)","v":0},{"$f":"IF(AS34=\"Oui\",'Qlossdist,dh'!$C33,0)","v":0},{"$f":"IF(AT34=\"Oui\",'Qlossdist,dh'!$C33,0)","v":0},{"$f":"IF(AU34=\"Oui\",'Qlossdist,dh'!$C33,0)","v":0},{"$f":"IF(AV34=\"Oui\",'Qlossdist,dh'!$C33,0)","v":0},{"$f":"IF(AW34=\"Oui\",'Qlossdist,dh'!$C33,0)","v":0},{"$f":"IF(AX34=\"Oui\",'Qlossdist,dh'!$C33,0)","v":0},{"$f":"IF(AY34=\"Oui\",'Qlossdist,dh'!$C33,0)","v":0},{"$f":"IF(AZ34=\"Oui\",'Qlossdist,dh'!$C33,0)","v":0},{"$f":"IF(BA34=\"Oui\",'Qlossdist,dh'!$C33,0)","v":0}]
["Qlossdist,l,n [MJ]","Segment 27",27,{"$f":"IF(D35=\"Oui\",'Qlossdist,dh'!$C34,0)","v":0},{"$f":"IF(E35=\"Oui\",'Qlossdist,dh'!$C34,0)","v":0},{"$f":"IF(F35=\"Oui\",'Qlossdist,dh'!$C34,0)","v":0},{"$f":"IF(G35=\"Oui\",'Qlossdist,dh'!$C34,0)","v":0},{"$f":"IF(H35=\"Oui\",'Qlossdist,dh'!$C34,0)","v":0},{"$f":"IF(I35=\"Oui\",'Qlossdist,dh'!$C34,0)","v":0},{"$f":"IF(J35=\"Oui\",'Qlossdist,dh'!$C34,0)","v":0},{"$f":"IF(K35=\"Oui\",'Qlossdist,dh'!$C34,0)","v":0},{"$f":"IF(L35=\"Oui\",'Qlossdist,dh'!$C34,0)","v":0},{"$f":"IF(M35=\"Oui\",'Qlossdist,dh'!$C34,0)","v":0},{"$f":"IF(N35=\"Oui\",'Qlossdist,dh'!$C34,0)","v":0},{"$f":"IF(O35=\"Oui\",'Qlossdist,dh'!$C34,0)","v":0},{"$f":"IF(P35=\"Oui\",'Qlossdist,dh'!$C34,0)","v":0},{"$f":"IF(Q35=\"Oui\",'Qlossdist,dh'!$C34,0)","v":0},{"$f":"IF(R35=\"Oui\",'Qlossdist,dh'!$C34,0)","v":0},{"$f":"IF(S35=\"Oui\",'Qlossdist,dh'!$C34,0)","v":0},{"$f":"IF(T35=\"Oui\",'Qlossdist,dh'!$C34,0)","v":0},{"$f":"IF(U35=\"Oui\",'Qlossdist,dh'!$C34,0)","v":0},{"$f":"IF(V35=\"Oui\",'Qlossdist,dh'!$C34,0)","v":0},{"$f":"IF(W35=\"Oui\",'Qlossdist,dh'!$C34,0)","v":0},{"$f":"IF(X35=\"Oui\",'Qlossdist,dh'!$C34,0)","v":0},{"$f":"IF(Y35=\"Oui\",'Qlossdist,dh'!$C34,0)","v":0},{"$f":"IF(Z35=\"Oui\",'Qlossdist,dh'!$C34,0)","v":0},{"$f":"IF(AA35=\"Oui\",'Qlossdist,dh'!$C34,0)","v":0},{"$f":"IF(AB35=\"Oui\",'Qlossdist,dh'!$C34,0)","v":0},{"$f":"IF(AC35=\"Oui\",'Qlossdist,dh'!$C34,0)","v":0},{"$f":"IF(AD35=\"Oui\",'Qlossdist,dh'!$C34,0)","v":0},{"$f":"IF(AE35=\"Oui\",'Qlossdist,dh'!$C34,0)","v":0},{"$f":"IF(AF35=\"Oui\",'Qlossdist,dh'!$C34,0)","v":0},{"$f":"IF(AG35=\"Oui\",'Qlossdist,dh'!$C34,0)","v":0},{"$f":"IF(AH35=\"Oui\",'Qlossdist,dh'!$C34,0)","v":0},{"$f":"IF(AI35=\"Oui\",'Qlossdist,dh'!$C34,0)","v":0},{"$f":"IF(AJ35=\"Oui\",'Qlossdist,dh'!$C34,0)","v":0},{"$f":"IF(AK35=\"Oui\",'Qlossdist,dh'!$C34,0)","v":0},{"$f":"IF(AL35=\"Oui\",'Qlossdist,dh'!$C34,0)","v":0},{"$f":"IF(AM35=\"Oui\",'Qlossdist,dh'!$C34,0)","v":0},{"$f":"IF(AN35=\"Oui\",'Qlossdist,dh'!$C34,0)","v":0},{"$f":"IF(AO35=\"Oui\",'Qlossdist,dh'!$C34,0)","v":0},{"$f":"IF(AP35=\"Oui\",'Qlossdist,dh'!$C34,0)","v":0},{"$f":"IF(AQ35=\"Oui\",'Qlossdist,dh'!$C34,0)","v":0},{"$f":"IF(AR35=\"Oui\",'Qlossdist,dh'!$C34,0)","v":0},{"$f":"IF(AS35=\"Oui\",'Qlossdist,dh'!$C34,0)","v":0},{"$f":"IF(AT35=\"Oui\",'Qlossdist,dh'!$C34,0)","v":0},{"$f":"IF(AU35=\"Oui\",'Qlossdist,dh'!$C34,0)","v":0},{"$f":"IF(AV35=\"Oui\",'Qlossdist,dh'!$C34,0)","v":0},{"$f":"IF(AW35=\"Oui\",'Qlossdist,dh'!$C34,0)","v":0},{"$f":"IF(AX35=\"Oui\",'Qlossdist,dh'!$C34,0)","v":0},{"$f":"IF(AY35=\"Oui\",'Qlossdist,dh'!$C34,0)","v":0},{"$f":"IF(AZ35=\"Oui\",'Qlossdist,dh'!$C34,0)","v":0},{"$f":"IF(BA35=\"Oui\",'Qlossdist,dh'!$C34,0)","v":0}]
["Qlossdist,l,n [MJ]","Segment 28",28,{"$f":"IF(D36=\"Oui\",'Qlossdist,dh'!$C35,0)","v":0},{"$f":"IF(E36=\"Oui\",'Qlossdist,dh'!$C35,0)","v":0},{"$f":"IF(F36=\"Oui\",'Qlossdist,dh'!$C35,0)","v":0},{"$f":"IF(G36=\"Oui\",'Qlossdist,dh'!$C35,0)","v":0},{"$f":"IF(H36=\"Oui\",'Qlossdist,dh'!$C35,0)","v":0},{"$f":"IF(I36=\"Oui\",'Qlossdist,dh'!$C35,0)","v":0},{"$f":"IF(J36=\"Oui\",'Qlossdist,dh'!$C35,0)","v":0},{"$f":"IF(K36=\"Oui\",'Qlossdist,dh'!$C35,0)","v":0},{"$f":"IF(L36=\"Oui\",'Qlossdist,dh'!$C35,0)","v":0},{"$f":"IF(M36=\"Oui\",'Qlossdist,dh'!$C35,0)","v":0},{"$f":"IF(N36=\"Oui\",'Qlossdist,dh'!$C35,0)","v":0},{"$f":"IF(O36=\"Oui\",'Qlossdist,dh'!$C35,0)","v":0},{"$f":"IF(P36=\"Oui\",'Qlossdist,dh'!$C35,0)","v":0},{"$f":"IF(Q36=\"Oui\",'Qlossdist,dh'!$C35,0)","v":0},{"$f":"IF(R36=\"Oui\",'Qlossdist,dh'!$C35,0)","v":0},{"$f":"IF(S36=\"Oui\",'Qlossdist,dh'!$C35,0)","v":0},{"$f":"IF(T36=\"Oui\",'Qlossdist,dh'!$C35,0)","v":0},{"$f":"IF(U36=\"Oui\",'Qlossdist,dh'!$C35,0)","v":0},{"$f":"IF(V36=\"Oui\",'Qlossdist,dh'!$C35,0)","v":0},{"$f":"IF(W36=\"Oui\",'Qlossdist,dh'!$C35,0)","v":0},{"$f":"IF(X36=\"Oui\",'Qlossdist,dh'!$C35,0)","v":0},{"$f":"IF(Y36=\"Oui\",'Qlossdist,dh'!$C35,0)","v":0},{"$f":"IF(Z36=\"Oui\",'Qlossdist,dh'!$C35,0)","v":0},{"$f":"IF(AA36=\"Oui\",'Qlossdist,dh'!$C35,0)","v":0},{"$f":"IF(AB36=\"Oui\",'Qlossdist,dh'!$C35,0)","v":0},{"$f":"IF(AC36=\"Oui\",'Qlossdist,dh'!$C35,0)","v":0},{"$f":"IF(AD36=\"Oui\",'Qlossdist,dh'!$C35,0)","v":0},{"$f":"IF(AE36=\"Oui\",'Qlossdist,dh'!$C35,0)","v":0},{"$f":"IF(AF36=\"Oui\",'Qlossdist,dh'!$C35,0)","v":0},{"$f":"IF(AG36=\"Oui\",'Qlossdist,dh'!$C35,0)","v":0},{"$f":"IF(AH36=\"Oui\",'Qlossdist,dh'!$C35,0)","v":0},{"$f":"IF(AI36=\"Oui\",'Qlossdist,dh'!$C35,0)","v":0},{"$f":"IF(AJ36=\"Oui\",'Qlossdist,dh'!$C35,0)","v":0},{"$f":"IF(AK36=\"Oui\",'Qlossdist,dh'!$C35,0)","v":0},{"$f":"IF(AL36=\"Oui\",'Qlossdist,dh'!$C35,0)","v":0},{"$f":"IF(AM36=\"Oui\",'Qlossdist,dh'!$C35,0)","v":0},{"$f":"IF(AN36=\"Oui\",'Qlossdist,dh'!$C35,0)","v":0},{"$f":"IF(AO36=\"Oui\",'Qlossdist,dh'!$C35,0)","v":0},{"$f":"IF(AP36=\"Oui\",'Qlossdist,dh'!$C35,0)","v":0},{"$f":"IF(AQ36=\"Oui\",'Qlossdist,dh'!$C35,0)","v":0},{"$f":"IF(AR36=\"Oui\",'Qlossdist,dh'!$C35,0)","v":0},{"$f":"IF(AS36=\"Oui\",'Qlossdist,dh'!$C35,0)","v":0},{"$f":"IF(AT36=\"Oui\",'Qlossdist,dh'!$C35,0)","v":0},{"$f":"IF(AU36=\"Oui\",'Qlossdist,dh'!$C35,0)","v":0},{"$f":"IF(AV36=\"Oui\",'Qlossdist,dh'!$C35,0)","v":0},{"$f":"IF(AW36=\"Oui\",'Qlossdist,dh'!$C35,0)","v":0},{"$f":"IF(AX36=\"Oui\",'Qlossdist,dh'!$C35,0)","v":0},{"$f":"IF(AY36=\"Oui\",'Qlossdist,dh'!$C35,0)","v":0},{"$f":"IF(AZ36=\"Oui\",'Qlossdist,dh'!$C35,0)","v":0},{"$f":"IF(BA36=\"Oui\",'Qlossdist,dh'!$C35,0)","v":0}]
["Qlossdist,l,n [MJ]","Segment 29",29,{"$f":"IF(D37=\"Oui\",'Qlossdist,dh'!$C36,0)","v":0},{"$f":"IF(E37=\"Oui\",'Qlossdist,dh'!$C36,0)","v":0},{"$f":"IF(F37=\"Oui\",'Qlossdist,dh'!$C36,0)","v":0},{"$f":"IF(G37=\"Oui\",'Qlossdist,dh'!$C36,0)","v":0},{"$f":"IF(H37=\"Oui\",'Qlossdist,dh'!$C36,0)","v":0},{"$f":"IF(I37=\"Oui\",'Qlossdist,dh'!$C36,0)","v":0},{"$f":"IF(J37=\"Oui\",'Qlossdist,dh'!$C36,0)","v":0},{"$f":"IF(K37=\"Oui\",'Qlossdist,dh'!$C36,0)","v":0},{"$f":"IF(L37=\"Oui\",'Qlossdist,dh'!$C36,0)","v":0},{"$f":"IF(M37=\"Oui\",'Qlossdist,dh'!$C36,0)","v":0},{"$f":"IF(N37=\"Oui\",'Qlossdist,dh'!$C36,0)","v":0},{"$f":"IF(O37=\"Oui\",'Qlossdist,dh'!$C36,0)","v":0},{"$f":"IF(P37=\"Oui\",'Qlossdist,dh'!$C36,0)","v":0},{"$f":"IF(Q37=\"Oui\",'Qlossdist,dh'!$C36,0)","v":0},{"$f":"IF(R37=\"Oui\",'Qlossdist,dh'!$C36,0)","v":0},{"$f":"IF(S37=\"Oui\",'Qlossdist,dh'!$C36,0)","v":0},{"$f":"IF(T37=\"Oui\",'Qlossdist,dh'!$C36,0)","v":0},{"$f":"IF(U37=\"Oui\",'Qlossdist,dh'!$C36,0)","v":0},{"$f":"IF(V37=\"Oui\",'Qlossdist,dh'!$C36,0)","v":0},{"$f":"IF(W37=\"Oui\",'Qlossdist,dh'!$C36,0)","v":0},{"$f":"IF(X37=\"Oui\",'Qlossdist,dh'!$C36,0)","v":0},{"$f":"IF(Y37=\"Oui\",'Qlossdist,dh'!$C36,0)","v":0},{"$f":"IF(Z37=\"Oui\",'Qlossdist,dh'!$C36,0)","v":0},{"$f":"IF(AA37=\"Oui\",'Qlossdist,dh'!$C36,0)","v":0},{"$f":"IF(AB37=\"Oui\",'Qlossdist,dh'!$C36,0)","v":0},{"$f":"IF(AC37=\"Oui\",'Qlossdist,dh'!$C36,0)","v":0},{"$f":"IF(AD37=\"Oui\",'Qlossdist,dh'!$C36,0)","v":0},{"$f":"IF(AE37=\"Oui\",'Qlossdist,dh'!$C36,0)","v":0},{"$f":"IF(AF37=\"Oui\",'Qlossdist,dh'!$C36,0)","v":0},{"$f":"IF(AG37=\"Oui\",'Qlossdist,dh'!$C36,0)","v":0},{"$f":"IF(AH37=\"Oui\",'Qlossdist,dh'!$C36,0)","v":0},{"$f":"IF(AI37=\"Oui\",'Qlossdist,dh'!$C36,0)","v":0},{"$f":"IF(AJ37=\"Oui\",'Qlossdist,dh'!$C36,0)","v":0},{"$f":"IF(AK37=\"Oui\",'Qlossdist,dh'!$C36,0)","v":0},{"$f":"IF(AL37=\"Oui\",'Qlossdist,dh'!$C36,0)","v":0},{"$f":"IF(AM37=\"Oui\",'Qlossdist,dh'!$C36,0)","v":0},{"$f":"IF(AN37=\"Oui\",'Qlossdist,dh'!$C36,0)","v":0},{"$f":"IF(AO37=\"Oui\",'Qlossdist,dh'!$C36,0)","v":0},{"$f":"IF(AP37=\"Oui\",'Qlossdist,dh'!$C36,0)","v":0},{"$f":"IF(AQ37=\"Oui\",'Qlossdist,dh'!$C36,0)","v":0},{"$f":"IF(AR37=\"Oui\",'Qlossdist,dh'!$C36,0)","v":0},{"$f":"IF(AS37=\"Oui\",'Qlossdist,dh'!$C36,0)","v":0},{"$f":"IF(AT37=\"Oui\",'Qlossdist,dh'!$C36,0)","v":0},{"$f":"IF(AU37=\"Oui\",'Qlossdist,dh'!$C36,0)","v":0},{"$f":"IF(AV37=\"Oui\",'Qlossdist,dh'!$C36,0)","v":0},{"$f":"IF(AW37=\"Oui\",'Qlossdist,dh'!$C36,0)","v":0},{"$f":"IF(AX37=\"Oui\",'Qlossdist,dh'!$C36,0)","v":0},{"$f":"IF(AY37=\"Oui\",'Qlossdist,dh'!$C36,0)","v":0},{"$f":"IF(AZ37=\"Oui\",'Qlossdist,dh'!$C36,0)","v":0},{"$f":"IF(BA37=\"Oui\",'Qlossdist,dh'!$C36,0)","v":0}]
["Qlossdist,l,n [MJ]","Segment 30",30,{"$f":"IF(D38=\"Oui\",'Qlossdist,dh'!$C37,0)","v":0},{"$f":"IF(E38=\"Oui\",'Qlossdist,dh'!$C37,0)","v":0},{"$f":"IF(F38=\"Oui\",'Qlossdist,dh'!$C37,0)","v":0},{"$f":"IF(G38=\"Oui\",'Qlossdist,dh'!$C37,0)","v":0},{"$f":"IF(H38=\"Oui\",'Qlossdist,dh'!$C37,0)","v":0},{"$f":"IF(I38=\"Oui\",'Qlossdist,dh'!$C37,0)","v":0},{"$f":"IF(J38=\"Oui\",'Qlossdist,dh'!$C37,0)","v":0},{"$f":"IF(K38=\"Oui\",'Qlossdist,dh'!$C37,0)","v":0},{"$f":"IF(L38=\"Oui\",'Qlossdist,dh'!$C37,0)","v":0},{"$f":"IF(M38=\"Oui\",'Qlossdist,dh'!$C37,0)","v":0},{"$f":"IF(N38=\"Oui\",'Qlossdist,dh'!$C37,0)","v":0},{"$f":"IF(O38=\"Oui\",'Qlossdist,dh'!$C37,0)","v":0},{"$f":"IF(P38=\"Oui\",'Qlossdist,dh'!$C37,0)","v":0},{"$f":"IF(Q38=\"Oui\",'Qlossdist,dh'!$C37,0)","v":0},{"$f":"IF(R38=\"Oui\",'Qlossdist,dh'!$C37,0)","v":0},{"$f":"IF(S38=\"Oui\",'Qlossdist,dh'!$C37,0)","v":0},{"$f":"IF(T38=\"Oui\",'Qlossdist,dh'!$C37,0)","v":0},{"$f":"IF(U38=\"Oui\",'Qlossdist,dh'!$C37,0)","v":0},{"$f":"IF(V38=\"Oui\",'Qlossdist,dh'!$C37,0)","v":0},{"$f":"IF(W38=\"Oui\",'Qlossdist,dh'!$C37,0)","v":0},{"$f":"IF(X38=\"Oui\",'Qlossdist,dh'!$C37,0)","v":0},{"$f":"IF(Y38=\"Oui\",'Qlossdist,dh'!$C37,0)","v":0},{"$f":"IF(Z38=\"Oui\",'Qlossdist,dh'!$C37,0)","v":0},{"$f":"IF(AA38=\"Oui\",'Qlossdist,dh'!$C37,0)","v":0},{"$f":"IF(AB38=\"Oui\",'Qlossdist,dh'!$C37,0)","v":0},{"$f":"IF(AC38=\"Oui\",'Qlossdist,dh'!$C37,0)","v":0},{"$f":"IF(AD38=\"Oui\",'Qlossdist,dh'!$C37,0)","v":0},{"$f":"IF(AE38=\"Oui\",'Qlossdist,dh'!$C37,0)","v":0},{"$f":"IF(AF38=\"Oui\",'Qlossdist,dh'!$C37,0)","v":0},{"$f":"IF(AG38=\"Oui\",'Qlossdist,dh'!$C37,0)","v":0},{"$f":"IF(AH38=\"Oui\",'Qlossdist,dh'!$C37,0)","v":0},{"$f":"IF(AI38=\"Oui\",'Qlossdist,dh'!$C37,0)","v":0},{"$f":"IF(AJ38=\"Oui\",'Qlossdist,dh'!$C37,0)","v":0},{"$f":"IF(AK38=\"Oui\",'Qlossdist,dh'!$C37,0)","v":0},{"$f":"IF(AL38=\"Oui\",'Qlossdist,dh'!$C37,0)","v":0},{"$f":"IF(AM38=\"Oui\",'Qlossdist,dh'!$C37,0)","v":0},{"$f":"IF(AN38=\"Oui\",'Qlossdist,dh'!$C37,0)","v":0},{"$f":"IF(AO38=\"Oui\",'Qlossdist,dh'!$C37,0)","v":0},{"$f":"IF(AP38=\"Oui\",'Qlossdist,dh'!$C37,0)","v":0},{"$f":"IF(AQ38=\"Oui\",'Qlossdist,dh'!$C37,0)","v":0},{"$f":"IF(AR38=\"Oui\",'Qlossdist,dh'!$C37,0)","v":0},{"$f":"IF(AS38=\"Oui\",'Qlossdist,dh'!$C37,0)","v":0},{"$f":"IF(AT38=\"Oui\",'Qlossdist,dh'!$C37,0)","v":0},{"$f":"IF(AU38=\"Oui\",'Qlossdist,dh'!$C37,0)","v":0},{"$f":"IF(AV38=\"Oui\",'Qlossdist,dh'!$C37,0)","v":0},{"$f":"IF(AW38=\"Oui\",'Qlossdist,dh'!$C37,0)","v":0},{"$f":"IF(AX38=\"Oui\",'Qlossdist,dh'!$C37,0)","v":0},{"$f":"IF(AY38=\"Oui\",'Qlossdist,dh'!$C37,0)","v":0},{"$f":"IF(AZ38=\"Oui\",'Qlossdist,dh'!$C37,0)","v":0},{"$f":"IF(BA38=\"Oui\",'Qlossdist,dh'!$C37,0)","v":0}]
["Qlossdist,l,n [MJ]","Segment 31",31,{"$f":"IF(D39=\"Oui\",'Qlossdist,dh'!$C38,0)","v":0},{"$f":"IF(E39=\"Oui\",'Qlossdist,dh'!$C38,0)","v":0},{"$f":"IF(F39=\"Oui\",'Qlossdist,dh'!$C38,0)","v":0},{"$f":"IF(G39=\"Oui\",'Qlossdist,dh'!$C38,0)","v":0},{"$f":"IF(H39=\"Oui\",'Qlossdist,dh'!$C38,0)","v":0},{"$f":"IF(I39=\"Oui\",'Qlossdist,dh'!$C38,0)","v":0},{"$f":"IF(J39=\"Oui\",'Qlossdist,dh'!$C38,0)","v":0},{"$f":"IF(K39=\"Oui\",'Qlossdist,dh'!$C38,0)","v":0},{"$f":"IF(L39=\"Oui\",'Qlossdist,dh'!$C38,0)","v":0},{"$f":"IF(M39=\"Oui\",'Qlossdist,dh'!$C38,0)","v":0},{"$f":"IF(N39=\"Oui\",'Qlossdist,dh'!$C38,0)","v":0},{"$f":"IF(O39=\"Oui\",'Qlossdist,dh'!$C38,0)","v":0},{"$f":"IF(P39=\"Oui\",'Qlossdist,dh'!$C38,0)","v":0},{"$f":"IF(Q39=\"Oui\",'Qlossdist,dh'!$C38,0)","v":0},{"$f":"IF(R39=\"Oui\",'Qlossdist,dh'!$C38,0)","v":0},{"$f":"IF(S39=\"Oui\",'Qlossdist,dh'!$C38,0)","v":0},{"$f":"IF(T39=\"Oui\",'Qlossdist,dh'!$C38,0)","v":0},{"$f":"IF(U39=\"Oui\",'Qlossdist,dh'!$C38,0)","v":0},{"$f":"IF(V39=\"Oui\",'Qlossdist,dh'!$C38,0)","v":0},{"$f":"IF(W39=\"Oui\",'Qlossdist,dh'!$C38,0)","v":0},{"$f":"IF(X39=\"Oui\",'Qlossdist,dh'!$C38,0)","v":0},{"$f":"IF(Y39=\"Oui\",'Qlossdist,dh'!$C38,0)","v":0},{"$f":"IF(Z39=\"Oui\",'Qlossdist,dh'!$C38,0)","v":0},{"$f":"IF(AA39=\"Oui\",'Qlossdist,dh'!$C38,0)","v":0},{"$f":"IF(AB39=\"Oui\",'Qlossdist,dh'!$C38,0)","v":0},{"$f":"IF(AC39=\"Oui\",'Qlossdist,dh'!$C38,0)","v":0},{"$f":"IF(AD39=\"Oui\",'Qlossdist,dh'!$C38,0)","v":0},{"$f":"IF(AE39=\"Oui\",'Qlossdist,dh'!$C38,0)","v":0},{"$f":"IF(AF39=\"Oui\",'Qlossdist,dh'!$C38,0)","v":0},{"$f":"IF(AG39=\"Oui\",'Qlossdist,dh'!$C38,0)","v":0},{"$f":"IF(AH39=\"Oui\",'Qlossdist,dh'!$C38,0)","v":0},{"$f":"IF(AI39=\"Oui\",'Qlossdist,dh'!$C38,0)","v":0},{"$f":"IF(AJ39=\"Oui\",'Qlossdist,dh'!$C38,0)","v":0},{"$f":"IF(AK39=\"Oui\",'Qlossdist,dh'!$C38,0)","v":0},{"$f":"IF(AL39=\"Oui\",'Qlossdist,dh'!$C38,0)","v":0},{"$f":"IF(AM39=\"Oui\",'Qlossdist,dh'!$C38,0)","v":0},{"$f":"IF(AN39=\"Oui\",'Qlossdist,dh'!$C38,0)","v":0},{"$f":"IF(AO39=\"Oui\",'Qlossdist,dh'!$C38,0)","v":0},{"$f":"IF(AP39=\"Oui\",'Qlossdist,dh'!$C38,0)","v":0},{"$f":"IF(AQ39=\"Oui\",'Qlossdist,dh'!$C38,0)","v":0},{"$f":"IF(AR39=\"Oui\",'Qlossdist,dh'!$C38,0)","v":0},{"$f":"IF(AS39=\"Oui\",'Qlossdist,dh'!$C38,0)","v":0},{"$f":"IF(AT39=\"Oui\",'Qlossdist,dh'!$C38,0)","v":0},{"$f":"IF(AU39=\"Oui\",'Qlossdist,dh'!$C38,0)","v":0},{"$f":"IF(AV39=\"Oui\",'Qlossdist,dh'!$C38,0)","v":0},{"$f":"IF(AW39=\"Oui\",'Qlossdist,dh'!$C38,0)","v":0},{"$f":"IF(AX39=\"Oui\",'Qlossdist,dh'!$C38,0)","v":0},{"$f":"IF(AY39=\"Oui\",'Qlossdist,dh'!$C38,0)","v":0},{"$f":"IF(AZ39=\"Oui\",'Qlossdist,dh'!$C38,0)","v":0},{"$f":"IF(BA39=\"Oui\",'Qlossdist,dh'!$C38,0)","v":0}]
["Qlossdist,l,n [MJ]","Segment 32",32,{"$f":"IF(D40=\"Oui\",'Qlossdist,dh'!$C39,0)","v":0},{"$f":"IF(E40=\"Oui\",'Qlossdist,dh'!$C39,0)","v":0},{"$f":"IF(F40=\"Oui\",'Qlossdist,dh'!$C39,0)","v":0},{"$f":"IF(G40=\"Oui\",'Qlossdist,dh'!$C39,0)","v":0},{"$f":"IF(H40=\"Oui\",'Qlossdist,dh'!$C39,0)","v":0},{"$f":"IF(I40=\"Oui\",'Qlossdist,dh'!$C39,0)","v":0},{"$f":"IF(J40=\"Oui\",'Qlossdist,dh'!$C39,0)","v":0},{"$f":"IF(K40=\"Oui\",'Qlossdist,dh'!$C39,0)","v":0},{"$f":"IF(L40=\"Oui\",'Qlossdist,dh'!$C39,0)","v":0},{"$f":"IF(M40=\"Oui\",'Qlossdist,dh'!$C39,0)","v":0},{"$f":"IF(N40=\"Oui\",'Qlossdist,dh'!$C39,0)","v":0},{"$f":"IF(O40=\"Oui\",'Qlossdist,dh'!$C39,0)","v":0},{"$f":"IF(P40=\"Oui\",'Qlossdist,dh'!$C39,0)","v":0},{"$f":"IF(Q40=\"Oui\",'Qlossdist,dh'!$C39,0)","v":0},{"$f":"IF(R40=\"Oui\",'Qlossdist,dh'!$C39,0)","v":0},{"$f":"IF(S40=\"Oui\",'Qlossdist,dh'!$C39,0)","v":0},{"$f":"IF(T40=\"Oui\",'Qlossdist,dh'!$C39,0)","v":0},{"$f":"IF(U40=\"Oui\",'Qlossdist,dh'!$C39,0)","v":0},{"$f":"IF(V40=\"Oui\",'Qlossdist,dh'!$C39,0)","v":0},{"$f":"IF(W40=\"Oui\",'Qlossdist,dh'!$C39,0)","v":0},{"$f":"IF(X40=\"Oui\",'Qlossdist,dh'!$C39,0)","v":0},{"$f":"IF(Y40=\"Oui\",'Qlossdist,dh'!$C39,0)","v":0},{"$f":"IF(Z40=\"Oui\",'Qlossdist,dh'!$C39,0)","v":0},{"$f":"IF(AA40=\"Oui\",'Qlossdist,dh'!$C39,0)","v":0},{"$f":"IF(AB40=\"Oui\",'Qlossdist,dh'!$C39,0)","v":0},{"$f":"IF(AC40=\"Oui\",'Qlossdist,dh'!$C39,0)","v":0},{"$f":"IF(AD40=\"Oui\",'Qlossdist,dh'!$C39,0)","v":0},{"$f":"IF(AE40=\"Oui\",'Qlossdist,dh'!$C39,0)","v":0},{"$f":"IF(AF40=\"Oui\",'Qlossdist,dh'!$C39,0)","v":0},{"$f":"IF(AG40=\"Oui\",'Qlossdist,dh'!$C39,0)","v":0},{"$f":"IF(AH40=\"Oui\",'Qlossdist,dh'!$C39,0)","v":0},{"$f":"IF(AI40=\"Oui\",'Qlossdist,dh'!$C39,0)","v":0},{"$f":"IF(AJ40=\"Oui\",'Qlossdist,dh'!$C39,0)","v":0},{"$f":"IF(AK40=\"Oui\",'Qlossdist,dh'!$C39,0)","v":0},{"$f":"IF(AL40=\"Oui\",'Qlossdist,dh'!$C39,0)","v":0},{"$f":"IF(AM40=\"Oui\",'Qlossdist,dh'!$C39,0)","v":0},{"$f":"IF(AN40=\"Oui\",'Qlossdist,dh'!$C39,0)","v":0},{"$f":"IF(AO40=\"Oui\",'Qlossdist,dh'!$C39,0)","v":0},{"$f":"IF(AP40=\"Oui\",'Qlossdist,dh'!$C39,0)","v":0},{"$f":"IF(AQ40=\"Oui\",'Qlossdist,dh'!$C39,0)","v":0},{"$f":"IF(AR40=\"Oui\",'Qlossdist,dh'!$C39,0)","v":0},{"$f":"IF(AS40=\"Oui\",'Qlossdist,dh'!$C39,0)","v":0},{"$f":"IF(AT40=\"Oui\",'Qlossdist,dh'!$C39,0)","v":0},{"$f":"IF(AU40=\"Oui\",'Qlossdist,dh'!$C39,0)","v":0},{"$f":"IF(AV40=\"Oui\",'Qlossdist,dh'!$C39,0)","v":0},{"$f":"IF(AW40=\"Oui\",'Qlossdist,dh'!$C39,0)","v":0},{"$f":"IF(AX40=\"Oui\",'Qlossdist,dh'!$C39,0)","v":0},{"$f":"IF(AY40=\"Oui\",'Qlossdist,dh'!$C39,0)","v":0},{"$f":"IF(AZ40=\"Oui\",'Qlossdist,dh'!$C39,0)","v":0},{"$f":"IF(BA40=\"Oui\",'Qlossdist,dh'!$C39,0)","v":0}]
["Qlossdist,l,n [MJ]",{"$f":"\"Segment \"&C296","v":"Segment 33"},33,{"$f":"IF(D41=\"Oui\",'Qlossdist,dh'!$C40,0)","v":0},{"$f":"IF(E41=\"Oui\",'Qlossdist,dh'!$C40,0)","v":0},{"$f":"IF(F41=\"Oui\",'Qlossdist,dh'!$C40,0)","v":0},{"$f":"IF(G41=\"Oui\",'Qlossdist,dh'!$C40,0)","v":0},{"$f":"IF(H41=\"Oui\",'Qlossdist,dh'!$C40,0)","v":0},{"$f":"IF(I41=\"Oui\",'Qlossdist,dh'!$C40,0)","v":0},{"$f":"IF(J41=\"Oui\",'Qlossdist,dh'!$C40,0)","v":0},{"$f":"IF(K41=\"Oui\",'Qlossdist,dh'!$C40,0)","v":0},{"$f":"IF(L41=\"Oui\",'Qlossdist,dh'!$C40,0)","v":0},{"$f":"IF(M41=\"Oui\",'Qlossdist,dh'!$C40,0)","v":0},{"$f":"IF(N41=\"Oui\",'Qlossdist,dh'!$C40,0)","v":0},{"$f":"IF(O41=\"Oui\",'Qlossdist,dh'!$C40,0)","v":0},{"$f":"IF(P41=\"Oui\",'Qlossdist,dh'!$C40,0)","v":0},{"$f":"IF(Q41=\"Oui\",'Qlossdist,dh'!$C40,0)","v":0},{"$f":"IF(R41=\"Oui\",'Qlossdist,dh'!$C40,0)","v":0},{"$f":"IF(S41=\"Oui\",'Qlossdist,dh'!$C40,0)","v":0},{"$f":"IF(T41=\"Oui\",'Qlossdist,dh'!$C40,0)","v":0},{"$f":"IF(U41=\"Oui\",'Qlossdist,dh'!$C40,0)","v":0},{"$f":"IF(V41=\"Oui\",'Qlossdist,dh'!$C40,0)","v":0},{"$f":"IF(W41=\"Oui\",'Qlossdist,dh'!$C40,0)","v":0},{"$f":"IF(X41=\"Oui\",'Qlossdist,dh'!$C40,0)","v":0},{"$f":"IF(Y41=\"Oui\",'Qlossdist,dh'!$C40,0)","v":0},{"$f":"IF(Z41=\"Oui\",'Qlossdist,dh'!$C40,0)","v":0},{"$f":"IF(AA41=\"Oui\",'Qlossdist,dh'!$C40,0)","v":0},{"$f":"IF(AB41=\"Oui\",'Qlossdist,dh'!$C40,0)","v":0},{"$f":"IF(AC41=\"Oui\",'Qlossdist,dh'!$C40,0)","v":0},{"$f":"IF(AD41=\"Oui\",'Qlossdist,dh'!$C40,0)","v":0},{"$f":"IF(AE41=\"Oui\",'Qlossdist,dh'!$C40,0)","v":0},{"$f":"IF(AF41=\"Oui\",'Qlossdist,dh'!$C40,0)","v":0},{"$f":"IF(AG41=\"Oui\",'Qlossdist,dh'!$C40,0)","v":0},{"$f":"IF(AH41=\"Oui\",'Qlossdist,dh'!$C40,0)","v":0},{"$f":"IF(AI41=\"Oui\",'Qlossdist,dh'!$C40,0)","v":0},{"$f":"IF(AJ41=\"Oui\",'Qlossdist,dh'!$C40,0)","v":0},{"$f":"IF(AK41=\"Oui\",'Qlossdist,dh'!$C40,0)","v":0},{"$f":"IF(AL41=\"Oui\",'Qlossdist,dh'!$C40,0)","v":0},{"$f":"IF(AM41=\"Oui\",'Qlossdist,dh'!$C40,0)","v":0},{"$f":"IF(AN41=\"Oui\",'Qlossdist,dh'!$C40,0)","v":0},{"$f":"IF(AO41=\"Oui\",'Qlossdist,dh'!$C40,0)","v":0},{"$f":"IF(AP41=\"Oui\",'Qlossdist,dh'!$C40,0)","v":0},{"$f":"IF(AQ41=\"Oui\",'Qlossdist,dh'!$C40,0)","v":0},{"$f":"IF(AR41=\"Oui\",'Qlossdist,dh'!$C40,0)","v":0},{"$f":"IF(AS41=\"Oui\",'Qlossdist,dh'!$C40,0)","v":0},{"$f":"IF(AT41=\"Oui\",'Qlossdist,dh'!$C40,0)","v":0},{"$f":"IF(AU41=\"Oui\",'Qlossdist,dh'!$C40,0)","v":0},{"$f":"IF(AV41=\"Oui\",'Qlossdist,dh'!$C40,0)","v":0},{"$f":"IF(AW41=\"Oui\",'Qlossdist,dh'!$C40,0)","v":0},{"$f":"IF(AX41=\"Oui\",'Qlossdist,dh'!$C40,0)","v":0},{"$f":"IF(AY41=\"Oui\",'Qlossdist,dh'!$C40,0)","v":0},{"$f":"IF(AZ41=\"Oui\",'Qlossdist,dh'!$C40,0)","v":0},{"$f":"IF(BA41=\"Oui\",'Qlossdist,dh'!$C40,0)","v":0}]
["Qlossdist,l,n [MJ]","Segment 34",34,{"$f":"IF(D42=\"Oui\",'Qlossdist,dh'!$C41,0)","v":0},{"$f":"IF(E42=\"Oui\",'Qlossdist,dh'!$C41,0)","v":0},{"$f":"IF(F42=\"Oui\",'Qlossdist,dh'!$C41,0)","v":0},{"$f":"IF(G42=\"Oui\",'Qlossdist,dh'!$C41,0)","v":0},{"$f":"IF(H42=\"Oui\",'Qlossdist,dh'!$C41,0)","v":0},{"$f":"IF(I42=\"Oui\",'Qlossdist,dh'!$C41,0)","v":0},{"$f":"IF(J42=\"Oui\",'Qlossdist,dh'!$C41,0)","v":0},{"$f":"IF(K42=\"Oui\",'Qlossdist,dh'!$C41,0)","v":0},{"$f":"IF(L42=\"Oui\",'Qlossdist,dh'!$C41,0)","v":0},{"$f":"IF(M42=\"Oui\",'Qlossdist,dh'!$C41,0)","v":0},{"$f":"IF(N42=\"Oui\",'Qlossdist,dh'!$C41,0)","v":0},{"$f":"IF(O42=\"Oui\",'Qlossdist,dh'!$C41,0)","v":0},{"$f":"IF(P42=\"Oui\",'Qlossdist,dh'!$C41,0)","v":0},{"$f":"IF(Q42=\"Oui\",'Qlossdist,dh'!$C41,0)","v":0},{"$f":"IF(R42=\"Oui\",'Qlossdist,dh'!$C41,0)","v":0},{"$f":"IF(S42=\"Oui\",'Qlossdist,dh'!$C41,0)","v":0},{"$f":"IF(T42=\"Oui\",'Qlossdist,dh'!$C41,0)","v":0},{"$f":"IF(U42=\"Oui\",'Qlossdist,dh'!$C41,0)","v":0},{"$f":"IF(V42=\"Oui\",'Qlossdist,dh'!$C41,0)","v":0},{"$f":"IF(W42=\"Oui\",'Qlossdist,dh'!$C41,0)","v":0},{"$f":"IF(X42=\"Oui\",'Qlossdist,dh'!$C41,0)","v":0},{"$f":"IF(Y42=\"Oui\",'Qlossdist,dh'!$C41,0)","v":0},{"$f":"IF(Z42=\"Oui\",'Qlossdist,dh'!$C41,0)","v":0},{"$f":"IF(AA42=\"Oui\",'Qlossdist,dh'!$C41,0)","v":0},{"$f":"IF(AB42=\"Oui\",'Qlossdist,dh'!$C41,0)","v":0},{"$f":"IF(AC42=\"Oui\",'Qlossdist,dh'!$C41,0)","v":0},{"$f":"IF(AD42=\"Oui\",'Qlossdist,dh'!$C41,0)","v":0},{"$f":"IF(AE42=\"Oui\",'Qlossdist,dh'!$C41,0)","v":0},{"$f":"IF(AF42=\"Oui\",'Qlossdist,dh'!$C41,0)","v":0},{"$f":"IF(AG42=\"Oui\",'Qlossdist,dh'!$C41,0)","v":0},{"$f":"IF(AH42=\"Oui\",'Qlossdist,dh'!$C41,0)","v":0},{"$f":"IF(AI42=\"Oui\",'Qlossdist,dh'!$C41,0)","v":0},{"$f":"IF(AJ42=\"Oui\",'Qlossdist,dh'!$C41,0)","v":0},{"$f":"IF(AK42=\"Oui\",'Qlossdist,dh'!$C41,0)","v":0},{"$f":"IF(AL42=\"Oui\",'Qlossdist,dh'!$C41,0)","v":0},{"$f":"IF(AM42=\"Oui\",'Qlossdist,dh'!$C41,0)","v":0},{"$f":"IF(AN42=\"Oui\",'Qlossdist,dh'!$C41,0)","v":0},{"$f":"IF(AO42=\"Oui\",'Qlossdist,dh'!$C41,0)","v":0},{"$f":"IF(AP42=\"Oui\",'Qlossdist,dh'!$C41,0)","v":0},{"$f":"IF(AQ42=\"Oui\",'Qlossdist,dh'!$C41,0)","v":0},{"$f":"IF(AR42=\"Oui\",'Qlossdist,dh'!$C41,0)","v":0},{"$f":"IF(AS42=\"Oui\",'Qlossdist,dh'!$C41,0)","v":0},{"$f":"IF(AT42=\"Oui\",'Qlossdist,dh'!$C41,0)","v":0},{"$f":"IF(AU42=\"Oui\",'Qlossdist,dh'!$C41,0)","v":0},{"$f":"IF(AV42=\"Oui\",'Qlossdist,dh'!$C41,0)","v":0},{"$f":"IF(AW42=\"Oui\",'Qlossdist,dh'!$C41,0)","v":0},{"$f":"IF(AX42=\"Oui\",'Qlossdist,dh'!$C41,0)","v":0},{"$f":"IF(AY42=\"Oui\",'Qlossdist,dh'!$C41,0)","v":0},{"$f":"IF(AZ42=\"Oui\",'Qlossdist,dh'!$C41,0)","v":0},{"$f":"IF(BA42=\"Oui\",'Qlossdist,dh'!$C41,0)","v":0}]
["Qlossdist,l,n [MJ]","Segment 35",35,{"$f":"IF(D43=\"Oui\",'Qlossdist,dh'!$C42,0)","v":0},{"$f":"IF(E43=\"Oui\",'Qlossdist,dh'!$C42,0)","v":0},{"$f":"IF(F43=\"Oui\",'Qlossdist,dh'!$C42,0)","v":0},{"$f":"IF(G43=\"Oui\",'Qlossdist,dh'!$C42,0)","v":0},{"$f":"IF(H43=\"Oui\",'Qlossdist,dh'!$C42,0)","v":0},{"$f":"IF(I43=\"Oui\",'Qlossdist,dh'!$C42,0)","v":0},{"$f":"IF(J43=\"Oui\",'Qlossdist,dh'!$C42,0)","v":0},{"$f":"IF(K43=\"Oui\",'Qlossdist,dh'!$C42,0)","v":0},{"$f":"IF(L43=\"Oui\",'Qlossdist,dh'!$C42,0)","v":0},{"$f":"IF(M43=\"Oui\",'Qlossdist,dh'!$C42,0)","v":0},{"$f":"IF(N43=\"Oui\",'Qlossdist,dh'!$C42,0)","v":0},{"$f":"IF(O43=\"Oui\",'Qlossdist,dh'!$C42,0)","v":0},{"$f":"IF(P43=\"Oui\",'Qlossdist,dh'!$C42,0)","v":0},{"$f":"IF(Q43=\"Oui\",'Qlossdist,dh'!$C42,0)","v":0},{"$f":"IF(R43=\"Oui\",'Qlossdist,dh'!$C42,0)","v":0},{"$f":"IF(S43=\"Oui\",'Qlossdist,dh'!$C42,0)","v":0},{"$f":"IF(T43=\"Oui\",'Qlossdist,dh'!$C42,0)","v":0},{"$f":"IF(U43=\"Oui\",'Qlossdist,dh'!$C42,0)","v":0},{"$f":"IF(V43=\"Oui\",'Qlossdist,dh'!$C42,0)","v":0},{"$f":"IF(W43=\"Oui\",'Qlossdist,dh'!$C42,0)","v":0},{"$f":"IF(X43=\"Oui\",'Qlossdist,dh'!$C42,0)","v":0},{"$f":"IF(Y43=\"Oui\",'Qlossdist,dh'!$C42,0)","v":0},{"$f":"IF(Z43=\"Oui\",'Qlossdist,dh'!$C42,0)","v":0},{"$f":"IF(AA43=\"Oui\",'Qlossdist,dh'!$C42,0)","v":0},{"$f":"IF(AB43=\"Oui\",'Qlossdist,dh'!$C42,0)","v":0},{"$f":"IF(AC43=\"Oui\",'Qlossdist,dh'!$C42,0)","v":0},{"$f":"IF(AD43=\"Oui\",'Qlossdist,dh'!$C42,0)","v":0},{"$f":"IF(AE43=\"Oui\",'Qlossdist,dh'!$C42,0)","v":0},{"$f":"IF(AF43=\"Oui\",'Qlossdist,dh'!$C42,0)","v":0},{"$f":"IF(AG43=\"Oui\",'Qlossdist,dh'!$C42,0)","v":0},{"$f":"IF(AH43=\"Oui\",'Qlossdist,dh'!$C42,0)","v":0},{"$f":"IF(AI43=\"Oui\",'Qlossdist,dh'!$C42,0)","v":0},{"$f":"IF(AJ43=\"Oui\",'Qlossdist,dh'!$C42,0)","v":0},{"$f":"IF(AK43=\"Oui\",'Qlossdist,dh'!$C42,0)","v":0},{"$f":"IF(AL43=\"Oui\",'Qlossdist,dh'!$C42,0)","v":0},{"$f":"IF(AM43=\"Oui\",'Qlossdist,dh'!$C42,0)","v":0},{"$f":"IF(AN43=\"Oui\",'Qlossdist,dh'!$C42,0)","v":0},{"$f":"IF(AO43=\"Oui\",'Qlossdist,dh'!$C42,0)","v":0},{"$f":"IF(AP43=\"Oui\",'Qlossdist,dh'!$C42,0)","v":0},{"$f":"IF(AQ43=\"Oui\",'Qlossdist,dh'!$C42,0)","v":0},{"$f":"IF(AR43=\"Oui\",'Qlossdist,dh'!$C42,0)","v":0},{"$f":"IF(AS43=\"Oui\",'Qlossdist,dh'!$C42,0)","v":0},{"$f":"IF(AT43=\"Oui\",'Qlossdist,dh'!$C42,0)","v":0},{"$f":"IF(AU43=\"Oui\",'Qlossdist,dh'!$C42,0)","v":0},{"$f":"IF(AV43=\"Oui\",'Qlossdist,dh'!$C42,0)","v":0},{"$f":"IF(AW43=\"Oui\",'Qlossdist,dh'!$C42,0)","v":0},{"$f":"IF(AX43=\"Oui\",'Qlossdist,dh'!$C42,0)","v":0},{"$f":"IF(AY43=\"Oui\",'Qlossdist,dh'!$C42,0)","v":0},{"$f":"IF(AZ43=\"Oui\",'Qlossdist,dh'!$C42,0)","v":0},{"$f":"IF(BA43=\"Oui\",'Qlossdist,dh'!$C42,0)","v":0}]
["Qlossdist,l,n [MJ]","Segment 36",36,{"$f":"IF(D44=\"Oui\",'Qlossdist,dh'!$C43,0)","v":0},{"$f":"IF(E44=\"Oui\",'Qlossdist,dh'!$C43,0)","v":0},{"$f":"IF(F44=\"Oui\",'Qlossdist,dh'!$C43,0)","v":0},{"$f":"IF(G44=\"Oui\",'Qlossdist,dh'!$C43,0)","v":0},{"$f":"IF(H44=\"Oui\",'Qlossdist,dh'!$C43,0)","v":0},{"$f":"IF(I44=\"Oui\",'Qlossdist,dh'!$C43,0)","v":0},{"$f":"IF(J44=\"Oui\",'Qlossdist,dh'!$C43,0)","v":0},{"$f":"IF(K44=\"Oui\",'Qlossdist,dh'!$C43,0)","v":0},{"$f":"IF(L44=\"Oui\",'Qlossdist,dh'!$C43,0)","v":0},{"$f":"IF(M44=\"Oui\",'Qlossdist,dh'!$C43,0)","v":0},{"$f":"IF(N44=\"Oui\",'Qlossdist,dh'!$C43,0)","v":0},{"$f":"IF(O44=\"Oui\",'Qlossdist,dh'!$C43,0)","v":0},{"$f":"IF(P44=\"Oui\",'Qlossdist,dh'!$C43,0)","v":0},{"$f":"IF(Q44=\"Oui\",'Qlossdist,dh'!$C43,0)","v":0},{"$f":"IF(R44=\"Oui\",'Qlossdist,dh'!$C43,0)","v":0},{"$f":"IF(S44=\"Oui\",'Qlossdist,dh'!$C43,0)","v":0},{"$f":"IF(T44=\"Oui\",'Qlossdist,dh'!$C43,0)","v":0},{"$f":"IF(U44=\"Oui\",'Qlossdist,dh'!$C43,0)","v":0},{"$f":"IF(V44=\"Oui\",'Qlossdist,dh'!$C43,0)","v":0},{"$f":"IF(W44=\"Oui\",'Qlossdist,dh'!$C43,0)","v":0},{"$f":"IF(X44=\"Oui\",'Qlossdist,dh'!$C43,0)","v":0},{"$f":"IF(Y44=\"Oui\",'Qlossdist,dh'!$C43,0)","v":0},{"$f":"IF(Z44=\"Oui\",'Qlossdist,dh'!$C43,0)","v":0},{"$f":"IF(AA44=\"Oui\",'Qlossdist,dh'!$C43,0)","v":0},{"$f":"IF(AB44=\"Oui\",'Qlossdist,dh'!$C43,0)","v":0},{"$f":"IF(AC44=\"Oui\",'Qlossdist,dh'!$C43,0)","v":0},{"$f":"IF(AD44=\"Oui\",'Qlossdist,dh'!$C43,0)","v":0},{"$f":"IF(AE44=\"Oui\",'Qlossdist,dh'!$C43,0)","v":0},{"$f":"IF(AF44=\"Oui\",'Qlossdist,dh'!$C43,0)","v":0},{"$f":"IF(AG44=\"Oui\",'Qlossdist,dh'!$C43,0)","v":0},{"$f":"IF(AH44=\"Oui\",'Qlossdist,dh'!$C43,0)","v":0},{"$f":"IF(AI44=\"Oui\",'Qlossdist,dh'!$C43,0)","v":0},{"$f":"IF(AJ44=\"Oui\",'Qlossdist,dh'!$C43,0)","v":0},{"$f":"IF(AK44=\"Oui\",'Qlossdist,dh'!$C43,0)","v":0},{"$f":"IF(AL44=\"Oui\",'Qlossdist,dh'!$C43,0)","v":0},{"$f":"IF(AM44=\"Oui\",'Qlossdist,dh'!$C43,0)","v":0},{"$f":"IF(AN44=\"Oui\",'Qlossdist,dh'!$C43,0)","v":0},{"$f":"IF(AO44=\"Oui\",'Qlossdist,dh'!$C43,0)","v":0},{"$f":"IF(AP44=\"Oui\",'Qlossdist,dh'!$C43,0)","v":0},{"$f":"IF(AQ44=\"Oui\",'Qlossdist,dh'!$C43,0)","v":0},{"$f":"IF(AR44=\"Oui\",'Qlossdist,dh'!$C43,0)","v":0},{"$f":"IF(AS44=\"Oui\",'Qlossdist,dh'!$C43,0)","v":0},{"$f":"IF(AT44=\"Oui\",'Qlossdist,dh'!$C43,0)","v":0},{"$f":"IF(AU44=\"Oui\",'Qlossdist,dh'!$C43,0)","v":0},{"$f":"IF(AV44=\"Oui\",'Qlossdist,dh'!$C43,0)","v":0},{"$f":"IF(AW44=\"Oui\",'Qlossdist,dh'!$C43,0)","v":0},{"$f":"IF(AX44=\"Oui\",'Qlossdist,dh'!$C43,0)","v":0},{"$f":"IF(AY44=\"Oui\",'Qlossdist,dh'!$C43,0)","v":0},{"$f":"IF(AZ44=\"Oui\",'Qlossdist,dh'!$C43,0)","v":0},{"$f":"IF(BA44=\"Oui\",'Qlossdist,dh'!$C43,0)","v":0}]
["Qlossdist,l,n [MJ]","Segment 37",37,{"$f":"IF(D45=\"Oui\",'Qlossdist,dh'!$C44,0)","v":0},{"$f":"IF(E45=\"Oui\",'Qlossdist,dh'!$C44,0)","v":0},{"$f":"IF(F45=\"Oui\",'Qlossdist,dh'!$C44,0)","v":0},{"$f":"IF(G45=\"Oui\",'Qlossdist,dh'!$C44,0)","v":0},{"$f":"IF(H45=\"Oui\",'Qlossdist,dh'!$C44,0)","v":0},{"$f":"IF(I45=\"Oui\",'Qlossdist,dh'!$C44,0)","v":0},{"$f":"IF(J45=\"Oui\",'Qlossdist,dh'!$C44,0)","v":0},{"$f":"IF(K45=\"Oui\",'Qlossdist,dh'!$C44,0)","v":0},{"$f":"IF(L45=\"Oui\",'Qlossdist,dh'!$C44,0)","v":0},{"$f":"IF(M45=\"Oui\",'Qlossdist,dh'!$C44,0)","v":0},{"$f":"IF(N45=\"Oui\",'Qlossdist,dh'!$C44,0)","v":0},{"$f":"IF(O45=\"Oui\",'Qlossdist,dh'!$C44,0)","v":0},{"$f":"IF(P45=\"Oui\",'Qlossdist,dh'!$C44,0)","v":0},{"$f":"IF(Q45=\"Oui\",'Qlossdist,dh'!$C44,0)","v":0},{"$f":"IF(R45=\"Oui\",'Qlossdist,dh'!$C44,0)","v":0},{"$f":"IF(S45=\"Oui\",'Qlossdist,dh'!$C44,0)","v":0},{"$f":"IF(T45=\"Oui\",'Qlossdist,dh'!$C44,0)","v":0},{"$f":"IF(U45=\"Oui\",'Qlossdist,dh'!$C44,0)","v":0},{"$f":"IF(V45=\"Oui\",'Qlossdist,dh'!$C44,0)","v":0},{"$f":"IF(W45=\"Oui\",'Qlossdist,dh'!$C44,0)","v":0},{"$f":"IF(X45=\"Oui\",'Qlossdist,dh'!$C44,0)","v":0},{"$f":"IF(Y45=\"Oui\",'Qlossdist,dh'!$C44,0)","v":0},{"$f":"IF(Z45=\"Oui\",'Qlossdist,dh'!$C44,0)","v":0},{"$f":"IF(AA45=\"Oui\",'Qlossdist,dh'!$C44,0)","v":0},{"$f":"IF(AB45=\"Oui\",'Qlossdist,dh'!$C44,0)","v":0},{"$f":"IF(AC45=\"Oui\",'Qlossdist,dh'!$C44,0)","v":0},{"$f":"IF(AD45=\"Oui\",'Qlossdist,dh'!$C44,0)","v":0},{"$f":"IF(AE45=\"Oui\",'Qlossdist,dh'!$C44,0)","v":0},{"$f":"IF(AF45=\"Oui\",'Qlossdist,dh'!$C44,0)","v":0},{"$f":"IF(AG45=\"Oui\",'Qlossdist,dh'!$C44,0)","v":0},{"$f":"IF(AH45=\"Oui\",'Qlossdist,dh'!$C44,0)","v":0},{"$f":"IF(AI45=\"Oui\",'Qlossdist,dh'!$C44,0)","v":0},{"$f":"IF(AJ45=\"Oui\",'Qlossdist,dh'!$C44,0)","v":0},{"$f":"IF(AK45=\"Oui\",'Qlossdist,dh'!$C44,0)","v":0},{"$f":"IF(AL45=\"Oui\",'Qlossdist,dh'!$C44,0)","v":0},{"$f":"IF(AM45=\"Oui\",'Qlossdist,dh'!$C44,0)","v":0},{"$f":"IF(AN45=\"Oui\",'Qlossdist,dh'!$C44,0)","v":0},{"$f":"IF(AO45=\"Oui\",'Qlossdist,dh'!$C44,0)","v":0},{"$f":"IF(AP45=\"Oui\",'Qlossdist,dh'!$C44,0)","v":0},{"$f":"IF(AQ45=\"Oui\",'Qlossdist,dh'!$C44,0)","v":0},{"$f":"IF(AR45=\"Oui\",'Qlossdist,dh'!$C44,0)","v":0},{"$f":"IF(AS45=\"Oui\",'Qlossdist,dh'!$C44,0)","v":0},{"$f":"IF(AT45=\"Oui\",'Qlossdist,dh'!$C44,0)","v":0},{"$f":"IF(AU45=\"Oui\",'Qlossdist,dh'!$C44,0)","v":0},{"$f":"IF(AV45=\"Oui\",'Qlossdist,dh'!$C44,0)","v":0},{"$f":"IF(AW45=\"Oui\",'Qlossdist,dh'!$C44,0)","v":0},{"$f":"IF(AX45=\"Oui\",'Qlossdist,dh'!$C44,0)","v":0},{"$f":"IF(AY45=\"Oui\",'Qlossdist,dh'!$C44,0)","v":0},{"$f":"IF(AZ45=\"Oui\",'Qlossdist,dh'!$C44,0)","v":0},{"$f":"IF(BA45=\"Oui\",'Qlossdist,dh'!$C44,0)","v":0}]
["Qlossdist,l,n [MJ]","Segment 38",38,{"$f":"IF(D46=\"Oui\",'Qlossdist,dh'!$C45,0)","v":0},{"$f":"IF(E46=\"Oui\",'Qlossdist,dh'!$C45,0)","v":0},{"$f":"IF(F46=\"Oui\",'Qlossdist,dh'!$C45,0)","v":0},{"$f":"IF(G46=\"Oui\",'Qlossdist,dh'!$C45,0)","v":0},{"$f":"IF(H46=\"Oui\",'Qlossdist,dh'!$C45,0)","v":0},{"$f":"IF(I46=\"Oui\",'Qlossdist,dh'!$C45,0)","v":0},{"$f":"IF(J46=\"Oui\",'Qlossdist,dh'!$C45,0)","v":0},{"$f":"IF(K46=\"Oui\",'Qlossdist,dh'!$C45,0)","v":0},{"$f":"IF(L46=\"Oui\",'Qlossdist,dh'!$C45,0)","v":0},{"$f":"IF(M46=\"Oui\",'Qlossdist,dh'!$C45,0)","v":0},{"$f":"IF(N46=\"Oui\",'Qlossdist,dh'!$C45,0)","v":0},{"$f":"IF(O46=\"Oui\",'Qlossdist,dh'!$C45,0)","v":0},{"$f":"IF(P46=\"Oui\",'Qlossdist,dh'!$C45,0)","v":0},{"$f":"IF(Q46=\"Oui\",'Qlossdist,dh'!$C45,0)","v":0},{"$f":"IF(R46=\"Oui\",'Qlossdist,dh'!$C45,0)","v":0},{"$f":"IF(S46=\"Oui\",'Qlossdist,dh'!$C45,0)","v":0},{"$f":"IF(T46=\"Oui\",'Qlossdist,dh'!$C45,0)","v":0},{"$f":"IF(U46=\"Oui\",'Qlossdist,dh'!$C45,0)","v":0},{"$f":"IF(V46=\"Oui\",'Qlossdist,dh'!$C45,0)","v":0},{"$f":"IF(W46=\"Oui\",'Qlossdist,dh'!$C45,0)","v":0},{"$f":"IF(X46=\"Oui\",'Qlossdist,dh'!$C45,0)","v":0},{"$f":"IF(Y46=\"Oui\",'Qlossdist,dh'!$C45,0)","v":0},{"$f":"IF(Z46=\"Oui\",'Qlossdist,dh'!$C45,0)","v":0},{"$f":"IF(AA46=\"Oui\",'Qlossdist,dh'!$C45,0)","v":0},{"$f":"IF(AB46=\"Oui\",'Qlossdist,dh'!$C45,0)","v":0},{"$f":"IF(AC46=\"Oui\",'Qlossdist,dh'!$C45,0)","v":0},{"$f":"IF(AD46=\"Oui\",'Qlossdist,dh'!$C45,0)","v":0},{"$f":"IF(AE46=\"Oui\",'Qlossdist,dh'!$C45,0)","v":0},{"$f":"IF(AF46=\"Oui\",'Qlossdist,dh'!$C45,0)","v":0},{"$f":"IF(AG46=\"Oui\",'Qlossdist,dh'!$C45,0)","v":0},{"$f":"IF(AH46=\"Oui\",'Qlossdist,dh'!$C45,0)","v":0},{"$f":"IF(AI46=\"Oui\",'Qlossdist,dh'!$C45,0)","v":0},{"$f":"IF(AJ46=\"Oui\",'Qlossdist,dh'!$C45,0)","v":0},{"$f":"IF(AK46=\"Oui\",'Qlossdist,dh'!$C45,0)","v":0},{"$f":"IF(AL46=\"Oui\",'Qlossdist,dh'!$C45,0)","v":0},{"$f":"IF(AM46=\"Oui\",'Qlossdist,dh'!$C45,0)","v":0},{"$f":"IF(AN46=\"Oui\",'Qlossdist,dh'!$C45,0)","v":0},{"$f":"IF(AO46=\"Oui\",'Qlossdist,dh'!$C45,0)","v":0},{"$f":"IF(AP46=\"Oui\",'Qlossdist,dh'!$C45,0)","v":0},{"$f":"IF(AQ46=\"Oui\",'Qlossdist,dh'!$C45,0)","v":0},{"$f":"IF(AR46=\"Oui\",'Qlossdist,dh'!$C45,0)","v":0},{"$f":"IF(AS46=\"Oui\",'Qlossdist,dh'!$C45,0)","v":0},{"$f":"IF(AT46=\"Oui\",'Qlossdist,dh'!$C45,0)","v":0},{"$f":"IF(AU46=\"Oui\",'Qlossdist,dh'!$C45,0)","v":0},{"$f":"IF(AV46=\"Oui\",'Qlossdist,dh'!$C45,0)","v":0},{"$f":"IF(AW46=\"Oui\",'Qlossdist,dh'!$C45,0)","v":0},{"$f":"IF(AX46=\"Oui\",'Qlossdist,dh'!$C45,0)","v":0},{"$f":"IF(AY46=\"Oui\",'Qlossdist,dh'!$C45,0)","v":0},{"$f":"IF(AZ46=\"Oui\",'Qlossdist,dh'!$C45,0)","v":0},{"$f":"IF(BA46=\"Oui\",'Qlossdist,dh'!$C45,0)","v":0}]
["Qlossdist,l,n [MJ]","Segment 39",39,{"$f":"IF(D47=\"Oui\",'Qlossdist,dh'!$C46,0)","v":0},{"$f":"IF(E47=\"Oui\",'Qlossdist,dh'!$C46,0)","v":0},{"$f":"IF(F47=\"Oui\",'Qlossdist,dh'!$C46,0)","v":0},{"$f":"IF(G47=\"Oui\",'Qlossdist,dh'!$C46,0)","v":0},{"$f":"IF(H47=\"Oui\",'Qlossdist,dh'!$C46,0)","v":0},{"$f":"IF(I47=\"Oui\",'Qlossdist,dh'!$C46,0)","v":0},{"$f":"IF(J47=\"Oui\",'Qlossdist,dh'!$C46,0)","v":0},{"$f":"IF(K47=\"Oui\",'Qlossdist,dh'!$C46,0)","v":0},{"$f":"IF(L47=\"Oui\",'Qlossdist,dh'!$C46,0)","v":0},{"$f":"IF(M47=\"Oui\",'Qlossdist,dh'!$C46,0)","v":0},{"$f":"IF(N47=\"Oui\",'Qlossdist,dh'!$C46,0)","v":0},{"$f":"IF(O47=\"Oui\",'Qlossdist,dh'!$C46,0)","v":0},{"$f":"IF(P47=\"Oui\",'Qlossdist,dh'!$C46,0)","v":0},{"$f":"IF(Q47=\"Oui\",'Qlossdist,dh'!$C46,0)","v":0},{"$f":"IF(R47=\"Oui\",'Qlossdist,dh'!$C46,0)","v":0},{"$f":"IF(S47=\"Oui\",'Qlossdist,dh'!$C46,0)","v":0},{"$f":"IF(T47=\"Oui\",'Qlossdist,dh'!$C46,0)","v":0},{"$f":"IF(U47=\"Oui\",'Qlossdist,dh'!$C46,0)","v":0},{"$f":"IF(V47=\"Oui\",'Qlossdist,dh'!$C46,0)","v":0},{"$f":"IF(W47=\"Oui\",'Qlossdist,dh'!$C46,0)","v":0},{"$f":"IF(X47=\"Oui\",'Qlossdist,dh'!$C46,0)","v":0},{"$f":"IF(Y47=\"Oui\",'Qlossdist,dh'!$C46,0)","v":0},{"$f":"IF(Z47=\"Oui\",'Qlossdist,dh'!$C46,0)","v":0},{"$f":"IF(AA47=\"Oui\",'Qlossdist,dh'!$C46,0)","v":0},{"$f":"IF(AB47=\"Oui\",'Qlossdist,dh'!$C46,0)","v":0},{"$f":"IF(AC47=\"Oui\",'Qlossdist,dh'!$C46,0)","v":0},{"$f":"IF(AD47=\"Oui\",'Qlossdist,dh'!$C46,0)","v":0},{"$f":"IF(AE47=\"Oui\",'Qlossdist,dh'!$C46,0)","v":0},{"$f":"IF(AF47=\"Oui\",'Qlossdist,dh'!$C46,0)","v":0},{"$f":"IF(AG47=\"Oui\",'Qlossdist,dh'!$C46,0)","v":0},{"$f":"IF(AH47=\"Oui\",'Qlossdist,dh'!$C46,0)","v":0},{"$f":"IF(AI47=\"Oui\",'Qlossdist,dh'!$C46,0)","v":0},{"$f":"IF(AJ47=\"Oui\",'Qlossdist,dh'!$C46,0)","v":0},{"$f":"IF(AK47=\"Oui\",'Qlossdist,dh'!$C46,0)","v":0},{"$f":"IF(AL47=\"Oui\",'Qlossdist,dh'!$C46,0)","v":0},{"$f":"IF(AM47=\"Oui\",'Qlossdist,dh'!$C46,0)","v":0},{"$f":"IF(AN47=\"Oui\",'Qlossdist,dh'!$C46,0)","v":0},{"$f":"IF(AO47=\"Oui\",'Qlossdist,dh'!$C46,0)","v":0},{"$f":"IF(AP47=\"Oui\",'Qlossdist,dh'!$C46,0)","v":0},{"$f":"IF(AQ47=\"Oui\",'Qlossdist,dh'!$C46,0)","v":0},{"$f":"IF(AR47=\"Oui\",'Qlossdist,dh'!$C46,0)","v":0},{"$f":"IF(AS47=\"Oui\",'Qlossdist,dh'!$C46,0)","v":0},{"$f":"IF(AT47=\"Oui\",'Qlossdist,dh'!$C46,0)","v":0},{"$f":"IF(AU47=\"Oui\",'Qlossdist,dh'!$C46,0)","v":0},{"$f":"IF(AV47=\"Oui\",'Qlossdist,dh'!$C46,0)","v":0},{"$f":"IF(AW47=\"Oui\",'Qlossdist,dh'!$C46,0)","v":0},{"$f":"IF(AX47=\"Oui\",'Qlossdist,dh'!$C46,0)","v":0},{"$f":"IF(AY47=\"Oui\",'Qlossdist,dh'!$C46,0)","v":0},{"$f":"IF(AZ47=\"Oui\",'Qlossdist,dh'!$C46,0)","v":0},{"$f":"IF(BA47=\"Oui\",'Qlossdist,dh'!$C46,0)","v":0}]
["Qlossdist,l,n [MJ]","Segment 40",40,{"$f":"IF(D48=\"Oui\",'Qlossdist,dh'!$C47,0)","v":0},{"$f":"IF(E48=\"Oui\",'Qlossdist,dh'!$C47,0)","v":0},{"$f":"IF(F48=\"Oui\",'Qlossdist,dh'!$C47,0)","v":0},{"$f":"IF(G48=\"Oui\",'Qlossdist,dh'!$C47,0)","v":0},{"$f":"IF(H48=\"Oui\",'Qlossdist,dh'!$C47,0)","v":0},{"$f":"IF(I48=\"Oui\",'Qlossdist,dh'!$C47,0)","v":0},{"$f":"IF(J48=\"Oui\",'Qlossdist,dh'!$C47,0)","v":0},{"$f":"IF(K48=\"Oui\",'Qlossdist,dh'!$C47,0)","v":0},{"$f":"IF(L48=\"Oui\",'Qlossdist,dh'!$C47,0)","v":0},{"$f":"IF(M48=\"Oui\",'Qlossdist,dh'!$C47,0)","v":0},{"$f":"IF(N48=\"Oui\",'Qlossdist,dh'!$C47,0)","v":0},{"$f":"IF(O48=\"Oui\",'Qlossdist,dh'!$C47,0)","v":0},{"$f":"IF(P48=\"Oui\",'Qlossdist,dh'!$C47,0)","v":0},{"$f":"IF(Q48=\"Oui\",'Qlossdist,dh'!$C47,0)","v":0},{"$f":"IF(R48=\"Oui\",'Qlossdist,dh'!$C47,0)","v":0},{"$f":"IF(S48=\"Oui\",'Qlossdist,dh'!$C47,0)","v":0},{"$f":"IF(T48=\"Oui\",'Qlossdist,dh'!$C47,0)","v":0},{"$f":"IF(U48=\"Oui\",'Qlossdist,dh'!$C47,0)","v":0},{"$f":"IF(V48=\"Oui\",'Qlossdist,dh'!$C47,0)","v":0},{"$f":"IF(W48=\"Oui\",'Qlossdist,dh'!$C47,0)","v":0},{"$f":"IF(X48=\"Oui\",'Qlossdist,dh'!$C47,0)","v":0},{"$f":"IF(Y48=\"Oui\",'Qlossdist,dh'!$C47,0)","v":0},{"$f":"IF(Z48=\"Oui\",'Qlossdist,dh'!$C47,0)","v":0},{"$f":"IF(AA48=\"Oui\",'Qlossdist,dh'!$C47,0)","v":0},{"$f":"IF(AB48=\"Oui\",'Qlossdist,dh'!$C47,0)","v":0},{"$f":"IF(AC48=\"Oui\",'Qlossdist,dh'!$C47,0)","v":0},{"$f":"IF(AD48=\"Oui\",'Qlossdist,dh'!$C47,0)","v":0},{"$f":"IF(AE48=\"Oui\",'Qlossdist,dh'!$C47,0)","v":0},{"$f":"IF(AF48=\"Oui\",'Qlossdist,dh'!$C47,0)","v":0},{"$f":"IF(AG48=\"Oui\",'Qlossdist,dh'!$C47,0)","v":0},{"$f":"IF(AH48=\"Oui\",'Qlossdist,dh'!$C47,0)","v":0},{"$f":"IF(AI48=\"Oui\",'Qlossdist,dh'!$C47,0)","v":0},{"$f":"IF(AJ48=\"Oui\",'Qlossdist,dh'!$C47,0)","v":0},{"$f":"IF(AK48=\"Oui\",'Qlossdist,dh'!$C47,0)","v":0},{"$f":"IF(AL48=\"Oui\",'Qlossdist,dh'!$C47,0)","v":0},{"$f":"IF(AM48=\"Oui\",'Qlossdist,dh'!$C47,0)","v":0},{"$f":"IF(AN48=\"Oui\",'Qlossdist,dh'!$C47,0)","v":0},{"$f":"IF(AO48=\"Oui\",'Qlossdist,dh'!$C47,0)","v":0},{"$f":"IF(AP48=\"Oui\",'Qlossdist,dh'!$C47,0)","v":0},{"$f":"IF(AQ48=\"Oui\",'Qlossdist,dh'!$C47,0)","v":0},{"$f":"IF(AR48=\"Oui\",'Qlossdist,dh'!$C47,0)","v":0},{"$f":"IF(AS48=\"Oui\",'Qlossdist,dh'!$C47,0)","v":0},{"$f":"IF(AT48=\"Oui\",'Qlossdist,dh'!$C47,0)","v":0},{"$f":"IF(AU48=\"Oui\",'Qlossdist,dh'!$C47,0)","v":0},{"$f":"IF(AV48=\"Oui\",'Qlossdist,dh'!$C47,0)","v":0},{"$f":"IF(AW48=\"Oui\",'Qlossdist,dh'!$C47,0)","v":0},{"$f":"IF(AX48=\"Oui\",'Qlossdist,dh'!$C47,0)","v":0},{"$f":"IF(AY48=\"Oui\",'Qlossdist,dh'!$C47,0)","v":0},{"$f":"IF(AZ48=\"Oui\",'Qlossdist,dh'!$C47,0)","v":0},{"$f":"IF(BA48=\"Oui\",'Qlossdist,dh'!$C47,0)","v":0}]
["Qlossdist,l,n [MJ]","Segment 41",41,{"$f":"IF(D49=\"Oui\",'Qlossdist,dh'!$C48,0)","v":0},{"$f":"IF(E49=\"Oui\",'Qlossdist,dh'!$C48,0)","v":0},{"$f":"IF(F49=\"Oui\",'Qlossdist,dh'!$C48,0)","v":0},{"$f":"IF(G49=\"Oui\",'Qlossdist,dh'!$C48,0)","v":0},{"$f":"IF(H49=\"Oui\",'Qlossdist,dh'!$C48,0)","v":0},{"$f":"IF(I49=\"Oui\",'Qlossdist,dh'!$C48,0)","v":0},{"$f":"IF(J49=\"Oui\",'Qlossdist,dh'!$C48,0)","v":0},{"$f":"IF(K49=\"Oui\",'Qlossdist,dh'!$C48,0)","v":0},{"$f":"IF(L49=\"Oui\",'Qlossdist,dh'!$C48,0)","v":0},{"$f":"IF(M49=\"Oui\",'Qlossdist,dh'!$C48,0)","v":0},{"$f":"IF(N49=\"Oui\",'Qlossdist,dh'!$C48,0)","v":0},{"$f":"IF(O49=\"Oui\",'Qlossdist,dh'!$C48,0)","v":0},{"$f":"IF(P49=\"Oui\",'Qlossdist,dh'!$C48,0)","v":0},{"$f":"IF(Q49=\"Oui\",'Qlossdist,dh'!$C48,0)","v":0},{"$f":"IF(R49=\"Oui\",'Qlossdist,dh'!$C48,0)","v":0},{"$f":"IF(S49=\"Oui\",'Qlossdist,dh'!$C48,0)","v":0},{"$f":"IF(T49=\"Oui\",'Qlossdist,dh'!$C48,0)","v":0},{"$f":"IF(U49=\"Oui\",'Qlossdist,dh'!$C48,0)","v":0},{"$f":"IF(V49=\"Oui\",'Qlossdist,dh'!$C48,0)","v":0},{"$f":"IF(W49=\"Oui\",'Qlossdist,dh'!$C48,0)","v":0},{"$f":"IF(X49=\"Oui\",'Qlossdist,dh'!$C48,0)","v":0},{"$f":"IF(Y49=\"Oui\",'Qlossdist,dh'!$C48,0)","v":0},{"$f":"IF(Z49=\"Oui\",'Qlossdist,dh'!$C48,0)","v":0},{"$f":"IF(AA49=\"Oui\",'Qlossdist,dh'!$C48,0)","v":0},{"$f":"IF(AB49=\"Oui\",'Qlossdist,dh'!$C48,0)","v":0},{"$f":"IF(AC49=\"Oui\",'Qlossdist,dh'!$C48,0)","v":0},{"$f":"IF(AD49=\"Oui\",'Qlossdist,dh'!$C48,0)","v":0},{"$f":"IF(AE49=\"Oui\",'Qlossdist,dh'!$C48,0)","v":0},{"$f":"IF(AF49=\"Oui\",'Qlossdist,dh'!$C48,0)","v":0},{"$f":"IF(AG49=\"Oui\",'Qlossdist,dh'!$C48,0)","v":0},{"$f":"IF(AH49=\"Oui\",'Qlossdist,dh'!$C48,0)","v":0},{"$f":"IF(AI49=\"Oui\",'Qlossdist,dh'!$C48,0)","v":0},{"$f":"IF(AJ49=\"Oui\",'Qlossdist,dh'!$C48,0)","v":0},{"$f":"IF(AK49=\"Oui\",'Qlossdist,dh'!$C48,0)","v":0},{"$f":"IF(AL49=\"Oui\",'Qlossdist,dh'!$C48,0)","v":0},{"$f":"IF(AM49=\"Oui\",'Qlossdist,dh'!$C48,0)","v":0},{"$f":"IF(AN49=\"Oui\",'Qlossdist,dh'!$C48,0)","v":0},{"$f":"IF(AO49=\"Oui\",'Qlossdist,dh'!$C48,0)","v":0},{"$f":"IF(AP49=\"Oui\",'Qlossdist,dh'!$C48,0)","v":0},{"$f":"IF(AQ49=\"Oui\",'Qlossdist,dh'!$C48,0)","v":0},{"$f":"IF(AR49=\"Oui\",'Qlossdist,dh'!$C48,0)","v":0},{"$f":"IF(AS49=\"Oui\",'Qlossdist,dh'!$C48,0)","v":0},{"$f":"IF(AT49=\"Oui\",'Qlossdist,dh'!$C48,0)","v":0},{"$f":"IF(AU49=\"Oui\",'Qlossdist,dh'!$C48,0)","v":0},{"$f":"IF(AV49=\"Oui\",'Qlossdist,dh'!$C48,0)","v":0},{"$f":"IF(AW49=\"Oui\",'Qlossdist,dh'!$C48,0)","v":0},{"$f":"IF(AX49=\"Oui\",'Qlossdist,dh'!$C48,0)","v":0},{"$f":"IF(AY49=\"Oui\",'Qlossdist,dh'!$C48,0)","v":0},{"$f":"IF(AZ49=\"Oui\",'Qlossdist,dh'!$C48,0)","v":0},{"$f":"IF(BA49=\"Oui\",'Qlossdist,dh'!$C48,0)","v":0}]
["Qlossdist,l,n [MJ]","Segment 42",42,{"$f":"IF(D50=\"Oui\",'Qlossdist,dh'!$C49,0)","v":0},{"$f":"IF(E50=\"Oui\",'Qlossdist,dh'!$C49,0)","v":0},{"$f":"IF(F50=\"Oui\",'Qlossdist,dh'!$C49,0)","v":0},{"$f":"IF(G50=\"Oui\",'Qlossdist,dh'!$C49,0)","v":0},{"$f":"IF(H50=\"Oui\",'Qlossdist,dh'!$C49,0)","v":0},{"$f":"IF(I50=\"Oui\",'Qlossdist,dh'!$C49,0)","v":0},{"$f":"IF(J50=\"Oui\",'Qlossdist,dh'!$C49,0)","v":0},{"$f":"IF(K50=\"Oui\",'Qlossdist,dh'!$C49,0)","v":0},{"$f":"IF(L50=\"Oui\",'Qlossdist,dh'!$C49,0)","v":0},{"$f":"IF(M50=\"Oui\",'Qlossdist,dh'!$C49,0)","v":0},{"$f":"IF(N50=\"Oui\",'Qlossdist,dh'!$C49,0)","v":0},{"$f":"IF(O50=\"Oui\",'Qlossdist,dh'!$C49,0)","v":0},{"$f":"IF(P50=\"Oui\",'Qlossdist,dh'!$C49,0)","v":0},{"$f":"IF(Q50=\"Oui\",'Qlossdist,dh'!$C49,0)","v":0},{"$f":"IF(R50=\"Oui\",'Qlossdist,dh'!$C49,0)","v":0},{"$f":"IF(S50=\"Oui\",'Qlossdist,dh'!$C49,0)","v":0},{"$f":"IF(T50=\"Oui\",'Qlossdist,dh'!$C49,0)","v":0},{"$f":"IF(U50=\"Oui\",'Qlossdist,dh'!$C49,0)","v":0},{"$f":"IF(V50=\"Oui\",'Qlossdist,dh'!$C49,0)","v":0},{"$f":"IF(W50=\"Oui\",'Qlossdist,dh'!$C49,0)","v":0},{"$f":"IF(X50=\"Oui\",'Qlossdist,dh'!$C49,0)","v":0},{"$f":"IF(Y50=\"Oui\",'Qlossdist,dh'!$C49,0)","v":0},{"$f":"IF(Z50=\"Oui\",'Qlossdist,dh'!$C49,0)","v":0},{"$f":"IF(AA50=\"Oui\",'Qlossdist,dh'!$C49,0)","v":0},{"$f":"IF(AB50=\"Oui\",'Qlossdist,dh'!$C49,0)","v":0},{"$f":"IF(AC50=\"Oui\",'Qlossdist,dh'!$C49,0)","v":0},{"$f":"IF(AD50=\"Oui\",'Qlossdist,dh'!$C49,0)","v":0},{"$f":"IF(AE50=\"Oui\",'Qlossdist,dh'!$C49,0)","v":0},{"$f":"IF(AF50=\"Oui\",'Qlossdist,dh'!$C49,0)","v":0},{"$f":"IF(AG50=\"Oui\",'Qlossdist,dh'!$C49,0)","v":0},{"$f":"IF(AH50=\"Oui\",'Qlossdist,dh'!$C49,0)","v":0},{"$f":"IF(AI50=\"Oui\",'Qlossdist,dh'!$C49,0)","v":0},{"$f":"IF(AJ50=\"Oui\",'Qlossdist,dh'!$C49,0)","v":0},{"$f":"IF(AK50=\"Oui\",'Qlossdist,dh'!$C49,0)","v":0},{"$f":"IF(AL50=\"Oui\",'Qlossdist,dh'!$C49,0)","v":0},{"$f":"IF(AM50=\"Oui\",'Qlossdist,dh'!$C49,0)","v":0},{"$f":"IF(AN50=\"Oui\",'Qlossdist,dh'!$C49,0)","v":0},{"$f":"IF(AO50=\"Oui\",'Qlossdist,dh'!$C49,0)","v":0},{"$f":"IF(AP50=\"Oui\",'Qlossdist,dh'!$C49,0)","v":0},{"$f":"IF(AQ50=\"Oui\",'Qlossdist,dh'!$C49,0)","v":0},{"$f":"IF(AR50=\"Oui\",'Qlossdist,dh'!$C49,0)","v":0},{"$f":"IF(AS50=\"Oui\",'Qlossdist,dh'!$C49,0)","v":0},{"$f":"IF(AT50=\"Oui\",'Qlossdist,dh'!$C49,0)","v":0},{"$f":"IF(AU50=\"Oui\",'Qlossdist,dh'!$C49,0)","v":0},{"$f":"IF(AV50=\"Oui\",'Qlossdist,dh'!$C49,0)","v":0},{"$f":"IF(AW50=\"Oui\",'Qlossdist,dh'!$C49,0)","v":0},{"$f":"IF(AX50=\"Oui\",'Qlossdist,dh'!$C49,0)","v":0},{"$f":"IF(AY50=\"Oui\",'Qlossdist,dh'!$C49,0)","v":0},{"$f":"IF(AZ50=\"Oui\",'Qlossdist,dh'!$C49,0)","v":0},{"$f":"IF(BA50=\"Oui\",'Qlossdist,dh'!$C49,0)","v":0}]
["Qlossdist,l,n [MJ]","Segment 43",43,{"$f":"IF(D51=\"Oui\",'Qlossdist,dh'!$C50,0)","v":0},{"$f":"IF(E51=\"Oui\",'Qlossdist,dh'!$C50,0)","v":0},{"$f":"IF(F51=\"Oui\",'Qlossdist,dh'!$C50,0)","v":0},{"$f":"IF(G51=\"Oui\",'Qlossdist,dh'!$C50,0)","v":0},{"$f":"IF(H51=\"Oui\",'Qlossdist,dh'!$C50,0)","v":0},{"$f":"IF(I51=\"Oui\",'Qlossdist,dh'!$C50,0)","v":0},{"$f":"IF(J51=\"Oui\",'Qlossdist,dh'!$C50,0)","v":0},{"$f":"IF(K51=\"Oui\",'Qlossdist,dh'!$C50,0)","v":0},{"$f":"IF(L51=\"Oui\",'Qlossdist,dh'!$C50,0)","v":0},{"$f":"IF(M51=\"Oui\",'Qlossdist,dh'!$C50,0)","v":0},{"$f":"IF(N51=\"Oui\",'Qlossdist,dh'!$C50,0)","v":0},{"$f":"IF(O51=\"Oui\",'Qlossdist,dh'!$C50,0)","v":0},{"$f":"IF(P51=\"Oui\",'Qlossdist,dh'!$C50,0)","v":0},{"$f":"IF(Q51=\"Oui\",'Qlossdist,dh'!$C50,0)","v":0},{"$f":"IF(R51=\"Oui\",'Qlossdist,dh'!$C50,0)","v":0},{"$f":"IF(S51=\"Oui\",'Qlossdist,dh'!$C50,0)","v":0},{"$f":"IF(T51=\"Oui\",'Qlossdist,dh'!$C50,0)","v":0},{"$f":"IF(U51=\"Oui\",'Qlossdist,dh'!$C50,0)","v":0},{"$f":"IF(V51=\"Oui\",'Qlossdist,dh'!$C50,0)","v":0},{"$f":"IF(W51=\"Oui\",'Qlossdist,dh'!$C50,0)","v":0},{"$f":"IF(X51=\"Oui\",'Qlossdist,dh'!$C50,0)","v":0},{"$f":"IF(Y51=\"Oui\",'Qlossdist,dh'!$C50,0)","v":0},{"$f":"IF(Z51=\"Oui\",'Qlossdist,dh'!$C50,0)","v":0},{"$f":"IF(AA51=\"Oui\",'Qlossdist,dh'!$C50,0)","v":0},{"$f":"IF(AB51=\"Oui\",'Qlossdist,dh'!$C50,0)","v":0},{"$f":"IF(AC51=\"Oui\",'Qlossdist,dh'!$C50,0)","v":0},{"$f":"IF(AD51=\"Oui\",'Qlossdist,dh'!$C50,0)","v":0},{"$f":"IF(AE51=\"Oui\",'Qlossdist,dh'!$C50,0)","v":0},{"$f":"IF(AF51=\"Oui\",'Qlossdist,dh'!$C50,0)","v":0},{"$f":"IF(AG51=\"Oui\",'Qlossdist,dh'!$C50,0)","v":0},{"$f":"IF(AH51=\"Oui\",'Qlossdist,dh'!$C50,0)","v":0},{"$f":"IF(AI51=\"Oui\",'Qlossdist,dh'!$C50,0)","v":0},{"$f":"IF(AJ51=\"Oui\",'Qlossdist,dh'!$C50,0)","v":0},{"$f":"IF(AK51=\"Oui\",'Qlossdist,dh'!$C50,0)","v":0},{"$f":"IF(AL51=\"Oui\",'Qlossdist,dh'!$C50,0)","v":0},{"$f":"IF(AM51=\"Oui\",'Qlossdist,dh'!$C50,0)","v":0},{"$f":"IF(AN51=\"Oui\",'Qlossdist,dh'!$C50,0)","v":0},{"$f":"IF(AO51=\"Oui\",'Qlossdist,dh'!$C50,0)","v":0},{"$f":"IF(AP51=\"Oui\",'Qlossdist,dh'!$C50,0)","v":0},{"$f":"IF(AQ51=\"Oui\",'Qlossdist,dh'!$C50,0)","v":0},{"$f":"IF(AR51=\"Oui\",'Qlossdist,dh'!$C50,0)","v":0},{"$f":"IF(AS51=\"Oui\",'Qlossdist,dh'!$C50,0)","v":0},{"$f":"IF(AT51=\"Oui\",'Qlossdist,dh'!$C50,0)","v":0},{"$f":"IF(AU51=\"Oui\",'Qlossdist,dh'!$C50,0)","v":0},{"$f":"IF(AV51=\"Oui\",'Qlossdist,dh'!$C50,0)","v":0},{"$f":"IF(AW51=\"Oui\",'Qlossdist,dh'!$C50,0)","v":0},{"$f":"IF(AX51=\"Oui\",'Qlossdist,dh'!$C50,0)","v":0},{"$f":"IF(AY51=\"Oui\",'Qlossdist,dh'!$C50,0)","v":0},{"$f":"IF(AZ51=\"Oui\",'Qlossdist,dh'!$C50,0)","v":0},{"$f":"IF(BA51=\"Oui\",'Qlossdist,dh'!$C50,0)","v":0}]
["Qlossdist,l,n [MJ]","Segment 44",44,{"$f":"IF(D52=\"Oui\",'Qlossdist,dh'!$C51,0)","v":0},{"$f":"IF(E52=\"Oui\",'Qlossdist,dh'!$C51,0)","v":0},{"$f":"IF(F52=\"Oui\",'Qlossdist,dh'!$C51,0)","v":0},{"$f":"IF(G52=\"Oui\",'Qlossdist,dh'!$C51,0)","v":0},{"$f":"IF(H52=\"Oui\",'Qlossdist,dh'!$C51,0)","v":0},{"$f":"IF(I52=\"Oui\",'Qlossdist,dh'!$C51,0)","v":0},{"$f":"IF(J52=\"Oui\",'Qlossdist,dh'!$C51,0)","v":0},{"$f":"IF(K52=\"Oui\",'Qlossdist,dh'!$C51,0)","v":0},{"$f":"IF(L52=\"Oui\",'Qlossdist,dh'!$C51,0)","v":0},{"$f":"IF(M52=\"Oui\",'Qlossdist,dh'!$C51,0)","v":0},{"$f":"IF(N52=\"Oui\",'Qlossdist,dh'!$C51,0)","v":0},{"$f":"IF(O52=\"Oui\",'Qlossdist,dh'!$C51,0)","v":0},{"$f":"IF(P52=\"Oui\",'Qlossdist,dh'!$C51,0)","v":0},{"$f":"IF(Q52=\"Oui\",'Qlossdist,dh'!$C51,0)","v":0},{"$f":"IF(R52=\"Oui\",'Qlossdist,dh'!$C51,0)","v":0},{"$f":"IF(S52=\"Oui\",'Qlossdist,dh'!$C51,0)","v":0},{"$f":"IF(T52=\"Oui\",'Qlossdist,dh'!$C51,0)","v":0},{"$f":"IF(U52=\"Oui\",'Qlossdist,dh'!$C51,0)","v":0},{"$f":"IF(V52=\"Oui\",'Qlossdist,dh'!$C51,0)","v":0},{"$f":"IF(W52=\"Oui\",'Qlossdist,dh'!$C51,0)","v":0},{"$f":"IF(X52=\"Oui\",'Qlossdist,dh'!$C51,0)","v":0},{"$f":"IF(Y52=\"Oui\",'Qlossdist,dh'!$C51,0)","v":0},{"$f":"IF(Z52=\"Oui\",'Qlossdist,dh'!$C51,0)","v":0},{"$f":"IF(AA52=\"Oui\",'Qlossdist,dh'!$C51,0)","v":0},{"$f":"IF(AB52=\"Oui\",'Qlossdist,dh'!$C51,0)","v":0},{"$f":"IF(AC52=\"Oui\",'Qlossdist,dh'!$C51,0)","v":0},{"$f":"IF(AD52=\"Oui\",'Qlossdist,dh'!$C51,0)","v":0},{"$f":"IF(AE52=\"Oui\",'Qlossdist,dh'!$C51,0)","v":0},{"$f":"IF(AF52=\"Oui\",'Qlossdist,dh'!$C51,0)","v":0},{"$f":"IF(AG52=\"Oui\",'Qlossdist,dh'!$C51,0)","v":0},{"$f":"IF(AH52=\"Oui\",'Qlossdist,dh'!$C51,0)","v":0},{"$f":"IF(AI52=\"Oui\",'Qlossdist,dh'!$C51,0)","v":0},{"$f":"IF(AJ52=\"Oui\",'Qlossdist,dh'!$C51,0)","v":0},{"$f":"IF(AK52=\"Oui\",'Qlossdist,dh'!$C51,0)","v":0},{"$f":"IF(AL52=\"Oui\",'Qlossdist,dh'!$C51,0)","v":0},{"$f":"IF(AM52=\"Oui\",'Qlossdist,dh'!$C51,0)","v":0},{"$f":"IF(AN52=\"Oui\",'Qlossdist,dh'!$C51,0)","v":0},{"$f":"IF(AO52=\"Oui\",'Qlossdist,dh'!$C51,0)","v":0},{"$f":"IF(AP52=\"Oui\",'Qlossdist,dh'!$C51,0)","v":0},{"$f":"IF(AQ52=\"Oui\",'Qlossdist,dh'!$C51,0)","v":0},{"$f":"IF(AR52=\"Oui\",'Qlossdist,dh'!$C51,0)","v":0},{"$f":"IF(AS52=\"Oui\",'Qlossdist,dh'!$C51,0)","v":0},{"$f":"IF(AT52=\"Oui\",'Qlossdist,dh'!$C51,0)","v":0},{"$f":"IF(AU52=\"Oui\",'Qlossdist,dh'!$C51,0)","v":0},{"$f":"IF(AV52=\"Oui\",'Qlossdist,dh'!$C51,0)","v":0},{"$f":"IF(AW52=\"Oui\",'Qlossdist,dh'!$C51,0)","v":0},{"$f":"IF(AX52=\"Oui\",'Qlossdist,dh'!$C51,0)","v":0},{"$f":"IF(AY52=\"Oui\",'Qlossdist,dh'!$C51,0)","v":0},{"$f":"IF(AZ52=\"Oui\",'Qlossdist,dh'!$C51,0)","v":0},{"$f":"IF(BA52=\"Oui\",'Qlossdist,dh'!$C51,0)","v":0}]
["Qlossdist,l,n [MJ]","Segment 45",45,{"$f":"IF(D53=\"Oui\",'Qlossdist,dh'!$C52,0)","v":0},{"$f":"IF(E53=\"Oui\",'Qlossdist,dh'!$C52,0)","v":0},{"$f":"IF(F53=\"Oui\",'Qlossdist,dh'!$C52,0)","v":0},{"$f":"IF(G53=\"Oui\",'Qlossdist,dh'!$C52,0)","v":0},{"$f":"IF(H53=\"Oui\",'Qlossdist,dh'!$C52,0)","v":0},{"$f":"IF(I53=\"Oui\",'Qlossdist,dh'!$C52,0)","v":0},{"$f":"IF(J53=\"Oui\",'Qlossdist,dh'!$C52,0)","v":0},{"$f":"IF(K53=\"Oui\",'Qlossdist,dh'!$C52,0)","v":0},{"$f":"IF(L53=\"Oui\",'Qlossdist,dh'!$C52,0)","v":0},{"$f":"IF(M53=\"Oui\",'Qlossdist,dh'!$C52,0)","v":0},{"$f":"IF(N53=\"Oui\",'Qlossdist,dh'!$C52,0)","v":0},{"$f":"IF(O53=\"Oui\",'Qlossdist,dh'!$C52,0)","v":0},{"$f":"IF(P53=\"Oui\",'Qlossdist,dh'!$C52,0)","v":0},{"$f":"IF(Q53=\"Oui\",'Qlossdist,dh'!$C52,0)","v":0},{"$f":"IF(R53=\"Oui\",'Qlossdist,dh'!$C52,0)","v":0},{"$f":"IF(S53=\"Oui\",'Qlossdist,dh'!$C52,0)","v":0},{"$f":"IF(T53=\"Oui\",'Qlossdist,dh'!$C52,0)","v":0},{"$f":"IF(U53=\"Oui\",'Qlossdist,dh'!$C52,0)","v":0},{"$f":"IF(V53=\"Oui\",'Qlossdist,dh'!$C52,0)","v":0},{"$f":"IF(W53=\"Oui\",'Qlossdist,dh'!$C52,0)","v":0},{"$f":"IF(X53=\"Oui\",'Qlossdist,dh'!$C52,0)","v":0},{"$f":"IF(Y53=\"Oui\",'Qlossdist,dh'!$C52,0)","v":0},{"$f":"IF(Z53=\"Oui\",'Qlossdist,dh'!$C52,0)","v":0},{"$f":"IF(AA53=\"Oui\",'Qlossdist,dh'!$C52,0)","v":0},{"$f":"IF(AB53=\"Oui\",'Qlossdist,dh'!$C52,0)","v":0},{"$f":"IF(AC53=\"Oui\",'Qlossdist,dh'!$C52,0)","v":0},{"$f":"IF(AD53=\"Oui\",'Qlossdist,dh'!$C52,0)","v":0},{"$f":"IF(AE53=\"Oui\",'Qlossdist,dh'!$C52,0)","v":0},{"$f":"IF(AF53=\"Oui\",'Qlossdist,dh'!$C52,0)","v":0},{"$f":"IF(AG53=\"Oui\",'Qlossdist,dh'!$C52,0)","v":0},{"$f":"IF(AH53=\"Oui\",'Qlossdist,dh'!$C52,0)","v":0},{"$f":"IF(AI53=\"Oui\",'Qlossdist,dh'!$C52,0)","v":0},{"$f":"IF(AJ53=\"Oui\",'Qlossdist,dh'!$C52,0)","v":0},{"$f":"IF(AK53=\"Oui\",'Qlossdist,dh'!$C52,0)","v":0},{"$f":"IF(AL53=\"Oui\",'Qlossdist,dh'!$C52,0)","v":0},{"$f":"IF(AM53=\"Oui\",'Qlossdist,dh'!$C52,0)","v":0},{"$f":"IF(AN53=\"Oui\",'Qlossdist,dh'!$C52,0)","v":0},{"$f":"IF(AO53=\"Oui\",'Qlossdist,dh'!$C52,0)","v":0},{"$f":"IF(AP53=\"Oui\",'Qlossdist,dh'!$C52,0)","v":0},{"$f":"IF(AQ53=\"Oui\",'Qlossdist,dh'!$C52,0)","v":0},{"$f":"IF(AR53=\"Oui\",'Qlossdist,dh'!$C52,0)","v":0},{"$f":"IF(AS53=\"Oui\",'Qlossdist,dh'!$C52,0)","v":0},{"$f":"IF(AT53=\"Oui\",'Qlossdist,dh'!$C52,0)","v":0},{"$f":"IF(AU53=\"Oui\",'Qlossdist,dh'!$C52,0)","v":0},{"$f":"IF(AV53=\"Oui\",'Qlossdist,dh'!$C52,0)","v":0},{"$f":"IF(AW53=\"Oui\",'Qlossdist,dh'!$C52,0)","v":0},{"$f":"IF(AX53=\"Oui\",'Qlossdist,dh'!$C52,0)","v":0},{"$f":"IF(AY53=\"Oui\",'Qlossdist,dh'!$C52,0)","v":0},{"$f":"IF(AZ53=\"Oui\",'Qlossdist,dh'!$C52,0)","v":0},{"$f":"IF(BA53=\"Oui\",'Qlossdist,dh'!$C52,0)","v":0}]
["Qlossdist,l,n [MJ]","Segment 46",46,{"$f":"IF(D54=\"Oui\",'Qlossdist,dh'!$C53,0)","v":0},{"$f":"IF(E54=\"Oui\",'Qlossdist,dh'!$C53,0)","v":0},{"$f":"IF(F54=\"Oui\",'Qlossdist,dh'!$C53,0)","v":0},{"$f":"IF(G54=\"Oui\",'Qlossdist,dh'!$C53,0)","v":0},{"$f":"IF(H54=\"Oui\",'Qlossdist,dh'!$C53,0)","v":0},{"$f":"IF(I54=\"Oui\",'Qlossdist,dh'!$C53,0)","v":0},{"$f":"IF(J54=\"Oui\",'Qlossdist,dh'!$C53,0)","v":0},{"$f":"IF(K54=\"Oui\",'Qlossdist,dh'!$C53,0)","v":0},{"$f":"IF(L54=\"Oui\",'Qlossdist,dh'!$C53,0)","v":0},{"$f":"IF(M54=\"Oui\",'Qlossdist,dh'!$C53,0)","v":0},{"$f":"IF(N54=\"Oui\",'Qlossdist,dh'!$C53,0)","v":0},{"$f":"IF(O54=\"Oui\",'Qlossdist,dh'!$C53,0)","v":0},{"$f":"IF(P54=\"Oui\",'Qlossdist,dh'!$C53,0)","v":0},{"$f":"IF(Q54=\"Oui\",'Qlossdist,dh'!$C53,0)","v":0},{"$f":"IF(R54=\"Oui\",'Qlossdist,dh'!$C53,0)","v":0},{"$f":"IF(S54=\"Oui\",'Qlossdist,dh'!$C53,0)","v":0},{"$f":"IF(T54=\"Oui\",'Qlossdist,dh'!$C53,0)","v":0},{"$f":"IF(U54=\"Oui\",'Qlossdist,dh'!$C53,0)","v":0},{"$f":"IF(V54=\"Oui\",'Qlossdist,dh'!$C53,0)","v":0},{"$f":"IF(W54=\"Oui\",'Qlossdist,dh'!$C53,0)","v":0},{"$f":"IF(X54=\"Oui\",'Qlossdist,dh'!$C53,0)","v":0},{"$f":"IF(Y54=\"Oui\",'Qlossdist,dh'!$C53,0)","v":0},{"$f":"IF(Z54=\"Oui\",'Qlossdist,dh'!$C53,0)","v":0},{"$f":"IF(AA54=\"Oui\",'Qlossdist,dh'!$C53,0)","v":0},{"$f":"IF(AB54=\"Oui\",'Qlossdist,dh'!$C53,0)","v":0},{"$f":"IF(AC54=\"Oui\",'Qlossdist,dh'!$C53,0)","v":0},{"$f":"IF(AD54=\"Oui\",'Qlossdist,dh'!$C53,0)","v":0},{"$f":"IF(AE54=\"Oui\",'Qlossdist,dh'!$C53,0)","v":0},{"$f":"IF(AF54=\"Oui\",'Qlossdist,dh'!$C53,0)","v":0},{"$f":"IF(AG54=\"Oui\",'Qlossdist,dh'!$C53,0)","v":0},{"$f":"IF(AH54=\"Oui\",'Qlossdist,dh'!$C53,0)","v":0},{"$f":"IF(AI54=\"Oui\",'Qlossdist,dh'!$C53,0)","v":0},{"$f":"IF(AJ54=\"Oui\",'Qlossdist,dh'!$C53,0)","v":0},{"$f":"IF(AK54=\"Oui\",'Qlossdist,dh'!$C53,0)","v":0},{"$f":"IF(AL54=\"Oui\",'Qlossdist,dh'!$C53,0)","v":0},{"$f":"IF(AM54=\"Oui\",'Qlossdist,dh'!$C53,0)","v":0},{"$f":"IF(AN54=\"Oui\",'Qlossdist,dh'!$C53,0)","v":0},{"$f":"IF(AO54=\"Oui\",'Qlossdist,dh'!$C53,0)","v":0},{"$f":"IF(AP54=\"Oui\",'Qlossdist,dh'!$C53,0)","v":0},{"$f":"IF(AQ54=\"Oui\",'Qlossdist,dh'!$C53,0)","v":0},{"$f":"IF(AR54=\"Oui\",'Qlossdist,dh'!$C53,0)","v":0},{"$f":"IF(AS54=\"Oui\",'Qlossdist,dh'!$C53,0)","v":0},{"$f":"IF(AT54=\"Oui\",'Qlossdist,dh'!$C53,0)","v":0},{"$f":"IF(AU54=\"Oui\",'Qlossdist,dh'!$C53,0)","v":0},{"$f":"IF(AV54=\"Oui\",'Qlossdist,dh'!$C53,0)","v":0},{"$f":"IF(AW54=\"Oui\",'Qlossdist,dh'!$C53,0)","v":0},{"$f":"IF(AX54=\"Oui\",'Qlossdist,dh'!$C53,0)","v":0},{"$f":"IF(AY54=\"Oui\",'Qlossdist,dh'!$C53,0)","v":0},{"$f":"IF(AZ54=\"Oui\",'Qlossdist,dh'!$C53,0)","v":0},{"$f":"IF(BA54=\"Oui\",'Qlossdist,dh'!$C53,0)","v":0}]
["Qlossdist,l,n [MJ]","Segment 47",47,{"$f":"IF(D55=\"Oui\",'Qlossdist,dh'!$C54,0)","v":0},{"$f":"IF(E55=\"Oui\",'Qlossdist,dh'!$C54,0)","v":0},{"$f":"IF(F55=\"Oui\",'Qlossdist,dh'!$C54,0)","v":0},{"$f":"IF(G55=\"Oui\",'Qlossdist,dh'!$C54,0)","v":0},{"$f":"IF(H55=\"Oui\",'Qlossdist,dh'!$C54,0)","v":0},{"$f":"IF(I55=\"Oui\",'Qlossdist,dh'!$C54,0)","v":0},{"$f":"IF(J55=\"Oui\",'Qlossdist,dh'!$C54,0)","v":0},{"$f":"IF(K55=\"Oui\",'Qlossdist,dh'!$C54,0)","v":0},{"$f":"IF(L55=\"Oui\",'Qlossdist,dh'!$C54,0)","v":0},{"$f":"IF(M55=\"Oui\",'Qlossdist,dh'!$C54,0)","v":0},{"$f":"IF(N55=\"Oui\",'Qlossdist,dh'!$C54,0)","v":0},{"$f":"IF(O55=\"Oui\",'Qlossdist,dh'!$C54,0)","v":0},{"$f":"IF(P55=\"Oui\",'Qlossdist,dh'!$C54,0)","v":0},{"$f":"IF(Q55=\"Oui\",'Qlossdist,dh'!$C54,0)","v":0},{"$f":"IF(R55=\"Oui\",'Qlossdist,dh'!$C54,0)","v":0},{"$f":"IF(S55=\"Oui\",'Qlossdist,dh'!$C54,0)","v":0},{"$f":"IF(T55=\"Oui\",'Qlossdist,dh'!$C54,0)","v":0},{"$f":"IF(U55=\"Oui\",'Qlossdist,dh'!$C54,0)","v":0},{"$f":"IF(V55=\"Oui\",'Qlossdist,dh'!$C54,0)","v":0},{"$f":"IF(W55=\"Oui\",'Qlossdist,dh'!$C54,0)","v":0},{"$f":"IF(X55=\"Oui\",'Qlossdist,dh'!$C54,0)","v":0},{"$f":"IF(Y55=\"Oui\",'Qlossdist,dh'!$C54,0)","v":0},{"$f":"IF(Z55=\"Oui\",'Qlossdist,dh'!$C54,0)","v":0},{"$f":"IF(AA55=\"Oui\",'Qlossdist,dh'!$C54,0)","v":0},{"$f":"IF(AB55=\"Oui\",'Qlossdist,dh'!$C54,0)","v":0},{"$f":"IF(AC55=\"Oui\",'Qlossdist,dh'!$C54,0)","v":0},{"$f":"IF(AD55=\"Oui\",'Qlossdist,dh'!$C54,0)","v":0},{"$f":"IF(AE55=\"Oui\",'Qlossdist,dh'!$C54,0)","v":0},{"$f":"IF(AF55=\"Oui\",'Qlossdist,dh'!$C54,0)","v":0},{"$f":"IF(AG55=\"Oui\",'Qlossdist,dh'!$C54,0)","v":0},{"$f":"IF(AH55=\"Oui\",'Qlossdist,dh'!$C54,0)","v":0},{"$f":"IF(AI55=\"Oui\",'Qlossdist,dh'!$C54,0)","v":0},{"$f":"IF(AJ55=\"Oui\",'Qlossdist,dh'!$C54,0)","v":0},{"$f":"IF(AK55=\"Oui\",'Qlossdist,dh'!$C54,0)","v":0},{"$f":"IF(AL55=\"Oui\",'Qlossdist,dh'!$C54,0)","v":0},{"$f":"IF(AM55=\"Oui\",'Qlossdist,dh'!$C54,0)","v":0},{"$f":"IF(AN55=\"Oui\",'Qlossdist,dh'!$C54,0)","v":0},{"$f":"IF(AO55=\"Oui\",'Qlossdist,dh'!$C54,0)","v":0},{"$f":"IF(AP55=\"Oui\",'Qlossdist,dh'!$C54,0)","v":0},{"$f":"IF(AQ55=\"Oui\",'Qlossdist,dh'!$C54,0)","v":0},{"$f":"IF(AR55=\"Oui\",'Qlossdist,dh'!$C54,0)","v":0},{"$f":"IF(AS55=\"Oui\",'Qlossdist,dh'!$C54,0)","v":0},{"$f":"IF(AT55=\"Oui\",'Qlossdist,dh'!$C54,0)","v":0},{"$f":"IF(AU55=\"Oui\",'Qlossdist,dh'!$C54,0)","v":0},{"$f":"IF(AV55=\"Oui\",'Qlossdist,dh'!$C54,0)","v":0},{"$f":"IF(AW55=\"Oui\",'Qlossdist,dh'!$C54,0)","v":0},{"$f":"IF(AX55=\"Oui\",'Qlossdist,dh'!$C54,0)","v":0},{"$f":"IF(AY55=\"Oui\",'Qlossdist,dh'!$C54,0)","v":0},{"$f":"IF(AZ55=\"Oui\",'Qlossdist,dh'!$C54,0)","v":0},{"$f":"IF(BA55=\"Oui\",'Qlossdist,dh'!$C54,0)","v":0}]
["Qlossdist,l,n [MJ]","Segment 48",48,{"$f":"IF(D56=\"Oui\",'Qlossdist,dh'!$C55,0)","v":0},{"$f":"IF(E56=\"Oui\",'Qlossdist,dh'!$C55,0)","v":0},{"$f":"IF(F56=\"Oui\",'Qlossdist,dh'!$C55,0)","v":0},{"$f":"IF(G56=\"Oui\",'Qlossdist,dh'!$C55,0)","v":0},{"$f":"IF(H56=\"Oui\",'Qlossdist,dh'!$C55,0)","v":0},{"$f":"IF(I56=\"Oui\",'Qlossdist,dh'!$C55,0)","v":0},{"$f":"IF(J56=\"Oui\",'Qlossdist,dh'!$C55,0)","v":0},{"$f":"IF(K56=\"Oui\",'Qlossdist,dh'!$C55,0)","v":0},{"$f":"IF(L56=\"Oui\",'Qlossdist,dh'!$C55,0)","v":0},{"$f":"IF(M56=\"Oui\",'Qlossdist,dh'!$C55,0)","v":0},{"$f":"IF(N56=\"Oui\",'Qlossdist,dh'!$C55,0)","v":0},{"$f":"IF(O56=\"Oui\",'Qlossdist,dh'!$C55,0)","v":0},{"$f":"IF(P56=\"Oui\",'Qlossdist,dh'!$C55,0)","v":0},{"$f":"IF(Q56=\"Oui\",'Qlossdist,dh'!$C55,0)","v":0},{"$f":"IF(R56=\"Oui\",'Qlossdist,dh'!$C55,0)","v":0},{"$f":"IF(S56=\"Oui\",'Qlossdist,dh'!$C55,0)","v":0},{"$f":"IF(T56=\"Oui\",'Qlossdist,dh'!$C55,0)","v":0},{"$f":"IF(U56=\"Oui\",'Qlossdist,dh'!$C55,0)","v":0},{"$f":"IF(V56=\"Oui\",'Qlossdist,dh'!$C55,0)","v":0},{"$f":"IF(W56=\"Oui\",'Qlossdist,dh'!$C55,0)","v":0},{"$f":"IF(X56=\"Oui\",'Qlossdist,dh'!$C55,0)","v":0},{"$f":"IF(Y56=\"Oui\",'Qlossdist,dh'!$C55,0)","v":0},{"$f":"IF(Z56=\"Oui\",'Qlossdist,dh'!$C55,0)","v":0},{"$f":"IF(AA56=\"Oui\",'Qlossdist,dh'!$C55,0)","v":0},{"$f":"IF(AB56=\"Oui\",'Qlossdist,dh'!$C55,0)","v":0},{"$f":"IF(AC56=\"Oui\",'Qlossdist,dh'!$C55,0)","v":0},{"$f":"IF(AD56=\"Oui\",'Qlossdist,dh'!$C55,0)","v":0},{"$f":"IF(AE56=\"Oui\",'Qlossdist,dh'!$C55,0)","v":0},{"$f":"IF(AF56=\"Oui\",'Qlossdist,dh'!$C55,0)","v":0},{"$f":"IF(AG56=\"Oui\",'Qlossdist,dh'!$C55,0)","v":0},{"$f":"IF(AH56=\"Oui\",'Qlossdist,dh'!$C55,0)","v":0},{"$f":"IF(AI56=\"Oui\",'Qlossdist,dh'!$C55,0)","v":0},{"$f":"IF(AJ56=\"Oui\",'Qlossdist,dh'!$C55,0)","v":0},{"$f":"IF(AK56=\"Oui\",'Qlossdist,dh'!$C55,0)","v":0},{"$f":"IF(AL56=\"Oui\",'Qlossdist,dh'!$C55,0)","v":0},{"$f":"IF(AM56=\"Oui\",'Qlossdist,dh'!$C55,0)","v":0},{"$f":"IF(AN56=\"Oui\",'Qlossdist,dh'!$C55,0)","v":0},{"$f":"IF(AO56=\"Oui\",'Qlossdist,dh'!$C55,0)","v":0},{"$f":"IF(AP56=\"Oui\",'Qlossdist,dh'!$C55,0)","v":0},{"$f":"IF(AQ56=\"Oui\",'Qlossdist,dh'!$C55,0)","v":0},{"$f":"IF(AR56=\"Oui\",'Qlossdist,dh'!$C55,0)","v":0},{"$f":"IF(AS56=\"Oui\",'Qlossdist,dh'!$C55,0)","v":0},{"$f":"IF(AT56=\"Oui\",'Qlossdist,dh'!$C55,0)","v":0},{"$f":"IF(AU56=\"Oui\",'Qlossdist,dh'!$C55,0)","v":0},{"$f":"IF(AV56=\"Oui\",'Qlossdist,dh'!$C55,0)","v":0},{"$f":"IF(AW56=\"Oui\",'Qlossdist,dh'!$C55,0)","v":0},{"$f":"IF(AX56=\"Oui\",'Qlossdist,dh'!$C55,0)","v":0},{"$f":"IF(AY56=\"Oui\",'Qlossdist,dh'!$C55,0)","v":0},{"$f":"IF(AZ56=\"Oui\",'Qlossdist,dh'!$C55,0)","v":0},{"$f":"IF(BA56=\"Oui\",'Qlossdist,dh'!$C55,0)","v":0}]
["Qlossdist,l,n [MJ]","Segment 49",49,{"$f":"IF(D57=\"Oui\",'Qlossdist,dh'!$C56,0)","v":0},{"$f":"IF(E57=\"Oui\",'Qlossdist,dh'!$C56,0)","v":0},{"$f":"IF(F57=\"Oui\",'Qlossdist,dh'!$C56,0)","v":0},{"$f":"IF(G57=\"Oui\",'Qlossdist,dh'!$C56,0)","v":0},{"$f":"IF(H57=\"Oui\",'Qlossdist,dh'!$C56,0)","v":0},{"$f":"IF(I57=\"Oui\",'Qlossdist,dh'!$C56,0)","v":0},{"$f":"IF(J57=\"Oui\",'Qlossdist,dh'!$C56,0)","v":0},{"$f":"IF(K57=\"Oui\",'Qlossdist,dh'!$C56,0)","v":0},{"$f":"IF(L57=\"Oui\",'Qlossdist,dh'!$C56,0)","v":0},{"$f":"IF(M57=\"Oui\",'Qlossdist,dh'!$C56,0)","v":0},{"$f":"IF(N57=\"Oui\",'Qlossdist,dh'!$C56,0)","v":0},{"$f":"IF(O57=\"Oui\",'Qlossdist,dh'!$C56,0)","v":0},{"$f":"IF(P57=\"Oui\",'Qlossdist,dh'!$C56,0)","v":0},{"$f":"IF(Q57=\"Oui\",'Qlossdist,dh'!$C56,0)","v":0},{"$f":"IF(R57=\"Oui\",'Qlossdist,dh'!$C56,0)","v":0},{"$f":"IF(S57=\"Oui\",'Qlossdist,dh'!$C56,0)","v":0},{"$f":"IF(T57=\"Oui\",'Qlossdist,dh'!$C56,0)","v":0},{"$f":"IF(U57=\"Oui\",'Qlossdist,dh'!$C56,0)","v":0},{"$f":"IF(V57=\"Oui\",'Qlossdist,dh'!$C56,0)","v":0},{"$f":"IF(W57=\"Oui\",'Qlossdist,dh'!$C56,0)","v":0},{"$f":"IF(X57=\"Oui\",'Qlossdist,dh'!$C56,0)","v":0},{"$f":"IF(Y57=\"Oui\",'Qlossdist,dh'!$C56,0)","v":0},{"$f":"IF(Z57=\"Oui\",'Qlossdist,dh'!$C56,0)","v":0},{"$f":"IF(AA57=\"Oui\",'Qlossdist,dh'!$C56,0)","v":0},{"$f":"IF(AB57=\"Oui\",'Qlossdist,dh'!$C56,0)","v":0},{"$f":"IF(AC57=\"Oui\",'Qlossdist,dh'!$C56,0)","v":0},{"$f":"IF(AD57=\"Oui\",'Qlossdist,dh'!$C56,0)","v":0},{"$f":"IF(AE57=\"Oui\",'Qlossdist,dh'!$C56,0)","v":0},{"$f":"IF(AF57=\"Oui\",'Qlossdist,dh'!$C56,0)","v":0},{"$f":"IF(AG57=\"Oui\",'Qlossdist,dh'!$C56,0)","v":0},{"$f":"IF(AH57=\"Oui\",'Qlossdist,dh'!$C56,0)","v":0},{"$f":"IF(AI57=\"Oui\",'Qlossdist,dh'!$C56,0)","v":0},{"$f":"IF(AJ57=\"Oui\",'Qlossdist,dh'!$C56,0)","v":0},{"$f":"IF(AK57=\"Oui\",'Qlossdist,dh'!$C56,0)","v":0},{"$f":"IF(AL57=\"Oui\",'Qlossdist,dh'!$C56,0)","v":0},{"$f":"IF(AM57=\"Oui\",'Qlossdist,dh'!$C56,0)","v":0},{"$f":"IF(AN57=\"Oui\",'Qlossdist,dh'!$C56,0)","v":0},{"$f":"IF(AO57=\"Oui\",'Qlossdist,dh'!$C56,0)","v":0},{"$f":"IF(AP57=\"Oui\",'Qlossdist,dh'!$C56,0)","v":0},{"$f":"IF(AQ57=\"Oui\",'Qlossdist,dh'!$C56,0)","v":0},{"$f":"IF(AR57=\"Oui\",'Qlossdist,dh'!$C56,0)","v":0},{"$f":"IF(AS57=\"Oui\",'Qlossdist,dh'!$C56,0)","v":0},{"$f":"IF(AT57=\"Oui\",'Qlossdist,dh'!$C56,0)","v":0},{"$f":"IF(AU57=\"Oui\",'Qlossdist,dh'!$C56,0)","v":0},{"$f":"IF(AV57=\"Oui\",'Qlossdist,dh'!$C56,0)","v":0},{"$f":"IF(AW57=\"Oui\",'Qlossdist,dh'!$C56,0)","v":0},{"$f":"IF(AX57=\"Oui\",'Qlossdist,dh'!$C56,0)","v":0},{"$f":"IF(AY57=\"Oui\",'Qlossdist,dh'!$C56,0)","v":0},{"$f":"IF(AZ57=\"Oui\",'Qlossdist,dh'!$C56,0)","v":0},{"$f":"IF(BA57=\"Oui\",'Qlossdist,dh'!$C56,0)","v":0}]
["Qlossdist,l,n [MJ]","Segment 50",50,{"$f":"IF(D58=\"Oui\",'Qlossdist,dh'!$C57,0)","v":0},{"$f":"IF(E58=\"Oui\",'Qlossdist,dh'!$C57,0)","v":0},{"$f":"IF(F58=\"Oui\",'Qlossdist,dh'!$C57,0)","v":0},{"$f":"IF(G58=\"Oui\",'Qlossdist,dh'!$C57,0)","v":0},{"$f":"IF(H58=\"Oui\",'Qlossdist,dh'!$C57,0)","v":0},{"$f":"IF(I58=\"Oui\",'Qlossdist,dh'!$C57,0)","v":0},{"$f":"IF(J58=\"Oui\",'Qlossdist,dh'!$C57,0)","v":0},{"$f":"IF(K58=\"Oui\",'Qlossdist,dh'!$C57,0)","v":0},{"$f":"IF(L58=\"Oui\",'Qlossdist,dh'!$C57,0)","v":0},{"$f":"IF(M58=\"Oui\",'Qlossdist,dh'!$C57,0)","v":0},{"$f":"IF(N58=\"Oui\",'Qlossdist,dh'!$C57,0)","v":0},{"$f":"IF(O58=\"Oui\",'Qlossdist,dh'!$C57,0)","v":0},{"$f":"IF(P58=\"Oui\",'Qlossdist,dh'!$C57,0)","v":0},{"$f":"IF(Q58=\"Oui\",'Qlossdist,dh'!$C57,0)","v":0},{"$f":"IF(R58=\"Oui\",'Qlossdist,dh'!$C57,0)","v":0},{"$f":"IF(S58=\"Oui\",'Qlossdist,dh'!$C57,0)","v":0},{"$f":"IF(T58=\"Oui\",'Qlossdist,dh'!$C57,0)","v":0},{"$f":"IF(U58=\"Oui\",'Qlossdist,dh'!$C57,0)","v":0},{"$f":"IF(V58=\"Oui\",'Qlossdist,dh'!$C57,0)","v":0},{"$f":"IF(W58=\"Oui\",'Qlossdist,dh'!$C57,0)","v":0},{"$f":"IF(X58=\"Oui\",'Qlossdist,dh'!$C57,0)","v":0},{"$f":"IF(Y58=\"Oui\",'Qlossdist,dh'!$C57,0)","v":0},{"$f":"IF(Z58=\"Oui\",'Qlossdist,dh'!$C57,0)","v":0},{"$f":"IF(AA58=\"Oui\",'Qlossdist,dh'!$C57,0)","v":0},{"$f":"IF(AB58=\"Oui\",'Qlossdist,dh'!$C57,0)","v":0},{"$f":"IF(AC58=\"Oui\",'Qlossdist,dh'!$C57,0)","v":0},{"$f":"IF(AD58=\"Oui\",'Qlossdist,dh'!$C57,0)","v":0},{"$f":"IF(AE58=\"Oui\",'Qlossdist,dh'!$C57,0)","v":0},{"$f":"IF(AF58=\"Oui\",'Qlossdist,dh'!$C57,0)","v":0},{"$f":"IF(AG58=\"Oui\",'Qlossdist,dh'!$C57,0)","v":0},{"$f":"IF(AH58=\"Oui\",'Qlossdist,dh'!$C57,0)","v":0},{"$f":"IF(AI58=\"Oui\",'Qlossdist,dh'!$C57,0)","v":0},{"$f":"IF(AJ58=\"Oui\",'Qlossdist,dh'!$C57,0)","v":0},{"$f":"IF(AK58=\"Oui\",'Qlossdist,dh'!$C57,0)","v":0},{"$f":"IF(AL58=\"Oui\",'Qlossdist,dh'!$C57,0)","v":0},{"$f":"IF(AM58=\"Oui\",'Qlossdist,dh'!$C57,0)","v":0},{"$f":"IF(AN58=\"Oui\",'Qlossdist,dh'!$C57,0)","v":0},{"$f":"IF(AO58=\"Oui\",'Qlossdist,dh'!$C57,0)","v":0},{"$f":"IF(AP58=\"Oui\",'Qlossdist,dh'!$C57,0)","v":0},{"$f":"IF(AQ58=\"Oui\",'Qlossdist,dh'!$C57,0)","v":0},{"$f":"IF(AR58=\"Oui\",'Qlossdist,dh'!$C57,0)","v":0},{"$f":"IF(AS58=\"Oui\",'Qlossdist,dh'!$C57,0)","v":0},{"$f":"IF(AT58=\"Oui\",'Qlossdist,dh'!$C57,0)","v":0},{"$f":"IF(AU58=\"Oui\",'Qlossdist,dh'!$C57,0)","v":0},{"$f":"IF(AV58=\"Oui\",'Qlossdist,dh'!$C57,0)","v":0},{"$f":"IF(AW58=\"Oui\",'Qlossdist,dh'!$C57,0)","v":0},{"$f":"IF(AX58=\"Oui\",'Qlossdist,dh'!$C57,0)","v":0},{"$f":"IF(AY58=\"Oui\",'Qlossdist,dh'!$C57,0)","v":0},{"$f":"IF(AZ58=\"Oui\",'Qlossdist,dh'!$C57,0)","v":0},{"$f":"IF(BA58=\"Oui\",'Qlossdist,dh'!$C57,0)","v":0}]
["Qdel,l,j [MJ]",{"$f":"\"Demandeur de chaleur \"&C314","v":"Demandeur de chaleur 1"},1,{"$f":"IF(D59=\"Oui\",'Q_del,j et Q_del,dh'!$D8,0)","v":0},{"$f":"IF(E59=\"Oui\",'Q_del,j et Q_del,dh'!$D8,0)","v":0},{"$f":"IF(F59=\"Oui\",'Q_del,j et Q_del,dh'!$D8,0)","v":0},{"$f":"IF(G59=\"Oui\",'Q_del,j et Q_del,dh'!$D8,0)","v":0},{"$f":"IF(H59=\"Oui\",'Q_del,j et Q_del,dh'!$D8,0)","v":0},{"$f":"IF(I59=\"Oui\",'Q_del,j et Q_del,dh'!$D8,0)","v":0},{"$f":"IF(J59=\"Oui\",'Q_del,j et Q_del,dh'!$D8,0)","v":0},{"$f":"IF(K59=\"Oui\",'Q_del,j et Q_del,dh'!$D8,0)","v":0},{"$f":"IF(L59=\"Oui\",'Q_del,j et Q_del,dh'!$D8,0)","v":0},{"$f":"IF(M59=\"Oui\",'Q_del,j et Q_del,dh'!$D8,0)","v":0},{"$f":"IF(N59=\"Oui\",'Q_del,j et Q_del,dh'!$D8,0)","v":0},{"$f":"IF(O59=\"Oui\",'Q_del,j et Q_del,dh'!$D8,0)","v":0},{"$f":"IF(P59=\"Oui\",'Q_del,j et Q_del,dh'!$D8,0)","v":0},{"$f":"IF(Q59=\"Oui\",'Q_del,j et Q_del,dh'!$D8,0)","v":0},{"$f":"IF(R59=\"Oui\",'Q_del,j et Q_del,dh'!$D8,0)","v":0},{"$f":"IF(S59=\"Oui\",'Q_del,j et Q_del,dh'!$D8,0)","v":0},{"$f":"IF(T59=\"Oui\",'Q_del,j et Q_del,dh'!$D8,0)","v":0},{"$f":"IF(U59=\"Oui\",'Q_del,j et Q_del,dh'!$D8,0)","v":0},{"$f":"IF(V59=\"Oui\",'Q_del,j et Q_del,dh'!$D8,0)","v":0},{"$f":"IF(W59=\"Oui\",'Q_del,j et Q_del,dh'!$D8,0)","v":0},{"$f":"IF(X59=\"Oui\",'Q_del,j et Q_del,dh'!$D8,0)","v":0},{"$f":"IF(Y59=\"Oui\",'Q_del,j et Q_del,dh'!$D8,0)","v":0},{"$f":"IF(Z59=\"Oui\",'Q_del,j et Q_del,dh'!$D8,0)","v":0},{"$f":"IF(AA59=\"Oui\",'Q_del,j et Q_del,dh'!$D8,0)","v":0},{"$f":"IF(AB59=\"Oui\",'Q_del,j et Q_del,dh'!$D8,0)","v":0},{"$f":"IF(AC59=\"Oui\",'Q_del,j et Q_del,dh'!$D8,0)","v":0},{"$f":"IF(AD59=\"Oui\",'Q_del,j et Q_del,dh'!$D8,0)","v":0},{"$f":"IF(AE59=\"Oui\",'Q_del,j et Q_del,dh'!$D8,0)","v":0},{"$f":"IF(AF59=\"Oui\",'Q_del,j et Q_del,dh'!$D8,0)","v":0},{"$f":"IF(AG59=\"Oui\",'Q_del,j et Q_del,dh'!$D8,0)","v":0},{"$f":"IF(AH59=\"Oui\",'Q_del,j et Q_del,dh'!$D8,0)","v":0},{"$f":"IF(AI59=\"Oui\",'Q_del,j et Q_del,dh'!$D8,0)","v":0},{"$f":"IF(AJ59=\"Oui\",'Q_del,j et Q_del,dh'!$D8,0)","v":0},{"$f":"IF(AK59=\"Oui\",'Q_del,j et Q_del,dh'!$D8,0)","v":0},{"$f":"IF(AL59=\"Oui\",'Q_del,j et Q_del,dh'!$D8,0)","v":0},{"$f":"IF(AM59=\"Oui\",'Q_del,j et Q_del,dh'!$D8,0)","v":0},{"$f":"IF(AN59=\"Oui\",'Q_del,j et Q_del,dh'!$D8,0)","v":0},{"$f":"IF(AO59=\"Oui\",'Q_del,j et Q_del,dh'!$D8,0)","v":0},{"$f":"IF(AP59=\"Oui\",'Q_del,j et Q_del,dh'!$D8,0)","v":0},{"$f":"IF(AQ59=\"Oui\",'Q_del,j et Q_del,dh'!$D8,0)","v":0},{"$f":"IF(AR59=\"Oui\",'Q_del,j et Q_del,dh'!$D8,0)","v":0},{"$f":"IF(AS59=\"Oui\",'Q_del,j et Q_del,dh'!$D8,0)","v":0},{"$f":"IF(AT59=\"Oui\",'Q_del,j et Q_del,dh'!$D8,0)","v":0},{"$f":"IF(AU59=\"Oui\",'Q_del,j et Q_del,dh'!$D8,0)","v":0},{"$f":"IF(AV59=\"Oui\",'Q_del,j et Q_del,dh'!$D8,0)","v":0},{"$f":"IF(AW59=\"Oui\",'Q_del,j et Q_del,dh'!$D8,0)","v":0},{"$f":"IF(AX59=\"Oui\",'Q_del,j et Q_del,dh'!$D8,0)","v":0},{"$f":"IF(AY59=\"Oui\",'Q_del,j et Q_del,dh'!$D8,0)","v":0},{"$f":"IF(AZ59=\"Oui\",'Q_del,j et Q_del,dh'!$D8,0)","v":0},{"$f":"IF(BA59=\"Oui\",'Q_del,j et Q_del,dh'!$D8,0)","v":0}]
["Qdel,l,j [MJ]","Demandeur de chaleur 2",{"$f":"C314+1","v":2},{"$f":"IF(D60=\"Oui\",'Q_del,j et Q_del,dh'!$D9,0)","v":0},{"$f":"IF(E60=\"Oui\",'Q_del,j et Q_del,dh'!$D9,0)","v":0},{"$f":"IF(F60=\"Oui\",'Q_del,j et Q_del,dh'!$D9,0)","v":0},{"$f":"IF(G60=\"Oui\",'Q_del,j et Q_del,dh'!$D9,0)","v":0},{"$f":"IF(H60=\"Oui\",'Q_del,j et Q_del,dh'!$D9,0)","v":0},{"$f":"IF(I60=\"Oui\",'Q_del,j et Q_del,dh'!$D9,0)","v":0},{"$f":"IF(J60=\"Oui\",'Q_del,j et Q_del,dh'!$D9,0)","v":0},{"$f":"IF(K60=\"Oui\",'Q_del,j et Q_del,dh'!$D9,0)","v":0},{"$f":"IF(L60=\"Oui\",'Q_del,j et Q_del,dh'!$D9,0)","v":0},{"$f":"IF(M60=\"Oui\",'Q_del,j et Q_del,dh'!$D9,0)","v":0},{"$f":"IF(N60=\"Oui\",'Q_del,j et Q_del,dh'!$D9,0)","v":0},{"$f":"IF(O60=\"Oui\",'Q_del,j et Q_del,dh'!$D9,0)","v":0},{"$f":"IF(P60=\"Oui\",'Q_del,j et Q_del,dh'!$D9,0)","v":0},{"$f":"IF(Q60=\"Oui\",'Q_del,j et Q_del,dh'!$D9,0)","v":0},{"$f":"IF(R60=\"Oui\",'Q_del,j et Q_del,dh'!$D9,0)","v":0},{"$f":"IF(S60=\"Oui\",'Q_del,j et Q_del,dh'!$D9,0)","v":0},{"$f":"IF(T60=\"Oui\",'Q_del,j et Q_del,dh'!$D9,0)","v":0},{"$f":"IF(U60=\"Oui\",'Q_del,j et Q_del,dh'!$D9,0)","v":0},{"$f":"IF(V60=\"Oui\",'Q_del,j et Q_del,dh'!$D9,0)","v":0},{"$f":"IF(W60=\"Oui\",'Q_del,j et Q_del,dh'!$D9,0)","v":0},{"$f":"IF(X60=\"Oui\",'Q_del,j et Q_del,dh'!$D9,0)","v":0},{"$f":"IF(Y60=\"Oui\",'Q_del,j et Q_del,dh'!$D9,0)","v":0},{"$f":"IF(Z60=\"Oui\",'Q_del,j et Q_del,dh'!$D9,0)","v":0},{"$f":"IF(AA60=\"Oui\",'Q_del,j et Q_del,dh'!$D9,0)","v":0},{"$f":"IF(AB60=\"Oui\",'Q_del,j et Q_del,dh'!$D9,0)","v":0},{"$f":"IF(AC60=\"Oui\",'Q_del,j et Q_del,dh'!$D9,0)","v":0},{"$f":"IF(AD60=\"Oui\",'Q_del,j et Q_del,dh'!$D9,0)","v":0},{"$f":"IF(AE60=\"Oui\",'Q_del,j et Q_del,dh'!$D9,0)","v":0},{"$f":"IF(AF60=\"Oui\",'Q_del,j et Q_del,dh'!$D9,0)","v":0},{"$f":"IF(AG60=\"Oui\",'Q_del,j et Q_del,dh'!$D9,0)","v":0},{"$f":"IF(AH60=\"Oui\",'Q_del,j et Q_del,dh'!$D9,0)","v":0},{"$f":"IF(AI60=\"Oui\",'Q_del,j et Q_del,dh'!$D9,0)","v":0},{"$f":"IF(AJ60=\"Oui\",'Q_del,j et Q_del,dh'!$D9,0)","v":0},{"$f":"IF(AK60=\"Oui\",'Q_del,j et Q_del,dh'!$D9,0)","v":0},{"$f":"IF(AL60=\"Oui\",'Q_del,j et Q_del,dh'!$D9,0)","v":0},{"$f":"IF(AM60=\"Oui\",'Q_del,j et Q_del,dh'!$D9,0)","v":0},{"$f":"IF(AN60=\"Oui\",'Q_del,j et Q_del,dh'!$D9,0)","v":0},{"$f":"IF(AO60=\"Oui\",'Q_del,j et Q_del,dh'!$D9,0)","v":0},{"$f":"IF(AP60=\"Oui\",'Q_del,j et Q_del,dh'!$D9,0)","v":0},{"$f":"IF(AQ60=\"Oui\",'Q_del,j et Q_del,dh'!$D9,0)","v":0},{"$f":"IF(AR60=\"Oui\",'Q_del,j et Q_del,dh'!$D9,0)","v":0},{"$f":"IF(AS60=\"Oui\",'Q_del,j et Q_del,dh'!$D9,0)","v":0},{"$f":"IF(AT60=\"Oui\",'Q_del,j et Q_del,dh'!$D9,0)","v":0},{"$f":"IF(AU60=\"Oui\",'Q_del,j et Q_del,dh'!$D9,0)","v":0},{"$f":"IF(AV60=\"Oui\",'Q_del,j et Q_del,dh'!$D9,0)","v":0},{"$f":"IF(AW60=\"Oui\",'Q_del,j et Q_del,dh'!$D9,0)","v":0},{"$f":"IF(AX60=\"Oui\",'Q_del,j et Q_del,dh'!$D9,0)","v":0},{"$f":"IF(AY60=\"Oui\",'Q_del,j et Q_del,dh'!$D9,0)","v":0},{"$f":"IF(AZ60=\"Oui\",'Q_del,j et Q_del,dh'!$D9,0)","v":0},{"$f":"IF(BA60=\"Oui\",'Q_del,j et Q_del,dh'!$D9,0)","v":0}]
["Qdel,l,j [MJ]","Demandeur de chaleur 3",{"$f":"C315+1","v":3},{"$f":"IF(D61=\"Oui\",'Q_del,j et Q_del,dh'!$D10,0)","v":0},{"$f":"IF(E61=\"Oui\",'Q_del,j et Q_del,dh'!$D10,0)","v":0},{"$f":"IF(F61=\"Oui\",'Q_del,j et Q_del,dh'!$D10,0)","v":0},{"$f":"IF(G61=\"Oui\",'Q_del,j et Q_del,dh'!$D10,0)","v":0},{"$f":"IF(H61=\"Oui\",'Q_del,j et Q_del,dh'!$D10,0)","v":0},{"$f":"IF(I61=\"Oui\",'Q_del,j et Q_del,dh'!$D10,0)","v":0},{"$f":"IF(J61=\"Oui\",'Q_del,j et Q_del,dh'!$D10,0)","v":0},{"$f":"IF(K61=\"Oui\",'Q_del,j et Q_del,dh'!$D10,0)","v":0},{"$f":"IF(L61=\"Oui\",'Q_del,j et Q_del,dh'!$D10,0)","v":0},{"$f":"IF(M61=\"Oui\",'Q_del,j et Q_del,dh'!$D10,0)","v":0},{"$f":"IF(N61=\"Oui\",'Q_del,j et Q_del,dh'!$D10,0)","v":0},{"$f":"IF(O61=\"Oui\",'Q_del,j et Q_del,dh'!$D10,0)","v":0},{"$f":"IF(P61=\"Oui\",'Q_del,j et Q_del,dh'!$D10,0)","v":0},{"$f":"IF(Q61=\"Oui\",'Q_del,j et Q_del,dh'!$D10,0)","v":0},{"$f":"IF(R61=\"Oui\",'Q_del,j et Q_del,dh'!$D10,0)","v":0},{"$f":"IF(S61=\"Oui\",'Q_del,j et Q_del,dh'!$D10,0)","v":0},{"$f":"IF(T61=\"Oui\",'Q_del,j et Q_del,dh'!$D10,0)","v":0},{"$f":"IF(U61=\"Oui\",'Q_del,j et Q_del,dh'!$D10,0)","v":0},{"$f":"IF(V61=\"Oui\",'Q_del,j et Q_del,dh'!$D10,0)","v":0},{"$f":"IF(W61=\"Oui\",'Q_del,j et Q_del,dh'!$D10,0)","v":0},{"$f":"IF(X61=\"Oui\",'Q_del,j et Q_del,dh'!$D10,0)","v":0},{"$f":"IF(Y61=\"Oui\",'Q_del,j et Q_del,dh'!$D10,0)","v":0},{"$f":"IF(Z61=\"Oui\",'Q_del,j et Q_del,dh'!$D10,0)","v":0},{"$f":"IF(AA61=\"Oui\",'Q_del,j et Q_del,dh'!$D10,0)","v":0},{"$f":"IF(AB61=\"Oui\",'Q_del,j et Q_del,dh'!$D10,0)","v":0},{"$f":"IF(AC61=\"Oui\",'Q_del,j et Q_del,dh'!$D10,0)","v":0},{"$f":"IF(AD61=\"Oui\",'Q_del,j et Q_del,dh'!$D10,0)","v":0},{"$f":"IF(AE61=\"Oui\",'Q_del,j et Q_del,dh'!$D10,0)","v":0},{"$f":"IF(AF61=\"Oui\",'Q_del,j et Q_del,dh'!$D10,0)","v":0},{"$f":"IF(AG61=\"Oui\",'Q_del,j et Q_del,dh'!$D10,0)","v":0},{"$f":"IF(AH61=\"Oui\",'Q_del,j et Q_del,dh'!$D10,0)","v":0},{"$f":"IF(AI61=\"Oui\",'Q_del,j et Q_del,dh'!$D10,0)","v":0},{"$f":"IF(AJ61=\"Oui\",'Q_del,j et Q_del,dh'!$D10,0)","v":0},{"$f":"IF(AK61=\"Oui\",'Q_del,j et Q_del,dh'!$D10,0)","v":0},{"$f":"IF(AL61=\"Oui\",'Q_del,j et Q_del,dh'!$D10,0)","v":0},{"$f":"IF(AM61=\"Oui\",'Q_del,j et Q_del,dh'!$D10,0)","v":0},{"$f":"IF(AN61=\"Oui\",'Q_del,j et Q_del,dh'!$D10,0)","v":0},{"$f":"IF(AO61=\"Oui\",'Q_del,j et Q_del,dh'!$D10,0)","v":0},{"$f":"IF(AP61=\"Oui\",'Q_del,j et Q_del,dh'!$D10,0)","v":0},{"$f":"IF(AQ61=\"Oui\",'Q_del,j et Q_del,dh'!$D10,0)","v":0},{"$f":"IF(AR61=\"Oui\",'Q_del,j et Q_del,dh'!$D10,0)","v":0},{"$f":"IF(AS61=\"Oui\",'Q_del,j et Q_del,dh'!$D10,0)","v":0},{"$f":"IF(AT61=\"Oui\",'Q_del,j et Q_del,dh'!$D10,0)","v":0},{"$f":"IF(AU61=\"Oui\",'Q_del,j et Q_del,dh'!$D10,0)","v":0},{"$f":"IF(AV61=\"Oui\",'Q_del,j et Q_del,dh'!$D10,0)","v":0},{"$f":"IF(AW61=\"Oui\",'Q_del,j et Q_del,dh'!$D10,0)","v":0},{"$f":"IF(AX61=\"Oui\",'Q_del,j et Q_del,dh'!$D10,0)","v":0},{"$f":"IF(AY61=\"Oui\",'Q_del,j et Q_del,dh'!$D10,0)","v":0},{"$f":"IF(AZ61=\"Oui\",'Q_del,j et Q_del,dh'!$D10,0)","v":0},{"$f":"IF(BA61=\"Oui\",'Q_del,j et Q_del,dh'!$D10,0)","v":0}]
["Qdel,l,j [MJ]","Demandeur de chaleur 4",4,{"$f":"IF(D62=\"Oui\",'Q_del,j et Q_del,dh'!$D11,0)","v":0},{"$f":"IF(E62=\"Oui\",'Q_del,j et Q_del,dh'!$D11,0)","v":0},{"$f":"IF(F62=\"Oui\",'Q_del,j et Q_del,dh'!$D11,0)","v":0},{"$f":"IF(G62=\"Oui\",'Q_del,j et Q_del,dh'!$D11,0)","v":0},{"$f":"IF(H62=\"Oui\",'Q_del,j et Q_del,dh'!$D11,0)","v":0},{"$f":"IF(I62=\"Oui\",'Q_del,j et Q_del,dh'!$D11,0)","v":0},{"$f":"IF(J62=\"Oui\",'Q_del,j et Q_del,dh'!$D11,0)","v":0},{"$f":"IF(K62=\"Oui\",'Q_del,j et Q_del,dh'!$D11,0)","v":0},{"$f":"IF(L62=\"Oui\",'Q_del,j et Q_del,dh'!$D11,0)","v":0},{"$f":"IF(M62=\"Oui\",'Q_del,j et Q_del,dh'!$D11,0)","v":0},{"$f":"IF(N62=\"Oui\",'Q_del,j et Q_del,dh'!$D11,0)","v":0},{"$f":"IF(O62=\"Oui\",'Q_del,j et Q_del,dh'!$D11,0)","v":0},{"$f":"IF(P62=\"Oui\",'Q_del,j et Q_del,dh'!$D11,0)","v":0},{"$f":"IF(Q62=\"Oui\",'Q_del,j et Q_del,dh'!$D11,0)","v":0},{"$f":"IF(R62=\"Oui\",'Q_del,j et Q_del,dh'!$D11,0)","v":0},{"$f":"IF(S62=\"Oui\",'Q_del,j et Q_del,dh'!$D11,0)","v":0},{"$f":"IF(T62=\"Oui\",'Q_del,j et Q_del,dh'!$D11,0)","v":0},{"$f":"IF(U62=\"Oui\",'Q_del,j et Q_del,dh'!$D11,0)","v":0},{"$f":"IF(V62=\"Oui\",'Q_del,j et Q_del,dh'!$D11,0)","v":0},{"$f":"IF(W62=\"Oui\",'Q_del,j et Q_del,dh'!$D11,0)","v":0},{"$f":"IF(X62=\"Oui\",'Q_del,j et Q_del,dh'!$D11,0)","v":0},{"$f":"IF(Y62=\"Oui\",'Q_del,j et Q_del,dh'!$D11,0)","v":0},{"$f":"IF(Z62=\"Oui\",'Q_del,j et Q_del,dh'!$D11,0)","v":0},{"$f":"IF(AA62=\"Oui\",'Q_del,j et Q_del,dh'!$D11,0)","v":0},{"$f":"IF(AB62=\"Oui\",'Q_del,j et Q_del,dh'!$D11,0)","v":0},{"$f":"IF(AC62=\"Oui\",'Q_del,j et Q_del,dh'!$D11,0)","v":0},{"$f":"IF(AD62=\"Oui\",'Q_del,j et Q_del,dh'!$D11,0)","v":0},{"$f":"IF(AE62=\"Oui\",'Q_del,j et Q_del,dh'!$D11,0)","v":0},{"$f":"IF(AF62=\"Oui\",'Q_del,j et Q_del,dh'!$D11,0)","v":0},{"$f":"IF(AG62=\"Oui\",'Q_del,j et Q_del,dh'!$D11,0)","v":0},{"$f":"IF(AH62=\"Oui\",'Q_del,j et Q_del,dh'!$D11,0)","v":0},{"$f":"IF(AI62=\"Oui\",'Q_del,j et Q_del,dh'!$D11,0)","v":0},{"$f":"IF(AJ62=\"Oui\",'Q_del,j et Q_del,dh'!$D11,0)","v":0},{"$f":"IF(AK62=\"Oui\",'Q_del,j et Q_del,dh'!$D11,0)","v":0},{"$f":"IF(AL62=\"Oui\",'Q_del,j et Q_del,dh'!$D11,0)","v":0},{"$f":"IF(AM62=\"Oui\",'Q_del,j et Q_del,dh'!$D11,0)","v":0},{"$f":"IF(AN62=\"Oui\",'Q_del,j et Q_del,dh'!$D11,0)","v":0},{"$f":"IF(AO62=\"Oui\",'Q_del,j et Q_del,dh'!$D11,0)","v":0},{"$f":"IF(AP62=\"Oui\",'Q_del,j et Q_del,dh'!$D11,0)","v":0},{"$f":"IF(AQ62=\"Oui\",'Q_del,j et Q_del,dh'!$D11,0)","v":0},{"$f":"IF(AR62=\"Oui\",'Q_del,j et Q_del,dh'!$D11,0)","v":0},{"$f":"IF(AS62=\"Oui\",'Q_del,j et Q_del,dh'!$D11,0)","v":0},{"$f":"IF(AT62=\"Oui\",'Q_del,j et Q_del,dh'!$D11,0)","v":0},{"$f":"IF(AU62=\"Oui\",'Q_del,j et Q_del,dh'!$D11,0)","v":0},{"$f":"IF(AV62=\"Oui\",'Q_del,j et Q_del,dh'!$D11,0)","v":0},{"$f":"IF(AW62=\"Oui\",'Q_del,j et Q_del,dh'!$D11,0)","v":0},{"$f":"IF(AX62=\"Oui\",'Q_del,j et Q_del,dh'!$D11,0)","v":0},{"$f":"IF(AY62=\"Oui\",'Q_del,j et Q_del,dh'!$D11,0)","v":0},{"$f":"IF(AZ62=\"Oui\",'Q_del,j et Q_del,dh'!$D11,0)","v":0},{"$f":"IF(BA62=\"Oui\",'Q_del,j et Q_del,dh'!$D11,0)","v":0}]
["Qdel,l,j [MJ]","Demandeur de chaleur 5",5,{"$f":"IF(D63=\"Oui\",'Q_del,j et Q_del,dh'!$D12,0)","v":0},{"$f":"IF(E63=\"Oui\",'Q_del,j et Q_del,dh'!$D12,0)","v":0},{"$f":"IF(F63=\"Oui\",'Q_del,j et Q_del,dh'!$D12,0)","v":0},{"$f":"IF(G63=\"Oui\",'Q_del,j et Q_del,dh'!$D12,0)","v":0},{"$f":"IF(H63=\"Oui\",'Q_del,j et Q_del,dh'!$D12,0)","v":0},{"$f":"IF(I63=\"Oui\",'Q_del,j et Q_del,dh'!$D12,0)","v":0},{"$f":"IF(J63=\"Oui\",'Q_del,j et Q_del,dh'!$D12,0)","v":0},{"$f":"IF(K63=\"Oui\",'Q_del,j et Q_del,dh'!$D12,0)","v":0},{"$f":"IF(L63=\"Oui\",'Q_del,j et Q_del,dh'!$D12,0)","v":0},{"$f":"IF(M63=\"Oui\",'Q_del,j et Q_del,dh'!$D12,0)","v":0},{"$f":"IF(N63=\"Oui\",'Q_del,j et Q_del,dh'!$D12,0)","v":0},{"$f":"IF(O63=\"Oui\",'Q_del,j et Q_del,dh'!$D12,0)","v":0},{"$f":"IF(P63=\"Oui\",'Q_del,j et Q_del,dh'!$D12,0)","v":0},{"$f":"IF(Q63=\"Oui\",'Q_del,j et Q_del,dh'!$D12,0)","v":0},{"$f":"IF(R63=\"Oui\",'Q_del,j et Q_del,dh'!$D12,0)","v":0},{"$f":"IF(S63=\"Oui\",'Q_del,j et Q_del,dh'!$D12,0)","v":0},{"$f":"IF(T63=\"Oui\",'Q_del,j et Q_del,dh'!$D12,0)","v":0},{"$f":"IF(U63=\"Oui\",'Q_del,j et Q_del,dh'!$D12,0)","v":0},{"$f":"IF(V63=\"Oui\",'Q_del,j et Q_del,dh'!$D12,0)","v":0},{"$f":"IF(W63=\"Oui\",'Q_del,j et Q_del,dh'!$D12,0)","v":0},{"$f":"IF(X63=\"Oui\",'Q_del,j et Q_del,dh'!$D12,0)","v":0},{"$f":"IF(Y63=\"Oui\",'Q_del,j et Q_del,dh'!$D12,0)","v":0},{"$f":"IF(Z63=\"Oui\",'Q_del,j et Q_del,dh'!$D12,0)","v":0},{"$f":"IF(AA63=\"Oui\",'Q_del,j et Q_del,dh'!$D12,0)","v":0},{"$f":"IF(AB63=\"Oui\",'Q_del,j et Q_del,dh'!$D12,0)","v":0},{"$f":"IF(AC63=\"Oui\",'Q_del,j et Q_del,dh'!$D12,0)","v":0},{"$f":"IF(AD63=\"Oui\",'Q_del,j et Q_del,dh'!$D12,0)","v":0},{"$f":"IF(AE63=\"Oui\",'Q_del,j et Q_del,dh'!$D12,0)","v":0},{"$f":"IF(AF63=\"Oui\",'Q_del,j et Q_del,dh'!$D12,0)","v":0},{"$f":"IF(AG63=\"Oui\",'Q_del,j et Q_del,dh'!$D12,0)","v":0},{"$f":"IF(AH63=\"Oui\",'Q_del,j et Q_del,dh'!$D12,0)","v":0},{"$f":"IF(AI63=\"Oui\",'Q_del,j et Q_del,dh'!$D12,0)","v":0},{"$f":"IF(AJ63=\"Oui\",'Q_del,j et Q_del,dh'!$D12,0)","v":0},{"$f":"IF(AK63=\"Oui\",'Q_del,j et Q_del,dh'!$D12,0)","v":0},{"$f":"IF(AL63=\"Oui\",'Q_del,j et Q_del,dh'!$D12,0)","v":0},{"$f":"IF(AM63=\"Oui\",'Q_del,j et Q_del,dh'!$D12,0)","v":0},{"$f":"IF(AN63=\"Oui\",'Q_del,j et Q_del,dh'!$D12,0)","v":0},{"$f":"IF(AO63=\"Oui\",'Q_del,j et Q_del,dh'!$D12,0)","v":0},{"$f":"IF(AP63=\"Oui\",'Q_del,j et Q_del,dh'!$D12,0)","v":0},{"$f":"IF(AQ63=\"Oui\",'Q_del,j et Q_del,dh'!$D12,0)","v":0},{"$f":"IF(AR63=\"Oui\",'Q_del,j et Q_del,dh'!$D12,0)","v":0},{"$f":"IF(AS63=\"Oui\",'Q_del,j et Q_del,dh'!$D12,0)","v":0},{"$f":"IF(AT63=\"Oui\",'Q_del,j et Q_del,dh'!$D12,0)","v":0},{"$f":"IF(AU63=\"Oui\",'Q_del,j et Q_del,dh'!$D12,0)","v":0},{"$f":"IF(AV63=\"Oui\",'Q_del,j et Q_del,dh'!$D12,0)","v":0},{"$f":"IF(AW63=\"Oui\",'Q_del,j et Q_del,dh'!$D12,0)","v":0},{"$f":"IF(AX63=\"Oui\",'Q_del,j et Q_del,dh'!$D12,0)","v":0},{"$f":"IF(AY63=\"Oui\",'Q_del,j et Q_del,dh'!$D12,0)","v":0},{"$f":"IF(AZ63=\"Oui\",'Q_del,j et Q_del,dh'!$D12,0)","v":0},{"$f":"IF(BA63=\"Oui\",'Q_del,j et Q_del,dh'!$D12,0)","v":0}]
["Qdel,l,j [MJ]","Demandeur de chaleur 6",6,{"$f":"IF(D64=\"Oui\",'Q_del,j et Q_del,dh'!$D13,0)","v":0},{"$f":"IF(E64=\"Oui\",'Q_del,j et Q_del,dh'!$D13,0)","v":0},{"$f":"IF(F64=\"Oui\",'Q_del,j et Q_del,dh'!$D13,0)","v":0},{"$f":"IF(G64=\"Oui\",'Q_del,j et Q_del,dh'!$D13,0)","v":0},{"$f":"IF(H64=\"Oui\",'Q_del,j et Q_del,dh'!$D13,0)","v":0},{"$f":"IF(I64=\"Oui\",'Q_del,j et Q_del,dh'!$D13,0)","v":0},{"$f":"IF(J64=\"Oui\",'Q_del,j et Q_del,dh'!$D13,0)","v":0},{"$f":"IF(K64=\"Oui\",'Q_del,j et Q_del,dh'!$D13,0)","v":0},{"$f":"IF(L64=\"Oui\",'Q_del,j et Q_del,dh'!$D13,0)","v":0},{"$f":"IF(M64=\"Oui\",'Q_del,j et Q_del,dh'!$D13,0)","v":0},{"$f":"IF(N64=\"Oui\",'Q_del,j et Q_del,dh'!$D13,0)","v":0},{"$f":"IF(O64=\"Oui\",'Q_del,j et Q_del,dh'!$D13,0)","v":0},{"$f":"IF(P64=\"Oui\",'Q_del,j et Q_del,dh'!$D13,0)","v":0},{"$f":"IF(Q64=\"Oui\",'Q_del,j et Q_del,dh'!$D13,0)","v":0},{"$f":"IF(R64=\"Oui\",'Q_del,j et Q_del,dh'!$D13,0)","v":0},{"$f":"IF(S64=\"Oui\",'Q_del,j et Q_del,dh'!$D13,0)","v":0},{"$f":"IF(T64=\"Oui\",'Q_del,j et Q_del,dh'!$D13,0)","v":0},{"$f":"IF(U64=\"Oui\",'Q_del,j et Q_del,dh'!$D13,0)","v":0},{"$f":"IF(V64=\"Oui\",'Q_del,j et Q_del,dh'!$D13,0)","v":0},{"$f":"IF(W64=\"Oui\",'Q_del,j et Q_del,dh'!$D13,0)","v":0},{"$f":"IF(X64=\"Oui\",'Q_del,j et Q_del,dh'!$D13,0)","v":0},{"$f":"IF(Y64=\"Oui\",'Q_del,j et Q_del,dh'!$D13,0)","v":0},{"$f":"IF(Z64=\"Oui\",'Q_del,j et Q_del,dh'!$D13,0)","v":0},{"$f":"IF(AA64=\"Oui\",'Q_del,j et Q_del,dh'!$D13,0)","v":0},{"$f":"IF(AB64=\"Oui\",'Q_del,j et Q_del,dh'!$D13,0)","v":0},{"$f":"IF(AC64=\"Oui\",'Q_del,j et Q_del,dh'!$D13,0)","v":0},{"$f":"IF(AD64=\"Oui\",'Q_del,j et Q_del,dh'!$D13,0)","v":0},{"$f":"IF(AE64=\"Oui\",'Q_del,j et Q_del,dh'!$D13,0)","v":0},{"$f":"IF(AF64=\"Oui\",'Q_del,j et Q_del,dh'!$D13,0)","v":0},{"$f":"IF(AG64=\"Oui\",'Q_del,j et Q_del,dh'!$D13,0)","v":0},{"$f":"IF(AH64=\"Oui\",'Q_del,j et Q_del,dh'!$D13,0)","v":0},{"$f":"IF(AI64=\"Oui\",'Q_del,j et Q_del,dh'!$D13,0)","v":0},{"$f":"IF(AJ64=\"Oui\",'Q_del,j et Q_del,dh'!$D13,0)","v":0},{"$f":"IF(AK64=\"Oui\",'Q_del,j et Q_del,dh'!$D13,0)","v":0},{"$f":"IF(AL64=\"Oui\",'Q_del,j et Q_del,dh'!$D13,0)","v":0},{"$f":"IF(AM64=\"Oui\",'Q_del,j et Q_del,dh'!$D13,0)","v":0},{"$f":"IF(AN64=\"Oui\",'Q_del,j et Q_del,dh'!$D13,0)","v":0},{"$f":"IF(AO64=\"Oui\",'Q_del,j et Q_del,dh'!$D13,0)","v":0},{"$f":"IF(AP64=\"Oui\",'Q_del,j et Q_del,dh'!$D13,0)","v":0},{"$f":"IF(AQ64=\"Oui\",'Q_del,j et Q_del,dh'!$D13,0)","v":0},{"$f":"IF(AR64=\"Oui\",'Q_del,j et Q_del,dh'!$D13,0)","v":0},{"$f":"IF(AS64=\"Oui\",'Q_del,j et Q_del,dh'!$D13,0)","v":0},{"$f":"IF(AT64=\"Oui\",'Q_del,j et Q_del,dh'!$D13,0)","v":0},{"$f":"IF(AU64=\"Oui\",'Q_del,j et Q_del,dh'!$D13,0)","v":0},{"$f":"IF(AV64=\"Oui\",'Q_del,j et Q_del,dh'!$D13,0)","v":0},{"$f":"IF(AW64=\"Oui\",'Q_del,j et Q_del,dh'!$D13,0)","v":0},{"$f":"IF(AX64=\"Oui\",'Q_del,j et Q_del,dh'!$D13,0)","v":0},{"$f":"IF(AY64=\"Oui\",'Q_del,j et Q_del,dh'!$D13,0)","v":0},{"$f":"IF(AZ64=\"Oui\",'Q_del,j et Q_del,dh'!$D13,0)","v":0},{"$f":"IF(BA64=\"Oui\",'Q_del,j et Q_del,dh'!$D13,0)","v":0}]
["Qdel,l,j [MJ]","Demandeur de chaleur 7",7,{"$f":"IF(D65=\"Oui\",'Q_del,j et Q_del,dh'!$D14,0)","v":0},{"$f":"IF(E65=\"Oui\",'Q_del,j et Q_del,dh'!$D14,0)","v":0},{"$f":"IF(F65=\"Oui\",'Q_del,j et Q_del,dh'!$D14,0)","v":0},{"$f":"IF(G65=\"Oui\",'Q_del,j et Q_del,dh'!$D14,0)","v":0},{"$f":"IF(H65=\"Oui\",'Q_del,j et Q_del,dh'!$D14,0)","v":0},{"$f":"IF(I65=\"Oui\",'Q_del,j et Q_del,dh'!$D14,0)","v":0},{"$f":"IF(J65=\"Oui\",'Q_del,j et Q_del,dh'!$D14,0)","v":0},{"$f":"IF(K65=\"Oui\",'Q_del,j et Q_del,dh'!$D14,0)","v":0},{"$f":"IF(L65=\"Oui\",'Q_del,j et Q_del,dh'!$D14,0)","v":0},{"$f":"IF(M65=\"Oui\",'Q_del,j et Q_del,dh'!$D14,0)","v":0},{"$f":"IF(N65=\"Oui\",'Q_del,j et Q_del,dh'!$D14,0)","v":0},{"$f":"IF(O65=\"Oui\",'Q_del,j et Q_del,dh'!$D14,0)","v":0},{"$f":"IF(P65=\"Oui\",'Q_del,j et Q_del,dh'!$D14,0)","v":0},{"$f":"IF(Q65=\"Oui\",'Q_del,j et Q_del,dh'!$D14,0)","v":0},{"$f":"IF(R65=\"Oui\",'Q_del,j et Q_del,dh'!$D14,0)","v":0},{"$f":"IF(S65=\"Oui\",'Q_del,j et Q_del,dh'!$D14,0)","v":0},{"$f":"IF(T65=\"Oui\",'Q_del,j et Q_del,dh'!$D14,0)","v":0},{"$f":"IF(U65=\"Oui\",'Q_del,j et Q_del,dh'!$D14,0)","v":0},{"$f":"IF(V65=\"Oui\",'Q_del,j et Q_del,dh'!$D14,0)","v":0},{"$f":"IF(W65=\"Oui\",'Q_del,j et Q_del,dh'!$D14,0)","v":0},{"$f":"IF(X65=\"Oui\",'Q_del,j et Q_del,dh'!$D14,0)","v":0},{"$f":"IF(Y65=\"Oui\",'Q_del,j et Q_del,dh'!$D14,0)","v":0},{"$f":"IF(Z65=\"Oui\",'Q_del,j et Q_del,dh'!$D14,0)","v":0},{"$f":"IF(AA65=\"Oui\",'Q_del,j et Q_del,dh'!$D14,0)","v":0},{"$f":"IF(AB65=\"Oui\",'Q_del,j et Q_del,dh'!$D14,0)","v":0},{"$f":"IF(AC65=\"Oui\",'Q_del,j et Q_del,dh'!$D14,0)","v":0},{"$f":"IF(AD65=\"Oui\",'Q_del,j et Q_del,dh'!$D14,0)","v":0},{"$f":"IF(AE65=\"Oui\",'Q_del,j et Q_del,dh'!$D14,0)","v":0},{"$f":"IF(AF65=\"Oui\",'Q_del,j et Q_del,dh'!$D14,0)","v":0},{"$f":"IF(AG65=\"Oui\",'Q_del,j et Q_del,dh'!$D14,0)","v":0},{"$f":"IF(AH65=\"Oui\",'Q_del,j et Q_del,dh'!$D14,0)","v":0},{"$f":"IF(AI65=\"Oui\",'Q_del,j et Q_del,dh'!$D14,0)","v":0},{"$f":"IF(AJ65=\"Oui\",'Q_del,j et Q_del,dh'!$D14,0)","v":0},{"$f":"IF(AK65=\"Oui\",'Q_del,j et Q_del,dh'!$D14,0)","v":0},{"$f":"IF(AL65=\"Oui\",'Q_del,j et Q_del,dh'!$D14,0)","v":0},{"$f":"IF(AM65=\"Oui\",'Q_del,j et Q_del,dh'!$D14,0)","v":0},{"$f":"IF(AN65=\"Oui\",'Q_del,j et Q_del,dh'!$D14,0)","v":0},{"$f":"IF(AO65=\"Oui\",'Q_del,j et Q_del,dh'!$D14,0)","v":0},{"$f":"IF(AP65=\"Oui\",'Q_del,j et Q_del,dh'!$D14,0)","v":0},{"$f":"IF(AQ65=\"Oui\",'Q_del,j et Q_del,dh'!$D14,0)","v":0},{"$f":"IF(AR65=\"Oui\",'Q_del,j et Q_del,dh'!$D14,0)","v":0},{"$f":"IF(AS65=\"Oui\",'Q_del,j et Q_del,dh'!$D14,0)","v":0},{"$f":"IF(AT65=\"Oui\",'Q_del,j et Q_del,dh'!$D14,0)","v":0},{"$f":"IF(AU65=\"Oui\",'Q_del,j et Q_del,dh'!$D14,0)","v":0},{"$f":"IF(AV65=\"Oui\",'Q_del,j et Q_del,dh'!$D14,0)","v":0},{"$f":"IF(AW65=\"Oui\",'Q_del,j et Q_del,dh'!$D14,0)","v":0},{"$f":"IF(AX65=\"Oui\",'Q_del,j et Q_del,dh'!$D14,0)","v":0},{"$f":"IF(AY65=\"Oui\",'Q_del,j et Q_del,dh'!$D14,0)","v":0},{"$f":"IF(AZ65=\"Oui\",'Q_del,j et Q_del,dh'!$D14,0)","v":0},{"$f":"IF(BA65=\"Oui\",'Q_del,j et Q_del,dh'!$D14,0)","v":0}]
["Qdel,l,j [MJ]","Demandeur de chaleur 8",8,{"$f":"IF(D66=\"Oui\",'Q_del,j et Q_del,dh'!$D15,0)","v":0},{"$f":"IF(E66=\"Oui\",'Q_del,j et Q_del,dh'!$D15,0)","v":0},{"$f":"IF(F66=\"Oui\",'Q_del,j et Q_del,dh'!$D15,0)","v":0},{"$f":"IF(G66=\"Oui\",'Q_del,j et Q_del,dh'!$D15,0)","v":0},{"$f":"IF(H66=\"Oui\",'Q_del,j et Q_del,dh'!$D15,0)","v":0},{"$f":"IF(I66=\"Oui\",'Q_del,j et Q_del,dh'!$D15,0)","v":0},{"$f":"IF(J66=\"Oui\",'Q_del,j et Q_del,dh'!$D15,0)","v":0},{"$f":"IF(K66=\"Oui\",'Q_del,j et Q_del,dh'!$D15,0)","v":0},{"$f":"IF(L66=\"Oui\",'Q_del,j et Q_del,dh'!$D15,0)","v":0},{"$f":"IF(M66=\"Oui\",'Q_del,j et Q_del,dh'!$D15,0)","v":0},{"$f":"IF(N66=\"Oui\",'Q_del,j et Q_del,dh'!$D15,0)","v":0},{"$f":"IF(O66=\"Oui\",'Q_del,j et Q_del,dh'!$D15,0)","v":0},{"$f":"IF(P66=\"Oui\",'Q_del,j et Q_del,dh'!$D15,0)","v":0},{"$f":"IF(Q66=\"Oui\",'Q_del,j et Q_del,dh'!$D15,0)","v":0},{"$f":"IF(R66=\"Oui\",'Q_del,j et Q_del,dh'!$D15,0)","v":0},{"$f":"IF(S66=\"Oui\",'Q_del,j et Q_del,dh'!$D15,0)","v":0},{"$f":"IF(T66=\"Oui\",'Q_del,j et Q_del,dh'!$D15,0)","v":0},{"$f":"IF(U66=\"Oui\",'Q_del,j et Q_del,dh'!$D15,0)","v":0},{"$f":"IF(V66=\"Oui\",'Q_del,j et Q_del,dh'!$D15,0)","v":0},{"$f":"IF(W66=\"Oui\",'Q_del,j et Q_del,dh'!$D15,0)","v":0},{"$f":"IF(X66=\"Oui\",'Q_del,j et Q_del,dh'!$D15,0)","v":0},{"$f":"IF(Y66=\"Oui\",'Q_del,j et Q_del,dh'!$D15,0)","v":0},{"$f":"IF(Z66=\"Oui\",'Q_del,j et Q_del,dh'!$D15,0)","v":0},{"$f":"IF(AA66=\"Oui\",'Q_del,j et Q_del,dh'!$D15,0)","v":0},{"$f":"IF(AB66=\"Oui\",'Q_del,j et Q_del,dh'!$D15,0)","v":0},{"$f":"IF(AC66=\"Oui\",'Q_del,j et Q_del,dh'!$D15,0)","v":0},{"$f":"IF(AD66=\"Oui\",'Q_del,j et Q_del,dh'!$D15,0)","v":0},{"$f":"IF(AE66=\"Oui\",'Q_del,j et Q_del,dh'!$D15,0)","v":0},{"$f":"IF(AF66=\"Oui\",'Q_del,j et Q_del,dh'!$D15,0)","v":0},{"$f":"IF(AG66=\"Oui\",'Q_del,j et Q_del,dh'!$D15,0)","v":0},{"$f":"IF(AH66=\"Oui\",'Q_del,j et Q_del,dh'!$D15,0)","v":0},{"$f":"IF(AI66=\"Oui\",'Q_del,j et Q_del,dh'!$D15,0)","v":0},{"$f":"IF(AJ66=\"Oui\",'Q_del,j et Q_del,dh'!$D15,0)","v":0},{"$f":"IF(AK66=\"Oui\",'Q_del,j et Q_del,dh'!$D15,0)","v":0},{"$f":"IF(AL66=\"Oui\",'Q_del,j et Q_del,dh'!$D15,0)","v":0},{"$f":"IF(AM66=\"Oui\",'Q_del,j et Q_del,dh'!$D15,0)","v":0},{"$f":"IF(AN66=\"Oui\",'Q_del,j et Q_del,dh'!$D15,0)","v":0},{"$f":"IF(AO66=\"Oui\",'Q_del,j et Q_del,dh'!$D15,0)","v":0},{"$f":"IF(AP66=\"Oui\",'Q_del,j et Q_del,dh'!$D15,0)","v":0},{"$f":"IF(AQ66=\"Oui\",'Q_del,j et Q_del,dh'!$D15,0)","v":0},{"$f":"IF(AR66=\"Oui\",'Q_del,j et Q_del,dh'!$D15,0)","v":0},{"$f":"IF(AS66=\"Oui\",'Q_del,j et Q_del,dh'!$D15,0)","v":0},{"$f":"IF(AT66=\"Oui\",'Q_del,j et Q_del,dh'!$D15,0)","v":0},{"$f":"IF(AU66=\"Oui\",'Q_del,j et Q_del,dh'!$D15,0)","v":0},{"$f":"IF(AV66=\"Oui\",'Q_del,j et Q_del,dh'!$D15,0)","v":0},{"$f":"IF(AW66=\"Oui\",'Q_del,j et Q_del,dh'!$D15,0)","v":0},{"$f":"IF(AX66=\"Oui\",'Q_del,j et Q_del,dh'!$D15,0)","v":0},{"$f":"IF(AY66=\"Oui\",'Q_del,j et Q_del,dh'!$D15,0)","v":0},{"$f":"IF(AZ66=\"Oui\",'Q_del,j et Q_del,dh'!$D15,0)","v":0},{"$f":"IF(BA66=\"Oui\",'Q_del,j et Q_del,dh'!$D15,0)","v":0}]
["Qdel,l,j [MJ]","Demandeur de chaleur 9",9,{"$f":"IF(D67=\"Oui\",'Q_del,j et Q_del,dh'!$D16,0)","v":0},{"$f":"IF(E67=\"Oui\",'Q_del,j et Q_del,dh'!$D16,0)","v":0},{"$f":"IF(F67=\"Oui\",'Q_del,j et Q_del,dh'!$D16,0)","v":0},{"$f":"IF(G67=\"Oui\",'Q_del,j et Q_del,dh'!$D16,0)","v":0},{"$f":"IF(H67=\"Oui\",'Q_del,j et Q_del,dh'!$D16,0)","v":0},{"$f":"IF(I67=\"Oui\",'Q_del,j et Q_del,dh'!$D16,0)","v":0},{"$f":"IF(J67=\"Oui\",'Q_del,j et Q_del,dh'!$D16,0)","v":0},{"$f":"IF(K67=\"Oui\",'Q_del,j et Q_del,dh'!$D16,0)","v":0},{"$f":"IF(L67=\"Oui\",'Q_del,j et Q_del,dh'!$D16,0)","v":0},{"$f":"IF(M67=\"Oui\",'Q_del,j et Q_del,dh'!$D16,0)","v":0},{"$f":"IF(N67=\"Oui\",'Q_del,j et Q_del,dh'!$D16,0)","v":0},{"$f":"IF(O67=\"Oui\",'Q_del,j et Q_del,dh'!$D16,0)","v":0},{"$f":"IF(P67=\"Oui\",'Q_del,j et Q_del,dh'!$D16,0)","v":0},{"$f":"IF(Q67=\"Oui\",'Q_del,j et Q_del,dh'!$D16,0)","v":0},{"$f":"IF(R67=\"Oui\",'Q_del,j et Q_del,dh'!$D16,0)","v":0},{"$f":"IF(S67=\"Oui\",'Q_del,j et Q_del,dh'!$D16,0)","v":0},{"$f":"IF(T67=\"Oui\",'Q_del,j et Q_del,dh'!$D16,0)","v":0},{"$f":"IF(U67=\"Oui\",'Q_del,j et Q_del,dh'!$D16,0)","v":0},{"$f":"IF(V67=\"Oui\",'Q_del,j et Q_del,dh'!$D16,0)","v":0},{"$f":"IF(W67=\"Oui\",'Q_del,j et Q_del,dh'!$D16,0)","v":0},{"$f":"IF(X67=\"Oui\",'Q_del,j et Q_del,dh'!$D16,0)","v":0},{"$f":"IF(Y67=\"Oui\",'Q_del,j et Q_del,dh'!$D16,0)","v":0},{"$f":"IF(Z67=\"Oui\",'Q_del,j et Q_del,dh'!$D16,0)","v":0},{"$f":"IF(AA67=\"Oui\",'Q_del,j et Q_del,dh'!$D16,0)","v":0},{"$f":"IF(AB67=\"Oui\",'Q_del,j et Q_del,dh'!$D16,0)","v":0},{"$f":"IF(AC67=\"Oui\",'Q_del,j et Q_del,dh'!$D16,0)","v":0},{"$f":"IF(AD67=\"Oui\",'Q_del,j et Q_del,dh'!$D16,0)","v":0},{"$f":"IF(AE67=\"Oui\",'Q_del,j et Q_del,dh'!$D16,0)","v":0},{"$f":"IF(AF67=\"Oui\",'Q_del,j et Q_del,dh'!$D16,0)","v":0},{"$f":"IF(AG67=\"Oui\",'Q_del,j et Q_del,dh'!$D16,0)","v":0},{"$f":"IF(AH67=\"Oui\",'Q_del,j et Q_del,dh'!$D16,0)","v":0},{"$f":"IF(AI67=\"Oui\",'Q_del,j et Q_del,dh'!$D16,0)","v":0},{"$f":"IF(AJ67=\"Oui\",'Q_del,j et Q_del,dh'!$D16,0)","v":0},{"$f":"IF(AK67=\"Oui\",'Q_del,j et Q_del,dh'!$D16,0)","v":0},{"$f":"IF(AL67=\"Oui\",'Q_del,j et Q_del,dh'!$D16,0)","v":0},{"$f":"IF(AM67=\"Oui\",'Q_del,j et Q_del,dh'!$D16,0)","v":0},{"$f":"IF(AN67=\"Oui\",'Q_del,j et Q_del,dh'!$D16,0)","v":0},{"$f":"IF(AO67=\"Oui\",'Q_del,j et Q_del,dh'!$D16,0)","v":0},{"$f":"IF(AP67=\"Oui\",'Q_del,j et Q_del,dh'!$D16,0)","v":0},{"$f":"IF(AQ67=\"Oui\",'Q_del,j et Q_del,dh'!$D16,0)","v":0},{"$f":"IF(AR67=\"Oui\",'Q_del,j et Q_del,dh'!$D16,0)","v":0},{"$f":"IF(AS67=\"Oui\",'Q_del,j et Q_del,dh'!$D16,0)","v":0},{"$f":"IF(AT67=\"Oui\",'Q_del,j et Q_del,dh'!$D16,0)","v":0},{"$f":"IF(AU67=\"Oui\",'Q_del,j et Q_del,dh'!$D16,0)","v":0},{"$f":"IF(AV67=\"Oui\",'Q_del,j et Q_del,dh'!$D16,0)","v":0},{"$f":"IF(AW67=\"Oui\",'Q_del,j et Q_del,dh'!$D16,0)","v":0},{"$f":"IF(AX67=\"Oui\",'Q_del,j et Q_del,dh'!$D16,0)","v":0},{"$f":"IF(AY67=\"Oui\",'Q_del,j et Q_del,dh'!$D16,0)","v":0},{"$f":"IF(AZ67=\"Oui\",'Q_del,j et Q_del,dh'!$D16,0)","v":0},{"$f":"IF(BA67=\"Oui\",'Q_del,j et Q_del,dh'!$D16,0)","v":0}]
["Qdel,l,j [MJ]","Demandeur de chaleur 10",10,{"$f":"IF(D68=\"Oui\",'Q_del,j et Q_del,dh'!$D17,0)","v":0},{"$f":"IF(E68=\"Oui\",'Q_del,j et Q_del,dh'!$D17,0)","v":0},{"$f":"IF(F68=\"Oui\",'Q_del,j et Q_del,dh'!$D17,0)","v":0},{"$f":"IF(G68=\"Oui\",'Q_del,j et Q_del,dh'!$D17,0)","v":0},{"$f":"IF(H68=\"Oui\",'Q_del,j et Q_del,dh'!$D17,0)","v":0},{"$f":"IF(I68=\"Oui\",'Q_del,j et Q_del,dh'!$D17,0)","v":0},{"$f":"IF(J68=\"Oui\",'Q_del,j et Q_del,dh'!$D17,0)","v":0},{"$f":"IF(K68=\"Oui\",'Q_del,j et Q_del,dh'!$D17,0)","v":0},{"$f":"IF(L68=\"Oui\",'Q_del,j et Q_del,dh'!$D17,0)","v":0},{"$f":"IF(M68=\"Oui\",'Q_del,j et Q_del,dh'!$D17,0)","v":0},{"$f":"IF(N68=\"Oui\",'Q_del,j et Q_del,dh'!$D17,0)","v":0},{"$f":"IF(O68=\"Oui\",'Q_del,j et Q_del,dh'!$D17,0)","v":0},{"$f":"IF(P68=\"Oui\",'Q_del,j et Q_del,dh'!$D17,0)","v":0},{"$f":"IF(Q68=\"Oui\",'Q_del,j et Q_del,dh'!$D17,0)","v":0},{"$f":"IF(R68=\"Oui\",'Q_del,j et Q_del,dh'!$D17,0)","v":0},{"$f":"IF(S68=\"Oui\",'Q_del,j et Q_del,dh'!$D17,0)","v":0},{"$f":"IF(T68=\"Oui\",'Q_del,j et Q_del,dh'!$D17,0)","v":0},{"$f":"IF(U68=\"Oui\",'Q_del,j et Q_del,dh'!$D17,0)","v":0},{"$f":"IF(V68=\"Oui\",'Q_del,j et Q_del,dh'!$D17,0)","v":0},{"$f":"IF(W68=\"Oui\",'Q_del,j et Q_del,dh'!$D17,0)","v":0},{"$f":"IF(X68=\"Oui\",'Q_del,j et Q_del,dh'!$D17,0)","v":0},{"$f":"IF(Y68=\"Oui\",'Q_del,j et Q_del,dh'!$D17,0)","v":0},{"$f":"IF(Z68=\"Oui\",'Q_del,j et Q_del,dh'!$D17,0)","v":0},{"$f":"IF(AA68=\"Oui\",'Q_del,j et Q_del,dh'!$D17,0)","v":0},{"$f":"IF(AB68=\"Oui\",'Q_del,j et Q_del,dh'!$D17,0)","v":0},{"$f":"IF(AC68=\"Oui\",'Q_del,j et Q_del,dh'!$D17,0)","v":0},{"$f":"IF(AD68=\"Oui\",'Q_del,j et Q_del,dh'!$D17,0)","v":0},{"$f":"IF(AE68=\"Oui\",'Q_del,j et Q_del,dh'!$D17,0)","v":0},{"$f":"IF(AF68=\"Oui\",'Q_del,j et Q_del,dh'!$D17,0)","v":0},{"$f":"IF(AG68=\"Oui\",'Q_del,j et Q_del,dh'!$D17,0)","v":0},{"$f":"IF(AH68=\"Oui\",'Q_del,j et Q_del,dh'!$D17,0)","v":0},{"$f":"IF(AI68=\"Oui\",'Q_del,j et Q_del,dh'!$D17,0)","v":0},{"$f":"IF(AJ68=\"Oui\",'Q_del,j et Q_del,dh'!$D17,0)","v":0},{"$f":"IF(AK68=\"Oui\",'Q_del,j et Q_del,dh'!$D17,0)","v":0},{"$f":"IF(AL68=\"Oui\",'Q_del,j et Q_del,dh'!$D17,0)","v":0},{"$f":"IF(AM68=\"Oui\",'Q_del,j et Q_del,dh'!$D17,0)","v":0},{"$f":"IF(AN68=\"Oui\",'Q_del,j et Q_del,dh'!$D17,0)","v":0},{"$f":"IF(AO68=\"Oui\",'Q_del,j et Q_del,dh'!$D17,0)","v":0},{"$f":"IF(AP68=\"Oui\",'Q_del,j et Q_del,dh'!$D17,0)","v":0},{"$f":"IF(AQ68=\"Oui\",'Q_del,j et Q_del,dh'!$D17,0)","v":0},{"$f":"IF(AR68=\"Oui\",'Q_del,j et Q_del,dh'!$D17,0)","v":0},{"$f":"IF(AS68=\"Oui\",'Q_del,j et Q_del,dh'!$D17,0)","v":0},{"$f":"IF(AT68=\"Oui\",'Q_del,j et Q_del,dh'!$D17,0)","v":0},{"$f":"IF(AU68=\"Oui\",'Q_del,j et Q_del,dh'!$D17,0)","v":0},{"$f":"IF(AV68=\"Oui\",'Q_del,j et Q_del,dh'!$D17,0)","v":0},{"$f":"IF(AW68=\"Oui\",'Q_del,j et Q_del,dh'!$D17,0)","v":0},{"$f":"IF(AX68=\"Oui\",'Q_del,j et Q_del,dh'!$D17,0)","v":0},{"$f":"IF(AY68=\"Oui\",'Q_del,j et Q_del,dh'!$D17,0)","v":0},{"$f":"IF(AZ68=\"Oui\",'Q_del,j et Q_del,dh'!$D17,0)","v":0},{"$f":"IF(BA68=\"Oui\",'Q_del,j et Q_del,dh'!$D17,0)","v":0}]
["Qdel,l,j [MJ]","Demandeur de chaleur 11",11,{"$f":"IF(D69=\"Oui\",'Q_del,j et Q_del,dh'!$D18,0)","v":0},{"$f":"IF(E69=\"Oui\",'Q_del,j et Q_del,dh'!$D18,0)","v":0},{"$f":"IF(F69=\"Oui\",'Q_del,j et Q_del,dh'!$D18,0)","v":0},{"$f":"IF(G69=\"Oui\",'Q_del,j et Q_del,dh'!$D18,0)","v":0},{"$f":"IF(H69=\"Oui\",'Q_del,j et Q_del,dh'!$D18,0)","v":0},{"$f":"IF(I69=\"Oui\",'Q_del,j et Q_del,dh'!$D18,0)","v":0},{"$f":"IF(J69=\"Oui\",'Q_del,j et Q_del,dh'!$D18,0)","v":0},{"$f":"IF(K69=\"Oui\",'Q_del,j et Q_del,dh'!$D18,0)","v":0},{"$f":"IF(L69=\"Oui\",'Q_del,j et Q_del,dh'!$D18,0)","v":0},{"$f":"IF(M69=\"Oui\",'Q_del,j et Q_del,dh'!$D18,0)","v":0},{"$f":"IF(N69=\"Oui\",'Q_del,j et Q_del,dh'!$D18,0)","v":0},{"$f":"IF(O69=\"Oui\",'Q_del,j et Q_del,dh'!$D18,0)","v":0},{"$f":"IF(P69=\"Oui\",'Q_del,j et Q_del,dh'!$D18,0)","v":0},{"$f":"IF(Q69=\"Oui\",'Q_del,j et Q_del,dh'!$D18,0)","v":0},{"$f":"IF(R69=\"Oui\",'Q_del,j et Q_del,dh'!$D18,0)","v":0},{"$f":"IF(S69=\"Oui\",'Q_del,j et Q_del,dh'!$D18,0)","v":0},{"$f":"IF(T69=\"Oui\",'Q_del,j et Q_del,dh'!$D18,0)","v":0},{"$f":"IF(U69=\"Oui\",'Q_del,j et Q_del,dh'!$D18,0)","v":0},{"$f":"IF(V69=\"Oui\",'Q_del,j et Q_del,dh'!$D18,0)","v":0},{"$f":"IF(W69=\"Oui\",'Q_del,j et Q_del,dh'!$D18,0)","v":0},{"$f":"IF(X69=\"Oui\",'Q_del,j et Q_del,dh'!$D18,0)","v":0},{"$f":"IF(Y69=\"Oui\",'Q_del,j et Q_del,dh'!$D18,0)","v":0},{"$f":"IF(Z69=\"Oui\",'Q_del,j et Q_del,dh'!$D18,0)","v":0},{"$f":"IF(AA69=\"Oui\",'Q_del,j et Q_del,dh'!$D18,0)","v":0},{"$f":"IF(AB69=\"Oui\",'Q_del,j et Q_del,dh'!$D18,0)","v":0},{"$f":"IF(AC69=\"Oui\",'Q_del,j et Q_del,dh'!$D18,0)","v":0},{"$f":"IF(AD69=\"Oui\",'Q_del,j et Q_del,dh'!$D18,0)","v":0},{"$f":"IF(AE69=\"Oui\",'Q_del,j et Q_del,dh'!$D18,0)","v":0},{"$f":"IF(AF69=\"Oui\",'Q_del,j et Q_del,dh'!$D18,0)","v":0},{"$f":"IF(AG69=\"Oui\",'Q_del,j et Q_del,dh'!$D18,0)","v":0},{"$f":"IF(AH69=\"Oui\",'Q_del,j et Q_del,dh'!$D18,0)","v":0},{"$f":"IF(AI69=\"Oui\",'Q_del,j et Q_del,dh'!$D18,0)","v":0},{"$f":"IF(AJ69=\"Oui\",'Q_del,j et Q_del,dh'!$D18,0)","v":0},{"$f":"IF(AK69=\"Oui\",'Q_del,j et Q_del,dh'!$D18,0)","v":0},{"$f":"IF(AL69=\"Oui\",'Q_del,j et Q_del,dh'!$D18,0)","v":0},{"$f":"IF(AM69=\"Oui\",'Q_del,j et Q_del,dh'!$D18,0)","v":0},{"$f":"IF(AN69=\"Oui\",'Q_del,j et Q_del,dh'!$D18,0)","v":0},{"$f":"IF(AO69=\"Oui\",'Q_del,j et Q_del,dh'!$D18,0)","v":0},{"$f":"IF(AP69=\"Oui\",'Q_del,j et Q_del,dh'!$D18,0)","v":0},{"$f":"IF(AQ69=\"Oui\",'Q_del,j et Q_del,dh'!$D18,0)","v":0},{"$f":"IF(AR69=\"Oui\",'Q_del,j et Q_del,dh'!$D18,0)","v":0},{"$f":"IF(AS69=\"Oui\",'Q_del,j et Q_del,dh'!$D18,0)","v":0},{"$f":"IF(AT69=\"Oui\",'Q_del,j et Q_del,dh'!$D18,0)","v":0},{"$f":"IF(AU69=\"Oui\",'Q_del,j et Q_del,dh'!$D18,0)","v":0},{"$f":"IF(AV69=\"Oui\",'Q_del,j et Q_del,dh'!$D18,0)","v":0},{"$f":"IF(AW69=\"Oui\",'Q_del,j et Q_del,dh'!$D18,0)","v":0},{"$f":"IF(AX69=\"Oui\",'Q_del,j et Q_del,dh'!$D18,0)","v":0},{"$f":"IF(AY69=\"Oui\",'Q_del,j et Q_del,dh'!$D18,0)","v":0},{"$f":"IF(AZ69=\"Oui\",'Q_del,j et Q_del,dh'!$D18,0)","v":0},{"$f":"IF(BA69=\"Oui\",'Q_del,j et Q_del,dh'!$D18,0)","v":0}]
["Qdel,l,j [MJ]","Demandeur de chaleur 12",12,{"$f":"IF(D70=\"Oui\",'Q_del,j et Q_del,dh'!$D19,0)","v":0},{"$f":"IF(E70=\"Oui\",'Q_del,j et Q_del,dh'!$D19,0)","v":0},{"$f":"IF(F70=\"Oui\",'Q_del,j et Q_del,dh'!$D19,0)","v":0},{"$f":"IF(G70=\"Oui\",'Q_del,j et Q_del,dh'!$D19,0)","v":0},{"$f":"IF(H70=\"Oui\",'Q_del,j et Q_del,dh'!$D19,0)","v":0},{"$f":"IF(I70=\"Oui\",'Q_del,j et Q_del,dh'!$D19,0)","v":0},{"$f":"IF(J70=\"Oui\",'Q_del,j et Q_del,dh'!$D19,0)","v":0},{"$f":"IF(K70=\"Oui\",'Q_del,j et Q_del,dh'!$D19,0)","v":0},{"$f":"IF(L70=\"Oui\",'Q_del,j et Q_del,dh'!$D19,0)","v":0},{"$f":"IF(M70=\"Oui\",'Q_del,j et Q_del,dh'!$D19,0)","v":0},{"$f":"IF(N70=\"Oui\",'Q_del,j et Q_del,dh'!$D19,0)","v":0},{"$f":"IF(O70=\"Oui\",'Q_del,j et Q_del,dh'!$D19,0)","v":0},{"$f":"IF(P70=\"Oui\",'Q_del,j et Q_del,dh'!$D19,0)","v":0},{"$f":"IF(Q70=\"Oui\",'Q_del,j et Q_del,dh'!$D19,0)","v":0},{"$f":"IF(R70=\"Oui\",'Q_del,j et Q_del,dh'!$D19,0)","v":0},{"$f":"IF(S70=\"Oui\",'Q_del,j et Q_del,dh'!$D19,0)","v":0},{"$f":"IF(T70=\"Oui\",'Q_del,j et Q_del,dh'!$D19,0)","v":0},{"$f":"IF(U70=\"Oui\",'Q_del,j et Q_del,dh'!$D19,0)","v":0},{"$f":"IF(V70=\"Oui\",'Q_del,j et Q_del,dh'!$D19,0)","v":0},{"$f":"IF(W70=\"Oui\",'Q_del,j et Q_del,dh'!$D19,0)","v":0},{"$f":"IF(X70=\"Oui\",'Q_del,j et Q_del,dh'!$D19,0)","v":0},{"$f":"IF(Y70=\"Oui\",'Q_del,j et Q_del,dh'!$D19,0)","v":0},{"$f":"IF(Z70=\"Oui\",'Q_del,j et Q_del,dh'!$D19,0)","v":0},{"$f":"IF(AA70=\"Oui\",'Q_del,j et Q_del,dh'!$D19,0)","v":0},{"$f":"IF(AB70=\"Oui\",'Q_del,j et Q_del,dh'!$D19,0)","v":0},{"$f":"IF(AC70=\"Oui\",'Q_del,j et Q_del,dh'!$D19,0)","v":0},{"$f":"IF(AD70=\"Oui\",'Q_del,j et Q_del,dh'!$D19,0)","v":0},{"$f":"IF(AE70=\"Oui\",'Q_del,j et Q_del,dh'!$D19,0)","v":0},{"$f":"IF(AF70=\"Oui\",'Q_del,j et Q_del,dh'!$D19,0)","v":0},{"$f":"IF(AG70=\"Oui\",'Q_del,j et Q_del,dh'!$D19,0)","v":0},{"$f":"IF(AH70=\"Oui\",'Q_del,j et Q_del,dh'!$D19,0)","v":0},{"$f":"IF(AI70=\"Oui\",'Q_del,j et Q_del,dh'!$D19,0)","v":0},{"$f":"IF(AJ70=\"Oui\",'Q_del,j et Q_del,dh'!$D19,0)","v":0},{"$f":"IF(AK70=\"Oui\",'Q_del,j et Q_del,dh'!$D19,0)","v":0},{"$f":"IF(AL70=\"Oui\",'Q_del,j et Q_del,dh'!$D19,0)","v":0},{"$f":"IF(AM70=\"Oui\",'Q_del,j et Q_del,dh'!$D19,0)","v":0},{"$f":"IF(AN70=\"Oui\",'Q_del,j et Q_del,dh'!$D19,0)","v":0},{"$f":"IF(AO70=\"Oui\",'Q_del,j et Q_del,dh'!$D19,0)","v":0},{"$f":"IF(AP70=\"Oui\",'Q_del,j et Q_del,dh'!$D19,0)","v":0},{"$f":"IF(AQ70=\"Oui\",'Q_del,j et Q_del,dh'!$D19,0)","v":0},{"$f":"IF(AR70=\"Oui\",'Q_del,j et Q_del,dh'!$D19,0)","v":0},{"$f":"IF(AS70=\"Oui\",'Q_del,j et Q_del,dh'!$D19,0)","v":0},{"$f":"IF(AT70=\"Oui\",'Q_del,j et Q_del,dh'!$D19,0)","v":0},{"$f":"IF(AU70=\"Oui\",'Q_del,j et Q_del,dh'!$D19,0)","v":0},{"$f":"IF(AV70=\"Oui\",'Q_del,j et Q_del,dh'!$D19,0)","v":0},{"$f":"IF(AW70=\"Oui\",'Q_del,j et Q_del,dh'!$D19,0)","v":0},{"$f":"IF(AX70=\"Oui\",'Q_del,j et Q_del,dh'!$D19,0)","v":0},{"$f":"IF(AY70=\"Oui\",'Q_del,j et Q_del,dh'!$D19,0)","v":0},{"$f":"IF(AZ70=\"Oui\",'Q_del,j et Q_del,dh'!$D19,0)","v":0},{"$f":"IF(BA70=\"Oui\",'Q_del,j et Q_del,dh'!$D19,0)","v":0}]
["Qdel,l,j [MJ]","Demandeur de chaleur 13",13,{"$f":"IF(D71=\"Oui\",'Q_del,j et Q_del,dh'!$D20,0)","v":0},{"$f":"IF(E71=\"Oui\",'Q_del,j et Q_del,dh'!$D20,0)","v":0},{"$f":"IF(F71=\"Oui\",'Q_del,j et Q_del,dh'!$D20,0)","v":0},{"$f":"IF(G71=\"Oui\",'Q_del,j et Q_del,dh'!$D20,0)","v":0},{"$f":"IF(H71=\"Oui\",'Q_del,j et Q_del,dh'!$D20,0)","v":0},{"$f":"IF(I71=\"Oui\",'Q_del,j et Q_del,dh'!$D20,0)","v":0},{"$f":"IF(J71=\"Oui\",'Q_del,j et Q_del,dh'!$D20,0)","v":0},{"$f":"IF(K71=\"Oui\",'Q_del,j et Q_del,dh'!$D20,0)","v":0},{"$f":"IF(L71=\"Oui\",'Q_del,j et Q_del,dh'!$D20,0)","v":0},{"$f":"IF(M71=\"Oui\",'Q_del,j et Q_del,dh'!$D20,0)","v":0},{"$f":"IF(N71=\"Oui\",'Q_del,j et Q_del,dh'!$D20,0)","v":0},{"$f":"IF(O71=\"Oui\",'Q_del,j et Q_del,dh'!$D20,0)","v":0},{"$f":"IF(P71=\"Oui\",'Q_del,j et Q_del,dh'!$D20,0)","v":0},{"$f":"IF(Q71=\"Oui\",'Q_del,j et Q_del,dh'!$D20,0)","v":0},{"$f":"IF(R71=\"Oui\",'Q_del,j et Q_del,dh'!$D20,0)","v":0},{"$f":"IF(S71=\"Oui\",'Q_del,j et Q_del,dh'!$D20,0)","v":0},{"$f":"IF(T71=\"Oui\",'Q_del,j et Q_del,dh'!$D20,0)","v":0},{"$f":"IF(U71=\"Oui\",'Q_del,j et Q_del,dh'!$D20,0)","v":0},{"$f":"IF(V71=\"Oui\",'Q_del,j et Q_del,dh'!$D20,0)","v":0},{"$f":"IF(W71=\"Oui\",'Q_del,j et Q_del,dh'!$D20,0)","v":0},{"$f":"IF(X71=\"Oui\",'Q_del,j et Q_del,dh'!$D20,0)","v":0},{"$f":"IF(Y71=\"Oui\",'Q_del,j et Q_del,dh'!$D20,0)","v":0},{"$f":"IF(Z71=\"Oui\",'Q_del,j et Q_del,dh'!$D20,0)","v":0},{"$f":"IF(AA71=\"Oui\",'Q_del,j et Q_del,dh'!$D20,0)","v":0},{"$f":"IF(AB71=\"Oui\",'Q_del,j et Q_del,dh'!$D20,0)","v":0},{"$f":"IF(AC71=\"Oui\",'Q_del,j et Q_del,dh'!$D20,0)","v":0},{"$f":"IF(AD71=\"Oui\",'Q_del,j et Q_del,dh'!$D20,0)","v":0},{"$f":"IF(AE71=\"Oui\",'Q_del,j et Q_del,dh'!$D20,0)","v":0},{"$f":"IF(AF71=\"Oui\",'Q_del,j et Q_del,dh'!$D20,0)","v":0},{"$f":"IF(AG71=\"Oui\",'Q_del,j et Q_del,dh'!$D20,0)","v":0},{"$f":"IF(AH71=\"Oui\",'Q_del,j et Q_del,dh'!$D20,0)","v":0},{"$f":"IF(AI71=\"Oui\",'Q_del,j et Q_del,dh'!$D20,0)","v":0},{"$f":"IF(AJ71=\"Oui\",'Q_del,j et Q_del,dh'!$D20,0)","v":0},{"$f":"IF(AK71=\"Oui\",'Q_del,j et Q_del,dh'!$D20,0)","v":0},{"$f":"IF(AL71=\"Oui\",'Q_del,j et Q_del,dh'!$D20,0)","v":0},{"$f":"IF(AM71=\"Oui\",'Q_del,j et Q_del,dh'!$D20,0)","v":0},{"$f":"IF(AN71=\"Oui\",'Q_del,j et Q_del,dh'!$D20,0)","v":0},{"$f":"IF(AO71=\"Oui\",'Q_del,j et Q_del,dh'!$D20,0)","v":0},{"$f":"IF(AP71=\"Oui\",'Q_del,j et Q_del,dh'!$D20,0)","v":0},{"$f":"IF(AQ71=\"Oui\",'Q_del,j et Q_del,dh'!$D20,0)","v":0},{"$f":"IF(AR71=\"Oui\",'Q_del,j et Q_del,dh'!$D20,0)","v":0},{"$f":"IF(AS71=\"Oui\",'Q_del,j et Q_del,dh'!$D20,0)","v":0},{"$f":"IF(AT71=\"Oui\",'Q_del,j et Q_del,dh'!$D20,0)","v":0},{"$f":"IF(AU71=\"Oui\",'Q_del,j et Q_del,dh'!$D20,0)","v":0},{"$f":"IF(AV71=\"Oui\",'Q_del,j et Q_del,dh'!$D20,0)","v":0},{"$f":"IF(AW71=\"Oui\",'Q_del,j et Q_del,dh'!$D20,0)","v":0},{"$f":"IF(AX71=\"Oui\",'Q_del,j et Q_del,dh'!$D20,0)","v":0},{"$f":"IF(AY71=\"Oui\",'Q_del,j et Q_del,dh'!$D20,0)","v":0},{"$f":"IF(AZ71=\"Oui\",'Q_del,j et Q_del,dh'!$D20,0)","v":0},{"$f":"IF(BA71=\"Oui\",'Q_del,j et Q_del,dh'!$D20,0)","v":0}]
["Qdel,l,j [MJ]","Demandeur de chaleur 14",14,{"$f":"IF(D72=\"Oui\",'Q_del,j et Q_del,dh'!$D21,0)","v":0},{"$f":"IF(E72=\"Oui\",'Q_del,j et Q_del,dh'!$D21,0)","v":0},{"$f":"IF(F72=\"Oui\",'Q_del,j et Q_del,dh'!$D21,0)","v":0},{"$f":"IF(G72=\"Oui\",'Q_del,j et Q_del,dh'!$D21,0)","v":0},{"$f":"IF(H72=\"Oui\",'Q_del,j et Q_del,dh'!$D21,0)","v":0},{"$f":"IF(I72=\"Oui\",'Q_del,j et Q_del,dh'!$D21,0)","v":0},{"$f":"IF(J72=\"Oui\",'Q_del,j et Q_del,dh'!$D21,0)","v":0},{"$f":"IF(K72=\"Oui\",'Q_del,j et Q_del,dh'!$D21,0)","v":0},{"$f":"IF(L72=\"Oui\",'Q_del,j et Q_del,dh'!$D21,0)","v":0},{"$f":"IF(M72=\"Oui\",'Q_del,j et Q_del,dh'!$D21,0)","v":0},{"$f":"IF(N72=\"Oui\",'Q_del,j et Q_del,dh'!$D21,0)","v":0},{"$f":"IF(O72=\"Oui\",'Q_del,j et Q_del,dh'!$D21,0)","v":0},{"$f":"IF(P72=\"Oui\",'Q_del,j et Q_del,dh'!$D21,0)","v":0},{"$f":"IF(Q72=\"Oui\",'Q_del,j et Q_del,dh'!$D21,0)","v":0},{"$f":"IF(R72=\"Oui\",'Q_del,j et Q_del,dh'!$D21,0)","v":0},{"$f":"IF(S72=\"Oui\",'Q_del,j et Q_del,dh'!$D21,0)","v":0},{"$f":"IF(T72=\"Oui\",'Q_del,j et Q_del,dh'!$D21,0)","v":0},{"$f":"IF(U72=\"Oui\",'Q_del,j et Q_del,dh'!$D21,0)","v":0},{"$f":"IF(V72=\"Oui\",'Q_del,j et Q_del,dh'!$D21,0)","v":0},{"$f":"IF(W72=\"Oui\",'Q_del,j et Q_del,dh'!$D21,0)","v":0},{"$f":"IF(X72=\"Oui\",'Q_del,j et Q_del,dh'!$D21,0)","v":0},{"$f":"IF(Y72=\"Oui\",'Q_del,j et Q_del,dh'!$D21,0)","v":0},{"$f":"IF(Z72=\"Oui\",'Q_del,j et Q_del,dh'!$D21,0)","v":0},{"$f":"IF(AA72=\"Oui\",'Q_del,j et Q_del,dh'!$D21,0)","v":0},{"$f":"IF(AB72=\"Oui\",'Q_del,j et Q_del,dh'!$D21,0)","v":0},{"$f":"IF(AC72=\"Oui\",'Q_del,j et Q_del,dh'!$D21,0)","v":0},{"$f":"IF(AD72=\"Oui\",'Q_del,j et Q_del,dh'!$D21,0)","v":0},{"$f":"IF(AE72=\"Oui\",'Q_del,j et Q_del,dh'!$D21,0)","v":0},{"$f":"IF(AF72=\"Oui\",'Q_del,j et Q_del,dh'!$D21,0)","v":0},{"$f":"IF(AG72=\"Oui\",'Q_del,j et Q_del,dh'!$D21,0)","v":0},{"$f":"IF(AH72=\"Oui\",'Q_del,j et Q_del,dh'!$D21,0)","v":0},{"$f":"IF(AI72=\"Oui\",'Q_del,j et Q_del,dh'!$D21,0)","v":0},{"$f":"IF(AJ72=\"Oui\",'Q_del,j et Q_del,dh'!$D21,0)","v":0},{"$f":"IF(AK72=\"Oui\",'Q_del,j et Q_del,dh'!$D21,0)","v":0},{"$f":"IF(AL72=\"Oui\",'Q_del,j et Q_del,dh'!$D21,0)","v":0},{"$f":"IF(AM72=\"Oui\",'Q_del,j et Q_del,dh'!$D21,0)","v":0},{"$f":"IF(AN72=\"Oui\",'Q_del,j et Q_del,dh'!$D21,0)","v":0},{"$f":"IF(AO72=\"Oui\",'Q_del,j et Q_del,dh'!$D21,0)","v":0},{"$f":"IF(AP72=\"Oui\",'Q_del,j et Q_del,dh'!$D21,0)","v":0},{"$f":"IF(AQ72=\"Oui\",'Q_del,j et Q_del,dh'!$D21,0)","v":0},{"$f":"IF(AR72=\"Oui\",'Q_del,j et Q_del,dh'!$D21,0)","v":0},{"$f":"IF(AS72=\"Oui\",'Q_del,j et Q_del,dh'!$D21,0)","v":0},{"$f":"IF(AT72=\"Oui\",'Q_del,j et Q_del,dh'!$D21,0)","v":0},{"$f":"IF(AU72=\"Oui\",'Q_del,j et Q_del,dh'!$D21,0)","v":0},{"$f":"IF(AV72=\"Oui\",'Q_del,j et Q_del,dh'!$D21,0)","v":0},{"$f":"IF(AW72=\"Oui\",'Q_del,j et Q_del,dh'!$D21,0)","v":0},{"$f":"IF(AX72=\"Oui\",'Q_del,j et Q_del,dh'!$D21,0)","v":0},{"$f":"IF(AY72=\"Oui\",'Q_del,j et Q_del,dh'!$D21,0)","v":0},{"$f":"IF(AZ72=\"Oui\",'Q_del,j et Q_del,dh'!$D21,0)","v":0},{"$f":"IF(BA72=\"Oui\",'Q_del,j et Q_del,dh'!$D21,0)","v":0}]
["Qdel,l,j [MJ]","Demandeur de chaleur 15",15,{"$f":"IF(D73=\"Oui\",'Q_del,j et Q_del,dh'!$D22,0)","v":0},{"$f":"IF(E73=\"Oui\",'Q_del,j et Q_del,dh'!$D22,0)","v":0},{"$f":"IF(F73=\"Oui\",'Q_del,j et Q_del,dh'!$D22,0)","v":0},{"$f":"IF(G73=\"Oui\",'Q_del,j et Q_del,dh'!$D22,0)","v":0},{"$f":"IF(H73=\"Oui\",'Q_del,j et Q_del,dh'!$D22,0)","v":0},{"$f":"IF(I73=\"Oui\",'Q_del,j et Q_del,dh'!$D22,0)","v":0},{"$f":"IF(J73=\"Oui\",'Q_del,j et Q_del,dh'!$D22,0)","v":0},{"$f":"IF(K73=\"Oui\",'Q_del,j et Q_del,dh'!$D22,0)","v":0},{"$f":"IF(L73=\"Oui\",'Q_del,j et Q_del,dh'!$D22,0)","v":0},{"$f":"IF(M73=\"Oui\",'Q_del,j et Q_del,dh'!$D22,0)","v":0},{"$f":"IF(N73=\"Oui\",'Q_del,j et Q_del,dh'!$D22,0)","v":0},{"$f":"IF(O73=\"Oui\",'Q_del,j et Q_del,dh'!$D22,0)","v":0},{"$f":"IF(P73=\"Oui\",'Q_del,j et Q_del,dh'!$D22,0)","v":0},{"$f":"IF(Q73=\"Oui\",'Q_del,j et Q_del,dh'!$D22,0)","v":0},{"$f":"IF(R73=\"Oui\",'Q_del,j et Q_del,dh'!$D22,0)","v":0},{"$f":"IF(S73=\"Oui\",'Q_del,j et Q_del,dh'!$D22,0)","v":0},{"$f":"IF(T73=\"Oui\",'Q_del,j et Q_del,dh'!$D22,0)","v":0},{"$f":"IF(U73=\"Oui\",'Q_del,j et Q_del,dh'!$D22,0)","v":0},{"$f":"IF(V73=\"Oui\",'Q_del,j et Q_del,dh'!$D22,0)","v":0},{"$f":"IF(W73=\"Oui\",'Q_del,j et Q_del,dh'!$D22,0)","v":0},{"$f":"IF(X73=\"Oui\",'Q_del,j et Q_del,dh'!$D22,0)","v":0},{"$f":"IF(Y73=\"Oui\",'Q_del,j et Q_del,dh'!$D22,0)","v":0},{"$f":"IF(Z73=\"Oui\",'Q_del,j et Q_del,dh'!$D22,0)","v":0},{"$f":"IF(AA73=\"Oui\",'Q_del,j et Q_del,dh'!$D22,0)","v":0},{"$f":"IF(AB73=\"Oui\",'Q_del,j et Q_del,dh'!$D22,0)","v":0},{"$f":"IF(AC73=\"Oui\",'Q_del,j et Q_del,dh'!$D22,0)","v":0},{"$f":"IF(AD73=\"Oui\",'Q_del,j et Q_del,dh'!$D22,0)","v":0},{"$f":"IF(AE73=\"Oui\",'Q_del,j et Q_del,dh'!$D22,0)","v":0},{"$f":"IF(AF73=\"Oui\",'Q_del,j et Q_del,dh'!$D22,0)","v":0},{"$f":"IF(AG73=\"Oui\",'Q_del,j et Q_del,dh'!$D22,0)","v":0},{"$f":"IF(AH73=\"Oui\",'Q_del,j et Q_del,dh'!$D22,0)","v":0},{"$f":"IF(AI73=\"Oui\",'Q_del,j et Q_del,dh'!$D22,0)","v":0},{"$f":"IF(AJ73=\"Oui\",'Q_del,j et Q_del,dh'!$D22,0)","v":0},{"$f":"IF(AK73=\"Oui\",'Q_del,j et Q_del,dh'!$D22,0)","v":0},{"$f":"IF(AL73=\"Oui\",'Q_del,j et Q_del,dh'!$D22,0)","v":0},{"$f":"IF(AM73=\"Oui\",'Q_del,j et Q_del,dh'!$D22,0)","v":0},{"$f":"IF(AN73=\"Oui\",'Q_del,j et Q_del,dh'!$D22,0)","v":0},{"$f":"IF(AO73=\"Oui\",'Q_del,j et Q_del,dh'!$D22,0)","v":0},{"$f":"IF(AP73=\"Oui\",'Q_del,j et Q_del,dh'!$D22,0)","v":0},{"$f":"IF(AQ73=\"Oui\",'Q_del,j et Q_del,dh'!$D22,0)","v":0},{"$f":"IF(AR73=\"Oui\",'Q_del,j et Q_del,dh'!$D22,0)","v":0},{"$f":"IF(AS73=\"Oui\",'Q_del,j et Q_del,dh'!$D22,0)","v":0},{"$f":"IF(AT73=\"Oui\",'Q_del,j et Q_del,dh'!$D22,0)","v":0},{"$f":"IF(AU73=\"Oui\",'Q_del,j et Q_del,dh'!$D22,0)","v":0},{"$f":"IF(AV73=\"Oui\",'Q_del,j et Q_del,dh'!$D22,0)","v":0},{"$f":"IF(AW73=\"Oui\",'Q_del,j et Q_del,dh'!$D22,0)","v":0},{"$f":"IF(AX73=\"Oui\",'Q_del,j et Q_del,dh'!$D22,0)","v":0},{"$f":"IF(AY73=\"Oui\",'Q_del,j et Q_del,dh'!$D22,0)","v":0},{"$f":"IF(AZ73=\"Oui\",'Q_del,j et Q_del,dh'!$D22,0)","v":0},{"$f":"IF(BA73=\"Oui\",'Q_del,j et Q_del,dh'!$D22,0)","v":0}]
["Qdel,l,j [MJ]","Demandeur de chaleur 16",16,{"$f":"IF(D74=\"Oui\",'Q_del,j et Q_del,dh'!$D23,0)","v":0},{"$f":"IF(E74=\"Oui\",'Q_del,j et Q_del,dh'!$D23,0)","v":0},{"$f":"IF(F74=\"Oui\",'Q_del,j et Q_del,dh'!$D23,0)","v":0},{"$f":"IF(G74=\"Oui\",'Q_del,j et Q_del,dh'!$D23,0)","v":0},{"$f":"IF(H74=\"Oui\",'Q_del,j et Q_del,dh'!$D23,0)","v":0},{"$f":"IF(I74=\"Oui\",'Q_del,j et Q_del,dh'!$D23,0)","v":0},{"$f":"IF(J74=\"Oui\",'Q_del,j et Q_del,dh'!$D23,0)","v":0},{"$f":"IF(K74=\"Oui\",'Q_del,j et Q_del,dh'!$D23,0)","v":0},{"$f":"IF(L74=\"Oui\",'Q_del,j et Q_del,dh'!$D23,0)","v":0},{"$f":"IF(M74=\"Oui\",'Q_del,j et Q_del,dh'!$D23,0)","v":0},{"$f":"IF(N74=\"Oui\",'Q_del,j et Q_del,dh'!$D23,0)","v":0},{"$f":"IF(O74=\"Oui\",'Q_del,j et Q_del,dh'!$D23,0)","v":0},{"$f":"IF(P74=\"Oui\",'Q_del,j et Q_del,dh'!$D23,0)","v":0},{"$f":"IF(Q74=\"Oui\",'Q_del,j et Q_del,dh'!$D23,0)","v":0},{"$f":"IF(R74=\"Oui\",'Q_del,j et Q_del,dh'!$D23,0)","v":0},{"$f":"IF(S74=\"Oui\",'Q_del,j et Q_del,dh'!$D23,0)","v":0},{"$f":"IF(T74=\"Oui\",'Q_del,j et Q_del,dh'!$D23,0)","v":0},{"$f":"IF(U74=\"Oui\",'Q_del,j et Q_del,dh'!$D23,0)","v":0},{"$f":"IF(V74=\"Oui\",'Q_del,j et Q_del,dh'!$D23,0)","v":0},{"$f":"IF(W74=\"Oui\",'Q_del,j et Q_del,dh'!$D23,0)","v":0},{"$f":"IF(X74=\"Oui\",'Q_del,j et Q_del,dh'!$D23,0)","v":0},{"$f":"IF(Y74=\"Oui\",'Q_del,j et Q_del,dh'!$D23,0)","v":0},{"$f":"IF(Z74=\"Oui\",'Q_del,j et Q_del,dh'!$D23,0)","v":0},{"$f":"IF(AA74=\"Oui\",'Q_del,j et Q_del,dh'!$D23,0)","v":0},{"$f":"IF(AB74=\"Oui\",'Q_del,j et Q_del,dh'!$D23,0)","v":0},{"$f":"IF(AC74=\"Oui\",'Q_del,j et Q_del,dh'!$D23,0)","v":0},{"$f":"IF(AD74=\"Oui\",'Q_del,j et Q_del,dh'!$D23,0)","v":0},{"$f":"IF(AE74=\"Oui\",'Q_del,j et Q_del,dh'!$D23,0)","v":0},{"$f":"IF(AF74=\"Oui\",'Q_del,j et Q_del,dh'!$D23,0)","v":0},{"$f":"IF(AG74=\"Oui\",'Q_del,j et Q_del,dh'!$D23,0)","v":0},{"$f":"IF(AH74=\"Oui\",'Q_del,j et Q_del,dh'!$D23,0)","v":0},{"$f":"IF(AI74=\"Oui\",'Q_del,j et Q_del,dh'!$D23,0)","v":0},{"$f":"IF(AJ74=\"Oui\",'Q_del,j et Q_del,dh'!$D23,0)","v":0},{"$f":"IF(AK74=\"Oui\",'Q_del,j et Q_del,dh'!$D23,0)","v":0},{"$f":"IF(AL74=\"Oui\",'Q_del,j et Q_del,dh'!$D23,0)","v":0},{"$f":"IF(AM74=\"Oui\",'Q_del,j et Q_del,dh'!$D23,0)","v":0},{"$f":"IF(AN74=\"Oui\",'Q_del,j et Q_del,dh'!$D23,0)","v":0},{"$f":"IF(AO74=\"Oui\",'Q_del,j et Q_del,dh'!$D23,0)","v":0},{"$f":"IF(AP74=\"Oui\",'Q_del,j et Q_del,dh'!$D23,0)","v":0},{"$f":"IF(AQ74=\"Oui\",'Q_del,j et Q_del,dh'!$D23,0)","v":0},{"$f":"IF(AR74=\"Oui\",'Q_del,j et Q_del,dh'!$D23,0)","v":0},{"$f":"IF(AS74=\"Oui\",'Q_del,j et Q_del,dh'!$D23,0)","v":0},{"$f":"IF(AT74=\"Oui\",'Q_del,j et Q_del,dh'!$D23,0)","v":0},{"$f":"IF(AU74=\"Oui\",'Q_del,j et Q_del,dh'!$D23,0)","v":0},{"$f":"IF(AV74=\"Oui\",'Q_del,j et Q_del,dh'!$D23,0)","v":0},{"$f":"IF(AW74=\"Oui\",'Q_del,j et Q_del,dh'!$D23,0)","v":0},{"$f":"IF(AX74=\"Oui\",'Q_del,j et Q_del,dh'!$D23,0)","v":0},{"$f":"IF(AY74=\"Oui\",'Q_del,j et Q_del,dh'!$D23,0)","v":0},{"$f":"IF(AZ74=\"Oui\",'Q_del,j et Q_del,dh'!$D23,0)","v":0},{"$f":"IF(BA74=\"Oui\",'Q_del,j et Q_del,dh'!$D23,0)","v":0}]
["Qdel,l,j [MJ]","Demandeur de chaleur 17",17,{"$f":"IF(D75=\"Oui\",'Q_del,j et Q_del,dh'!$D24,0)","v":0},{"$f":"IF(E75=\"Oui\",'Q_del,j et Q_del,dh'!$D24,0)","v":0},{"$f":"IF(F75=\"Oui\",'Q_del,j et Q_del,dh'!$D24,0)","v":0},{"$f":"IF(G75=\"Oui\",'Q_del,j et Q_del,dh'!$D24,0)","v":0},{"$f":"IF(H75=\"Oui\",'Q_del,j et Q_del,dh'!$D24,0)","v":0},{"$f":"IF(I75=\"Oui\",'Q_del,j et Q_del,dh'!$D24,0)","v":0},{"$f":"IF(J75=\"Oui\",'Q_del,j et Q_del,dh'!$D24,0)","v":0},{"$f":"IF(K75=\"Oui\",'Q_del,j et Q_del,dh'!$D24,0)","v":0},{"$f":"IF(L75=\"Oui\",'Q_del,j et Q_del,dh'!$D24,0)","v":0},{"$f":"IF(M75=\"Oui\",'Q_del,j et Q_del,dh'!$D24,0)","v":0},{"$f":"IF(N75=\"Oui\",'Q_del,j et Q_del,dh'!$D24,0)","v":0},{"$f":"IF(O75=\"Oui\",'Q_del,j et Q_del,dh'!$D24,0)","v":0},{"$f":"IF(P75=\"Oui\",'Q_del,j et Q_del,dh'!$D24,0)","v":0},{"$f":"IF(Q75=\"Oui\",'Q_del,j et Q_del,dh'!$D24,0)","v":0},{"$f":"IF(R75=\"Oui\",'Q_del,j et Q_del,dh'!$D24,0)","v":0},{"$f":"IF(S75=\"Oui\",'Q_del,j et Q_del,dh'!$D24,0)","v":0},{"$f":"IF(T75=\"Oui\",'Q_del,j et Q_del,dh'!$D24,0)","v":0},{"$f":"IF(U75=\"Oui\",'Q_del,j et Q_del,dh'!$D24,0)","v":0},{"$f":"IF(V75=\"Oui\",'Q_del,j et Q_del,dh'!$D24,0)","v":0},{"$f":"IF(W75=\"Oui\",'Q_del,j et Q_del,dh'!$D24,0)","v":0},{"$f":"IF(X75=\"Oui\",'Q_del,j et Q_del,dh'!$D24,0)","v":0},{"$f":"IF(Y75=\"Oui\",'Q_del,j et Q_del,dh'!$D24,0)","v":0},{"$f":"IF(Z75=\"Oui\",'Q_del,j et Q_del,dh'!$D24,0)","v":0},{"$f":"IF(AA75=\"Oui\",'Q_del,j et Q_del,dh'!$D24,0)","v":0},{"$f":"IF(AB75=\"Oui\",'Q_del,j et Q_del,dh'!$D24,0)","v":0},{"$f":"IF(AC75=\"Oui\",'Q_del,j et Q_del,dh'!$D24,0)","v":0},{"$f":"IF(AD75=\"Oui\",'Q_del,j et Q_del,dh'!$D24,0)","v":0},{"$f":"IF(AE75=\"Oui\",'Q_del,j et Q_del,dh'!$D24,0)","v":0},{"$f":"IF(AF75=\"Oui\",'Q_del,j et Q_del,dh'!$D24,0)","v":0},{"$f":"IF(AG75=\"Oui\",'Q_del,j et Q_del,dh'!$D24,0)","v":0},{"$f":"IF(AH75=\"Oui\",'Q_del,j et Q_del,dh'!$D24,0)","v":0},{"$f":"IF(AI75=\"Oui\",'Q_del,j et Q_del,dh'!$D24,0)","v":0},{"$f":"IF(AJ75=\"Oui\",'Q_del,j et Q_del,dh'!$D24,0)","v":0},{"$f":"IF(AK75=\"Oui\",'Q_del,j et Q_del,dh'!$D24,0)","v":0},{"$f":"IF(AL75=\"Oui\",'Q_del,j et Q_del,dh'!$D24,0)","v":0},{"$f":"IF(AM75=\"Oui\",'Q_del,j et Q_del,dh'!$D24,0)","v":0},{"$f":"IF(AN75=\"Oui\",'Q_del,j et Q_del,dh'!$D24,0)","v":0},{"$f":"IF(AO75=\"Oui\",'Q_del,j et Q_del,dh'!$D24,0)","v":0},{"$f":"IF(AP75=\"Oui\",'Q_del,j et Q_del,dh'!$D24,0)","v":0},{"$f":"IF(AQ75=\"Oui\",'Q_del,j et Q_del,dh'!$D24,0)","v":0},{"$f":"IF(AR75=\"Oui\",'Q_del,j et Q_del,dh'!$D24,0)","v":0},{"$f":"IF(AS75=\"Oui\",'Q_del,j et Q_del,dh'!$D24,0)","v":0},{"$f":"IF(AT75=\"Oui\",'Q_del,j et Q_del,dh'!$D24,0)","v":0},{"$f":"IF(AU75=\"Oui\",'Q_del,j et Q_del,dh'!$D24,0)","v":0},{"$f":"IF(AV75=\"Oui\",'Q_del,j et Q_del,dh'!$D24,0)","v":0},{"$f":"IF(AW75=\"Oui\",'Q_del,j et Q_del,dh'!$D24,0)","v":0},{"$f":"IF(AX75=\"Oui\",'Q_del,j et Q_del,dh'!$D24,0)","v":0},{"$f":"IF(AY75=\"Oui\",'Q_del,j et Q_del,dh'!$D24,0)","v":0},{"$f":"IF(AZ75=\"Oui\",'Q_del,j et Q_del,dh'!$D24,0)","v":0},{"$f":"IF(BA75=\"Oui\",'Q_del,j et Q_del,dh'!$D24,0)","v":0}]
["Qdel,l,j [MJ]","Demandeur de chaleur 18",18,{"$f":"IF(D76=\"Oui\",'Q_del,j et Q_del,dh'!$D25,0)","v":0},{"$f":"IF(E76=\"Oui\",'Q_del,j et Q_del,dh'!$D25,0)","v":0},{"$f":"IF(F76=\"Oui\",'Q_del,j et Q_del,dh'!$D25,0)","v":0},{"$f":"IF(G76=\"Oui\",'Q_del,j et Q_del,dh'!$D25,0)","v":0},{"$f":"IF(H76=\"Oui\",'Q_del,j et Q_del,dh'!$D25,0)","v":0},{"$f":"IF(I76=\"Oui\",'Q_del,j et Q_del,dh'!$D25,0)","v":0},{"$f":"IF(J76=\"Oui\",'Q_del,j et Q_del,dh'!$D25,0)","v":0},{"$f":"IF(K76=\"Oui\",'Q_del,j et Q_del,dh'!$D25,0)","v":0},{"$f":"IF(L76=\"Oui\",'Q_del,j et Q_del,dh'!$D25,0)","v":0},{"$f":"IF(M76=\"Oui\",'Q_del,j et Q_del,dh'!$D25,0)","v":0},{"$f":"IF(N76=\"Oui\",'Q_del,j et Q_del,dh'!$D25,0)","v":0},{"$f":"IF(O76=\"Oui\",'Q_del,j et Q_del,dh'!$D25,0)","v":0},{"$f":"IF(P76=\"Oui\",'Q_del,j et Q_del,dh'!$D25,0)","v":0},{"$f":"IF(Q76=\"Oui\",'Q_del,j et Q_del,dh'!$D25,0)","v":0},{"$f":"IF(R76=\"Oui\",'Q_del,j et Q_del,dh'!$D25,0)","v":0},{"$f":"IF(S76=\"Oui\",'Q_del,j et Q_del,dh'!$D25,0)","v":0},{"$f":"IF(T76=\"Oui\",'Q_del,j et Q_del,dh'!$D25,0)","v":0},{"$f":"IF(U76=\"Oui\",'Q_del,j et Q_del,dh'!$D25,0)","v":0},{"$f":"IF(V76=\"Oui\",'Q_del,j et Q_del,dh'!$D25,0)","v":0},{"$f":"IF(W76=\"Oui\",'Q_del,j et Q_del,dh'!$D25,0)","v":0},{"$f":"IF(X76=\"Oui\",'Q_del,j et Q_del,dh'!$D25,0)","v":0},{"$f":"IF(Y76=\"Oui\",'Q_del,j et Q_del,dh'!$D25,0)","v":0},{"$f":"IF(Z76=\"Oui\",'Q_del,j et Q_del,dh'!$D25,0)","v":0},{"$f":"IF(AA76=\"Oui\",'Q_del,j et Q_del,dh'!$D25,0)","v":0},{"$f":"IF(AB76=\"Oui\",'Q_del,j et Q_del,dh'!$D25,0)","v":0},{"$f":"IF(AC76=\"Oui\",'Q_del,j et Q_del,dh'!$D25,0)","v":0},{"$f":"IF(AD76=\"Oui\",'Q_del,j et Q_del,dh'!$D25,0)","v":0},{"$f":"IF(AE76=\"Oui\",'Q_del,j et Q_del,dh'!$D25,0)","v":0},{"$f":"IF(AF76=\"Oui\",'Q_del,j et Q_del,dh'!$D25,0)","v":0},{"$f":"IF(AG76=\"Oui\",'Q_del,j et Q_del,dh'!$D25,0)","v":0},{"$f":"IF(AH76=\"Oui\",'Q_del,j et Q_del,dh'!$D25,0)","v":0},{"$f":"IF(AI76=\"Oui\",'Q_del,j et Q_del,dh'!$D25,0)","v":0},{"$f":"IF(AJ76=\"Oui\",'Q_del,j et Q_del,dh'!$D25,0)","v":0},{"$f":"IF(AK76=\"Oui\",'Q_del,j et Q_del,dh'!$D25,0)","v":0},{"$f":"IF(AL76=\"Oui\",'Q_del,j et Q_del,dh'!$D25,0)","v":0},{"$f":"IF(AM76=\"Oui\",'Q_del,j et Q_del,dh'!$D25,0)","v":0},{"$f":"IF(AN76=\"Oui\",'Q_del,j et Q_del,dh'!$D25,0)","v":0},{"$f":"IF(AO76=\"Oui\",'Q_del,j et Q_del,dh'!$D25,0)","v":0},{"$f":"IF(AP76=\"Oui\",'Q_del,j et Q_del,dh'!$D25,0)","v":0},{"$f":"IF(AQ76=\"Oui\",'Q_del,j et Q_del,dh'!$D25,0)","v":0},{"$f":"IF(AR76=\"Oui\",'Q_del,j et Q_del,dh'!$D25,0)","v":0},{"$f":"IF(AS76=\"Oui\",'Q_del,j et Q_del,dh'!$D25,0)","v":0},{"$f":"IF(AT76=\"Oui\",'Q_del,j et Q_del,dh'!$D25,0)","v":0},{"$f":"IF(AU76=\"Oui\",'Q_del,j et Q_del,dh'!$D25,0)","v":0},{"$f":"IF(AV76=\"Oui\",'Q_del,j et Q_del,dh'!$D25,0)","v":0},{"$f":"IF(AW76=\"Oui\",'Q_del,j et Q_del,dh'!$D25,0)","v":0},{"$f":"IF(AX76=\"Oui\",'Q_del,j et Q_del,dh'!$D25,0)","v":0},{"$f":"IF(AY76=\"Oui\",'Q_del,j et Q_del,dh'!$D25,0)","v":0},{"$f":"IF(AZ76=\"Oui\",'Q_del,j et Q_del,dh'!$D25,0)","v":0},{"$f":"IF(BA76=\"Oui\",'Q_del,j et Q_del,dh'!$D25,0)","v":0}]
["Qdel,l,j [MJ]","Demandeur de chaleur 19",19,{"$f":"IF(D77=\"Oui\",'Q_del,j et Q_del,dh'!$D26,0)","v":0},{"$f":"IF(E77=\"Oui\",'Q_del,j et Q_del,dh'!$D26,0)","v":0},{"$f":"IF(F77=\"Oui\",'Q_del,j et Q_del,dh'!$D26,0)","v":0},{"$f":"IF(G77=\"Oui\",'Q_del,j et Q_del,dh'!$D26,0)","v":0},{"$f":"IF(H77=\"Oui\",'Q_del,j et Q_del,dh'!$D26,0)","v":0},{"$f":"IF(I77=\"Oui\",'Q_del,j et Q_del,dh'!$D26,0)","v":0},{"$f":"IF(J77=\"Oui\",'Q_del,j et Q_del,dh'!$D26,0)","v":0},{"$f":"IF(K77=\"Oui\",'Q_del,j et Q_del,dh'!$D26,0)","v":0},{"$f":"IF(L77=\"Oui\",'Q_del,j et Q_del,dh'!$D26,0)","v":0},{"$f":"IF(M77=\"Oui\",'Q_del,j et Q_del,dh'!$D26,0)","v":0},{"$f":"IF(N77=\"Oui\",'Q_del,j et Q_del,dh'!$D26,0)","v":0},{"$f":"IF(O77=\"Oui\",'Q_del,j et Q_del,dh'!$D26,0)","v":0},{"$f":"IF(P77=\"Oui\",'Q_del,j et Q_del,dh'!$D26,0)","v":0},{"$f":"IF(Q77=\"Oui\",'Q_del,j et Q_del,dh'!$D26,0)","v":0},{"$f":"IF(R77=\"Oui\",'Q_del,j et Q_del,dh'!$D26,0)","v":0},{"$f":"IF(S77=\"Oui\",'Q_del,j et Q_del,dh'!$D26,0)","v":0},{"$f":"IF(T77=\"Oui\",'Q_del,j et Q_del,dh'!$D26,0)","v":0},{"$f":"IF(U77=\"Oui\",'Q_del,j et Q_del,dh'!$D26,0)","v":0},{"$f":"IF(V77=\"Oui\",'Q_del,j et Q_del,dh'!$D26,0)","v":0},{"$f":"IF(W77=\"Oui\",'Q_del,j et Q_del,dh'!$D26,0)","v":0},{"$f":"IF(X77=\"Oui\",'Q_del,j et Q_del,dh'!$D26,0)","v":0},{"$f":"IF(Y77=\"Oui\",'Q_del,j et Q_del,dh'!$D26,0)","v":0},{"$f":"IF(Z77=\"Oui\",'Q_del,j et Q_del,dh'!$D26,0)","v":0},{"$f":"IF(AA77=\"Oui\",'Q_del,j et Q_del,dh'!$D26,0)","v":0},{"$f":"IF(AB77=\"Oui\",'Q_del,j et Q_del,dh'!$D26,0)","v":0},{"$f":"IF(AC77=\"Oui\",'Q_del,j et Q_del,dh'!$D26,0)","v":0},{"$f":"IF(AD77=\"Oui\",'Q_del,j et Q_del,dh'!$D26,0)","v":0},{"$f":"IF(AE77=\"Oui\",'Q_del,j et Q_del,dh'!$D26,0)","v":0},{"$f":"IF(AF77=\"Oui\",'Q_del,j et Q_del,dh'!$D26,0)","v":0},{"$f":"IF(AG77=\"Oui\",'Q_del,j et Q_del,dh'!$D26,0)","v":0},{"$f":"IF(AH77=\"Oui\",'Q_del,j et Q_del,dh'!$D26,0)","v":0},{"$f":"IF(AI77=\"Oui\",'Q_del,j et Q_del,dh'!$D26,0)","v":0},{"$f":"IF(AJ77=\"Oui\",'Q_del,j et Q_del,dh'!$D26,0)","v":0},{"$f":"IF(AK77=\"Oui\",'Q_del,j et Q_del,dh'!$D26,0)","v":0},{"$f":"IF(AL77=\"Oui\",'Q_del,j et Q_del,dh'!$D26,0)","v":0},{"$f":"IF(AM77=\"Oui\",'Q_del,j et Q_del,dh'!$D26,0)","v":0},{"$f":"IF(AN77=\"Oui\",'Q_del,j et Q_del,dh'!$D26,0)","v":0},{"$f":"IF(AO77=\"Oui\",'Q_del,j et Q_del,dh'!$D26,0)","v":0},{"$f":"IF(AP77=\"Oui\",'Q_del,j et Q_del,dh'!$D26,0)","v":0},{"$f":"IF(AQ77=\"Oui\",'Q_del,j et Q_del,dh'!$D26,0)","v":0},{"$f":"IF(AR77=\"Oui\",'Q_del,j et Q_del,dh'!$D26,0)","v":0},{"$f":"IF(AS77=\"Oui\",'Q_del,j et Q_del,dh'!$D26,0)","v":0},{"$f":"IF(AT77=\"Oui\",'Q_del,j et Q_del,dh'!$D26,0)","v":0},{"$f":"IF(AU77=\"Oui\",'Q_del,j et Q_del,dh'!$D26,0)","v":0},{"$f":"IF(AV77=\"Oui\",'Q_del,j et Q_del,dh'!$D26,0)","v":0},{"$f":"IF(AW77=\"Oui\",'Q_del,j et Q_del,dh'!$D26,0)","v":0},{"$f":"IF(AX77=\"Oui\",'Q_del,j et Q_del,dh'!$D26,0)","v":0},{"$f":"IF(AY77=\"Oui\",'Q_del,j et Q_del,dh'!$D26,0)","v":0},{"$f":"IF(AZ77=\"Oui\",'Q_del,j et Q_del,dh'!$D26,0)","v":0},{"$f":"IF(BA77=\"Oui\",'Q_del,j et Q_del,dh'!$D26,0)","v":0}]
["Qdel,l,j [MJ]","Demandeur de chaleur 20",20,{"$f":"IF(D78=\"Oui\",'Q_del,j et Q_del,dh'!$D27,0)","v":0},{"$f":"IF(E78=\"Oui\",'Q_del,j et Q_del,dh'!$D27,0)","v":0},{"$f":"IF(F78=\"Oui\",'Q_del,j et Q_del,dh'!$D27,0)","v":0},{"$f":"IF(G78=\"Oui\",'Q_del,j et Q_del,dh'!$D27,0)","v":0},{"$f":"IF(H78=\"Oui\",'Q_del,j et Q_del,dh'!$D27,0)","v":0},{"$f":"IF(I78=\"Oui\",'Q_del,j et Q_del,dh'!$D27,0)","v":0},{"$f":"IF(J78=\"Oui\",'Q_del,j et Q_del,dh'!$D27,0)","v":0},{"$f":"IF(K78=\"Oui\",'Q_del,j et Q_del,dh'!$D27,0)","v":0},{"$f":"IF(L78=\"Oui\",'Q_del,j et Q_del,dh'!$D27,0)","v":0},{"$f":"IF(M78=\"Oui\",'Q_del,j et Q_del,dh'!$D27,0)","v":0},{"$f":"IF(N78=\"Oui\",'Q_del,j et Q_del,dh'!$D27,0)","v":0},{"$f":"IF(O78=\"Oui\",'Q_del,j et Q_del,dh'!$D27,0)","v":0},{"$f":"IF(P78=\"Oui\",'Q_del,j et Q_del,dh'!$D27,0)","v":0},{"$f":"IF(Q78=\"Oui\",'Q_del,j et Q_del,dh'!$D27,0)","v":0},{"$f":"IF(R78=\"Oui\",'Q_del,j et Q_del,dh'!$D27,0)","v":0},{"$f":"IF(S78=\"Oui\",'Q_del,j et Q_del,dh'!$D27,0)","v":0},{"$f":"IF(T78=\"Oui\",'Q_del,j et Q_del,dh'!$D27,0)","v":0},{"$f":"IF(U78=\"Oui\",'Q_del,j et Q_del,dh'!$D27,0)","v":0},{"$f":"IF(V78=\"Oui\",'Q_del,j et Q_del,dh'!$D27,0)","v":0},{"$f":"IF(W78=\"Oui\",'Q_del,j et Q_del,dh'!$D27,0)","v":0},{"$f":"IF(X78=\"Oui\",'Q_del,j et Q_del,dh'!$D27,0)","v":0},{"$f":"IF(Y78=\"Oui\",'Q_del,j et Q_del,dh'!$D27,0)","v":0},{"$f":"IF(Z78=\"Oui\",'Q_del,j et Q_del,dh'!$D27,0)","v":0},{"$f":"IF(AA78=\"Oui\",'Q_del,j et Q_del,dh'!$D27,0)","v":0},{"$f":"IF(AB78=\"Oui\",'Q_del,j et Q_del,dh'!$D27,0)","v":0},{"$f":"IF(AC78=\"Oui\",'Q_del,j et Q_del,dh'!$D27,0)","v":0},{"$f":"IF(AD78=\"Oui\",'Q_del,j et Q_del,dh'!$D27,0)","v":0},{"$f":"IF(AE78=\"Oui\",'Q_del,j et Q_del,dh'!$D27,0)","v":0},{"$f":"IF(AF78=\"Oui\",'Q_del,j et Q_del,dh'!$D27,0)","v":0},{"$f":"IF(AG78=\"Oui\",'Q_del,j et Q_del,dh'!$D27,0)","v":0},{"$f":"IF(AH78=\"Oui\",'Q_del,j et Q_del,dh'!$D27,0)","v":0},{"$f":"IF(AI78=\"Oui\",'Q_del,j et Q_del,dh'!$D27,0)","v":0},{"$f":"IF(AJ78=\"Oui\",'Q_del,j et Q_del,dh'!$D27,0)","v":0},{"$f":"IF(AK78=\"Oui\",'Q_del,j et Q_del,dh'!$D27,0)","v":0},{"$f":"IF(AL78=\"Oui\",'Q_del,j et Q_del,dh'!$D27,0)","v":0},{"$f":"IF(AM78=\"Oui\",'Q_del,j et Q_del,dh'!$D27,0)","v":0},{"$f":"IF(AN78=\"Oui\",'Q_del,j et Q_del,dh'!$D27,0)","v":0},{"$f":"IF(AO78=\"Oui\",'Q_del,j et Q_del,dh'!$D27,0)","v":0},{"$f":"IF(AP78=\"Oui\",'Q_del,j et Q_del,dh'!$D27,0)","v":0},{"$f":"IF(AQ78=\"Oui\",'Q_del,j et Q_del,dh'!$D27,0)","v":0},{"$f":"IF(AR78=\"Oui\",'Q_del,j et Q_del,dh'!$D27,0)","v":0},{"$f":"IF(AS78=\"Oui\",'Q_del,j et Q_del,dh'!$D27,0)","v":0},{"$f":"IF(AT78=\"Oui\",'Q_del,j et Q_del,dh'!$D27,0)","v":0},{"$f":"IF(AU78=\"Oui\",'Q_del,j et Q_del,dh'!$D27,0)","v":0},{"$f":"IF(AV78=\"Oui\",'Q_del,j et Q_del,dh'!$D27,0)","v":0},{"$f":"IF(AW78=\"Oui\",'Q_del,j et Q_del,dh'!$D27,0)","v":0},{"$f":"IF(AX78=\"Oui\",'Q_del,j et Q_del,dh'!$D27,0)","v":0},{"$f":"IF(AY78=\"Oui\",'Q_del,j et Q_del,dh'!$D27,0)","v":0},{"$f":"IF(AZ78=\"Oui\",'Q_del,j et Q_del,dh'!$D27,0)","v":0},{"$f":"IF(BA78=\"Oui\",'Q_del,j et Q_del,dh'!$D27,0)","v":0}]
["Qdel,l,j [MJ]","Demandeur de chaleur 21",21,{"$f":"IF(D79=\"Oui\",'Q_del,j et Q_del,dh'!$D28,0)","v":0},{"$f":"IF(E79=\"Oui\",'Q_del,j et Q_del,dh'!$D28,0)","v":0},{"$f":"IF(F79=\"Oui\",'Q_del,j et Q_del,dh'!$D28,0)","v":0},{"$f":"IF(G79=\"Oui\",'Q_del,j et Q_del,dh'!$D28,0)","v":0},{"$f":"IF(H79=\"Oui\",'Q_del,j et Q_del,dh'!$D28,0)","v":0},{"$f":"IF(I79=\"Oui\",'Q_del,j et Q_del,dh'!$D28,0)","v":0},{"$f":"IF(J79=\"Oui\",'Q_del,j et Q_del,dh'!$D28,0)","v":0},{"$f":"IF(K79=\"Oui\",'Q_del,j et Q_del,dh'!$D28,0)","v":0},{"$f":"IF(L79=\"Oui\",'Q_del,j et Q_del,dh'!$D28,0)","v":0},{"$f":"IF(M79=\"Oui\",'Q_del,j et Q_del,dh'!$D28,0)","v":0},{"$f":"IF(N79=\"Oui\",'Q_del,j et Q_del,dh'!$D28,0)","v":0},{"$f":"IF(O79=\"Oui\",'Q_del,j et Q_del,dh'!$D28,0)","v":0},{"$f":"IF(P79=\"Oui\",'Q_del,j et Q_del,dh'!$D28,0)","v":0},{"$f":"IF(Q79=\"Oui\",'Q_del,j et Q_del,dh'!$D28,0)","v":0},{"$f":"IF(R79=\"Oui\",'Q_del,j et Q_del,dh'!$D28,0)","v":0},{"$f":"IF(S79=\"Oui\",'Q_del,j et Q_del,dh'!$D28,0)","v":0},{"$f":"IF(T79=\"Oui\",'Q_del,j et Q_del,dh'!$D28,0)","v":0},{"$f":"IF(U79=\"Oui\",'Q_del,j et Q_del,dh'!$D28,0)","v":0},{"$f":"IF(V79=\"Oui\",'Q_del,j et Q_del,dh'!$D28,0)","v":0},{"$f":"IF(W79=\"Oui\",'Q_del,j et Q_del,dh'!$D28,0)","v":0},{"$f":"IF(X79=\"Oui\",'Q_del,j et Q_del,dh'!$D28,0)","v":0},{"$f":"IF(Y79=\"Oui\",'Q_del,j et Q_del,dh'!$D28,0)","v":0},{"$f":"IF(Z79=\"Oui\",'Q_del,j et Q_del,dh'!$D28,0)","v":0},{"$f":"IF(AA79=\"Oui\",'Q_del,j et Q_del,dh'!$D28,0)","v":0},{"$f":"IF(AB79=\"Oui\",'Q_del,j et Q_del,dh'!$D28,0)","v":0},{"$f":"IF(AC79=\"Oui\",'Q_del,j et Q_del,dh'!$D28,0)","v":0},{"$f":"IF(AD79=\"Oui\",'Q_del,j et Q_del,dh'!$D28,0)","v":0},{"$f":"IF(AE79=\"Oui\",'Q_del,j et Q_del,dh'!$D28,0)","v":0},{"$f":"IF(AF79=\"Oui\",'Q_del,j et Q_del,dh'!$D28,0)","v":0},{"$f":"IF(AG79=\"Oui\",'Q_del,j et Q_del,dh'!$D28,0)","v":0},{"$f":"IF(AH79=\"Oui\",'Q_del,j et Q_del,dh'!$D28,0)","v":0},{"$f":"IF(AI79=\"Oui\",'Q_del,j et Q_del,dh'!$D28,0)","v":0},{"$f":"IF(AJ79=\"Oui\",'Q_del,j et Q_del,dh'!$D28,0)","v":0},{"$f":"IF(AK79=\"Oui\",'Q_del,j et Q_del,dh'!$D28,0)","v":0},{"$f":"IF(AL79=\"Oui\",'Q_del,j et Q_del,dh'!$D28,0)","v":0},{"$f":"IF(AM79=\"Oui\",'Q_del,j et Q_del,dh'!$D28,0)","v":0},{"$f":"IF(AN79=\"Oui\",'Q_del,j et Q_del,dh'!$D28,0)","v":0},{"$f":"IF(AO79=\"Oui\",'Q_del,j et Q_del,dh'!$D28,0)","v":0},{"$f":"IF(AP79=\"Oui\",'Q_del,j et Q_del,dh'!$D28,0)","v":0},{"$f":"IF(AQ79=\"Oui\",'Q_del,j et Q_del,dh'!$D28,0)","v":0},{"$f":"IF(AR79=\"Oui\",'Q_del,j et Q_del,dh'!$D28,0)","v":0},{"$f":"IF(AS79=\"Oui\",'Q_del,j et Q_del,dh'!$D28,0)","v":0},{"$f":"IF(AT79=\"Oui\",'Q_del,j et Q_del,dh'!$D28,0)","v":0},{"$f":"IF(AU79=\"Oui\",'Q_del,j et Q_del,dh'!$D28,0)","v":0},{"$f":"IF(AV79=\"Oui\",'Q_del,j et Q_del,dh'!$D28,0)","v":0},{"$f":"IF(AW79=\"Oui\",'Q_del,j et Q_del,dh'!$D28,0)","v":0},{"$f":"IF(AX79=\"Oui\",'Q_del,j et Q_del,dh'!$D28,0)","v":0},{"$f":"IF(AY79=\"Oui\",'Q_del,j et Q_del,dh'!$D28,0)","v":0},{"$f":"IF(AZ79=\"Oui\",'Q_del,j et Q_del,dh'!$D28,0)","v":0},{"$f":"IF(BA79=\"Oui\",'Q_del,j et Q_del,dh'!$D28,0)","v":0}]
["Qdel,l,j [MJ]","Demandeur de chaleur 22",22,{"$f":"IF(D80=\"Oui\",'Q_del,j et Q_del,dh'!$D29,0)","v":0},{"$f":"IF(E80=\"Oui\",'Q_del,j et Q_del,dh'!$D29,0)","v":0},{"$f":"IF(F80=\"Oui\",'Q_del,j et Q_del,dh'!$D29,0)","v":0},{"$f":"IF(G80=\"Oui\",'Q_del,j et Q_del,dh'!$D29,0)","v":0},{"$f":"IF(H80=\"Oui\",'Q_del,j et Q_del,dh'!$D29,0)","v":0},{"$f":"IF(I80=\"Oui\",'Q_del,j et Q_del,dh'!$D29,0)","v":0},{"$f":"IF(J80=\"Oui\",'Q_del,j et Q_del,dh'!$D29,0)","v":0},{"$f":"IF(K80=\"Oui\",'Q_del,j et Q_del,dh'!$D29,0)","v":0},{"$f":"IF(L80=\"Oui\",'Q_del,j et Q_del,dh'!$D29,0)","v":0},{"$f":"IF(M80=\"Oui\",'Q_del,j et Q_del,dh'!$D29,0)","v":0},{"$f":"IF(N80=\"Oui\",'Q_del,j et Q_del,dh'!$D29,0)","v":0},{"$f":"IF(O80=\"Oui\",'Q_del,j et Q_del,dh'!$D29,0)","v":0},{"$f":"IF(P80=\"Oui\",'Q_del,j et Q_del,dh'!$D29,0)","v":0},{"$f":"IF(Q80=\"Oui\",'Q_del,j et Q_del,dh'!$D29,0)","v":0},{"$f":"IF(R80=\"Oui\",'Q_del,j et Q_del,dh'!$D29,0)","v":0},{"$f":"IF(S80=\"Oui\",'Q_del,j et Q_del,dh'!$D29,0)","v":0},{"$f":"IF(T80=\"Oui\",'Q_del,j et Q_del,dh'!$D29,0)","v":0},{"$f":"IF(U80=\"Oui\",'Q_del,j et Q_del,dh'!$D29,0)","v":0},{"$f":"IF(V80=\"Oui\",'Q_del,j et Q_del,dh'!$D29,0)","v":0},{"$f":"IF(W80=\"Oui\",'Q_del,j et Q_del,dh'!$D29,0)","v":0},{"$f":"IF(X80=\"Oui\",'Q_del,j et Q_del,dh'!$D29,0)","v":0},{"$f":"IF(Y80=\"Oui\",'Q_del,j et Q_del,dh'!$D29,0)","v":0},{"$f":"IF(Z80=\"Oui\",'Q_del,j et Q_del,dh'!$D29,0)","v":0},{"$f":"IF(AA80=\"Oui\",'Q_del,j et Q_del,dh'!$D29,0)","v":0},{"$f":"IF(AB80=\"Oui\",'Q_del,j et Q_del,dh'!$D29,0)","v":0},{"$f":"IF(AC80=\"Oui\",'Q_del,j et Q_del,dh'!$D29,0)","v":0},{"$f":"IF(AD80=\"Oui\",'Q_del,j et Q_del,dh'!$D29,0)","v":0},{"$f":"IF(AE80=\"Oui\",'Q_del,j et Q_del,dh'!$D29,0)","v":0},{"$f":"IF(AF80=\"Oui\",'Q_del,j et Q_del,dh'!$D29,0)","v":0},{"$f":"IF(AG80=\"Oui\",'Q_del,j et Q_del,dh'!$D29,0)","v":0},{"$f":"IF(AH80=\"Oui\",'Q_del,j et Q_del,dh'!$D29,0)","v":0},{"$f":"IF(AI80=\"Oui\",'Q_del,j et Q_del,dh'!$D29,0)","v":0},{"$f":"IF(AJ80=\"Oui\",'Q_del,j et Q_del,dh'!$D29,0)","v":0},{"$f":"IF(AK80=\"Oui\",'Q_del,j et Q_del,dh'!$D29,0)","v":0},{"$f":"IF(AL80=\"Oui\",'Q_del,j et Q_del,dh'!$D29,0)","v":0},{"$f":"IF(AM80=\"Oui\",'Q_del,j et Q_del,dh'!$D29,0)","v":0},{"$f":"IF(AN80=\"Oui\",'Q_del,j et Q_del,dh'!$D29,0)","v":0},{"$f":"IF(AO80=\"Oui\",'Q_del,j et Q_del,dh'!$D29,0)","v":0},{"$f":"IF(AP80=\"Oui\",'Q_del,j et Q_del,dh'!$D29,0)","v":0},{"$f":"IF(AQ80=\"Oui\",'Q_del,j et Q_del,dh'!$D29,0)","v":0},{"$f":"IF(AR80=\"Oui\",'Q_del,j et Q_del,dh'!$D29,0)","v":0},{"$f":"IF(AS80=\"Oui\",'Q_del,j et Q_del,dh'!$D29,0)","v":0},{"$f":"IF(AT80=\"Oui\",'Q_del,j et Q_del,dh'!$D29,0)","v":0},{"$f":"IF(AU80=\"Oui\",'Q_del,j et Q_del,dh'!$D29,0)","v":0},{"$f":"IF(AV80=\"Oui\",'Q_del,j et Q_del,dh'!$D29,0)","v":0},{"$f":"IF(AW80=\"Oui\",'Q_del,j et Q_del,dh'!$D29,0)","v":0},{"$f":"IF(AX80=\"Oui\",'Q_del,j et Q_del,dh'!$D29,0)","v":0},{"$f":"IF(AY80=\"Oui\",'Q_del,j et Q_del,dh'!$D29,0)","v":0},{"$f":"IF(AZ80=\"Oui\",'Q_del,j et Q_del,dh'!$D29,0)","v":0},{"$f":"IF(BA80=\"Oui\",'Q_del,j et Q_del,dh'!$D29,0)","v":0}]
["Qdel,l,j [MJ]","Demandeur de chaleur 23",23,{"$f":"IF(D81=\"Oui\",'Q_del,j et Q_del,dh'!$D30,0)","v":0},{"$f":"IF(E81=\"Oui\",'Q_del,j et Q_del,dh'!$D30,0)","v":0},{"$f":"IF(F81=\"Oui\",'Q_del,j et Q_del,dh'!$D30,0)","v":0},{"$f":"IF(G81=\"Oui\",'Q_del,j et Q_del,dh'!$D30,0)","v":0},{"$f":"IF(H81=\"Oui\",'Q_del,j et Q_del,dh'!$D30,0)","v":0},{"$f":"IF(I81=\"Oui\",'Q_del,j et Q_del,dh'!$D30,0)","v":0},{"$f":"IF(J81=\"Oui\",'Q_del,j et Q_del,dh'!$D30,0)","v":0},{"$f":"IF(K81=\"Oui\",'Q_del,j et Q_del,dh'!$D30,0)","v":0},{"$f":"IF(L81=\"Oui\",'Q_del,j et Q_del,dh'!$D30,0)","v":0},{"$f":"IF(M81=\"Oui\",'Q_del,j et Q_del,dh'!$D30,0)","v":0},{"$f":"IF(N81=\"Oui\",'Q_del,j et Q_del,dh'!$D30,0)","v":0},{"$f":"IF(O81=\"Oui\",'Q_del,j et Q_del,dh'!$D30,0)","v":0},{"$f":"IF(P81=\"Oui\",'Q_del,j et Q_del,dh'!$D30,0)","v":0},{"$f":"IF(Q81=\"Oui\",'Q_del,j et Q_del,dh'!$D30,0)","v":0},{"$f":"IF(R81=\"Oui\",'Q_del,j et Q_del,dh'!$D30,0)","v":0},{"$f":"IF(S81=\"Oui\",'Q_del,j et Q_del,dh'!$D30,0)","v":0},{"$f":"IF(T81=\"Oui\",'Q_del,j et Q_del,dh'!$D30,0)","v":0},{"$f":"IF(U81=\"Oui\",'Q_del,j et Q_del,dh'!$D30,0)","v":0},{"$f":"IF(V81=\"Oui\",'Q_del,j et Q_del,dh'!$D30,0)","v":0},{"$f":"IF(W81=\"Oui\",'Q_del,j et Q_del,dh'!$D30,0)","v":0},{"$f":"IF(X81=\"Oui\",'Q_del,j et Q_del,dh'!$D30,0)","v":0},{"$f":"IF(Y81=\"Oui\",'Q_del,j et Q_del,dh'!$D30,0)","v":0},{"$f":"IF(Z81=\"Oui\",'Q_del,j et Q_del,dh'!$D30,0)","v":0},{"$f":"IF(AA81=\"Oui\",'Q_del,j et Q_del,dh'!$D30,0)","v":0},{"$f":"IF(AB81=\"Oui\",'Q_del,j et Q_del,dh'!$D30,0)","v":0},{"$f":"IF(AC81=\"Oui\",'Q_del,j et Q_del,dh'!$D30,0)","v":0},{"$f":"IF(AD81=\"Oui\",'Q_del,j et Q_del,dh'!$D30,0)","v":0},{"$f":"IF(AE81=\"Oui\",'Q_del,j et Q_del,dh'!$D30,0)","v":0},{"$f":"IF(AF81=\"Oui\",'Q_del,j et Q_del,dh'!$D30,0)","v":0},{"$f":"IF(AG81=\"Oui\",'Q_del,j et Q_del,dh'!$D30,0)","v":0},{"$f":"IF(AH81=\"Oui\",'Q_del,j et Q_del,dh'!$D30,0)","v":0},{"$f":"IF(AI81=\"Oui\",'Q_del,j et Q_del,dh'!$D30,0)","v":0},{"$f":"IF(AJ81=\"Oui\",'Q_del,j et Q_del,dh'!$D30,0)","v":0},{"$f":"IF(AK81=\"Oui\",'Q_del,j et Q_del,dh'!$D30,0)","v":0},{"$f":"IF(AL81=\"Oui\",'Q_del,j et Q_del,dh'!$D30,0)","v":0},{"$f":"IF(AM81=\"Oui\",'Q_del,j et Q_del,dh'!$D30,0)","v":0},{"$f":"IF(AN81=\"Oui\",'Q_del,j et Q_del,dh'!$D30,0)","v":0},{"$f":"IF(AO81=\"Oui\",'Q_del,j et Q_del,dh'!$D30,0)","v":0},{"$f":"IF(AP81=\"Oui\",'Q_del,j et Q_del,dh'!$D30,0)","v":0},{"$f":"IF(AQ81=\"Oui\",'Q_del,j et Q_del,dh'!$D30,0)","v":0},{"$f":"IF(AR81=\"Oui\",'Q_del,j et Q_del,dh'!$D30,0)","v":0},{"$f":"IF(AS81=\"Oui\",'Q_del,j et Q_del,dh'!$D30,0)","v":0},{"$f":"IF(AT81=\"Oui\",'Q_del,j et Q_del,dh'!$D30,0)","v":0},{"$f":"IF(AU81=\"Oui\",'Q_del,j et Q_del,dh'!$D30,0)","v":0},{"$f":"IF(AV81=\"Oui\",'Q_del,j et Q_del,dh'!$D30,0)","v":0},{"$f":"IF(AW81=\"Oui\",'Q_del,j et Q_del,dh'!$D30,0)","v":0},{"$f":"IF(AX81=\"Oui\",'Q_del,j et Q_del,dh'!$D30,0)","v":0},{"$f":"IF(AY81=\"Oui\",'Q_del,j et Q_del,dh'!$D30,0)","v":0},{"$f":"IF(AZ81=\"Oui\",'Q_del,j et Q_del,dh'!$D30,0)","v":0},{"$f":"IF(BA81=\"Oui\",'Q_del,j et Q_del,dh'!$D30,0)","v":0}]
["Qdel,l,j [MJ]","Demandeur de chaleur 24",24,{"$f":"IF(D82=\"Oui\",'Q_del,j et Q_del,dh'!$D31,0)","v":0},{"$f":"IF(E82=\"Oui\",'Q_del,j et Q_del,dh'!$D31,0)","v":0},{"$f":"IF(F82=\"Oui\",'Q_del,j et Q_del,dh'!$D31,0)","v":0},{"$f":"IF(G82=\"Oui\",'Q_del,j et Q_del,dh'!$D31,0)","v":0},{"$f":"IF(H82=\"Oui\",'Q_del,j et Q_del,dh'!$D31,0)","v":0},{"$f":"IF(I82=\"Oui\",'Q_del,j et Q_del,dh'!$D31,0)","v":0},{"$f":"IF(J82=\"Oui\",'Q_del,j et Q_del,dh'!$D31,0)","v":0},{"$f":"IF(K82=\"Oui\",'Q_del,j et Q_del,dh'!$D31,0)","v":0},{"$f":"IF(L82=\"Oui\",'Q_del,j et Q_del,dh'!$D31,0)","v":0},{"$f":"IF(M82=\"Oui\",'Q_del,j et Q_del,dh'!$D31,0)","v":0},{"$f":"IF(N82=\"Oui\",'Q_del,j et Q_del,dh'!$D31,0)","v":0},{"$f":"IF(O82=\"Oui\",'Q_del,j et Q_del,dh'!$D31,0)","v":0},{"$f":"IF(P82=\"Oui\",'Q_del,j et Q_del,dh'!$D31,0)","v":0},{"$f":"IF(Q82=\"Oui\",'Q_del,j et Q_del,dh'!$D31,0)","v":0},{"$f":"IF(R82=\"Oui\",'Q_del,j et Q_del,dh'!$D31,0)","v":0},{"$f":"IF(S82=\"Oui\",'Q_del,j et Q_del,dh'!$D31,0)","v":0},{"$f":"IF(T82=\"Oui\",'Q_del,j et Q_del,dh'!$D31,0)","v":0},{"$f":"IF(U82=\"Oui\",'Q_del,j et Q_del,dh'!$D31,0)","v":0},{"$f":"IF(V82=\"Oui\",'Q_del,j et Q_del,dh'!$D31,0)","v":0},{"$f":"IF(W82=\"Oui\",'Q_del,j et Q_del,dh'!$D31,0)","v":0},{"$f":"IF(X82=\"Oui\",'Q_del,j et Q_del,dh'!$D31,0)","v":0},{"$f":"IF(Y82=\"Oui\",'Q_del,j et Q_del,dh'!$D31,0)","v":0},{"$f":"IF(Z82=\"Oui\",'Q_del,j et Q_del,dh'!$D31,0)","v":0},{"$f":"IF(AA82=\"Oui\",'Q_del,j et Q_del,dh'!$D31,0)","v":0},{"$f":"IF(AB82=\"Oui\",'Q_del,j et Q_del,dh'!$D31,0)","v":0},{"$f":"IF(AC82=\"Oui\",'Q_del,j et Q_del,dh'!$D31,0)","v":0},{"$f":"IF(AD82=\"Oui\",'Q_del,j et Q_del,dh'!$D31,0)","v":0},{"$f":"IF(AE82=\"Oui\",'Q_del,j et Q_del,dh'!$D31,0)","v":0},{"$f":"IF(AF82=\"Oui\",'Q_del,j et Q_del,dh'!$D31,0)","v":0},{"$f":"IF(AG82=\"Oui\",'Q_del,j et Q_del,dh'!$D31,0)","v":0},{"$f":"IF(AH82=\"Oui\",'Q_del,j et Q_del,dh'!$D31,0)","v":0},{"$f":"IF(AI82=\"Oui\",'Q_del,j et Q_del,dh'!$D31,0)","v":0},{"$f":"IF(AJ82=\"Oui\",'Q_del,j et Q_del,dh'!$D31,0)","v":0},{"$f":"IF(AK82=\"Oui\",'Q_del,j et Q_del,dh'!$D31,0)","v":0},{"$f":"IF(AL82=\"Oui\",'Q_del,j et Q_del,dh'!$D31,0)","v":0},{"$f":"IF(AM82=\"Oui\",'Q_del,j et Q_del,dh'!$D31,0)","v":0},{"$f":"IF(AN82=\"Oui\",'Q_del,j et Q_del,dh'!$D31,0)","v":0},{"$f":"IF(AO82=\"Oui\",'Q_del,j et Q_del,dh'!$D31,0)","v":0},{"$f":"IF(AP82=\"Oui\",'Q_del,j et Q_del,dh'!$D31,0)","v":0},{"$f":"IF(AQ82=\"Oui\",'Q_del,j et Q_del,dh'!$D31,0)","v":0},{"$f":"IF(AR82=\"Oui\",'Q_del,j et Q_del,dh'!$D31,0)","v":0},{"$f":"IF(AS82=\"Oui\",'Q_del,j et Q_del,dh'!$D31,0)","v":0},{"$f":"IF(AT82=\"Oui\",'Q_del,j et Q_del,dh'!$D31,0)","v":0},{"$f":"IF(AU82=\"Oui\",'Q_del,j et Q_del,dh'!$D31,0)","v":0},{"$f":"IF(AV82=\"Oui\",'Q_del,j et Q_del,dh'!$D31,0)","v":0},{"$f":"IF(AW82=\"Oui\",'Q_del,j et Q_del,dh'!$D31,0)","v":0},{"$f":"IF(AX82=\"Oui\",'Q_del,j et Q_del,dh'!$D31,0)","v":0},{"$f":"IF(AY82=\"Oui\",'Q_del,j et Q_del,dh'!$D31,0)","v":0},{"$f":"IF(AZ82=\"Oui\",'Q_del,j et Q_del,dh'!$D31,0)","v":0},{"$f":"IF(BA82=\"Oui\",'Q_del,j et Q_del,dh'!$D31,0)","v":0}]
["Qdel,l,j [MJ]","Demandeur de chaleur 25",25,{"$f":"IF(D83=\"Oui\",'Q_del,j et Q_del,dh'!$D32,0)","v":0},{"$f":"IF(E83=\"Oui\",'Q_del,j et Q_del,dh'!$D32,0)","v":0},{"$f":"IF(F83=\"Oui\",'Q_del,j et Q_del,dh'!$D32,0)","v":0},{"$f":"IF(G83=\"Oui\",'Q_del,j et Q_del,dh'!$D32,0)","v":0},{"$f":"IF(H83=\"Oui\",'Q_del,j et Q_del,dh'!$D32,0)","v":0},{"$f":"IF(I83=\"Oui\",'Q_del,j et Q_del,dh'!$D32,0)","v":0},{"$f":"IF(J83=\"Oui\",'Q_del,j et Q_del,dh'!$D32,0)","v":0},{"$f":"IF(K83=\"Oui\",'Q_del,j et Q_del,dh'!$D32,0)","v":0},{"$f":"IF(L83=\"Oui\",'Q_del,j et Q_del,dh'!$D32,0)","v":0},{"$f":"IF(M83=\"Oui\",'Q_del,j et Q_del,dh'!$D32,0)","v":0},{"$f":"IF(N83=\"Oui\",'Q_del,j et Q_del,dh'!$D32,0)","v":0},{"$f":"IF(O83=\"Oui\",'Q_del,j et Q_del,dh'!$D32,0)","v":0},{"$f":"IF(P83=\"Oui\",'Q_del,j et Q_del,dh'!$D32,0)","v":0},{"$f":"IF(Q83=\"Oui\",'Q_del,j et Q_del,dh'!$D32,0)","v":0},{"$f":"IF(R83=\"Oui\",'Q_del,j et Q_del,dh'!$D32,0)","v":0},{"$f":"IF(S83=\"Oui\",'Q_del,j et Q_del,dh'!$D32,0)","v":0},{"$f":"IF(T83=\"Oui\",'Q_del,j et Q_del,dh'!$D32,0)","v":0},{"$f":"IF(U83=\"Oui\",'Q_del,j et Q_del,dh'!$D32,0)","v":0},{"$f":"IF(V83=\"Oui\",'Q_del,j et Q_del,dh'!$D32,0)","v":0},{"$f":"IF(W83=\"Oui\",'Q_del,j et Q_del,dh'!$D32,0)","v":0},{"$f":"IF(X83=\"Oui\",'Q_del,j et Q_del,dh'!$D32,0)","v":0},{"$f":"IF(Y83=\"Oui\",'Q_del,j et Q_del,dh'!$D32,0)","v":0},{"$f":"IF(Z83=\"Oui\",'Q_del,j et Q_del,dh'!$D32,0)","v":0},{"$f":"IF(AA83=\"Oui\",'Q_del,j et Q_del,dh'!$D32,0)","v":0},{"$f":"IF(AB83=\"Oui\",'Q_del,j et Q_del,dh'!$D32,0)","v":0},{"$f":"IF(AC83=\"Oui\",'Q_del,j et Q_del,dh'!$D32,0)","v":0},{"$f":"IF(AD83=\"Oui\",'Q_del,j et Q_del,dh'!$D32,0)","v":0},{"$f":"IF(AE83=\"Oui\",'Q_del,j et Q_del,dh'!$D32,0)","v":0},{"$f":"IF(AF83=\"Oui\",'Q_del,j et Q_del,dh'!$D32,0)","v":0},{"$f":"IF(AG83=\"Oui\",'Q_del,j et Q_del,dh'!$D32,0)","v":0},{"$f":"IF(AH83=\"Oui\",'Q_del,j et Q_del,dh'!$D32,0)","v":0},{"$f":"IF(AI83=\"Oui\",'Q_del,j et Q_del,dh'!$D32,0)","v":0},{"$f":"IF(AJ83=\"Oui\",'Q_del,j et Q_del,dh'!$D32,0)","v":0},{"$f":"IF(AK83=\"Oui\",'Q_del,j et Q_del,dh'!$D32,0)","v":0},{"$f":"IF(AL83=\"Oui\",'Q_del,j et Q_del,dh'!$D32,0)","v":0},{"$f":"IF(AM83=\"Oui\",'Q_del,j et Q_del,dh'!$D32,0)","v":0},{"$f":"IF(AN83=\"Oui\",'Q_del,j et Q_del,dh'!$D32,0)","v":0},{"$f":"IF(AO83=\"Oui\",'Q_del,j et Q_del,dh'!$D32,0)","v":0},{"$f":"IF(AP83=\"Oui\",'Q_del,j et Q_del,dh'!$D32,0)","v":0},{"$f":"IF(AQ83=\"Oui\",'Q_del,j et Q_del,dh'!$D32,0)","v":0},{"$f":"IF(AR83=\"Oui\",'Q_del,j et Q_del,dh'!$D32,0)","v":0},{"$f":"IF(AS83=\"Oui\",'Q_del,j et Q_del,dh'!$D32,0)","v":0},{"$f":"IF(AT83=\"Oui\",'Q_del,j et Q_del,dh'!$D32,0)","v":0},{"$f":"IF(AU83=\"Oui\",'Q_del,j et Q_del,dh'!$D32,0)","v":0},{"$f":"IF(AV83=\"Oui\",'Q_del,j et Q_del,dh'!$D32,0)","v":0},{"$f":"IF(AW83=\"Oui\",'Q_del,j et Q_del,dh'!$D32,0)","v":0},{"$f":"IF(AX83=\"Oui\",'Q_del,j et Q_del,dh'!$D32,0)","v":0},{"$f":"IF(AY83=\"Oui\",'Q_del,j et Q_del,dh'!$D32,0)","v":0},{"$f":"IF(AZ83=\"Oui\",'Q_del,j et Q_del,dh'!$D32,0)","v":0},{"$f":"IF(BA83=\"Oui\",'Q_del,j et Q_del,dh'!$D32,0)","v":0}]
["Qdel,l,j [MJ]","Demandeur de chaleur 26",26,{"$f":"IF(D84=\"Oui\",'Q_del,j et Q_del,dh'!$D33,0)","v":0},{"$f":"IF(E84=\"Oui\",'Q_del,j et Q_del,dh'!$D33,0)","v":0},{"$f":"IF(F84=\"Oui\",'Q_del,j et Q_del,dh'!$D33,0)","v":0},{"$f":"IF(G84=\"Oui\",'Q_del,j et Q_del,dh'!$D33,0)","v":0},{"$f":"IF(H84=\"Oui\",'Q_del,j et Q_del,dh'!$D33,0)","v":0},{"$f":"IF(I84=\"Oui\",'Q_del,j et Q_del,dh'!$D33,0)","v":0},{"$f":"IF(J84=\"Oui\",'Q_del,j et Q_del,dh'!$D33,0)","v":0},{"$f":"IF(K84=\"Oui\",'Q_del,j et Q_del,dh'!$D33,0)","v":0},{"$f":"IF(L84=\"Oui\",'Q_del,j et Q_del,dh'!$D33,0)","v":0},{"$f":"IF(M84=\"Oui\",'Q_del,j et Q_del,dh'!$D33,0)","v":0},{"$f":"IF(N84=\"Oui\",'Q_del,j et Q_del,dh'!$D33,0)","v":0},{"$f":"IF(O84=\"Oui\",'Q_del,j et Q_del,dh'!$D33,0)","v":0},{"$f":"IF(P84=\"Oui\",'Q_del,j et Q_del,dh'!$D33,0)","v":0},{"$f":"IF(Q84=\"Oui\",'Q_del,j et Q_del,dh'!$D33,0)","v":0},{"$f":"IF(R84=\"Oui\",'Q_del,j et Q_del,dh'!$D33,0)","v":0},{"$f":"IF(S84=\"Oui\",'Q_del,j et Q_del,dh'!$D33,0)","v":0},{"$f":"IF(T84=\"Oui\",'Q_del,j et Q_del,dh'!$D33,0)","v":0},{"$f":"IF(U84=\"Oui\",'Q_del,j et Q_del,dh'!$D33,0)","v":0},{"$f":"IF(V84=\"Oui\",'Q_del,j et Q_del,dh'!$D33,0)","v":0},{"$f":"IF(W84=\"Oui\",'Q_del,j et Q_del,dh'!$D33,0)","v":0},{"$f":"IF(X84=\"Oui\",'Q_del,j et Q_del,dh'!$D33,0)","v":0},{"$f":"IF(Y84=\"Oui\",'Q_del,j et Q_del,dh'!$D33,0)","v":0},{"$f":"IF(Z84=\"Oui\",'Q_del,j et Q_del,dh'!$D33,0)","v":0},{"$f":"IF(AA84=\"Oui\",'Q_del,j et Q_del,dh'!$D33,0)","v":0},{"$f":"IF(AB84=\"Oui\",'Q_del,j et Q_del,dh'!$D33,0)","v":0},{"$f":"IF(AC84=\"Oui\",'Q_del,j et Q_del,dh'!$D33,0)","v":0},{"$f":"IF(AD84=\"Oui\",'Q_del,j et Q_del,dh'!$D33,0)","v":0},{"$f":"IF(AE84=\"Oui\",'Q_del,j et Q_del,dh'!$D33,0)","v":0},{"$f":"IF(AF84=\"Oui\",'Q_del,j et Q_del,dh'!$D33,0)","v":0},{"$f":"IF(AG84=\"Oui\",'Q_del,j et Q_del,dh'!$D33,0)","v":0},{"$f":"IF(AH84=\"Oui\",'Q_del,j et Q_del,dh'!$D33,0)","v":0},{"$f":"IF(AI84=\"Oui\",'Q_del,j et Q_del,dh'!$D33,0)","v":0},{"$f":"IF(AJ84=\"Oui\",'Q_del,j et Q_del,dh'!$D33,0)","v":0},{"$f":"IF(AK84=\"Oui\",'Q_del,j et Q_del,dh'!$D33,0)","v":0},{"$f":"IF(AL84=\"Oui\",'Q_del,j et Q_del,dh'!$D33,0)","v":0},{"$f":"IF(AM84=\"Oui\",'Q_del,j et Q_del,dh'!$D33,0)","v":0},{"$f":"IF(AN84=\"Oui\",'Q_del,j et Q_del,dh'!$D33,0)","v":0},{"$f":"IF(AO84=\"Oui\",'Q_del,j et Q_del,dh'!$D33,0)","v":0},{"$f":"IF(AP84=\"Oui\",'Q_del,j et Q_del,dh'!$D33,0)","v":0},{"$f":"IF(AQ84=\"Oui\",'Q_del,j et Q_del,dh'!$D33,0)","v":0},{"$f":"IF(AR84=\"Oui\",'Q_del,j et Q_del,dh'!$D33,0)","v":0},{"$f":"IF(AS84=\"Oui\",'Q_del,j et Q_del,dh'!$D33,0)","v":0},{"$f":"IF(AT84=\"Oui\",'Q_del,j et Q_del,dh'!$D33,0)","v":0},{"$f":"IF(AU84=\"Oui\",'Q_del,j et Q_del,dh'!$D33,0)","v":0},{"$f":"IF(AV84=\"Oui\",'Q_del,j et Q_del,dh'!$D33,0)","v":0},{"$f":"IF(AW84=\"Oui\",'Q_del,j et Q_del,dh'!$D33,0)","v":0},{"$f":"IF(AX84=\"Oui\",'Q_del,j et Q_del,dh'!$D33,0)","v":0},{"$f":"IF(AY84=\"Oui\",'Q_del,j et Q_del,dh'!$D33,0)","v":0},{"$f":"IF(AZ84=\"Oui\",'Q_del,j et Q_del,dh'!$D33,0)","v":0},{"$f":"IF(BA84=\"Oui\",'Q_del,j et Q_del,dh'!$D33,0)","v":0}]
["Qdel,l,j [MJ]","Demandeur de chaleur 27",27,{"$f":"IF(D85=\"Oui\",'Q_del,j et Q_del,dh'!$D34,0)","v":0},{"$f":"IF(E85=\"Oui\",'Q_del,j et Q_del,dh'!$D34,0)","v":0},{"$f":"IF(F85=\"Oui\",'Q_del,j et Q_del,dh'!$D34,0)","v":0},{"$f":"IF(G85=\"Oui\",'Q_del,j et Q_del,dh'!$D34,0)","v":0},{"$f":"IF(H85=\"Oui\",'Q_del,j et Q_del,dh'!$D34,0)","v":0},{"$f":"IF(I85=\"Oui\",'Q_del,j et Q_del,dh'!$D34,0)","v":0},{"$f":"IF(J85=\"Oui\",'Q_del,j et Q_del,dh'!$D34,0)","v":0},{"$f":"IF(K85=\"Oui\",'Q_del,j et Q_del,dh'!$D34,0)","v":0},{"$f":"IF(L85=\"Oui\",'Q_del,j et Q_del,dh'!$D34,0)","v":0},{"$f":"IF(M85=\"Oui\",'Q_del,j et Q_del,dh'!$D34,0)","v":0},{"$f":"IF(N85=\"Oui\",'Q_del,j et Q_del,dh'!$D34,0)","v":0},{"$f":"IF(O85=\"Oui\",'Q_del,j et Q_del,dh'!$D34,0)","v":0},{"$f":"IF(P85=\"Oui\",'Q_del,j et Q_del,dh'!$D34,0)","v":0},{"$f":"IF(Q85=\"Oui\",'Q_del,j et Q_del,dh'!$D34,0)","v":0},{"$f":"IF(R85=\"Oui\",'Q_del,j et Q_del,dh'!$D34,0)","v":0},{"$f":"IF(S85=\"Oui\",'Q_del,j et Q_del,dh'!$D34,0)","v":0},{"$f":"IF(T85=\"Oui\",'Q_del,j et Q_del,dh'!$D34,0)","v":0},{"$f":"IF(U85=\"Oui\",'Q_del,j et Q_del,dh'!$D34,0)","v":0},{"$f":"IF(V85=\"Oui\",'Q_del,j et Q_del,dh'!$D34,0)","v":0},{"$f":"IF(W85=\"Oui\",'Q_del,j et Q_del,dh'!$D34,0)","v":0},{"$f":"IF(X85=\"Oui\",'Q_del,j et Q_del,dh'!$D34,0)","v":0},{"$f":"IF(Y85=\"Oui\",'Q_del,j et Q_del,dh'!$D34,0)","v":0},{"$f":"IF(Z85=\"Oui\",'Q_del,j et Q_del,dh'!$D34,0)","v":0},{"$f":"IF(AA85=\"Oui\",'Q_del,j et Q_del,dh'!$D34,0)","v":0},{"$f":"IF(AB85=\"Oui\",'Q_del,j et Q_del,dh'!$D34,0)","v":0},{"$f":"IF(AC85=\"Oui\",'Q_del,j et Q_del,dh'!$D34,0)","v":0},{"$f":"IF(AD85=\"Oui\",'Q_del,j et Q_del,dh'!$D34,0)","v":0},{"$f":"IF(AE85=\"Oui\",'Q_del,j et Q_del,dh'!$D34,0)","v":0},{"$f":"IF(AF85=\"Oui\",'Q_del,j et Q_del,dh'!$D34,0)","v":0},{"$f":"IF(AG85=\"Oui\",'Q_del,j et Q_del,dh'!$D34,0)","v":0},{"$f":"IF(AH85=\"Oui\",'Q_del,j et Q_del,dh'!$D34,0)","v":0},{"$f":"IF(AI85=\"Oui\",'Q_del,j et Q_del,dh'!$D34,0)","v":0},{"$f":"IF(AJ85=\"Oui\",'Q_del,j et Q_del,dh'!$D34,0)","v":0},{"$f":"IF(AK85=\"Oui\",'Q_del,j et Q_del,dh'!$D34,0)","v":0},{"$f":"IF(AL85=\"Oui\",'Q_del,j et Q_del,dh'!$D34,0)","v":0},{"$f":"IF(AM85=\"Oui\",'Q_del,j et Q_del,dh'!$D34,0)","v":0},{"$f":"IF(AN85=\"Oui\",'Q_del,j et Q_del,dh'!$D34,0)","v":0},{"$f":"IF(AO85=\"Oui\",'Q_del,j et Q_del,dh'!$D34,0)","v":0},{"$f":"IF(AP85=\"Oui\",'Q_del,j et Q_del,dh'!$D34,0)","v":0},{"$f":"IF(AQ85=\"Oui\",'Q_del,j et Q_del,dh'!$D34,0)","v":0},{"$f":"IF(AR85=\"Oui\",'Q_del,j et Q_del,dh'!$D34,0)","v":0},{"$f":"IF(AS85=\"Oui\",'Q_del,j et Q_del,dh'!$D34,0)","v":0},{"$f":"IF(AT85=\"Oui\",'Q_del,j et Q_del,dh'!$D34,0)","v":0},{"$f":"IF(AU85=\"Oui\",'Q_del,j et Q_del,dh'!$D34,0)","v":0},{"$f":"IF(AV85=\"Oui\",'Q_del,j et Q_del,dh'!$D34,0)","v":0},{"$f":"IF(AW85=\"Oui\",'Q_del,j et Q_del,dh'!$D34,0)","v":0},{"$f":"IF(AX85=\"Oui\",'Q_del,j et Q_del,dh'!$D34,0)","v":0},{"$f":"IF(AY85=\"Oui\",'Q_del,j et Q_del,dh'!$D34,0)","v":0},{"$f":"IF(AZ85=\"Oui\",'Q_del,j et Q_del,dh'!$D34,0)","v":0},{"$f":"IF(BA85=\"Oui\",'Q_del,j et Q_del,dh'!$D34,0)","v":0}]
["Qdel,l,j [MJ]","Demandeur de chaleur 28",28,{"$f":"IF(D86=\"Oui\",'Q_del,j et Q_del,dh'!$D35,0)","v":0},{"$f":"IF(E86=\"Oui\",'Q_del,j et Q_del,dh'!$D35,0)","v":0},{"$f":"IF(F86=\"Oui\",'Q_del,j et Q_del,dh'!$D35,0)","v":0},{"$f":"IF(G86=\"Oui\",'Q_del,j et Q_del,dh'!$D35,0)","v":0},{"$f":"IF(H86=\"Oui\",'Q_del,j et Q_del,dh'!$D35,0)","v":0},{"$f":"IF(I86=\"Oui\",'Q_del,j et Q_del,dh'!$D35,0)","v":0},{"$f":"IF(J86=\"Oui\",'Q_del,j et Q_del,dh'!$D35,0)","v":0},{"$f":"IF(K86=\"Oui\",'Q_del,j et Q_del,dh'!$D35,0)","v":0},{"$f":"IF(L86=\"Oui\",'Q_del,j et Q_del,dh'!$D35,0)","v":0},{"$f":"IF(M86=\"Oui\",'Q_del,j et Q_del,dh'!$D35,0)","v":0},{"$f":"IF(N86=\"Oui\",'Q_del,j et Q_del,dh'!$D35,0)","v":0},{"$f":"IF(O86=\"Oui\",'Q_del,j et Q_del,dh'!$D35,0)","v":0},{"$f":"IF(P86=\"Oui\",'Q_del,j et Q_del,dh'!$D35,0)","v":0},{"$f":"IF(Q86=\"Oui\",'Q_del,j et Q_del,dh'!$D35,0)","v":0},{"$f":"IF(R86=\"Oui\",'Q_del,j et Q_del,dh'!$D35,0)","v":0},{"$f":"IF(S86=\"Oui\",'Q_del,j et Q_del,dh'!$D35,0)","v":0},{"$f":"IF(T86=\"Oui\",'Q_del,j et Q_del,dh'!$D35,0)","v":0},{"$f":"IF(U86=\"Oui\",'Q_del,j et Q_del,dh'!$D35,0)","v":0},{"$f":"IF(V86=\"Oui\",'Q_del,j et Q_del,dh'!$D35,0)","v":0},{"$f":"IF(W86=\"Oui\",'Q_del,j et Q_del,dh'!$D35,0)","v":0},{"$f":"IF(X86=\"Oui\",'Q_del,j et Q_del,dh'!$D35,0)","v":0},{"$f":"IF(Y86=\"Oui\",'Q_del,j et Q_del,dh'!$D35,0)","v":0},{"$f":"IF(Z86=\"Oui\",'Q_del,j et Q_del,dh'!$D35,0)","v":0},{"$f":"IF(AA86=\"Oui\",'Q_del,j et Q_del,dh'!$D35,0)","v":0},{"$f":"IF(AB86=\"Oui\",'Q_del,j et Q_del,dh'!$D35,0)","v":0},{"$f":"IF(AC86=\"Oui\",'Q_del,j et Q_del,dh'!$D35,0)","v":0},{"$f":"IF(AD86=\"Oui\",'Q_del,j et Q_del,dh'!$D35,0)","v":0},{"$f":"IF(AE86=\"Oui\",'Q_del,j et Q_del,dh'!$D35,0)","v":0},{"$f":"IF(AF86=\"Oui\",'Q_del,j et Q_del,dh'!$D35,0)","v":0},{"$f":"IF(AG86=\"Oui\",'Q_del,j et Q_del,dh'!$D35,0)","v":0},{"$f":"IF(AH86=\"Oui\",'Q_del,j et Q_del,dh'!$D35,0)","v":0},{"$f":"IF(AI86=\"Oui\",'Q_del,j et Q_del,dh'!$D35,0)","v":0},{"$f":"IF(AJ86=\"Oui\",'Q_del,j et Q_del,dh'!$D35,0)","v":0},{"$f":"IF(AK86=\"Oui\",'Q_del,j et Q_del,dh'!$D35,0)","v":0},{"$f":"IF(AL86=\"Oui\",'Q_del,j et Q_del,dh'!$D35,0)","v":0},{"$f":"IF(AM86=\"Oui\",'Q_del,j et Q_del,dh'!$D35,0)","v":0},{"$f":"IF(AN86=\"Oui\",'Q_del,j et Q_del,dh'!$D35,0)","v":0},{"$f":"IF(AO86=\"Oui\",'Q_del,j et Q_del,dh'!$D35,0)","v":0},{"$f":"IF(AP86=\"Oui\",'Q_del,j et Q_del,dh'!$D35,0)","v":0},{"$f":"IF(AQ86=\"Oui\",'Q_del,j et Q_del,dh'!$D35,0)","v":0},{"$f":"IF(AR86=\"Oui\",'Q_del,j et Q_del,dh'!$D35,0)","v":0},{"$f":"IF(AS86=\"Oui\",'Q_del,j et Q_del,dh'!$D35,0)","v":0},{"$f":"IF(AT86=\"Oui\",'Q_del,j et Q_del,dh'!$D35,0)","v":0},{"$f":"IF(AU86=\"Oui\",'Q_del,j et Q_del,dh'!$D35,0)","v":0},{"$f":"IF(AV86=\"Oui\",'Q_del,j et Q_del,dh'!$D35,0)","v":0},{"$f":"IF(AW86=\"Oui\",'Q_del,j et Q_del,dh'!$D35,0)","v":0},{"$f":"IF(AX86=\"Oui\",'Q_del,j et Q_del,dh'!$D35,0)","v":0},{"$f":"IF(AY86=\"Oui\",'Q_del,j et Q_del,dh'!$D35,0)","v":0},{"$f":"IF(AZ86=\"Oui\",'Q_del,j et Q_del,dh'!$D35,0)","v":0},{"$f":"IF(BA86=\"Oui\",'Q_del,j et Q_del,dh'!$D35,0)","v":0}]
["Qdel,l,j [MJ]","Demandeur de chaleur 29",29,{"$f":"IF(D87=\"Oui\",'Q_del,j et Q_del,dh'!$D36,0)","v":0},{"$f":"IF(E87=\"Oui\",'Q_del,j et Q_del,dh'!$D36,0)","v":0},{"$f":"IF(F87=\"Oui\",'Q_del,j et Q_del,dh'!$D36,0)","v":0},{"$f":"IF(G87=\"Oui\",'Q_del,j et Q_del,dh'!$D36,0)","v":0},{"$f":"IF(H87=\"Oui\",'Q_del,j et Q_del,dh'!$D36,0)","v":0},{"$f":"IF(I87=\"Oui\",'Q_del,j et Q_del,dh'!$D36,0)","v":0},{"$f":"IF(J87=\"Oui\",'Q_del,j et Q_del,dh'!$D36,0)","v":0},{"$f":"IF(K87=\"Oui\",'Q_del,j et Q_del,dh'!$D36,0)","v":0},{"$f":"IF(L87=\"Oui\",'Q_del,j et Q_del,dh'!$D36,0)","v":0},{"$f":"IF(M87=\"Oui\",'Q_del,j et Q_del,dh'!$D36,0)","v":0},{"$f":"IF(N87=\"Oui\",'Q_del,j et Q_del,dh'!$D36,0)","v":0},{"$f":"IF(O87=\"Oui\",'Q_del,j et Q_del,dh'!$D36,0)","v":0},{"$f":"IF(P87=\"Oui\",'Q_del,j et Q_del,dh'!$D36,0)","v":0},{"$f":"IF(Q87=\"Oui\",'Q_del,j et Q_del,dh'!$D36,0)","v":0},{"$f":"IF(R87=\"Oui\",'Q_del,j et Q_del,dh'!$D36,0)","v":0},{"$f":"IF(S87=\"Oui\",'Q_del,j et Q_del,dh'!$D36,0)","v":0},{"$f":"IF(T87=\"Oui\",'Q_del,j et Q_del,dh'!$D36,0)","v":0},{"$f":"IF(U87=\"Oui\",'Q_del,j et Q_del,dh'!$D36,0)","v":0},{"$f":"IF(V87=\"Oui\",'Q_del,j et Q_del,dh'!$D36,0)","v":0},{"$f":"IF(W87=\"Oui\",'Q_del,j et Q_del,dh'!$D36,0)","v":0},{"$f":"IF(X87=\"Oui\",'Q_del,j et Q_del,dh'!$D36,0)","v":0},{"$f":"IF(Y87=\"Oui\",'Q_del,j et Q_del,dh'!$D36,0)","v":0},{"$f":"IF(Z87=\"Oui\",'Q_del,j et Q_del,dh'!$D36,0)","v":0},{"$f":"IF(AA87=\"Oui\",'Q_del,j et Q_del,dh'!$D36,0)","v":0},{"$f":"IF(AB87=\"Oui\",'Q_del,j et Q_del,dh'!$D36,0)","v":0},{"$f":"IF(AC87=\"Oui\",'Q_del,j et Q_del,dh'!$D36,0)","v":0},{"$f":"IF(AD87=\"Oui\",'Q_del,j et Q_del,dh'!$D36,0)","v":0},{"$f":"IF(AE87=\"Oui\",'Q_del,j et Q_del,dh'!$D36,0)","v":0},{"$f":"IF(AF87=\"Oui\",'Q_del,j et Q_del,dh'!$D36,0)","v":0},{"$f":"IF(AG87=\"Oui\",'Q_del,j et Q_del,dh'!$D36,0)","v":0},{"$f":"IF(AH87=\"Oui\",'Q_del,j et Q_del,dh'!$D36,0)","v":0},{"$f":"IF(AI87=\"Oui\",'Q_del,j et Q_del,dh'!$D36,0)","v":0},{"$f":"IF(AJ87=\"Oui\",'Q_del,j et Q_del,dh'!$D36,0)","v":0},{"$f":"IF(AK87=\"Oui\",'Q_del,j et Q_del,dh'!$D36,0)","v":0},{"$f":"IF(AL87=\"Oui\",'Q_del,j et Q_del,dh'!$D36,0)","v":0},{"$f":"IF(AM87=\"Oui\",'Q_del,j et Q_del,dh'!$D36,0)","v":0},{"$f":"IF(AN87=\"Oui\",'Q_del,j et Q_del,dh'!$D36,0)","v":0},{"$f":"IF(AO87=\"Oui\",'Q_del,j et Q_del,dh'!$D36,0)","v":0},{"$f":"IF(AP87=\"Oui\",'Q_del,j et Q_del,dh'!$D36,0)","v":0},{"$f":"IF(AQ87=\"Oui\",'Q_del,j et Q_del,dh'!$D36,0)","v":0},{"$f":"IF(AR87=\"Oui\",'Q_del,j et Q_del,dh'!$D36,0)","v":0},{"$f":"IF(AS87=\"Oui\",'Q_del,j et Q_del,dh'!$D36,0)","v":0},{"$f":"IF(AT87=\"Oui\",'Q_del,j et Q_del,dh'!$D36,0)","v":0},{"$f":"IF(AU87=\"Oui\",'Q_del,j et Q_del,dh'!$D36,0)","v":0},{"$f":"IF(AV87=\"Oui\",'Q_del,j et Q_del,dh'!$D36,0)","v":0},{"$f":"IF(AW87=\"Oui\",'Q_del,j et Q_del,dh'!$D36,0)","v":0},{"$f":"IF(AX87=\"Oui\",'Q_del,j et Q_del,dh'!$D36,0)","v":0},{"$f":"IF(AY87=\"Oui\",'Q_del,j et Q_del,dh'!$D36,0)","v":0},{"$f":"IF(AZ87=\"Oui\",'Q_del,j et Q_del,dh'!$D36,0)","v":0},{"$f":"IF(BA87=\"Oui\",'Q_del,j et Q_del,dh'!$D36,0)","v":0}]
["Qdel,l,j [MJ]","Demandeur de chaleur 30",30,{"$f":"IF(D88=\"Oui\",'Q_del,j et Q_del,dh'!$D37,0)","v":0},{"$f":"IF(E88=\"Oui\",'Q_del,j et Q_del,dh'!$D37,0)","v":0},{"$f":"IF(F88=\"Oui\",'Q_del,j et Q_del,dh'!$D37,0)","v":0},{"$f":"IF(G88=\"Oui\",'Q_del,j et Q_del,dh'!$D37,0)","v":0},{"$f":"IF(H88=\"Oui\",'Q_del,j et Q_del,dh'!$D37,0)","v":0},{"$f":"IF(I88=\"Oui\",'Q_del,j et Q_del,dh'!$D37,0)","v":0},{"$f":"IF(J88=\"Oui\",'Q_del,j et Q_del,dh'!$D37,0)","v":0},{"$f":"IF(K88=\"Oui\",'Q_del,j et Q_del,dh'!$D37,0)","v":0},{"$f":"IF(L88=\"Oui\",'Q_del,j et Q_del,dh'!$D37,0)","v":0},{"$f":"IF(M88=\"Oui\",'Q_del,j et Q_del,dh'!$D37,0)","v":0},{"$f":"IF(N88=\"Oui\",'Q_del,j et Q_del,dh'!$D37,0)","v":0},{"$f":"IF(O88=\"Oui\",'Q_del,j et Q_del,dh'!$D37,0)","v":0},{"$f":"IF(P88=\"Oui\",'Q_del,j et Q_del,dh'!$D37,0)","v":0},{"$f":"IF(Q88=\"Oui\",'Q_del,j et Q_del,dh'!$D37,0)","v":0},{"$f":"IF(R88=\"Oui\",'Q_del,j et Q_del,dh'!$D37,0)","v":0},{"$f":"IF(S88=\"Oui\",'Q_del,j et Q_del,dh'!$D37,0)","v":0},{"$f":"IF(T88=\"Oui\",'Q_del,j et Q_del,dh'!$D37,0)","v":0},{"$f":"IF(U88=\"Oui\",'Q_del,j et Q_del,dh'!$D37,0)","v":0},{"$f":"IF(V88=\"Oui\",'Q_del,j et Q_del,dh'!$D37,0)","v":0},{"$f":"IF(W88=\"Oui\",'Q_del,j et Q_del,dh'!$D37,0)","v":0},{"$f":"IF(X88=\"Oui\",'Q_del,j et Q_del,dh'!$D37,0)","v":0},{"$f":"IF(Y88=\"Oui\",'Q_del,j et Q_del,dh'!$D37,0)","v":0},{"$f":"IF(Z88=\"Oui\",'Q_del,j et Q_del,dh'!$D37,0)","v":0},{"$f":"IF(AA88=\"Oui\",'Q_del,j et Q_del,dh'!$D37,0)","v":0},{"$f":"IF(AB88=\"Oui\",'Q_del,j et Q_del,dh'!$D37,0)","v":0},{"$f":"IF(AC88=\"Oui\",'Q_del,j et Q_del,dh'!$D37,0)","v":0},{"$f":"IF(AD88=\"Oui\",'Q_del,j et Q_del,dh'!$D37,0)","v":0},{"$f":"IF(AE88=\"Oui\",'Q_del,j et Q_del,dh'!$D37,0)","v":0},{"$f":"IF(AF88=\"Oui\",'Q_del,j et Q_del,dh'!$D37,0)","v":0},{"$f":"IF(AG88=\"Oui\",'Q_del,j et Q_del,dh'!$D37,0)","v":0},{"$f":"IF(AH88=\"Oui\",'Q_del,j et Q_del,dh'!$D37,0)","v":0},{"$f":"IF(AI88=\"Oui\",'Q_del,j et Q_del,dh'!$D37,0)","v":0},{"$f":"IF(AJ88=\"Oui\",'Q_del,j et Q_del,dh'!$D37,0)","v":0},{"$f":"IF(AK88=\"Oui\",'Q_del,j et Q_del,dh'!$D37,0)","v":0},{"$f":"IF(AL88=\"Oui\",'Q_del,j et Q_del,dh'!$D37,0)","v":0},{"$f":"IF(AM88=\"Oui\",'Q_del,j et Q_del,dh'!$D37,0)","v":0},{"$f":"IF(AN88=\"Oui\",'Q_del,j et Q_del,dh'!$D37,0)","v":0},{"$f":"IF(AO88=\"Oui\",'Q_del,j et Q_del,dh'!$D37,0)","v":0},{"$f":"IF(AP88=\"Oui\",'Q_del,j et Q_del,dh'!$D37,0)","v":0},{"$f":"IF(AQ88=\"Oui\",'Q_del,j et Q_del,dh'!$D37,0)","v":0},{"$f":"IF(AR88=\"Oui\",'Q_del,j et Q_del,dh'!$D37,0)","v":0},{"$f":"IF(AS88=\"Oui\",'Q_del,j et Q_del,dh'!$D37,0)","v":0},{"$f":"IF(AT88=\"Oui\",'Q_del,j et Q_del,dh'!$D37,0)","v":0},{"$f":"IF(AU88=\"Oui\",'Q_del,j et Q_del,dh'!$D37,0)","v":0},{"$f":"IF(AV88=\"Oui\",'Q_del,j et Q_del,dh'!$D37,0)","v":0},{"$f":"IF(AW88=\"Oui\",'Q_del,j et Q_del,dh'!$D37,0)","v":0},{"$f":"IF(AX88=\"Oui\",'Q_del,j et Q_del,dh'!$D37,0)","v":0},{"$f":"IF(AY88=\"Oui\",'Q_del,j et Q_del,dh'!$D37,0)","v":0},{"$f":"IF(AZ88=\"Oui\",'Q_del,j et Q_del,dh'!$D37,0)","v":0},{"$f":"IF(BA88=\"Oui\",'Q_del,j et Q_del,dh'!$D37,0)","v":0}]
["Qdel,l,j [MJ]","Demandeur de chaleur 31",31,{"$f":"IF(D89=\"Oui\",'Q_del,j et Q_del,dh'!$D38,0)","v":0},{"$f":"IF(E89=\"Oui\",'Q_del,j et Q_del,dh'!$D38,0)","v":0},{"$f":"IF(F89=\"Oui\",'Q_del,j et Q_del,dh'!$D38,0)","v":0},{"$f":"IF(G89=\"Oui\",'Q_del,j et Q_del,dh'!$D38,0)","v":0},{"$f":"IF(H89=\"Oui\",'Q_del,j et Q_del,dh'!$D38,0)","v":0},{"$f":"IF(I89=\"Oui\",'Q_del,j et Q_del,dh'!$D38,0)","v":0},{"$f":"IF(J89=\"Oui\",'Q_del,j et Q_del,dh'!$D38,0)","v":0},{"$f":"IF(K89=\"Oui\",'Q_del,j et Q_del,dh'!$D38,0)","v":0},{"$f":"IF(L89=\"Oui\",'Q_del,j et Q_del,dh'!$D38,0)","v":0},{"$f":"IF(M89=\"Oui\",'Q_del,j et Q_del,dh'!$D38,0)","v":0},{"$f":"IF(N89=\"Oui\",'Q_del,j et Q_del,dh'!$D38,0)","v":0},{"$f":"IF(O89=\"Oui\",'Q_del,j et Q_del,dh'!$D38,0)","v":0},{"$f":"IF(P89=\"Oui\",'Q_del,j et Q_del,dh'!$D38,0)","v":0},{"$f":"IF(Q89=\"Oui\",'Q_del,j et Q_del,dh'!$D38,0)","v":0},{"$f":"IF(R89=\"Oui\",'Q_del,j et Q_del,dh'!$D38,0)","v":0},{"$f":"IF(S89=\"Oui\",'Q_del,j et Q_del,dh'!$D38,0)","v":0},{"$f":"IF(T89=\"Oui\",'Q_del,j et Q_del,dh'!$D38,0)","v":0},{"$f":"IF(U89=\"Oui\",'Q_del,j et Q_del,dh'!$D38,0)","v":0},{"$f":"IF(V89=\"Oui\",'Q_del,j et Q_del,dh'!$D38,0)","v":0},{"$f":"IF(W89=\"Oui\",'Q_del,j et Q_del,dh'!$D38,0)","v":0},{"$f":"IF(X89=\"Oui\",'Q_del,j et Q_del,dh'!$D38,0)","v":0},{"$f":"IF(Y89=\"Oui\",'Q_del,j et Q_del,dh'!$D38,0)","v":0},{"$f":"IF(Z89=\"Oui\",'Q_del,j et Q_del,dh'!$D38,0)","v":0},{"$f":"IF(AA89=\"Oui\",'Q_del,j et Q_del,dh'!$D38,0)","v":0},{"$f":"IF(AB89=\"Oui\",'Q_del,j et Q_del,dh'!$D38,0)","v":0},{"$f":"IF(AC89=\"Oui\",'Q_del,j et Q_del,dh'!$D38,0)","v":0},{"$f":"IF(AD89=\"Oui\",'Q_del,j et Q_del,dh'!$D38,0)","v":0},{"$f":"IF(AE89=\"Oui\",'Q_del,j et Q_del,dh'!$D38,0)","v":0},{"$f":"IF(AF89=\"Oui\",'Q_del,j et Q_del,dh'!$D38,0)","v":0},{"$f":"IF(AG89=\"Oui\",'Q_del,j et Q_del,dh'!$D38,0)","v":0},{"$f":"IF(AH89=\"Oui\",'Q_del,j et Q_del,dh'!$D38,0)","v":0},{"$f":"IF(AI89=\"Oui\",'Q_del,j et Q_del,dh'!$D38,0)","v":0},{"$f":"IF(AJ89=\"Oui\",'Q_del,j et Q_del,dh'!$D38,0)","v":0},{"$f":"IF(AK89=\"Oui\",'Q_del,j et Q_del,dh'!$D38,0)","v":0},{"$f":"IF(AL89=\"Oui\",'Q_del,j et Q_del,dh'!$D38,0)","v":0},{"$f":"IF(AM89=\"Oui\",'Q_del,j et Q_del,dh'!$D38,0)","v":0},{"$f":"IF(AN89=\"Oui\",'Q_del,j et Q_del,dh'!$D38,0)","v":0},{"$f":"IF(AO89=\"Oui\",'Q_del,j et Q_del,dh'!$D38,0)","v":0},{"$f":"IF(AP89=\"Oui\",'Q_del,j et Q_del,dh'!$D38,0)","v":0},{"$f":"IF(AQ89=\"Oui\",'Q_del,j et Q_del,dh'!$D38,0)","v":0},{"$f":"IF(AR89=\"Oui\",'Q_del,j et Q_del,dh'!$D38,0)","v":0},{"$f":"IF(AS89=\"Oui\",'Q_del,j et Q_del,dh'!$D38,0)","v":0},{"$f":"IF(AT89=\"Oui\",'Q_del,j et Q_del,dh'!$D38,0)","v":0},{"$f":"IF(AU89=\"Oui\",'Q_del,j et Q_del,dh'!$D38,0)","v":0},{"$f":"IF(AV89=\"Oui\",'Q_del,j et Q_del,dh'!$D38,0)","v":0},{"$f":"IF(AW89=\"Oui\",'Q_del,j et Q_del,dh'!$D38,0)","v":0},{"$f":"IF(AX89=\"Oui\",'Q_del,j et Q_del,dh'!$D38,0)","v":0},{"$f":"IF(AY89=\"Oui\",'Q_del,j et Q_del,dh'!$D38,0)","v":0},{"$f":"IF(AZ89=\"Oui\",'Q_del,j et Q_del,dh'!$D38,0)","v":0},{"$f":"IF(BA89=\"Oui\",'Q_del,j et Q_del,dh'!$D38,0)","v":0}]
["Qdel,l,j [MJ]","Demandeur de chaleur 32",32,{"$f":"IF(D90=\"Oui\",'Q_del,j et Q_del,dh'!$D39,0)","v":0},{"$f":"IF(E90=\"Oui\",'Q_del,j et Q_del,dh'!$D39,0)","v":0},{"$f":"IF(F90=\"Oui\",'Q_del,j et Q_del,dh'!$D39,0)","v":0},{"$f":"IF(G90=\"Oui\",'Q_del,j et Q_del,dh'!$D39,0)","v":0},{"$f":"IF(H90=\"Oui\",'Q_del,j et Q_del,dh'!$D39,0)","v":0},{"$f":"IF(I90=\"Oui\",'Q_del,j et Q_del,dh'!$D39,0)","v":0},{"$f":"IF(J90=\"Oui\",'Q_del,j et Q_del,dh'!$D39,0)","v":0},{"$f":"IF(K90=\"Oui\",'Q_del,j et Q_del,dh'!$D39,0)","v":0},{"$f":"IF(L90=\"Oui\",'Q_del,j et Q_del,dh'!$D39,0)","v":0},{"$f":"IF(M90=\"Oui\",'Q_del,j et Q_del,dh'!$D39,0)","v":0},{"$f":"IF(N90=\"Oui\",'Q_del,j et Q_del,dh'!$D39,0)","v":0},{"$f":"IF(O90=\"Oui\",'Q_del,j et Q_del,dh'!$D39,0)","v":0},{"$f":"IF(P90=\"Oui\",'Q_del,j et Q_del,dh'!$D39,0)","v":0},{"$f":"IF(Q90=\"Oui\",'Q_del,j et Q_del,dh'!$D39,0)","v":0},{"$f":"IF(R90=\"Oui\",'Q_del,j et Q_del,dh'!$D39,0)","v":0},{"$f":"IF(S90=\"Oui\",'Q_del,j et Q_del,dh'!$D39,0)","v":0},{"$f":"IF(T90=\"Oui\",'Q_del,j et Q_del,dh'!$D39,0)","v":0},{"$f":"IF(U90=\"Oui\",'Q_del,j et Q_del,dh'!$D39,0)","v":0},{"$f":"IF(V90=\"Oui\",'Q_del,j et Q_del,dh'!$D39,0)","v":0},{"$f":"IF(W90=\"Oui\",'Q_del,j et Q_del,dh'!$D39,0)","v":0},{"$f":"IF(X90=\"Oui\",'Q_del,j et Q_del,dh'!$D39,0)","v":0},{"$f":"IF(Y90=\"Oui\",'Q_del,j et Q_del,dh'!$D39,0)","v":0},{"$f":"IF(Z90=\"Oui\",'Q_del,j et Q_del,dh'!$D39,0)","v":0},{"$f":"IF(AA90=\"Oui\",'Q_del,j et Q_del,dh'!$D39,0)","v":0},{"$f":"IF(AB90=\"Oui\",'Q_del,j et Q_del,dh'!$D39,0)","v":0},{"$f":"IF(AC90=\"Oui\",'Q_del,j et Q_del,dh'!$D39,0)","v":0},{"$f":"IF(AD90=\"Oui\",'Q_del,j et Q_del,dh'!$D39,0)","v":0},{"$f":"IF(AE90=\"Oui\",'Q_del,j et Q_del,dh'!$D39,0)","v":0},{"$f":"IF(AF90=\"Oui\",'Q_del,j et Q_del,dh'!$D39,0)","v":0},{"$f":"IF(AG90=\"Oui\",'Q_del,j et Q_del,dh'!$D39,0)","v":0},{"$f":"IF(AH90=\"Oui\",'Q_del,j et Q_del,dh'!$D39,0)","v":0},{"$f":"IF(AI90=\"Oui\",'Q_del,j et Q_del,dh'!$D39,0)","v":0},{"$f":"IF(AJ90=\"Oui\",'Q_del,j et Q_del,dh'!$D39,0)","v":0},{"$f":"IF(AK90=\"Oui\",'Q_del,j et Q_del,dh'!$D39,0)","v":0},{"$f":"IF(AL90=\"Oui\",'Q_del,j et Q_del,dh'!$D39,0)","v":0},{"$f":"IF(AM90=\"Oui\",'Q_del,j et Q_del,dh'!$D39,0)","v":0},{"$f":"IF(AN90=\"Oui\",'Q_del,j et Q_del,dh'!$D39,0)","v":0},{"$f":"IF(AO90=\"Oui\",'Q_del,j et Q_del,dh'!$D39,0)","v":0},{"$f":"IF(AP90=\"Oui\",'Q_del,j et Q_del,dh'!$D39,0)","v":0},{"$f":"IF(AQ90=\"Oui\",'Q_del,j et Q_del,dh'!$D39,0)","v":0},{"$f":"IF(AR90=\"Oui\",'Q_del,j et Q_del,dh'!$D39,0)","v":0},{"$f":"IF(AS90=\"Oui\",'Q_del,j et Q_del,dh'!$D39,0)","v":0},{"$f":"IF(AT90=\"Oui\",'Q_del,j et Q_del,dh'!$D39,0)","v":0},{"$f":"IF(AU90=\"Oui\",'Q_del,j et Q_del,dh'!$D39,0)","v":0},{"$f":"IF(AV90=\"Oui\",'Q_del,j et Q_del,dh'!$D39,0)","v":0},{"$f":"IF(AW90=\"Oui\",'Q_del,j et Q_del,dh'!$D39,0)","v":0},{"$f":"IF(AX90=\"Oui\",'Q_del,j et Q_del,dh'!$D39,0)","v":0},{"$f":"IF(AY90=\"Oui\",'Q_del,j et Q_del,dh'!$D39,0)","v":0},{"$f":"IF(AZ90=\"Oui\",'Q_del,j et Q_del,dh'!$D39,0)","v":0},{"$f":"IF(BA90=\"Oui\",'Q_del,j et Q_del,dh'!$D39,0)","v":0}]
["Qdel,l,j [MJ]",{"$f":"\"Demandeur de chaleur \"&C346","v":"Demandeur de chaleur 33"},33,{"$f":"IF(D91=\"Oui\",'Q_del,j et Q_del,dh'!$D40,0)","v":0},{"$f":"IF(E91=\"Oui\",'Q_del,j et Q_del,dh'!$D40,0)","v":0},{"$f":"IF(F91=\"Oui\",'Q_del,j et Q_del,dh'!$D40,0)","v":0},{"$f":"IF(G91=\"Oui\",'Q_del,j et Q_del,dh'!$D40,0)","v":0},{"$f":"IF(H91=\"Oui\",'Q_del,j et Q_del,dh'!$D40,0)","v":0},{"$f":"IF(I91=\"Oui\",'Q_del,j et Q_del,dh'!$D40,0)","v":0},{"$f":"IF(J91=\"Oui\",'Q_del,j et Q_del,dh'!$D40,0)","v":0},{"$f":"IF(K91=\"Oui\",'Q_del,j et Q_del,dh'!$D40,0)","v":0},{"$f":"IF(L91=\"Oui\",'Q_del,j et Q_del,dh'!$D40,0)","v":0},{"$f":"IF(M91=\"Oui\",'Q_del,j et Q_del,dh'!$D40,0)","v":0},{"$f":"IF(N91=\"Oui\",'Q_del,j et Q_del,dh'!$D40,0)","v":0},{"$f":"IF(O91=\"Oui\",'Q_del,j et Q_del,dh'!$D40,0)","v":0},{"$f":"IF(P91=\"Oui\",'Q_del,j et Q_del,dh'!$D40,0)","v":0},{"$f":"IF(Q91=\"Oui\",'Q_del,j et Q_del,dh'!$D40,0)","v":0},{"$f":"IF(R91=\"Oui\",'Q_del,j et Q_del,dh'!$D40,0)","v":0},{"$f":"IF(S91=\"Oui\",'Q_del,j et Q_del,dh'!$D40,0)","v":0},{"$f":"IF(T91=\"Oui\",'Q_del,j et Q_del,dh'!$D40,0)","v":0},{"$f":"IF(U91=\"Oui\",'Q_del,j et Q_del,dh'!$D40,0)","v":0},{"$f":"IF(V91=\"Oui\",'Q_del,j et Q_del,dh'!$D40,0)","v":0},{"$f":"IF(W91=\"Oui\",'Q_del,j et Q_del,dh'!$D40,0)","v":0},{"$f":"IF(X91=\"Oui\",'Q_del,j et Q_del,dh'!$D40,0)","v":0},{"$f":"IF(Y91=\"Oui\",'Q_del,j et Q_del,dh'!$D40,0)","v":0},{"$f":"IF(Z91=\"Oui\",'Q_del,j et Q_del,dh'!$D40,0)","v":0},{"$f":"IF(AA91=\"Oui\",'Q_del,j et Q_del,dh'!$D40,0)","v":0},{"$f":"IF(AB91=\"Oui\",'Q_del,j et Q_del,dh'!$D40,0)","v":0},{"$f":"IF(AC91=\"Oui\",'Q_del,j et Q_del,dh'!$D40,0)","v":0},{"$f":"IF(AD91=\"Oui\",'Q_del,j et Q_del,dh'!$D40,0)","v":0},{"$f":"IF(AE91=\"Oui\",'Q_del,j et Q_del,dh'!$D40,0)","v":0},{"$f":"IF(AF91=\"Oui\",'Q_del,j et Q_del,dh'!$D40,0)","v":0},{"$f":"IF(AG91=\"Oui\",'Q_del,j et Q_del,dh'!$D40,0)","v":0},{"$f":"IF(AH91=\"Oui\",'Q_del,j et Q_del,dh'!$D40,0)","v":0},{"$f":"IF(AI91=\"Oui\",'Q_del,j et Q_del,dh'!$D40,0)","v":0},{"$f":"IF(AJ91=\"Oui\",'Q_del,j et Q_del,dh'!$D40,0)","v":0},{"$f":"IF(AK91=\"Oui\",'Q_del,j et Q_del,dh'!$D40,0)","v":0},{"$f":"IF(AL91=\"Oui\",'Q_del,j et Q_del,dh'!$D40,0)","v":0},{"$f":"IF(AM91=\"Oui\",'Q_del,j et Q_del,dh'!$D40,0)","v":0},{"$f":"IF(AN91=\"Oui\",'Q_del,j et Q_del,dh'!$D40,0)","v":0},{"$f":"IF(AO91=\"Oui\",'Q_del,j et Q_del,dh'!$D40,0)","v":0},{"$f":"IF(AP91=\"Oui\",'Q_del,j et Q_del,dh'!$D40,0)","v":0},{"$f":"IF(AQ91=\"Oui\",'Q_del,j et Q_del,dh'!$D40,0)","v":0},{"$f":"IF(AR91=\"Oui\",'Q_del,j et Q_del,dh'!$D40,0)","v":0},{"$f":"IF(AS91=\"Oui\",'Q_del,j et Q_del,dh'!$D40,0)","v":0},{"$f":"IF(AT91=\"Oui\",'Q_del,j et Q_del,dh'!$D40,0)","v":0},{"$f":"IF(AU91=\"Oui\",'Q_del,j et Q_del,dh'!$D40,0)","v":0},{"$f":"IF(AV91=\"Oui\",'Q_del,j et Q_del,dh'!$D40,0)","v":0},{"$f":"IF(AW91=\"Oui\",'Q_del,j et Q_del,dh'!$D40,0)","v":0},{"$f":"IF(AX91=\"Oui\",'Q_del,j et Q_del,dh'!$D40,0)","v":0},{"$f":"IF(AY91=\"Oui\",'Q_del,j et Q_del,dh'!$D40,0)","v":0},{"$f":"IF(AZ91=\"Oui\",'Q_del,j et Q_del,dh'!$D40,0)","v":0},{"$f":"IF(BA91=\"Oui\",'Q_del,j et Q_del,dh'!$D40,0)","v":0}]
["Qdel,l,j [MJ]","Demandeur de chaleur 34",34,{"$f":"IF(D92=\"Oui\",'Q_del,j et Q_del,dh'!$D41,0)","v":0},{"$f":"IF(E92=\"Oui\",'Q_del,j et Q_del,dh'!$D41,0)","v":0},{"$f":"IF(F92=\"Oui\",'Q_del,j et Q_del,dh'!$D41,0)","v":0},{"$f":"IF(G92=\"Oui\",'Q_del,j et Q_del,dh'!$D41,0)","v":0},{"$f":"IF(H92=\"Oui\",'Q_del,j et Q_del,dh'!$D41,0)","v":0},{"$f":"IF(I92=\"Oui\",'Q_del,j et Q_del,dh'!$D41,0)","v":0},{"$f":"IF(J92=\"Oui\",'Q_del,j et Q_del,dh'!$D41,0)","v":0},{"$f":"IF(K92=\"Oui\",'Q_del,j et Q_del,dh'!$D41,0)","v":0},{"$f":"IF(L92=\"Oui\",'Q_del,j et Q_del,dh'!$D41,0)","v":0},{"$f":"IF(M92=\"Oui\",'Q_del,j et Q_del,dh'!$D41,0)","v":0},{"$f":"IF(N92=\"Oui\",'Q_del,j et Q_del,dh'!$D41,0)","v":0},{"$f":"IF(O92=\"Oui\",'Q_del,j et Q_del,dh'!$D41,0)","v":0},{"$f":"IF(P92=\"Oui\",'Q_del,j et Q_del,dh'!$D41,0)","v":0},{"$f":"IF(Q92=\"Oui\",'Q_del,j et Q_del,dh'!$D41,0)","v":0},{"$f":"IF(R92=\"Oui\",'Q_del,j et Q_del,dh'!$D41,0)","v":0},{"$f":"IF(S92=\"Oui\",'Q_del,j et Q_del,dh'!$D41,0)","v":0},{"$f":"IF(T92=\"Oui\",'Q_del,j et Q_del,dh'!$D41,0)","v":0},{"$f":"IF(U92=\"Oui\",'Q_del,j et Q_del,dh'!$D41,0)","v":0},{"$f":"IF(V92=\"Oui\",'Q_del,j et Q_del,dh'!$D41,0)","v":0},{"$f":"IF(W92=\"Oui\",'Q_del,j et Q_del,dh'!$D41,0)","v":0},{"$f":"IF(X92=\"Oui\",'Q_del,j et Q_del,dh'!$D41,0)","v":0},{"$f":"IF(Y92=\"Oui\",'Q_del,j et Q_del,dh'!$D41,0)","v":0},{"$f":"IF(Z92=\"Oui\",'Q_del,j et Q_del,dh'!$D41,0)","v":0},{"$f":"IF(AA92=\"Oui\",'Q_del,j et Q_del,dh'!$D41,0)","v":0},{"$f":"IF(AB92=\"Oui\",'Q_del,j et Q_del,dh'!$D41,0)","v":0},{"$f":"IF(AC92=\"Oui\",'Q_del,j et Q_del,dh'!$D41,0)","v":0},{"$f":"IF(AD92=\"Oui\",'Q_del,j et Q_del,dh'!$D41,0)","v":0},{"$f":"IF(AE92=\"Oui\",'Q_del,j et Q_del,dh'!$D41,0)","v":0},{"$f":"IF(AF92=\"Oui\",'Q_del,j et Q_del,dh'!$D41,0)","v":0},{"$f":"IF(AG92=\"Oui\",'Q_del,j et Q_del,dh'!$D41,0)","v":0},{"$f":"IF(AH92=\"Oui\",'Q_del,j et Q_del,dh'!$D41,0)","v":0},{"$f":"IF(AI92=\"Oui\",'Q_del,j et Q_del,dh'!$D41,0)","v":0},{"$f":"IF(AJ92=\"Oui\",'Q_del,j et Q_del,dh'!$D41,0)","v":0},{"$f":"IF(AK92=\"Oui\",'Q_del,j et Q_del,dh'!$D41,0)","v":0},{"$f":"IF(AL92=\"Oui\",'Q_del,j et Q_del,dh'!$D41,0)","v":0},{"$f":"IF(AM92=\"Oui\",'Q_del,j et Q_del,dh'!$D41,0)","v":0},{"$f":"IF(AN92=\"Oui\",'Q_del,j et Q_del,dh'!$D41,0)","v":0},{"$f":"IF(AO92=\"Oui\",'Q_del,j et Q_del,dh'!$D41,0)","v":0},{"$f":"IF(AP92=\"Oui\",'Q_del,j et Q_del,dh'!$D41,0)","v":0},{"$f":"IF(AQ92=\"Oui\",'Q_del,j et Q_del,dh'!$D41,0)","v":0},{"$f":"IF(AR92=\"Oui\",'Q_del,j et Q_del,dh'!$D41,0)","v":0},{"$f":"IF(AS92=\"Oui\",'Q_del,j et Q_del,dh'!$D41,0)","v":0},{"$f":"IF(AT92=\"Oui\",'Q_del,j et Q_del,dh'!$D41,0)","v":0},{"$f":"IF(AU92=\"Oui\",'Q_del,j et Q_del,dh'!$D41,0)","v":0},{"$f":"IF(AV92=\"Oui\",'Q_del,j et Q_del,dh'!$D41,0)","v":0},{"$f":"IF(AW92=\"Oui\",'Q_del,j et Q_del,dh'!$D41,0)","v":0},{"$f":"IF(AX92=\"Oui\",'Q_del,j et Q_del,dh'!$D41,0)","v":0},{"$f":"IF(AY92=\"Oui\",'Q_del,j et Q_del,dh'!$D41,0)","v":0},{"$f":"IF(AZ92=\"Oui\",'Q_del,j et Q_del,dh'!$D41,0)","v":0},{"$f":"IF(BA92=\"Oui\",'Q_del,j et Q_del,dh'!$D41,0)","v":0}]
["Qdel,l,j [MJ]","Demandeur de chaleur 35",35,{"$f":"IF(D93=\"Oui\",'Q_del,j et Q_del,dh'!$D42,0)","v":0},{"$f":"IF(E93=\"Oui\",'Q_del,j et Q_del,dh'!$D42,0)","v":0},{"$f":"IF(F93=\"Oui\",'Q_del,j et Q_del,dh'!$D42,0)","v":0},{"$f":"IF(G93=\"Oui\",'Q_del,j et Q_del,dh'!$D42,0)","v":0},{"$f":"IF(H93=\"Oui\",'Q_del,j et Q_del,dh'!$D42,0)","v":0},{"$f":"IF(I93=\"Oui\",'Q_del,j et Q_del,dh'!$D42,0)","v":0},{"$f":"IF(J93=\"Oui\",'Q_del,j et Q_del,dh'!$D42,0)","v":0},{"$f":"IF(K93=\"Oui\",'Q_del,j et Q_del,dh'!$D42,0)","v":0},{"$f":"IF(L93=\"Oui\",'Q_del,j et Q_del,dh'!$D42,0)","v":0},{"$f":"IF(M93=\"Oui\",'Q_del,j et Q_del,dh'!$D42,0)","v":0},{"$f":"IF(N93=\"Oui\",'Q_del,j et Q_del,dh'!$D42,0)","v":0},{"$f":"IF(O93=\"Oui\",'Q_del,j et Q_del,dh'!$D42,0)","v":0},{"$f":"IF(P93=\"Oui\",'Q_del,j et Q_del,dh'!$D42,0)","v":0},{"$f":"IF(Q93=\"Oui\",'Q_del,j et Q_del,dh'!$D42,0)","v":0},{"$f":"IF(R93=\"Oui\",'Q_del,j et Q_del,dh'!$D42,0)","v":0},{"$f":"IF(S93=\"Oui\",'Q_del,j et Q_del,dh'!$D42,0)","v":0},{"$f":"IF(T93=\"Oui\",'Q_del,j et Q_del,dh'!$D42,0)","v":0},{"$f":"IF(U93=\"Oui\",'Q_del,j et Q_del,dh'!$D42,0)","v":0},{"$f":"IF(V93=\"Oui\",'Q_del,j et Q_del,dh'!$D42,0)","v":0},{"$f":"IF(W93=\"Oui\",'Q_del,j et Q_del,dh'!$D42,0)","v":0},{"$f":"IF(X93=\"Oui\",'Q_del,j et Q_del,dh'!$D42,0)","v":0},{"$f":"IF(Y93=\"Oui\",'Q_del,j et Q_del,dh'!$D42,0)","v":0},{"$f":"IF(Z93=\"Oui\",'Q_del,j et Q_del,dh'!$D42,0)","v":0},{"$f":"IF(AA93=\"Oui\",'Q_del,j et Q_del,dh'!$D42,0)","v":0},{"$f":"IF(AB93=\"Oui\",'Q_del,j et Q_del,dh'!$D42,0)","v":0},{"$f":"IF(AC93=\"Oui\",'Q_del,j et Q_del,dh'!$D42,0)","v":0},{"$f":"IF(AD93=\"Oui\",'Q_del,j et Q_del,dh'!$D42,0)","v":0},{"$f":"IF(AE93=\"Oui\",'Q_del,j et Q_del,dh'!$D42,0)","v":0},{"$f":"IF(AF93=\"Oui\",'Q_del,j et Q_del,dh'!$D42,0)","v":0},{"$f":"IF(AG93=\"Oui\",'Q_del,j et Q_del,dh'!$D42,0)","v":0},{"$f":"IF(AH93=\"Oui\",'Q_del,j et Q_del,dh'!$D42,0)","v":0},{"$f":"IF(AI93=\"Oui\",'Q_del,j et Q_del,dh'!$D42,0)","v":0},{"$f":"IF(AJ93=\"Oui\",'Q_del,j et Q_del,dh'!$D42,0)","v":0},{"$f":"IF(AK93=\"Oui\",'Q_del,j et Q_del,dh'!$D42,0)","v":0},{"$f":"IF(AL93=\"Oui\",'Q_del,j et Q_del,dh'!$D42,0)","v":0},{"$f":"IF(AM93=\"Oui\",'Q_del,j et Q_del,dh'!$D42,0)","v":0},{"$f":"IF(AN93=\"Oui\",'Q_del,j et Q_del,dh'!$D42,0)","v":0},{"$f":"IF(AO93=\"Oui\",'Q_del,j et Q_del,dh'!$D42,0)","v":0},{"$f":"IF(AP93=\"Oui\",'Q_del,j et Q_del,dh'!$D42,0)","v":0},{"$f":"IF(AQ93=\"Oui\",'Q_del,j et Q_del,dh'!$D42,0)","v":0},{"$f":"IF(AR93=\"Oui\",'Q_del,j et Q_del,dh'!$D42,0)","v":0},{"$f":"IF(AS93=\"Oui\",'Q_del,j et Q_del,dh'!$D42,0)","v":0},{"$f":"IF(AT93=\"Oui\",'Q_del,j et Q_del,dh'!$D42,0)","v":0},{"$f":"IF(AU93=\"Oui\",'Q_del,j et Q_del,dh'!$D42,0)","v":0},{"$f":"IF(AV93=\"Oui\",'Q_del,j et Q_del,dh'!$D42,0)","v":0},{"$f":"IF(AW93=\"Oui\",'Q_del,j et Q_del,dh'!$D42,0)","v":0},{"$f":"IF(AX93=\"Oui\",'Q_del,j et Q_del,dh'!$D42,0)","v":0},{"$f":"IF(AY93=\"Oui\",'Q_del,j et Q_del,dh'!$D42,0)","v":0},{"$f":"IF(AZ93=\"Oui\",'Q_del,j et Q_del,dh'!$D42,0)","v":0},{"$f":"IF(BA93=\"Oui\",'Q_del,j et Q_del,dh'!$D42,0)","v":0}]
["Qdel,l,j [MJ]","Demandeur de chaleur 36",36,{"$f":"IF(D94=\"Oui\",'Q_del,j et Q_del,dh'!$D43,0)","v":0},{"$f":"IF(E94=\"Oui\",'Q_del,j et Q_del,dh'!$D43,0)","v":0},{"$f":"IF(F94=\"Oui\",'Q_del,j et Q_del,dh'!$D43,0)","v":0},{"$f":"IF(G94=\"Oui\",'Q_del,j et Q_del,dh'!$D43,0)","v":0},{"$f":"IF(H94=\"Oui\",'Q_del,j et Q_del,dh'!$D43,0)","v":0},{"$f":"IF(I94=\"Oui\",'Q_del,j et Q_del,dh'!$D43,0)","v":0},{"$f":"IF(J94=\"Oui\",'Q_del,j et Q_del,dh'!$D43,0)","v":0},{"$f":"IF(K94=\"Oui\",'Q_del,j et Q_del,dh'!$D43,0)","v":0},{"$f":"IF(L94=\"Oui\",'Q_del,j et Q_del,dh'!$D43,0)","v":0},{"$f":"IF(M94=\"Oui\",'Q_del,j et Q_del,dh'!$D43,0)","v":0},{"$f":"IF(N94=\"Oui\",'Q_del,j et Q_del,dh'!$D43,0)","v":0},{"$f":"IF(O94=\"Oui\",'Q_del,j et Q_del,dh'!$D43,0)","v":0},{"$f":"IF(P94=\"Oui\",'Q_del,j et Q_del,dh'!$D43,0)","v":0},{"$f":"IF(Q94=\"Oui\",'Q_del,j et Q_del,dh'!$D43,0)","v":0},{"$f":"IF(R94=\"Oui\",'Q_del,j et Q_del,dh'!$D43,0)","v":0},{"$f":"IF(S94=\"Oui\",'Q_del,j et Q_del,dh'!$D43,0)","v":0},{"$f":"IF(T94=\"Oui\",'Q_del,j et Q_del,dh'!$D43,0)","v":0},{"$f":"IF(U94=\"Oui\",'Q_del,j et Q_del,dh'!$D43,0)","v":0},{"$f":"IF(V94=\"Oui\",'Q_del,j et Q_del,dh'!$D43,0)","v":0},{"$f":"IF(W94=\"Oui\",'Q_del,j et Q_del,dh'!$D43,0)","v":0},{"$f":"IF(X94=\"Oui\",'Q_del,j et Q_del,dh'!$D43,0)","v":0},{"$f":"IF(Y94=\"Oui\",'Q_del,j et Q_del,dh'!$D43,0)","v":0},{"$f":"IF(Z94=\"Oui\",'Q_del,j et Q_del,dh'!$D43,0)","v":0},{"$f":"IF(AA94=\"Oui\",'Q_del,j et Q_del,dh'!$D43,0)","v":0},{"$f":"IF(AB94=\"Oui\",'Q_del,j et Q_del,dh'!$D43,0)","v":0},{"$f":"IF(AC94=\"Oui\",'Q_del,j et Q_del,dh'!$D43,0)","v":0},{"$f":"IF(AD94=\"Oui\",'Q_del,j et Q_del,dh'!$D43,0)","v":0},{"$f":"IF(AE94=\"Oui\",'Q_del,j et Q_del,dh'!$D43,0)","v":0},{"$f":"IF(AF94=\"Oui\",'Q_del,j et Q_del,dh'!$D43,0)","v":0},{"$f":"IF(AG94=\"Oui\",'Q_del,j et Q_del,dh'!$D43,0)","v":0},{"$f":"IF(AH94=\"Oui\",'Q_del,j et Q_del,dh'!$D43,0)","v":0},{"$f":"IF(AI94=\"Oui\",'Q_del,j et Q_del,dh'!$D43,0)","v":0},{"$f":"IF(AJ94=\"Oui\",'Q_del,j et Q_del,dh'!$D43,0)","v":0},{"$f":"IF(AK94=\"Oui\",'Q_del,j et Q_del,dh'!$D43,0)","v":0},{"$f":"IF(AL94=\"Oui\",'Q_del,j et Q_del,dh'!$D43,0)","v":0},{"$f":"IF(AM94=\"Oui\",'Q_del,j et Q_del,dh'!$D43,0)","v":0},{"$f":"IF(AN94=\"Oui\",'Q_del,j et Q_del,dh'!$D43,0)","v":0},{"$f":"IF(AO94=\"Oui\",'Q_del,j et Q_del,dh'!$D43,0)","v":0},{"$f":"IF(AP94=\"Oui\",'Q_del,j et Q_del,dh'!$D43,0)","v":0},{"$f":"IF(AQ94=\"Oui\",'Q_del,j et Q_del,dh'!$D43,0)","v":0},{"$f":"IF(AR94=\"Oui\",'Q_del,j et Q_del,dh'!$D43,0)","v":0},{"$f":"IF(AS94=\"Oui\",'Q_del,j et Q_del,dh'!$D43,0)","v":0},{"$f":"IF(AT94=\"Oui\",'Q_del,j et Q_del,dh'!$D43,0)","v":0},{"$f":"IF(AU94=\"Oui\",'Q_del,j et Q_del,dh'!$D43,0)","v":0},{"$f":"IF(AV94=\"Oui\",'Q_del,j et Q_del,dh'!$D43,0)","v":0},{"$f":"IF(AW94=\"Oui\",'Q_del,j et Q_del,dh'!$D43,0)","v":0},{"$f":"IF(AX94=\"Oui\",'Q_del,j et Q_del,dh'!$D43,0)","v":0},{"$f":"IF(AY94=\"Oui\",'Q_del,j et Q_del,dh'!$D43,0)","v":0},{"$f":"IF(AZ94=\"Oui\",'Q_del,j et Q_del,dh'!$D43,0)","v":0},{"$f":"IF(BA94=\"Oui\",'Q_del,j et Q_del,dh'!$D43,0)","v":0}]
["Qdel,l,j [MJ]","Demandeur de chaleur 37",37,{"$f":"IF(D95=\"Oui\",'Q_del,j et Q_del,dh'!$D44,0)","v":0},{"$f":"IF(E95=\"Oui\",'Q_del,j et Q_del,dh'!$D44,0)","v":0},{"$f":"IF(F95=\"Oui\",'Q_del,j et Q_del,dh'!$D44,0)","v":0},{"$f":"IF(G95=\"Oui\",'Q_del,j et Q_del,dh'!$D44,0)","v":0},{"$f":"IF(H95=\"Oui\",'Q_del,j et Q_del,dh'!$D44,0)","v":0},{"$f":"IF(I95=\"Oui\",'Q_del,j et Q_del,dh'!$D44,0)","v":0},{"$f":"IF(J95=\"Oui\",'Q_del,j et Q_del,dh'!$D44,0)","v":0},{"$f":"IF(K95=\"Oui\",'Q_del,j et Q_del,dh'!$D44,0)","v":0},{"$f":"IF(L95=\"Oui\",'Q_del,j et Q_del,dh'!$D44,0)","v":0},{"$f":"IF(M95=\"Oui\",'Q_del,j et Q_del,dh'!$D44,0)","v":0},{"$f":"IF(N95=\"Oui\",'Q_del,j et Q_del,dh'!$D44,0)","v":0},{"$f":"IF(O95=\"Oui\",'Q_del,j et Q_del,dh'!$D44,0)","v":0},{"$f":"IF(P95=\"Oui\",'Q_del,j et Q_del,dh'!$D44,0)","v":0},{"$f":"IF(Q95=\"Oui\",'Q_del,j et Q_del,dh'!$D44,0)","v":0},{"$f":"IF(R95=\"Oui\",'Q_del,j et Q_del,dh'!$D44,0)","v":0},{"$f":"IF(S95=\"Oui\",'Q_del,j et Q_del,dh'!$D44,0)","v":0},{"$f":"IF(T95=\"Oui\",'Q_del,j et Q_del,dh'!$D44,0)","v":0},{"$f":"IF(U95=\"Oui\",'Q_del,j et Q_del,dh'!$D44,0)","v":0},{"$f":"IF(V95=\"Oui\",'Q_del,j et Q_del,dh'!$D44,0)","v":0},{"$f":"IF(W95=\"Oui\",'Q_del,j et Q_del,dh'!$D44,0)","v":0},{"$f":"IF(X95=\"Oui\",'Q_del,j et Q_del,dh'!$D44,0)","v":0},{"$f":"IF(Y95=\"Oui\",'Q_del,j et Q_del,dh'!$D44,0)","v":0},{"$f":"IF(Z95=\"Oui\",'Q_del,j et Q_del,dh'!$D44,0)","v":0},{"$f":"IF(AA95=\"Oui\",'Q_del,j et Q_del,dh'!$D44,0)","v":0},{"$f":"IF(AB95=\"Oui\",'Q_del,j et Q_del,dh'!$D44,0)","v":0},{"$f":"IF(AC95=\"Oui\",'Q_del,j et Q_del,dh'!$D44,0)","v":0},{"$f":"IF(AD95=\"Oui\",'Q_del,j et Q_del,dh'!$D44,0)","v":0},{"$f":"IF(AE95=\"Oui\",'Q_del,j et Q_del,dh'!$D44,0)","v":0},{"$f":"IF(AF95=\"Oui\",'Q_del,j et Q_del,dh'!$D44,0)","v":0},{"$f":"IF(AG95=\"Oui\",'Q_del,j et Q_del,dh'!$D44,0)","v":0},{"$f":"IF(AH95=\"Oui\",'Q_del,j et Q_del,dh'!$D44,0)","v":0},{"$f":"IF(AI95=\"Oui\",'Q_del,j et Q_del,dh'!$D44,0)","v":0},{"$f":"IF(AJ95=\"Oui\",'Q_del,j et Q_del,dh'!$D44,0)","v":0},{"$f":"IF(AK95=\"Oui\",'Q_del,j et Q_del,dh'!$D44,0)","v":0},{"$f":"IF(AL95=\"Oui\",'Q_del,j et Q_del,dh'!$D44,0)","v":0},{"$f":"IF(AM95=\"Oui\",'Q_del,j et Q_del,dh'!$D44,0)","v":0},{"$f":"IF(AN95=\"Oui\",'Q_del,j et Q_del,dh'!$D44,0)","v":0},{"$f":"IF(AO95=\"Oui\",'Q_del,j et Q_del,dh'!$D44,0)","v":0},{"$f":"IF(AP95=\"Oui\",'Q_del,j et Q_del,dh'!$D44,0)","v":0},{"$f":"IF(AQ95=\"Oui\",'Q_del,j et Q_del,dh'!$D44,0)","v":0},{"$f":"IF(AR95=\"Oui\",'Q_del,j et Q_del,dh'!$D44,0)","v":0},{"$f":"IF(AS95=\"Oui\",'Q_del,j et Q_del,dh'!$D44,0)","v":0},{"$f":"IF(AT95=\"Oui\",'Q_del,j et Q_del,dh'!$D44,0)","v":0},{"$f":"IF(AU95=\"Oui\",'Q_del,j et Q_del,dh'!$D44,0)","v":0},{"$f":"IF(AV95=\"Oui\",'Q_del,j et Q_del,dh'!$D44,0)","v":0},{"$f":"IF(AW95=\"Oui\",'Q_del,j et Q_del,dh'!$D44,0)","v":0},{"$f":"IF(AX95=\"Oui\",'Q_del,j et Q_del,dh'!$D44,0)","v":0},{"$f":"IF(AY95=\"Oui\",'Q_del,j et Q_del,dh'!$D44,0)","v":0},{"$f":"IF(AZ95=\"Oui\",'Q_del,j et Q_del,dh'!$D44,0)","v":0},{"$f":"IF(BA95=\"Oui\",'Q_del,j et Q_del,dh'!$D44,0)","v":0}]
["Qdel,l,j [MJ]","Demandeur de chaleur 38",38,{"$f":"IF(D96=\"Oui\",'Q_del,j et Q_del,dh'!$D45,0)","v":0},{"$f":"IF(E96=\"Oui\",'Q_del,j et Q_del,dh'!$D45,0)","v":0},{"$f":"IF(F96=\"Oui\",'Q_del,j et Q_del,dh'!$D45,0)","v":0},{"$f":"IF(G96=\"Oui\",'Q_del,j et Q_del,dh'!$D45,0)","v":0},{"$f":"IF(H96=\"Oui\",'Q_del,j et Q_del,dh'!$D45,0)","v":0},{"$f":"IF(I96=\"Oui\",'Q_del,j et Q_del,dh'!$D45,0)","v":0},{"$f":"IF(J96=\"Oui\",'Q_del,j et Q_del,dh'!$D45,0)","v":0},{"$f":"IF(K96=\"Oui\",'Q_del,j et Q_del,dh'!$D45,0)","v":0},{"$f":"IF(L96=\"Oui\",'Q_del,j et Q_del,dh'!$D45,0)","v":0},{"$f":"IF(M96=\"Oui\",'Q_del,j et Q_del,dh'!$D45,0)","v":0},{"$f":"IF(N96=\"Oui\",'Q_del,j et Q_del,dh'!$D45,0)","v":0},{"$f":"IF(O96=\"Oui\",'Q_del,j et Q_del,dh'!$D45,0)","v":0},{"$f":"IF(P96=\"Oui\",'Q_del,j et Q_del,dh'!$D45,0)","v":0},{"$f":"IF(Q96=\"Oui\",'Q_del,j et Q_del,dh'!$D45,0)","v":0},{"$f":"IF(R96=\"Oui\",'Q_del,j et Q_del,dh'!$D45,0)","v":0},{"$f":"IF(S96=\"Oui\",'Q_del,j et Q_del,dh'!$D45,0)","v":0},{"$f":"IF(T96=\"Oui\",'Q_del,j et Q_del,dh'!$D45,0)","v":0},{"$f":"IF(U96=\"Oui\",'Q_del,j et Q_del,dh'!$D45,0)","v":0},{"$f":"IF(V96=\"Oui\",'Q_del,j et Q_del,dh'!$D45,0)","v":0},{"$f":"IF(W96=\"Oui\",'Q_del,j et Q_del,dh'!$D45,0)","v":0},{"$f":"IF(X96=\"Oui\",'Q_del,j et Q_del,dh'!$D45,0)","v":0},{"$f":"IF(Y96=\"Oui\",'Q_del,j et Q_del,dh'!$D45,0)","v":0},{"$f":"IF(Z96=\"Oui\",'Q_del,j et Q_del,dh'!$D45,0)","v":0},{"$f":"IF(AA96=\"Oui\",'Q_del,j et Q_del,dh'!$D45,0)","v":0},{"$f":"IF(AB96=\"Oui\",'Q_del,j et Q_del,dh'!$D45,0)","v":0},{"$f":"IF(AC96=\"Oui\",'Q_del,j et Q_del,dh'!$D45,0)","v":0},{"$f":"IF(AD96=\"Oui\",'Q_del,j et Q_del,dh'!$D45,0)","v":0},{"$f":"IF(AE96=\"Oui\",'Q_del,j et Q_del,dh'!$D45,0)","v":0},{"$f":"IF(AF96=\"Oui\",'Q_del,j et Q_del,dh'!$D45,0)","v":0},{"$f":"IF(AG96=\"Oui\",'Q_del,j et Q_del,dh'!$D45,0)","v":0},{"$f":"IF(AH96=\"Oui\",'Q_del,j et Q_del,dh'!$D45,0)","v":0},{"$f":"IF(AI96=\"Oui\",'Q_del,j et Q_del,dh'!$D45,0)","v":0},{"$f":"IF(AJ96=\"Oui\",'Q_del,j et Q_del,dh'!$D45,0)","v":0},{"$f":"IF(AK96=\"Oui\",'Q_del,j et Q_del,dh'!$D45,0)","v":0},{"$f":"IF(AL96=\"Oui\",'Q_del,j et Q_del,dh'!$D45,0)","v":0},{"$f":"IF(AM96=\"Oui\",'Q_del,j et Q_del,dh'!$D45,0)","v":0},{"$f":"IF(AN96=\"Oui\",'Q_del,j et Q_del,dh'!$D45,0)","v":0},{"$f":"IF(AO96=\"Oui\",'Q_del,j et Q_del,dh'!$D45,0)","v":0},{"$f":"IF(AP96=\"Oui\",'Q_del,j et Q_del,dh'!$D45,0)","v":0},{"$f":"IF(AQ96=\"Oui\",'Q_del,j et Q_del,dh'!$D45,0)","v":0},{"$f":"IF(AR96=\"Oui\",'Q_del,j et Q_del,dh'!$D45,0)","v":0},{"$f":"IF(AS96=\"Oui\",'Q_del,j et Q_del,dh'!$D45,0)","v":0},{"$f":"IF(AT96=\"Oui\",'Q_del,j et Q_del,dh'!$D45,0)","v":0},{"$f":"IF(AU96=\"Oui\",'Q_del,j et Q_del,dh'!$D45,0)","v":0},{"$f":"IF(AV96=\"Oui\",'Q_del,j et Q_del,dh'!$D45,0)","v":0},{"$f":"IF(AW96=\"Oui\",'Q_del,j et Q_del,dh'!$D45,0)","v":0},{"$f":"IF(AX96=\"Oui\",'Q_del,j et Q_del,dh'!$D45,0)","v":0},{"$f":"IF(AY96=\"Oui\",'Q_del,j et Q_del,dh'!$D45,0)","v":0},{"$f":"IF(AZ96=\"Oui\",'Q_del,j et Q_del,dh'!$D45,0)","v":0},{"$f":"IF(BA96=\"Oui\",'Q_del,j et Q_del,dh'!$D45,0)","v":0}]
["Qdel,l,j [MJ]","Demandeur de chaleur 39",39,{"$f":"IF(D97=\"Oui\",'Q_del,j et Q_del,dh'!$D46,0)","v":0},{"$f":"IF(E97=\"Oui\",'Q_del,j et Q_del,dh'!$D46,0)","v":0},{"$f":"IF(F97=\"Oui\",'Q_del,j et Q_del,dh'!$D46,0)","v":0},{"$f":"IF(G97=\"Oui\",'Q_del,j et Q_del,dh'!$D46,0)","v":0},{"$f":"IF(H97=\"Oui\",'Q_del,j et Q_del,dh'!$D46,0)","v":0},{"$f":"IF(I97=\"Oui\",'Q_del,j et Q_del,dh'!$D46,0)","v":0},{"$f":"IF(J97=\"Oui\",'Q_del,j et Q_del,dh'!$D46,0)","v":0},{"$f":"IF(K97=\"Oui\",'Q_del,j et Q_del,dh'!$D46,0)","v":0},{"$f":"IF(L97=\"Oui\",'Q_del,j et Q_del,dh'!$D46,0)","v":0},{"$f":"IF(M97=\"Oui\",'Q_del,j et Q_del,dh'!$D46,0)","v":0},{"$f":"IF(N97=\"Oui\",'Q_del,j et Q_del,dh'!$D46,0)","v":0},{"$f":"IF(O97=\"Oui\",'Q_del,j et Q_del,dh'!$D46,0)","v":0},{"$f":"IF(P97=\"Oui\",'Q_del,j et Q_del,dh'!$D46,0)","v":0},{"$f":"IF(Q97=\"Oui\",'Q_del,j et Q_del,dh'!$D46,0)","v":0},{"$f":"IF(R97=\"Oui\",'Q_del,j et Q_del,dh'!$D46,0)","v":0},{"$f":"IF(S97=\"Oui\",'Q_del,j et Q_del,dh'!$D46,0)","v":0},{"$f":"IF(T97=\"Oui\",'Q_del,j et Q_del,dh'!$D46,0)","v":0},{"$f":"IF(U97=\"Oui\",'Q_del,j et Q_del,dh'!$D46,0)","v":0},{"$f":"IF(V97=\"Oui\",'Q_del,j et Q_del,dh'!$D46,0)","v":0},{"$f":"IF(W97=\"Oui\",'Q_del,j et Q_del,dh'!$D46,0)","v":0},{"$f":"IF(X97=\"Oui\",'Q_del,j et Q_del,dh'!$D46,0)","v":0},{"$f":"IF(Y97=\"Oui\",'Q_del,j et Q_del,dh'!$D46,0)","v":0},{"$f":"IF(Z97=\"Oui\",'Q_del,j et Q_del,dh'!$D46,0)","v":0},{"$f":"IF(AA97=\"Oui\",'Q_del,j et Q_del,dh'!$D46,0)","v":0},{"$f":"IF(AB97=\"Oui\",'Q_del,j et Q_del,dh'!$D46,0)","v":0},{"$f":"IF(AC97=\"Oui\",'Q_del,j et Q_del,dh'!$D46,0)","v":0},{"$f":"IF(AD97=\"Oui\",'Q_del,j et Q_del,dh'!$D46,0)","v":0},{"$f":"IF(AE97=\"Oui\",'Q_del,j et Q_del,dh'!$D46,0)","v":0},{"$f":"IF(AF97=\"Oui\",'Q_del,j et Q_del,dh'!$D46,0)","v":0},{"$f":"IF(AG97=\"Oui\",'Q_del,j et Q_del,dh'!$D46,0)","v":0},{"$f":"IF(AH97=\"Oui\",'Q_del,j et Q_del,dh'!$D46,0)","v":0},{"$f":"IF(AI97=\"Oui\",'Q_del,j et Q_del,dh'!$D46,0)","v":0},{"$f":"IF(AJ97=\"Oui\",'Q_del,j et Q_del,dh'!$D46,0)","v":0},{"$f":"IF(AK97=\"Oui\",'Q_del,j et Q_del,dh'!$D46,0)","v":0},{"$f":"IF(AL97=\"Oui\",'Q_del,j et Q_del,dh'!$D46,0)","v":0},{"$f":"IF(AM97=\"Oui\",'Q_del,j et Q_del,dh'!$D46,0)","v":0},{"$f":"IF(AN97=\"Oui\",'Q_del,j et Q_del,dh'!$D46,0)","v":0},{"$f":"IF(AO97=\"Oui\",'Q_del,j et Q_del,dh'!$D46,0)","v":0},{"$f":"IF(AP97=\"Oui\",'Q_del,j et Q_del,dh'!$D46,0)","v":0},{"$f":"IF(AQ97=\"Oui\",'Q_del,j et Q_del,dh'!$D46,0)","v":0},{"$f":"IF(AR97=\"Oui\",'Q_del,j et Q_del,dh'!$D46,0)","v":0},{"$f":"IF(AS97=\"Oui\",'Q_del,j et Q_del,dh'!$D46,0)","v":0},{"$f":"IF(AT97=\"Oui\",'Q_del,j et Q_del,dh'!$D46,0)","v":0},{"$f":"IF(AU97=\"Oui\",'Q_del,j et Q_del,dh'!$D46,0)","v":0},{"$f":"IF(AV97=\"Oui\",'Q_del,j et Q_del,dh'!$D46,0)","v":0},{"$f":"IF(AW97=\"Oui\",'Q_del,j et Q_del,dh'!$D46,0)","v":0},{"$f":"IF(AX97=\"Oui\",'Q_del,j et Q_del,dh'!$D46,0)","v":0},{"$f":"IF(AY97=\"Oui\",'Q_del,j et Q_del,dh'!$D46,0)","v":0},{"$f":"IF(AZ97=\"Oui\",'Q_del,j et Q_del,dh'!$D46,0)","v":0},{"$f":"IF(BA97=\"Oui\",'Q_del,j et Q_del,dh'!$D46,0)","v":0}]
["Qdel,l,j [MJ]","Demandeur de chaleur 40",40,{"$f":"IF(D98=\"Oui\",'Q_del,j et Q_del,dh'!$D47,0)","v":0},{"$f":"IF(E98=\"Oui\",'Q_del,j et Q_del,dh'!$D47,0)","v":0},{"$f":"IF(F98=\"Oui\",'Q_del,j et Q_del,dh'!$D47,0)","v":0},{"$f":"IF(G98=\"Oui\",'Q_del,j et Q_del,dh'!$D47,0)","v":0},{"$f":"IF(H98=\"Oui\",'Q_del,j et Q_del,dh'!$D47,0)","v":0},{"$f":"IF(I98=\"Oui\",'Q_del,j et Q_del,dh'!$D47,0)","v":0},{"$f":"IF(J98=\"Oui\",'Q_del,j et Q_del,dh'!$D47,0)","v":0},{"$f":"IF(K98=\"Oui\",'Q_del,j et Q_del,dh'!$D47,0)","v":0},{"$f":"IF(L98=\"Oui\",'Q_del,j et Q_del,dh'!$D47,0)","v":0},{"$f":"IF(M98=\"Oui\",'Q_del,j et Q_del,dh'!$D47,0)","v":0},{"$f":"IF(N98=\"Oui\",'Q_del,j et Q_del,dh'!$D47,0)","v":0},{"$f":"IF(O98=\"Oui\",'Q_del,j et Q_del,dh'!$D47,0)","v":0},{"$f":"IF(P98=\"Oui\",'Q_del,j et Q_del,dh'!$D47,0)","v":0},{"$f":"IF(Q98=\"Oui\",'Q_del,j et Q_del,dh'!$D47,0)","v":0},{"$f":"IF(R98=\"Oui\",'Q_del,j et Q_del,dh'!$D47,0)","v":0},{"$f":"IF(S98=\"Oui\",'Q_del,j et Q_del,dh'!$D47,0)","v":0},{"$f":"IF(T98=\"Oui\",'Q_del,j et Q_del,dh'!$D47,0)","v":0},{"$f":"IF(U98=\"Oui\",'Q_del,j et Q_del,dh'!$D47,0)","v":0},{"$f":"IF(V98=\"Oui\",'Q_del,j et Q_del,dh'!$D47,0)","v":0},{"$f":"IF(W98=\"Oui\",'Q_del,j et Q_del,dh'!$D47,0)","v":0},{"$f":"IF(X98=\"Oui\",'Q_del,j et Q_del,dh'!$D47,0)","v":0},{"$f":"IF(Y98=\"Oui\",'Q_del,j et Q_del,dh'!$D47,0)","v":0},{"$f":"IF(Z98=\"Oui\",'Q_del,j et Q_del,dh'!$D47,0)","v":0},{"$f":"IF(AA98=\"Oui\",'Q_del,j et Q_del,dh'!$D47,0)","v":0},{"$f":"IF(AB98=\"Oui\",'Q_del,j et Q_del,dh'!$D47,0)","v":0},{"$f":"IF(AC98=\"Oui\",'Q_del,j et Q_del,dh'!$D47,0)","v":0},{"$f":"IF(AD98=\"Oui\",'Q_del,j et Q_del,dh'!$D47,0)","v":0},{"$f":"IF(AE98=\"Oui\",'Q_del,j et Q_del,dh'!$D47,0)","v":0},{"$f":"IF(AF98=\"Oui\",'Q_del,j et Q_del,dh'!$D47,0)","v":0},{"$f":"IF(AG98=\"Oui\",'Q_del,j et Q_del,dh'!$D47,0)","v":0},{"$f":"IF(AH98=\"Oui\",'Q_del,j et Q_del,dh'!$D47,0)","v":0},{"$f":"IF(AI98=\"Oui\",'Q_del,j et Q_del,dh'!$D47,0)","v":0},{"$f":"IF(AJ98=\"Oui\",'Q_del,j et Q_del,dh'!$D47,0)","v":0},{"$f":"IF(AK98=\"Oui\",'Q_del,j et Q_del,dh'!$D47,0)","v":0},{"$f":"IF(AL98=\"Oui\",'Q_del,j et Q_del,dh'!$D47,0)","v":0},{"$f":"IF(AM98=\"Oui\",'Q_del,j et Q_del,dh'!$D47,0)","v":0},{"$f":"IF(AN98=\"Oui\",'Q_del,j et Q_del,dh'!$D47,0)","v":0},{"$f":"IF(AO98=\"Oui\",'Q_del,j et Q_del,dh'!$D47,0)","v":0},{"$f":"IF(AP98=\"Oui\",'Q_del,j et Q_del,dh'!$D47,0)","v":0},{"$f":"IF(AQ98=\"Oui\",'Q_del,j et Q_del,dh'!$D47,0)","v":0},{"$f":"IF(AR98=\"Oui\",'Q_del,j et Q_del,dh'!$D47,0)","v":0},{"$f":"IF(AS98=\"Oui\",'Q_del,j et Q_del,dh'!$D47,0)","v":0},{"$f":"IF(AT98=\"Oui\",'Q_del,j et Q_del,dh'!$D47,0)","v":0},{"$f":"IF(AU98=\"Oui\",'Q_del,j et Q_del,dh'!$D47,0)","v":0},{"$f":"IF(AV98=\"Oui\",'Q_del,j et Q_del,dh'!$D47,0)","v":0},{"$f":"IF(AW98=\"Oui\",'Q_del,j et Q_del,dh'!$D47,0)","v":0},{"$f":"IF(AX98=\"Oui\",'Q_del,j et Q_del,dh'!$D47,0)","v":0},{"$f":"IF(AY98=\"Oui\",'Q_del,j et Q_del,dh'!$D47,0)","v":0},{"$f":"IF(AZ98=\"Oui\",'Q_del,j et Q_del,dh'!$D47,0)","v":0},{"$f":"IF(BA98=\"Oui\",'Q_del,j et Q_del,dh'!$D47,0)","v":0}]
["Qdel,l,j [MJ]","Demandeur de chaleur 41",41,{"$f":"IF(D99=\"Oui\",'Q_del,j et Q_del,dh'!$D48,0)","v":0},{"$f":"IF(E99=\"Oui\",'Q_del,j et Q_del,dh'!$D48,0)","v":0},{"$f":"IF(F99=\"Oui\",'Q_del,j et Q_del,dh'!$D48,0)","v":0},{"$f":"IF(G99=\"Oui\",'Q_del,j et Q_del,dh'!$D48,0)","v":0},{"$f":"IF(H99=\"Oui\",'Q_del,j et Q_del,dh'!$D48,0)","v":0},{"$f":"IF(I99=\"Oui\",'Q_del,j et Q_del,dh'!$D48,0)","v":0},{"$f":"IF(J99=\"Oui\",'Q_del,j et Q_del,dh'!$D48,0)","v":0},{"$f":"IF(K99=\"Oui\",'Q_del,j et Q_del,dh'!$D48,0)","v":0},{"$f":"IF(L99=\"Oui\",'Q_del,j et Q_del,dh'!$D48,0)","v":0},{"$f":"IF(M99=\"Oui\",'Q_del,j et Q_del,dh'!$D48,0)","v":0},{"$f":"IF(N99=\"Oui\",'Q_del,j et Q_del,dh'!$D48,0)","v":0},{"$f":"IF(O99=\"Oui\",'Q_del,j et Q_del,dh'!$D48,0)","v":0},{"$f":"IF(P99=\"Oui\",'Q_del,j et Q_del,dh'!$D48,0)","v":0},{"$f":"IF(Q99=\"Oui\",'Q_del,j et Q_del,dh'!$D48,0)","v":0},{"$f":"IF(R99=\"Oui\",'Q_del,j et Q_del,dh'!$D48,0)","v":0},{"$f":"IF(S99=\"Oui\",'Q_del,j et Q_del,dh'!$D48,0)","v":0},{"$f":"IF(T99=\"Oui\",'Q_del,j et Q_del,dh'!$D48,0)","v":0},{"$f":"IF(U99=\"Oui\",'Q_del,j et Q_del,dh'!$D48,0)","v":0},{"$f":"IF(V99=\"Oui\",'Q_del,j et Q_del,dh'!$D48,0)","v":0},{"$f":"IF(W99=\"Oui\",'Q_del,j et Q_del,dh'!$D48,0)","v":0},{"$f":"IF(X99=\"Oui\",'Q_del,j et Q_del,dh'!$D48,0)","v":0},{"$f":"IF(Y99=\"Oui\",'Q_del,j et Q_del,dh'!$D48,0)","v":0},{"$f":"IF(Z99=\"Oui\",'Q_del,j et Q_del,dh'!$D48,0)","v":0},{"$f":"IF(AA99=\"Oui\",'Q_del,j et Q_del,dh'!$D48,0)","v":0},{"$f":"IF(AB99=\"Oui\",'Q_del,j et Q_del,dh'!$D48,0)","v":0},{"$f":"IF(AC99=\"Oui\",'Q_del,j et Q_del,dh'!$D48,0)","v":0},{"$f":"IF(AD99=\"Oui\",'Q_del,j et Q_del,dh'!$D48,0)","v":0},{"$f":"IF(AE99=\"Oui\",'Q_del,j et Q_del,dh'!$D48,0)","v":0},{"$f":"IF(AF99=\"Oui\",'Q_del,j et Q_del,dh'!$D48,0)","v":0},{"$f":"IF(AG99=\"Oui\",'Q_del,j et Q_del,dh'!$D48,0)","v":0},{"$f":"IF(AH99=\"Oui\",'Q_del,j et Q_del,dh'!$D48,0)","v":0},{"$f":"IF(AI99=\"Oui\",'Q_del,j et Q_del,dh'!$D48,0)","v":0},{"$f":"IF(AJ99=\"Oui\",'Q_del,j et Q_del,dh'!$D48,0)","v":0},{"$f":"IF(AK99=\"Oui\",'Q_del,j et Q_del,dh'!$D48,0)","v":0},{"$f":"IF(AL99=\"Oui\",'Q_del,j et Q_del,dh'!$D48,0)","v":0},{"$f":"IF(AM99=\"Oui\",'Q_del,j et Q_del,dh'!$D48,0)","v":0},{"$f":"IF(AN99=\"Oui\",'Q_del,j et Q_del,dh'!$D48,0)","v":0},{"$f":"IF(AO99=\"Oui\",'Q_del,j et Q_del,dh'!$D48,0)","v":0},{"$f":"IF(AP99=\"Oui\",'Q_del,j et Q_del,dh'!$D48,0)","v":0},{"$f":"IF(AQ99=\"Oui\",'Q_del,j et Q_del,dh'!$D48,0)","v":0},{"$f":"IF(AR99=\"Oui\",'Q_del,j et Q_del,dh'!$D48,0)","v":0},{"$f":"IF(AS99=\"Oui\",'Q_del,j et Q_del,dh'!$D48,0)","v":0},{"$f":"IF(AT99=\"Oui\",'Q_del,j et Q_del,dh'!$D48,0)","v":0},{"$f":"IF(AU99=\"Oui\",'Q_del,j et Q_del,dh'!$D48,0)","v":0},{"$f":"IF(AV99=\"Oui\",'Q_del,j et Q_del,dh'!$D48,0)","v":0},{"$f":"IF(AW99=\"Oui\",'Q_del,j et Q_del,dh'!$D48,0)","v":0},{"$f":"IF(AX99=\"Oui\",'Q_del,j et Q_del,dh'!$D48,0)","v":0},{"$f":"IF(AY99=\"Oui\",'Q_del,j et Q_del,dh'!$D48,0)","v":0},{"$f":"IF(AZ99=\"Oui\",'Q_del,j et Q_del,dh'!$D48,0)","v":0},{"$f":"IF(BA99=\"Oui\",'Q_del,j et Q_del,dh'!$D48,0)","v":0}]
["Qdel,l,j [MJ]","Demandeur de chaleur 42",42,{"$f":"IF(D100=\"Oui\",'Q_del,j et Q_del,dh'!$D49,0)","v":0},{"$f":"IF(E100=\"Oui\",'Q_del,j et Q_del,dh'!$D49,0)","v":0},{"$f":"IF(F100=\"Oui\",'Q_del,j et Q_del,dh'!$D49,0)","v":0},{"$f":"IF(G100=\"Oui\",'Q_del,j et Q_del,dh'!$D49,0)","v":0},{"$f":"IF(H100=\"Oui\",'Q_del,j et Q_del,dh'!$D49,0)","v":0},{"$f":"IF(I100=\"Oui\",'Q_del,j et Q_del,dh'!$D49,0)","v":0},{"$f":"IF(J100=\"Oui\",'Q_del,j et Q_del,dh'!$D49,0)","v":0},{"$f":"IF(K100=\"Oui\",'Q_del,j et Q_del,dh'!$D49,0)","v":0},{"$f":"IF(L100=\"Oui\",'Q_del,j et Q_del,dh'!$D49,0)","v":0},{"$f":"IF(M100=\"Oui\",'Q_del,j et Q_del,dh'!$D49,0)","v":0},{"$f":"IF(N100=\"Oui\",'Q_del,j et Q_del,dh'!$D49,0)","v":0},{"$f":"IF(O100=\"Oui\",'Q_del,j et Q_del,dh'!$D49,0)","v":0},{"$f":"IF(P100=\"Oui\",'Q_del,j et Q_del,dh'!$D49,0)","v":0},{"$f":"IF(Q100=\"Oui\",'Q_del,j et Q_del,dh'!$D49,0)","v":0},{"$f":"IF(R100=\"Oui\",'Q_del,j et Q_del,dh'!$D49,0)","v":0},{"$f":"IF(S100=\"Oui\",'Q_del,j et Q_del,dh'!$D49,0)","v":0},{"$f":"IF(T100=\"Oui\",'Q_del,j et Q_del,dh'!$D49,0)","v":0},{"$f":"IF(U100=\"Oui\",'Q_del,j et Q_del,dh'!$D49,0)","v":0},{"$f":"IF(V100=\"Oui\",'Q_del,j et Q_del,dh'!$D49,0)","v":0},{"$f":"IF(W100=\"Oui\",'Q_del,j et Q_del,dh'!$D49,0)","v":0},{"$f":"IF(X100=\"Oui\",'Q_del,j et Q_del,dh'!$D49,0)","v":0},{"$f":"IF(Y100=\"Oui\",'Q_del,j et Q_del,dh'!$D49,0)","v":0},{"$f":"IF(Z100=\"Oui\",'Q_del,j et Q_del,dh'!$D49,0)","v":0},{"$f":"IF(AA100=\"Oui\",'Q_del,j et Q_del,dh'!$D49,0)","v":0},{"$f":"IF(AB100=\"Oui\",'Q_del,j et Q_del,dh'!$D49,0)","v":0},{"$f":"IF(AC100=\"Oui\",'Q_del,j et Q_del,dh'!$D49,0)","v":0},{"$f":"IF(AD100=\"Oui\",'Q_del,j et Q_del,dh'!$D49,0)","v":0},{"$f":"IF(AE100=\"Oui\",'Q_del,j et Q_del,dh'!$D49,0)","v":0},{"$f":"IF(AF100=\"Oui\",'Q_del,j et Q_del,dh'!$D49,0)","v":0},{"$f":"IF(AG100=\"Oui\",'Q_del,j et Q_del,dh'!$D49,0)","v":0},{"$f":"IF(AH100=\"Oui\",'Q_del,j et Q_del,dh'!$D49,0)","v":0},{"$f":"IF(AI100=\"Oui\",'Q_del,j et Q_del,dh'!$D49,0)","v":0},{"$f":"IF(AJ100=\"Oui\",'Q_del,j et Q_del,dh'!$D49,0)","v":0},{"$f":"IF(AK100=\"Oui\",'Q_del,j et Q_del,dh'!$D49,0)","v":0},{"$f":"IF(AL100=\"Oui\",'Q_del,j et Q_del,dh'!$D49,0)","v":0},{"$f":"IF(AM100=\"Oui\",'Q_del,j et Q_del,dh'!$D49,0)","v":0},{"$f":"IF(AN100=\"Oui\",'Q_del,j et Q_del,dh'!$D49,0)","v":0},{"$f":"IF(AO100=\"Oui\",'Q_del,j et Q_del,dh'!$D49,0)","v":0},{"$f":"IF(AP100=\"Oui\",'Q_del,j et Q_del,dh'!$D49,0)","v":0},{"$f":"IF(AQ100=\"Oui\",'Q_del,j et Q_del,dh'!$D49,0)","v":0},{"$f":"IF(AR100=\"Oui\",'Q_del,j et Q_del,dh'!$D49,0)","v":0},{"$f":"IF(AS100=\"Oui\",'Q_del,j et Q_del,dh'!$D49,0)","v":0},{"$f":"IF(AT100=\"Oui\",'Q_del,j et Q_del,dh'!$D49,0)","v":0},{"$f":"IF(AU100=\"Oui\",'Q_del,j et Q_del,dh'!$D49,0)","v":0},{"$f":"IF(AV100=\"Oui\",'Q_del,j et Q_del,dh'!$D49,0)","v":0},{"$f":"IF(AW100=\"Oui\",'Q_del,j et Q_del,dh'!$D49,0)","v":0},{"$f":"IF(AX100=\"Oui\",'Q_del,j et Q_del,dh'!$D49,0)","v":0},{"$f":"IF(AY100=\"Oui\",'Q_del,j et Q_del,dh'!$D49,0)","v":0},{"$f":"IF(AZ100=\"Oui\",'Q_del,j et Q_del,dh'!$D49,0)","v":0},{"$f":"IF(BA100=\"Oui\",'Q_del,j et Q_del,dh'!$D49,0)","v":0}]
["Qdel,l,j [MJ]","Demandeur de chaleur 43",43,{"$f":"IF(D101=\"Oui\",'Q_del,j et Q_del,dh'!$D50,0)","v":0},{"$f":"IF(E101=\"Oui\",'Q_del,j et Q_del,dh'!$D50,0)","v":0},{"$f":"IF(F101=\"Oui\",'Q_del,j et Q_del,dh'!$D50,0)","v":0},{"$f":"IF(G101=\"Oui\",'Q_del,j et Q_del,dh'!$D50,0)","v":0},{"$f":"IF(H101=\"Oui\",'Q_del,j et Q_del,dh'!$D50,0)","v":0},{"$f":"IF(I101=\"Oui\",'Q_del,j et Q_del,dh'!$D50,0)","v":0},{"$f":"IF(J101=\"Oui\",'Q_del,j et Q_del,dh'!$D50,0)","v":0},{"$f":"IF(K101=\"Oui\",'Q_del,j et Q_del,dh'!$D50,0)","v":0},{"$f":"IF(L101=\"Oui\",'Q_del,j et Q_del,dh'!$D50,0)","v":0},{"$f":"IF(M101=\"Oui\",'Q_del,j et Q_del,dh'!$D50,0)","v":0},{"$f":"IF(N101=\"Oui\",'Q_del,j et Q_del,dh'!$D50,0)","v":0},{"$f":"IF(O101=\"Oui\",'Q_del,j et Q_del,dh'!$D50,0)","v":0},{"$f":"IF(P101=\"Oui\",'Q_del,j et Q_del,dh'!$D50,0)","v":0},{"$f":"IF(Q101=\"Oui\",'Q_del,j et Q_del,dh'!$D50,0)","v":0},{"$f":"IF(R101=\"Oui\",'Q_del,j et Q_del,dh'!$D50,0)","v":0},{"$f":"IF(S101=\"Oui\",'Q_del,j et Q_del,dh'!$D50,0)","v":0},{"$f":"IF(T101=\"Oui\",'Q_del,j et Q_del,dh'!$D50,0)","v":0},{"$f":"IF(U101=\"Oui\",'Q_del,j et Q_del,dh'!$D50,0)","v":0},{"$f":"IF(V101=\"Oui\",'Q_del,j et Q_del,dh'!$D50,0)","v":0},{"$f":"IF(W101=\"Oui\",'Q_del,j et Q_del,dh'!$D50,0)","v":0},{"$f":"IF(X101=\"Oui\",'Q_del,j et Q_del,dh'!$D50,0)","v":0},{"$f":"IF(Y101=\"Oui\",'Q_del,j et Q_del,dh'!$D50,0)","v":0},{"$f":"IF(Z101=\"Oui\",'Q_del,j et Q_del,dh'!$D50,0)","v":0},{"$f":"IF(AA101=\"Oui\",'Q_del,j et Q_del,dh'!$D50,0)","v":0},{"$f":"IF(AB101=\"Oui\",'Q_del,j et Q_del,dh'!$D50,0)","v":0},{"$f":"IF(AC101=\"Oui\",'Q_del,j et Q_del,dh'!$D50,0)","v":0},{"$f":"IF(AD101=\"Oui\",'Q_del,j et Q_del,dh'!$D50,0)","v":0},{"$f":"IF(AE101=\"Oui\",'Q_del,j et Q_del,dh'!$D50,0)","v":0},{"$f":"IF(AF101=\"Oui\",'Q_del,j et Q_del,dh'!$D50,0)","v":0},{"$f":"IF(AG101=\"Oui\",'Q_del,j et Q_del,dh'!$D50,0)","v":0},{"$f":"IF(AH101=\"Oui\",'Q_del,j et Q_del,dh'!$D50,0)","v":0},{"$f":"IF(AI101=\"Oui\",'Q_del,j et Q_del,dh'!$D50,0)","v":0},{"$f":"IF(AJ101=\"Oui\",'Q_del,j et Q_del,dh'!$D50,0)","v":0},{"$f":"IF(AK101=\"Oui\",'Q_del,j et Q_del,dh'!$D50,0)","v":0},{"$f":"IF(AL101=\"Oui\",'Q_del,j et Q_del,dh'!$D50,0)","v":0},{"$f":"IF(AM101=\"Oui\",'Q_del,j et Q_del,dh'!$D50,0)","v":0},{"$f":"IF(AN101=\"Oui\",'Q_del,j et Q_del,dh'!$D50,0)","v":0},{"$f":"IF(AO101=\"Oui\",'Q_del,j et Q_del,dh'!$D50,0)","v":0},{"$f":"IF(AP101=\"Oui\",'Q_del,j et Q_del,dh'!$D50,0)","v":0},{"$f":"IF(AQ101=\"Oui\",'Q_del,j et Q_del,dh'!$D50,0)","v":0},{"$f":"IF(AR101=\"Oui\",'Q_del,j et Q_del,dh'!$D50,0)","v":0},{"$f":"IF(AS101=\"Oui\",'Q_del,j et Q_del,dh'!$D50,0)","v":0},{"$f":"IF(AT101=\"Oui\",'Q_del,j et Q_del,dh'!$D50,0)","v":0},{"$f":"IF(AU101=\"Oui\",'Q_del,j et Q_del,dh'!$D50,0)","v":0},{"$f":"IF(AV101=\"Oui\",'Q_del,j et Q_del,dh'!$D50,0)","v":0},{"$f":"IF(AW101=\"Oui\",'Q_del,j et Q_del,dh'!$D50,0)","v":0},{"$f":"IF(AX101=\"Oui\",'Q_del,j et Q_del,dh'!$D50,0)","v":0},{"$f":"IF(AY101=\"Oui\",'Q_del,j et Q_del,dh'!$D50,0)","v":0},{"$f":"IF(AZ101=\"Oui\",'Q_del,j et Q_del,dh'!$D50,0)","v":0},{"$f":"IF(BA101=\"Oui\",'Q_del,j et Q_del,dh'!$D50,0)","v":0}]
["Qdel,l,j [MJ]","Demandeur de chaleur 44",44,{"$f":"IF(D102=\"Oui\",'Q_del,j et Q_del,dh'!$D51,0)","v":0},{"$f":"IF(E102=\"Oui\",'Q_del,j et Q_del,dh'!$D51,0)","v":0},{"$f":"IF(F102=\"Oui\",'Q_del,j et Q_del,dh'!$D51,0)","v":0},{"$f":"IF(G102=\"Oui\",'Q_del,j et Q_del,dh'!$D51,0)","v":0},{"$f":"IF(H102=\"Oui\",'Q_del,j et Q_del,dh'!$D51,0)","v":0},{"$f":"IF(I102=\"Oui\",'Q_del,j et Q_del,dh'!$D51,0)","v":0},{"$f":"IF(J102=\"Oui\",'Q_del,j et Q_del,dh'!$D51,0)","v":0},{"$f":"IF(K102=\"Oui\",'Q_del,j et Q_del,dh'!$D51,0)","v":0},{"$f":"IF(L102=\"Oui\",'Q_del,j et Q_del,dh'!$D51,0)","v":0},{"$f":"IF(M102=\"Oui\",'Q_del,j et Q_del,dh'!$D51,0)","v":0},{"$f":"IF(N102=\"Oui\",'Q_del,j et Q_del,dh'!$D51,0)","v":0},{"$f":"IF(O102=\"Oui\",'Q_del,j et Q_del,dh'!$D51,0)","v":0},{"$f":"IF(P102=\"Oui\",'Q_del,j et Q_del,dh'!$D51,0)","v":0},{"$f":"IF(Q102=\"Oui\",'Q_del,j et Q_del,dh'!$D51,0)","v":0},{"$f":"IF(R102=\"Oui\",'Q_del,j et Q_del,dh'!$D51,0)","v":0},{"$f":"IF(S102=\"Oui\",'Q_del,j et Q_del,dh'!$D51,0)","v":0},{"$f":"IF(T102=\"Oui\",'Q_del,j et Q_del,dh'!$D51,0)","v":0},{"$f":"IF(U102=\"Oui\",'Q_del,j et Q_del,dh'!$D51,0)","v":0},{"$f":"IF(V102=\"Oui\",'Q_del,j et Q_del,dh'!$D51,0)","v":0},{"$f":"IF(W102=\"Oui\",'Q_del,j et Q_del,dh'!$D51,0)","v":0},{"$f":"IF(X102=\"Oui\",'Q_del,j et Q_del,dh'!$D51,0)","v":0},{"$f":"IF(Y102=\"Oui\",'Q_del,j et Q_del,dh'!$D51,0)","v":0},{"$f":"IF(Z102=\"Oui\",'Q_del,j et Q_del,dh'!$D51,0)","v":0},{"$f":"IF(AA102=\"Oui\",'Q_del,j et Q_del,dh'!$D51,0)","v":0},{"$f":"IF(AB102=\"Oui\",'Q_del,j et Q_del,dh'!$D51,0)","v":0},{"$f":"IF(AC102=\"Oui\",'Q_del,j et Q_del,dh'!$D51,0)","v":0},{"$f":"IF(AD102=\"Oui\",'Q_del,j et Q_del,dh'!$D51,0)","v":0},{"$f":"IF(AE102=\"Oui\",'Q_del,j et Q_del,dh'!$D51,0)","v":0},{"$f":"IF(AF102=\"Oui\",'Q_del,j et Q_del,dh'!$D51,0)","v":0},{"$f":"IF(AG102=\"Oui\",'Q_del,j et Q_del,dh'!$D51,0)","v":0},{"$f":"IF(AH102=\"Oui\",'Q_del,j et Q_del,dh'!$D51,0)","v":0},{"$f":"IF(AI102=\"Oui\",'Q_del,j et Q_del,dh'!$D51,0)","v":0},{"$f":"IF(AJ102=\"Oui\",'Q_del,j et Q_del,dh'!$D51,0)","v":0},{"$f":"IF(AK102=\"Oui\",'Q_del,j et Q_del,dh'!$D51,0)","v":0},{"$f":"IF(AL102=\"Oui\",'Q_del,j et Q_del,dh'!$D51,0)","v":0},{"$f":"IF(AM102=\"Oui\",'Q_del,j et Q_del,dh'!$D51,0)","v":0},{"$f":"IF(AN102=\"Oui\",'Q_del,j et Q_del,dh'!$D51,0)","v":0},{"$f":"IF(AO102=\"Oui\",'Q_del,j et Q_del,dh'!$D51,0)","v":0},{"$f":"IF(AP102=\"Oui\",'Q_del,j et Q_del,dh'!$D51,0)","v":0},{"$f":"IF(AQ102=\"Oui\",'Q_del,j et Q_del,dh'!$D51,0)","v":0},{"$f":"IF(AR102=\"Oui\",'Q_del,j et Q_del,dh'!$D51,0)","v":0},{"$f":"IF(AS102=\"Oui\",'Q_del,j et Q_del,dh'!$D51,0)","v":0},{"$f":"IF(AT102=\"Oui\",'Q_del,j et Q_del,dh'!$D51,0)","v":0},{"$f":"IF(AU102=\"Oui\",'Q_del,j et Q_del,dh'!$D51,0)","v":0},{"$f":"IF(AV102=\"Oui\",'Q_del,j et Q_del,dh'!$D51,0)","v":0},{"$f":"IF(AW102=\"Oui\",'Q_del,j et Q_del,dh'!$D51,0)","v":0},{"$f":"IF(AX102=\"Oui\",'Q_del,j et Q_del,dh'!$D51,0)","v":0},{"$f":"IF(AY102=\"Oui\",'Q_del,j et Q_del,dh'!$D51,0)","v":0},{"$f":"IF(AZ102=\"Oui\",'Q_del,j et Q_del,dh'!$D51,0)","v":0},{"$f":"IF(BA102=\"Oui\",'Q_del,j et Q_del,dh'!$D51,0)","v":0}]
["Qdel,l,j [MJ]","Demandeur de chaleur 45",45,{"$f":"IF(D103=\"Oui\",'Q_del,j et Q_del,dh'!$D52,0)","v":0},{"$f":"IF(E103=\"Oui\",'Q_del,j et Q_del,dh'!$D52,0)","v":0},{"$f":"IF(F103=\"Oui\",'Q_del,j et Q_del,dh'!$D52,0)","v":0},{"$f":"IF(G103=\"Oui\",'Q_del,j et Q_del,dh'!$D52,0)","v":0},{"$f":"IF(H103=\"Oui\",'Q_del,j et Q_del,dh'!$D52,0)","v":0},{"$f":"IF(I103=\"Oui\",'Q_del,j et Q_del,dh'!$D52,0)","v":0},{"$f":"IF(J103=\"Oui\",'Q_del,j et Q_del,dh'!$D52,0)","v":0},{"$f":"IF(K103=\"Oui\",'Q_del,j et Q_del,dh'!$D52,0)","v":0},{"$f":"IF(L103=\"Oui\",'Q_del,j et Q_del,dh'!$D52,0)","v":0},{"$f":"IF(M103=\"Oui\",'Q_del,j et Q_del,dh'!$D52,0)","v":0},{"$f":"IF(N103=\"Oui\",'Q_del,j et Q_del,dh'!$D52,0)","v":0},{"$f":"IF(O103=\"Oui\",'Q_del,j et Q_del,dh'!$D52,0)","v":0},{"$f":"IF(P103=\"Oui\",'Q_del,j et Q_del,dh'!$D52,0)","v":0},{"$f":"IF(Q103=\"Oui\",'Q_del,j et Q_del,dh'!$D52,0)","v":0},{"$f":"IF(R103=\"Oui\",'Q_del,j et Q_del,dh'!$D52,0)","v":0},{"$f":"IF(S103=\"Oui\",'Q_del,j et Q_del,dh'!$D52,0)","v":0},{"$f":"IF(T103=\"Oui\",'Q_del,j et Q_del,dh'!$D52,0)","v":0},{"$f":"IF(U103=\"Oui\",'Q_del,j et Q_del,dh'!$D52,0)","v":0},{"$f":"IF(V103=\"Oui\",'Q_del,j et Q_del,dh'!$D52,0)","v":0},{"$f":"IF(W103=\"Oui\",'Q_del,j et Q_del,dh'!$D52,0)","v":0},{"$f":"IF(X103=\"Oui\",'Q_del,j et Q_del,dh'!$D52,0)","v":0},{"$f":"IF(Y103=\"Oui\",'Q_del,j et Q_del,dh'!$D52,0)","v":0},{"$f":"IF(Z103=\"Oui\",'Q_del,j et Q_del,dh'!$D52,0)","v":0},{"$f":"IF(AA103=\"Oui\",'Q_del,j et Q_del,dh'!$D52,0)","v":0},{"$f":"IF(AB103=\"Oui\",'Q_del,j et Q_del,dh'!$D52,0)","v":0},{"$f":"IF(AC103=\"Oui\",'Q_del,j et Q_del,dh'!$D52,0)","v":0},{"$f":"IF(AD103=\"Oui\",'Q_del,j et Q_del,dh'!$D52,0)","v":0},{"$f":"IF(AE103=\"Oui\",'Q_del,j et Q_del,dh'!$D52,0)","v":0},{"$f":"IF(AF103=\"Oui\",'Q_del,j et Q_del,dh'!$D52,0)","v":0},{"$f":"IF(AG103=\"Oui\",'Q_del,j et Q_del,dh'!$D52,0)","v":0},{"$f":"IF(AH103=\"Oui\",'Q_del,j et Q_del,dh'!$D52,0)","v":0},{"$f":"IF(AI103=\"Oui\",'Q_del,j et Q_del,dh'!$D52,0)","v":0},{"$f":"IF(AJ103=\"Oui\",'Q_del,j et Q_del,dh'!$D52,0)","v":0},{"$f":"IF(AK103=\"Oui\",'Q_del,j et Q_del,dh'!$D52,0)","v":0},{"$f":"IF(AL103=\"Oui\",'Q_del,j et Q_del,dh'!$D52,0)","v":0},{"$f":"IF(AM103=\"Oui\",'Q_del,j et Q_del,dh'!$D52,0)","v":0},{"$f":"IF(AN103=\"Oui\",'Q_del,j et Q_del,dh'!$D52,0)","v":0},{"$f":"IF(AO103=\"Oui\",'Q_del,j et Q_del,dh'!$D52,0)","v":0},{"$f":"IF(AP103=\"Oui\",'Q_del,j et Q_del,dh'!$D52,0)","v":0},{"$f":"IF(AQ103=\"Oui\",'Q_del,j et Q_del,dh'!$D52,0)","v":0},{"$f":"IF(AR103=\"Oui\",'Q_del,j et Q_del,dh'!$D52,0)","v":0},{"$f":"IF(AS103=\"Oui\",'Q_del,j et Q_del,dh'!$D52,0)","v":0},{"$f":"IF(AT103=\"Oui\",'Q_del,j et Q_del,dh'!$D52,0)","v":0},{"$f":"IF(AU103=\"Oui\",'Q_del,j et Q_del,dh'!$D52,0)","v":0},{"$f":"IF(AV103=\"Oui\",'Q_del,j et Q_del,dh'!$D52,0)","v":0},{"$f":"IF(AW103=\"Oui\",'Q_del,j et Q_del,dh'!$D52,0)","v":0},{"$f":"IF(AX103=\"Oui\",'Q_del,j et Q_del,dh'!$D52,0)","v":0},{"$f":"IF(AY103=\"Oui\",'Q_del,j et Q_del,dh'!$D52,0)","v":0},{"$f":"IF(AZ103=\"Oui\",'Q_del,j et Q_del,dh'!$D52,0)","v":0},{"$f":"IF(BA103=\"Oui\",'Q_del,j et Q_del,dh'!$D52,0)","v":0}]
["Qdel,l,j [MJ]","Demandeur de chaleur 46",46,{"$f":"IF(D104=\"Oui\",'Q_del,j et Q_del,dh'!$D53,0)","v":0},{"$f":"IF(E104=\"Oui\",'Q_del,j et Q_del,dh'!$D53,0)","v":0},{"$f":"IF(F104=\"Oui\",'Q_del,j et Q_del,dh'!$D53,0)","v":0},{"$f":"IF(G104=\"Oui\",'Q_del,j et Q_del,dh'!$D53,0)","v":0},{"$f":"IF(H104=\"Oui\",'Q_del,j et Q_del,dh'!$D53,0)","v":0},{"$f":"IF(I104=\"Oui\",'Q_del,j et Q_del,dh'!$D53,0)","v":0},{"$f":"IF(J104=\"Oui\",'Q_del,j et Q_del,dh'!$D53,0)","v":0},{"$f":"IF(K104=\"Oui\",'Q_del,j et Q_del,dh'!$D53,0)","v":0},{"$f":"IF(L104=\"Oui\",'Q_del,j et Q_del,dh'!$D53,0)","v":0},{"$f":"IF(M104=\"Oui\",'Q_del,j et Q_del,dh'!$D53,0)","v":0},{"$f":"IF(N104=\"Oui\",'Q_del,j et Q_del,dh'!$D53,0)","v":0},{"$f":"IF(O104=\"Oui\",'Q_del,j et Q_del,dh'!$D53,0)","v":0},{"$f":"IF(P104=\"Oui\",'Q_del,j et Q_del,dh'!$D53,0)","v":0},{"$f":"IF(Q104=\"Oui\",'Q_del,j et Q_del,dh'!$D53,0)","v":0},{"$f":"IF(R104=\"Oui\",'Q_del,j et Q_del,dh'!$D53,0)","v":0},{"$f":"IF(S104=\"Oui\",'Q_del,j et Q_del,dh'!$D53,0)","v":0},{"$f":"IF(T104=\"Oui\",'Q_del,j et Q_del,dh'!$D53,0)","v":0},{"$f":"IF(U104=\"Oui\",'Q_del,j et Q_del,dh'!$D53,0)","v":0},{"$f":"IF(V104=\"Oui\",'Q_del,j et Q_del,dh'!$D53,0)","v":0},{"$f":"IF(W104=\"Oui\",'Q_del,j et Q_del,dh'!$D53,0)","v":0},{"$f":"IF(X104=\"Oui\",'Q_del,j et Q_del,dh'!$D53,0)","v":0},{"$f":"IF(Y104=\"Oui\",'Q_del,j et Q_del,dh'!$D53,0)","v":0},{"$f":"IF(Z104=\"Oui\",'Q_del,j et Q_del,dh'!$D53,0)","v":0},{"$f":"IF(AA104=\"Oui\",'Q_del,j et Q_del,dh'!$D53,0)","v":0},{"$f":"IF(AB104=\"Oui\",'Q_del,j et Q_del,dh'!$D53,0)","v":0},{"$f":"IF(AC104=\"Oui\",'Q_del,j et Q_del,dh'!$D53,0)","v":0},{"$f":"IF(AD104=\"Oui\",'Q_del,j et Q_del,dh'!$D53,0)","v":0},{"$f":"IF(AE104=\"Oui\",'Q_del,j et Q_del,dh'!$D53,0)","v":0},{"$f":"IF(AF104=\"Oui\",'Q_del,j et Q_del,dh'!$D53,0)","v":0},{"$f":"IF(AG104=\"Oui\",'Q_del,j et Q_del,dh'!$D53,0)","v":0},{"$f":"IF(AH104=\"Oui\",'Q_del,j et Q_del,dh'!$D53,0)","v":0},{"$f":"IF(AI104=\"Oui\",'Q_del,j et Q_del,dh'!$D53,0)","v":0},{"$f":"IF(AJ104=\"Oui\",'Q_del,j et Q_del,dh'!$D53,0)","v":0},{"$f":"IF(AK104=\"Oui\",'Q_del,j et Q_del,dh'!$D53,0)","v":0},{"$f":"IF(AL104=\"Oui\",'Q_del,j et Q_del,dh'!$D53,0)","v":0},{"$f":"IF(AM104=\"Oui\",'Q_del,j et Q_del,dh'!$D53,0)","v":0},{"$f":"IF(AN104=\"Oui\",'Q_del,j et Q_del,dh'!$D53,0)","v":0},{"$f":"IF(AO104=\"Oui\",'Q_del,j et Q_del,dh'!$D53,0)","v":0},{"$f":"IF(AP104=\"Oui\",'Q_del,j et Q_del,dh'!$D53,0)","v":0},{"$f":"IF(AQ104=\"Oui\",'Q_del,j et Q_del,dh'!$D53,0)","v":0},{"$f":"IF(AR104=\"Oui\",'Q_del,j et Q_del,dh'!$D53,0)","v":0},{"$f":"IF(AS104=\"Oui\",'Q_del,j et Q_del,dh'!$D53,0)","v":0},{"$f":"IF(AT104=\"Oui\",'Q_del,j et Q_del,dh'!$D53,0)","v":0},{"$f":"IF(AU104=\"Oui\",'Q_del,j et Q_del,dh'!$D53,0)","v":0},{"$f":"IF(AV104=\"Oui\",'Q_del,j et Q_del,dh'!$D53,0)","v":0},{"$f":"IF(AW104=\"Oui\",'Q_del,j et Q_del,dh'!$D53,0)","v":0},{"$f":"IF(AX104=\"Oui\",'Q_del,j et Q_del,dh'!$D53,0)","v":0},{"$f":"IF(AY104=\"Oui\",'Q_del,j et Q_del,dh'!$D53,0)","v":0},{"$f":"IF(AZ104=\"Oui\",'Q_del,j et Q_del,dh'!$D53,0)","v":0},{"$f":"IF(BA104=\"Oui\",'Q_del,j et Q_del,dh'!$D53,0)","v":0}]
["Qdel,l,j [MJ]","Demandeur de chaleur 47",47,{"$f":"IF(D105=\"Oui\",'Q_del,j et Q_del,dh'!$D54,0)","v":0},{"$f":"IF(E105=\"Oui\",'Q_del,j et Q_del,dh'!$D54,0)","v":0},{"$f":"IF(F105=\"Oui\",'Q_del,j et Q_del,dh'!$D54,0)","v":0},{"$f":"IF(G105=\"Oui\",'Q_del,j et Q_del,dh'!$D54,0)","v":0},{"$f":"IF(H105=\"Oui\",'Q_del,j et Q_del,dh'!$D54,0)","v":0},{"$f":"IF(I105=\"Oui\",'Q_del,j et Q_del,dh'!$D54,0)","v":0},{"$f":"IF(J105=\"Oui\",'Q_del,j et Q_del,dh'!$D54,0)","v":0},{"$f":"IF(K105=\"Oui\",'Q_del,j et Q_del,dh'!$D54,0)","v":0},{"$f":"IF(L105=\"Oui\",'Q_del,j et Q_del,dh'!$D54,0)","v":0},{"$f":"IF(M105=\"Oui\",'Q_del,j et Q_del,dh'!$D54,0)","v":0},{"$f":"IF(N105=\"Oui\",'Q_del,j et Q_del,dh'!$D54,0)","v":0},{"$f":"IF(O105=\"Oui\",'Q_del,j et Q_del,dh'!$D54,0)","v":0},{"$f":"IF(P105=\"Oui\",'Q_del,j et Q_del,dh'!$D54,0)","v":0},{"$f":"IF(Q105=\"Oui\",'Q_del,j et Q_del,dh'!$D54,0)","v":0},{"$f":"IF(R105=\"Oui\",'Q_del,j et Q_del,dh'!$D54,0)","v":0},{"$f":"IF(S105=\"Oui\",'Q_del,j et Q_del,dh'!$D54,0)","v":0},{"$f":"IF(T105=\"Oui\",'Q_del,j et Q_del,dh'!$D54,0)","v":0},{"$f":"IF(U105=\"Oui\",'Q_del,j et Q_del,dh'!$D54,0)","v":0},{"$f":"IF(V105=\"Oui\",'Q_del,j et Q_del,dh'!$D54,0)","v":0},{"$f":"IF(W105=\"Oui\",'Q_del,j et Q_del,dh'!$D54,0)","v":0},{"$f":"IF(X105=\"Oui\",'Q_del,j et Q_del,dh'!$D54,0)","v":0},{"$f":"IF(Y105=\"Oui\",'Q_del,j et Q_del,dh'!$D54,0)","v":0},{"$f":"IF(Z105=\"Oui\",'Q_del,j et Q_del,dh'!$D54,0)","v":0},{"$f":"IF(AA105=\"Oui\",'Q_del,j et Q_del,dh'!$D54,0)","v":0},{"$f":"IF(AB105=\"Oui\",'Q_del,j et Q_del,dh'!$D54,0)","v":0},{"$f":"IF(AC105=\"Oui\",'Q_del,j et Q_del,dh'!$D54,0)","v":0},{"$f":"IF(AD105=\"Oui\",'Q_del,j et Q_del,dh'!$D54,0)","v":0},{"$f":"IF(AE105=\"Oui\",'Q_del,j et Q_del,dh'!$D54,0)","v":0},{"$f":"IF(AF105=\"Oui\",'Q_del,j et Q_del,dh'!$D54,0)","v":0},{"$f":"IF(AG105=\"Oui\",'Q_del,j et Q_del,dh'!$D54,0)","v":0},{"$f":"IF(AH105=\"Oui\",'Q_del,j et Q_del,dh'!$D54,0)","v":0},{"$f":"IF(AI105=\"Oui\",'Q_del,j et Q_del,dh'!$D54,0)","v":0},{"$f":"IF(AJ105=\"Oui\",'Q_del,j et Q_del,dh'!$D54,0)","v":0},{"$f":"IF(AK105=\"Oui\",'Q_del,j et Q_del,dh'!$D54,0)","v":0},{"$f":"IF(AL105=\"Oui\",'Q_del,j et Q_del,dh'!$D54,0)","v":0},{"$f":"IF(AM105=\"Oui\",'Q_del,j et Q_del,dh'!$D54,0)","v":0},{"$f":"IF(AN105=\"Oui\",'Q_del,j et Q_del,dh'!$D54,0)","v":0},{"$f":"IF(AO105=\"Oui\",'Q_del,j et Q_del,dh'!$D54,0)","v":0},{"$f":"IF(AP105=\"Oui\",'Q_del,j et Q_del,dh'!$D54,0)","v":0},{"$f":"IF(AQ105=\"Oui\",'Q_del,j et Q_del,dh'!$D54,0)","v":0},{"$f":"IF(AR105=\"Oui\",'Q_del,j et Q_del,dh'!$D54,0)","v":0},{"$f":"IF(AS105=\"Oui\",'Q_del,j et Q_del,dh'!$D54,0)","v":0},{"$f":"IF(AT105=\"Oui\",'Q_del,j et Q_del,dh'!$D54,0)","v":0},{"$f":"IF(AU105=\"Oui\",'Q_del,j et Q_del,dh'!$D54,0)","v":0},{"$f":"IF(AV105=\"Oui\",'Q_del,j et Q_del,dh'!$D54,0)","v":0},{"$f":"IF(AW105=\"Oui\",'Q_del,j et Q_del,dh'!$D54,0)","v":0},{"$f":"IF(AX105=\"Oui\",'Q_del,j et Q_del,dh'!$D54,0)","v":0},{"$f":"IF(AY105=\"Oui\",'Q_del,j et Q_del,dh'!$D54,0)","v":0},{"$f":"IF(AZ105=\"Oui\",'Q_del,j et Q_del,dh'!$D54,0)","v":0},{"$f":"IF(BA105=\"Oui\",'Q_del,j et Q_del,dh'!$D54,0)","v":0}]
["Qdel,l,j [MJ]","Demandeur de chaleur 48",48,{"$f":"IF(D106=\"Oui\",'Q_del,j et Q_del,dh'!$D55,0)","v":0},{"$f":"IF(E106=\"Oui\",'Q_del,j et Q_del,dh'!$D55,0)","v":0},{"$f":"IF(F106=\"Oui\",'Q_del,j et Q_del,dh'!$D55,0)","v":0},{"$f":"IF(G106=\"Oui\",'Q_del,j et Q_del,dh'!$D55,0)","v":0},{"$f":"IF(H106=\"Oui\",'Q_del,j et Q_del,dh'!$D55,0)","v":0},{"$f":"IF(I106=\"Oui\",'Q_del,j et Q_del,dh'!$D55,0)","v":0},{"$f":"IF(J106=\"Oui\",'Q_del,j et Q_del,dh'!$D55,0)","v":0},{"$f":"IF(K106=\"Oui\",'Q_del,j et Q_del,dh'!$D55,0)","v":0},{"$f":"IF(L106=\"Oui\",'Q_del,j et Q_del,dh'!$D55,0)","v":0},{"$f":"IF(M106=\"Oui\",'Q_del,j et Q_del,dh'!$D55,0)","v":0},{"$f":"IF(N106=\"Oui\",'Q_del,j et Q_del,dh'!$D55,0)","v":0},{"$f":"IF(O106=\"Oui\",'Q_del,j et Q_del,dh'!$D55,0)","v":0},{"$f":"IF(P106=\"Oui\",'Q_del,j et Q_del,dh'!$D55,0)","v":0},{"$f":"IF(Q106=\"Oui\",'Q_del,j et Q_del,dh'!$D55,0)","v":0},{"$f":"IF(R106=\"Oui\",'Q_del,j et Q_del,dh'!$D55,0)","v":0},{"$f":"IF(S106=\"Oui\",'Q_del,j et Q_del,dh'!$D55,0)","v":0},{"$f":"IF(T106=\"Oui\",'Q_del,j et Q_del,dh'!$D55,0)","v":0},{"$f":"IF(U106=\"Oui\",'Q_del,j et Q_del,dh'!$D55,0)","v":0},{"$f":"IF(V106=\"Oui\",'Q_del,j et Q_del,dh'!$D55,0)","v":0},{"$f":"IF(W106=\"Oui\",'Q_del,j et Q_del,dh'!$D55,0)","v":0},{"$f":"IF(X106=\"Oui\",'Q_del,j et Q_del,dh'!$D55,0)","v":0},{"$f":"IF(Y106=\"Oui\",'Q_del,j et Q_del,dh'!$D55,0)","v":0},{"$f":"IF(Z106=\"Oui\",'Q_del,j et Q_del,dh'!$D55,0)","v":0},{"$f":"IF(AA106=\"Oui\",'Q_del,j et Q_del,dh'!$D55,0)","v":0},{"$f":"IF(AB106=\"Oui\",'Q_del,j et Q_del,dh'!$D55,0)","v":0},{"$f":"IF(AC106=\"Oui\",'Q_del,j et Q_del,dh'!$D55,0)","v":0},{"$f":"IF(AD106=\"Oui\",'Q_del,j et Q_del,dh'!$D55,0)","v":0},{"$f":"IF(AE106=\"Oui\",'Q_del,j et Q_del,dh'!$D55,0)","v":0},{"$f":"IF(AF106=\"Oui\",'Q_del,j et Q_del,dh'!$D55,0)","v":0},{"$f":"IF(AG106=\"Oui\",'Q_del,j et Q_del,dh'!$D55,0)","v":0},{"$f":"IF(AH106=\"Oui\",'Q_del,j et Q_del,dh'!$D55,0)","v":0},{"$f":"IF(AI106=\"Oui\",'Q_del,j et Q_del,dh'!$D55,0)","v":0},{"$f":"IF(AJ106=\"Oui\",'Q_del,j et Q_del,dh'!$D55,0)","v":0},{"$f":"IF(AK106=\"Oui\",'Q_del,j et Q_del,dh'!$D55,0)","v":0},{"$f":"IF(AL106=\"Oui\",'Q_del,j et Q_del,dh'!$D55,0)","v":0},{"$f":"IF(AM106=\"Oui\",'Q_del,j et Q_del,dh'!$D55,0)","v":0},{"$f":"IF(AN106=\"Oui\",'Q_del,j et Q_del,dh'!$D55,0)","v":0},{"$f":"IF(AO106=\"Oui\",'Q_del,j et Q_del,dh'!$D55,0)","v":0},{"$f":"IF(AP106=\"Oui\",'Q_del,j et Q_del,dh'!$D55,0)","v":0},{"$f":"IF(AQ106=\"Oui\",'Q_del,j et Q_del,dh'!$D55,0)","v":0},{"$f":"IF(AR106=\"Oui\",'Q_del,j et Q_del,dh'!$D55,0)","v":0},{"$f":"IF(AS106=\"Oui\",'Q_del,j et Q_del,dh'!$D55,0)","v":0},{"$f":"IF(AT106=\"Oui\",'Q_del,j et Q_del,dh'!$D55,0)","v":0},{"$f":"IF(AU106=\"Oui\",'Q_del,j et Q_del,dh'!$D55,0)","v":0},{"$f":"IF(AV106=\"Oui\",'Q_del,j et Q_del,dh'!$D55,0)","v":0},{"$f":"IF(AW106=\"Oui\",'Q_del,j et Q_del,dh'!$D55,0)","v":0},{"$f":"IF(AX106=\"Oui\",'Q_del,j et Q_del,dh'!$D55,0)","v":0},{"$f":"IF(AY106=\"Oui\",'Q_del,j et Q_del,dh'!$D55,0)","v":0},{"$f":"IF(AZ106=\"Oui\",'Q_del,j et Q_del,dh'!$D55,0)","v":0},{"$f":"IF(BA106=\"Oui\",'Q_del,j et Q_del,dh'!$D55,0)","v":0}]
["Qdel,l,j [MJ]","Demandeur de chaleur 49",49,{"$f":"IF(D107=\"Oui\",'Q_del,j et Q_del,dh'!$D56,0)","v":0},{"$f":"IF(E107=\"Oui\",'Q_del,j et Q_del,dh'!$D56,0)","v":0},{"$f":"IF(F107=\"Oui\",'Q_del,j et Q_del,dh'!$D56,0)","v":0},{"$f":"IF(G107=\"Oui\",'Q_del,j et Q_del,dh'!$D56,0)","v":0},{"$f":"IF(H107=\"Oui\",'Q_del,j et Q_del,dh'!$D56,0)","v":0},{"$f":"IF(I107=\"Oui\",'Q_del,j et Q_del,dh'!$D56,0)","v":0},{"$f":"IF(J107=\"Oui\",'Q_del,j et Q_del,dh'!$D56,0)","v":0},{"$f":"IF(K107=\"Oui\",'Q_del,j et Q_del,dh'!$D56,0)","v":0},{"$f":"IF(L107=\"Oui\",'Q_del,j et Q_del,dh'!$D56,0)","v":0},{"$f":"IF(M107=\"Oui\",'Q_del,j et Q_del,dh'!$D56,0)","v":0},{"$f":"IF(N107=\"Oui\",'Q_del,j et Q_del,dh'!$D56,0)","v":0},{"$f":"IF(O107=\"Oui\",'Q_del,j et Q_del,dh'!$D56,0)","v":0},{"$f":"IF(P107=\"Oui\",'Q_del,j et Q_del,dh'!$D56,0)","v":0},{"$f":"IF(Q107=\"Oui\",'Q_del,j et Q_del,dh'!$D56,0)","v":0},{"$f":"IF(R107=\"Oui\",'Q_del,j et Q_del,dh'!$D56,0)","v":0},{"$f":"IF(S107=\"Oui\",'Q_del,j et Q_del,dh'!$D56,0)","v":0},{"$f":"IF(T107=\"Oui\",'Q_del,j et Q_del,dh'!$D56,0)","v":0},{"$f":"IF(U107=\"Oui\",'Q_del,j et Q_del,dh'!$D56,0)","v":0},{"$f":"IF(V107=\"Oui\",'Q_del,j et Q_del,dh'!$D56,0)","v":0},{"$f":"IF(W107=\"Oui\",'Q_del,j et Q_del,dh'!$D56,0)","v":0},{"$f":"IF(X107=\"Oui\",'Q_del,j et Q_del,dh'!$D56,0)","v":0},{"$f":"IF(Y107=\"Oui\",'Q_del,j et Q_del,dh'!$D56,0)","v":0},{"$f":"IF(Z107=\"Oui\",'Q_del,j et Q_del,dh'!$D56,0)","v":0},{"$f":"IF(AA107=\"Oui\",'Q_del,j et Q_del,dh'!$D56,0)","v":0},{"$f":"IF(AB107=\"Oui\",'Q_del,j et Q_del,dh'!$D56,0)","v":0},{"$f":"IF(AC107=\"Oui\",'Q_del,j et Q_del,dh'!$D56,0)","v":0},{"$f":"IF(AD107=\"Oui\",'Q_del,j et Q_del,dh'!$D56,0)","v":0},{"$f":"IF(AE107=\"Oui\",'Q_del,j et Q_del,dh'!$D56,0)","v":0},{"$f":"IF(AF107=\"Oui\",'Q_del,j et Q_del,dh'!$D56,0)","v":0},{"$f":"IF(AG107=\"Oui\",'Q_del,j et Q_del,dh'!$D56,0)","v":0},{"$f":"IF(AH107=\"Oui\",'Q_del,j et Q_del,dh'!$D56,0)","v":0},{"$f":"IF(AI107=\"Oui\",'Q_del,j et Q_del,dh'!$D56,0)","v":0},{"$f":"IF(AJ107=\"Oui\",'Q_del,j et Q_del,dh'!$D56,0)","v":0},{"$f":"IF(AK107=\"Oui\",'Q_del,j et Q_del,dh'!$D56,0)","v":0},{"$f":"IF(AL107=\"Oui\",'Q_del,j et Q_del,dh'!$D56,0)","v":0},{"$f":"IF(AM107=\"Oui\",'Q_del,j et Q_del,dh'!$D56,0)","v":0},{"$f":"IF(AN107=\"Oui\",'Q_del,j et Q_del,dh'!$D56,0)","v":0},{"$f":"IF(AO107=\"Oui\",'Q_del,j et Q_del,dh'!$D56,0)","v":0},{"$f":"IF(AP107=\"Oui\",'Q_del,j et Q_del,dh'!$D56,0)","v":0},{"$f":"IF(AQ107=\"Oui\",'Q_del,j et Q_del,dh'!$D56,0)","v":0},{"$f":"IF(AR107=\"Oui\",'Q_del,j et Q_del,dh'!$D56,0)","v":0},{"$f":"IF(AS107=\"Oui\",'Q_del,j et Q_del,dh'!$D56,0)","v":0},{"$f":"IF(AT107=\"Oui\",'Q_del,j et Q_del,dh'!$D56,0)","v":0},{"$f":"IF(AU107=\"Oui\",'Q_del,j et Q_del,dh'!$D56,0)","v":0},{"$f":"IF(AV107=\"Oui\",'Q_del,j et Q_del,dh'!$D56,0)","v":0},{"$f":"IF(AW107=\"Oui\",'Q_del,j et Q_del,dh'!$D56,0)","v":0},{"$f":"IF(AX107=\"Oui\",'Q_del,j et Q_del,dh'!$D56,0)","v":0},{"$f":"IF(AY107=\"Oui\",'Q_del,j et Q_del,dh'!$D56,0)","v":0},{"$f":"IF(AZ107=\"Oui\",'Q_del,j et Q_del,dh'!$D56,0)","v":0},{"$f":"IF(BA107=\"Oui\",'Q_del,j et Q_del,dh'!$D56,0)","v":0}]
["Qdel,l,j [MJ]","Demandeur de chaleur 50",50,{"$f":"IF(D108=\"Oui\",'Q_del,j et Q_del,dh'!$D57,0)","v":0},{"$f":"IF(E108=\"Oui\",'Q_del,j et Q_del,dh'!$D57,0)","v":0},{"$f":"IF(F108=\"Oui\",'Q_del,j et Q_del,dh'!$D57,0)","v":0},{"$f":"IF(G108=\"Oui\",'Q_del,j et Q_del,dh'!$D57,0)","v":0},{"$f":"IF(H108=\"Oui\",'Q_del,j et Q_del,dh'!$D57,0)","v":0},{"$f":"IF(I108=\"Oui\",'Q_del,j et Q_del,dh'!$D57,0)","v":0},{"$f":"IF(J108=\"Oui\",'Q_del,j et Q_del,dh'!$D57,0)","v":0},{"$f":"IF(K108=\"Oui\",'Q_del,j et Q_del,dh'!$D57,0)","v":0},{"$f":"IF(L108=\"Oui\",'Q_del,j et Q_del,dh'!$D57,0)","v":0},{"$f":"IF(M108=\"Oui\",'Q_del,j et Q_del,dh'!$D57,0)","v":0},{"$f":"IF(N108=\"Oui\",'Q_del,j et Q_del,dh'!$D57,0)","v":0},{"$f":"IF(O108=\"Oui\",'Q_del,j et Q_del,dh'!$D57,0)","v":0},{"$f":"IF(P108=\"Oui\",'Q_del,j et Q_del,dh'!$D57,0)","v":0},{"$f":"IF(Q108=\"Oui\",'Q_del,j et Q_del,dh'!$D57,0)","v":0},{"$f":"IF(R108=\"Oui\",'Q_del,j et Q_del,dh'!$D57,0)","v":0},{"$f":"IF(S108=\"Oui\",'Q_del,j et Q_del,dh'!$D57,0)","v":0},{"$f":"IF(T108=\"Oui\",'Q_del,j et Q_del,dh'!$D57,0)","v":0},{"$f":"IF(U108=\"Oui\",'Q_del,j et Q_del,dh'!$D57,0)","v":0},{"$f":"IF(V108=\"Oui\",'Q_del,j et Q_del,dh'!$D57,0)","v":0},{"$f":"IF(W108=\"Oui\",'Q_del,j et Q_del,dh'!$D57,0)","v":0},{"$f":"IF(X108=\"Oui\",'Q_del,j et Q_del,dh'!$D57,0)","v":0},{"$f":"IF(Y108=\"Oui\",'Q_del,j et Q_del,dh'!$D57,0)","v":0},{"$f":"IF(Z108=\"Oui\",'Q_del,j et Q_del,dh'!$D57,0)","v":0},{"$f":"IF(AA108=\"Oui\",'Q_del,j et Q_del,dh'!$D57,0)","v":0},{"$f":"IF(AB108=\"Oui\",'Q_del,j et Q_del,dh'!$D57,0)","v":0},{"$f":"IF(AC108=\"Oui\",'Q_del,j et Q_del,dh'!$D57,0)","v":0},{"$f":"IF(AD108=\"Oui\",'Q_del,j et Q_del,dh'!$D57,0)","v":0},{"$f":"IF(AE108=\"Oui\",'Q_del,j et Q_del,dh'!$D57,0)","v":0},{"$f":"IF(AF108=\"Oui\",'Q_del,j et Q_del,dh'!$D57,0)","v":0},{"$f":"IF(AG108=\"Oui\",'Q_del,j et Q_del,dh'!$D57,0)","v":0},{"$f":"IF(AH108=\"Oui\",'Q_del,j et Q_del,dh'!$D57,0)","v":0},{"$f":"IF(AI108=\"Oui\",'Q_del,j et Q_del,dh'!$D57,0)","v":0},{"$f":"IF(AJ108=\"Oui\",'Q_del,j et Q_del,dh'!$D57,0)","v":0},{"$f":"IF(AK108=\"Oui\",'Q_del,j et Q_del,dh'!$D57,0)","v":0},{"$f":"IF(AL108=\"Oui\",'Q_del,j et Q_del,dh'!$D57,0)","v":0},{"$f":"IF(AM108=\"Oui\",'Q_del,j et Q_del,dh'!$D57,0)","v":0},{"$f":"IF(AN108=\"Oui\",'Q_del,j et Q_del,dh'!$D57,0)","v":0},{"$f":"IF(AO108=\"Oui\",'Q_del,j et Q_del,dh'!$D57,0)","v":0},{"$f":"IF(AP108=\"Oui\",'Q_del,j et Q_del,dh'!$D57,0)","v":0},{"$f":"IF(AQ108=\"Oui\",'Q_del,j et Q_del,dh'!$D57,0)","v":0},{"$f":"IF(AR108=\"Oui\",'Q_del,j et Q_del,dh'!$D57,0)","v":0},{"$f":"IF(AS108=\"Oui\",'Q_del,j et Q_del,dh'!$D57,0)","v":0},{"$f":"IF(AT108=\"Oui\",'Q_del,j et Q_del,dh'!$D57,0)","v":0},{"$f":"IF(AU108=\"Oui\",'Q_del,j et Q_del,dh'!$D57,0)","v":0},{"$f":"IF(AV108=\"Oui\",'Q_del,j et Q_del,dh'!$D57,0)","v":0},{"$f":"IF(AW108=\"Oui\",'Q_del,j et Q_del,dh'!$D57,0)","v":0},{"$f":"IF(AX108=\"Oui\",'Q_del,j et Q_del,dh'!$D57,0)","v":0},{"$f":"IF(AY108=\"Oui\",'Q_del,j et Q_del,dh'!$D57,0)","v":0},{"$f":"IF(AZ108=\"Oui\",'Q_del,j et Q_del,dh'!$D57,0)","v":0},{"$f":"IF(BA108=\"Oui\",'Q_del,j et Q_del,dh'!$D57,0)","v":0}]
["Qdel,l,j [MJ]","Demandeur de chaleur 51",51,{"$f":"IF(D109=\"Oui\",'Q_del,j et Q_del,dh'!$D58,0)","v":0},{"$f":"IF(E109=\"Oui\",'Q_del,j et Q_del,dh'!$D58,0)","v":0},{"$f":"IF(F109=\"Oui\",'Q_del,j et Q_del,dh'!$D58,0)","v":0},{"$f":"IF(G109=\"Oui\",'Q_del,j et Q_del,dh'!$D58,0)","v":0},{"$f":"IF(H109=\"Oui\",'Q_del,j et Q_del,dh'!$D58,0)","v":0},{"$f":"IF(I109=\"Oui\",'Q_del,j et Q_del,dh'!$D58,0)","v":0},{"$f":"IF(J109=\"Oui\",'Q_del,j et Q_del,dh'!$D58,0)","v":0},{"$f":"IF(K109=\"Oui\",'Q_del,j et Q_del,dh'!$D58,0)","v":0},{"$f":"IF(L109=\"Oui\",'Q_del,j et Q_del,dh'!$D58,0)","v":0},{"$f":"IF(M109=\"Oui\",'Q_del,j et Q_del,dh'!$D58,0)","v":0},{"$f":"IF(N109=\"Oui\",'Q_del,j et Q_del,dh'!$D58,0)","v":0},{"$f":"IF(O109=\"Oui\",'Q_del,j et Q_del,dh'!$D58,0)","v":0},{"$f":"IF(P109=\"Oui\",'Q_del,j et Q_del,dh'!$D58,0)","v":0},{"$f":"IF(Q109=\"Oui\",'Q_del,j et Q_del,dh'!$D58,0)","v":0},{"$f":"IF(R109=\"Oui\",'Q_del,j et Q_del,dh'!$D58,0)","v":0},{"$f":"IF(S109=\"Oui\",'Q_del,j et Q_del,dh'!$D58,0)","v":0},{"$f":"IF(T109=\"Oui\",'Q_del,j et Q_del,dh'!$D58,0)","v":0},{"$f":"IF(U109=\"Oui\",'Q_del,j et Q_del,dh'!$D58,0)","v":0},{"$f":"IF(V109=\"Oui\",'Q_del,j et Q_del,dh'!$D58,0)","v":0},{"$f":"IF(W109=\"Oui\",'Q_del,j et Q_del,dh'!$D58,0)","v":0},{"$f":"IF(X109=\"Oui\",'Q_del,j et Q_del,dh'!$D58,0)","v":0},{"$f":"IF(Y109=\"Oui\",'Q_del,j et Q_del,dh'!$D58,0)","v":0},{"$f":"IF(Z109=\"Oui\",'Q_del,j et Q_del,dh'!$D58,0)","v":0},{"$f":"IF(AA109=\"Oui\",'Q_del,j et Q_del,dh'!$D58,0)","v":0},{"$f":"IF(AB109=\"Oui\",'Q_del,j et Q_del,dh'!$D58,0)","v":0},{"$f":"IF(AC109=\"Oui\",'Q_del,j et Q_del,dh'!$D58,0)","v":0},{"$f":"IF(AD109=\"Oui\",'Q_del,j et Q_del,dh'!$D58,0)","v":0},{"$f":"IF(AE109=\"Oui\",'Q_del,j et Q_del,dh'!$D58,0)","v":0},{"$f":"IF(AF109=\"Oui\",'Q_del,j et Q_del,dh'!$D58,0)","v":0},{"$f":"IF(AG109=\"Oui\",'Q_del,j et Q_del,dh'!$D58,0)","v":0},{"$f":"IF(AH109=\"Oui\",'Q_del,j et Q_del,dh'!$D58,0)","v":0},{"$f":"IF(AI109=\"Oui\",'Q_del,j et Q_del,dh'!$D58,0)","v":0},{"$f":"IF(AJ109=\"Oui\",'Q_del,j et Q_del,dh'!$D58,0)","v":0},{"$f":"IF(AK109=\"Oui\",'Q_del,j et Q_del,dh'!$D58,0)","v":0},{"$f":"IF(AL109=\"Oui\",'Q_del,j et Q_del,dh'!$D58,0)","v":0},{"$f":"IF(AM109=\"Oui\",'Q_del,j et Q_del,dh'!$D58,0)","v":0},{"$f":"IF(AN109=\"Oui\",'Q_del,j et Q_del,dh'!$D58,0)","v":0},{"$f":"IF(AO109=\"Oui\",'Q_del,j et Q_del,dh'!$D58,0)","v":0},{"$f":"IF(AP109=\"Oui\",'Q_del,j et Q_del,dh'!$D58,0)","v":0},{"$f":"IF(AQ109=\"Oui\",'Q_del,j et Q_del,dh'!$D58,0)","v":0},{"$f":"IF(AR109=\"Oui\",'Q_del,j et Q_del,dh'!$D58,0)","v":0},{"$f":"IF(AS109=\"Oui\",'Q_del,j et Q_del,dh'!$D58,0)","v":0},{"$f":"IF(AT109=\"Oui\",'Q_del,j et Q_del,dh'!$D58,0)","v":0},{"$f":"IF(AU109=\"Oui\",'Q_del,j et Q_del,dh'!$D58,0)","v":0},{"$f":"IF(AV109=\"Oui\",'Q_del,j et Q_del,dh'!$D58,0)","v":0},{"$f":"IF(AW109=\"Oui\",'Q_del,j et Q_del,dh'!$D58,0)","v":0},{"$f":"IF(AX109=\"Oui\",'Q_del,j et Q_del,dh'!$D58,0)","v":0},{"$f":"IF(AY109=\"Oui\",'Q_del,j et Q_del,dh'!$D58,0)","v":0},{"$f":"IF(AZ109=\"Oui\",'Q_del,j et Q_del,dh'!$D58,0)","v":0},{"$f":"IF(BA109=\"Oui\",'Q_del,j et Q_del,dh'!$D58,0)","v":0}]
["Qdel,l,j [MJ]","Demandeur de chaleur 52",52,{"$f":"IF(D110=\"Oui\",'Q_del,j et Q_del,dh'!$D59,0)","v":0},{"$f":"IF(E110=\"Oui\",'Q_del,j et Q_del,dh'!$D59,0)","v":0},{"$f":"IF(F110=\"Oui\",'Q_del,j et Q_del,dh'!$D59,0)","v":0},{"$f":"IF(G110=\"Oui\",'Q_del,j et Q_del,dh'!$D59,0)","v":0},{"$f":"IF(H110=\"Oui\",'Q_del,j et Q_del,dh'!$D59,0)","v":0},{"$f":"IF(I110=\"Oui\",'Q_del,j et Q_del,dh'!$D59,0)","v":0},{"$f":"IF(J110=\"Oui\",'Q_del,j et Q_del,dh'!$D59,0)","v":0},{"$f":"IF(K110=\"Oui\",'Q_del,j et Q_del,dh'!$D59,0)","v":0},{"$f":"IF(L110=\"Oui\",'Q_del,j et Q_del,dh'!$D59,0)","v":0},{"$f":"IF(M110=\"Oui\",'Q_del,j et Q_del,dh'!$D59,0)","v":0},{"$f":"IF(N110=\"Oui\",'Q_del,j et Q_del,dh'!$D59,0)","v":0},{"$f":"IF(O110=\"Oui\",'Q_del,j et Q_del,dh'!$D59,0)","v":0},{"$f":"IF(P110=\"Oui\",'Q_del,j et Q_del,dh'!$D59,0)","v":0},{"$f":"IF(Q110=\"Oui\",'Q_del,j et Q_del,dh'!$D59,0)","v":0},{"$f":"IF(R110=\"Oui\",'Q_del,j et Q_del,dh'!$D59,0)","v":0},{"$f":"IF(S110=\"Oui\",'Q_del,j et Q_del,dh'!$D59,0)","v":0},{"$f":"IF(T110=\"Oui\",'Q_del,j et Q_del,dh'!$D59,0)","v":0},{"$f":"IF(U110=\"Oui\",'Q_del,j et Q_del,dh'!$D59,0)","v":0},{"$f":"IF(V110=\"Oui\",'Q_del,j et Q_del,dh'!$D59,0)","v":0},{"$f":"IF(W110=\"Oui\",'Q_del,j et Q_del,dh'!$D59,0)","v":0},{"$f":"IF(X110=\"Oui\",'Q_del,j et Q_del,dh'!$D59,0)","v":0},{"$f":"IF(Y110=\"Oui\",'Q_del,j et Q_del,dh'!$D59,0)","v":0},{"$f":"IF(Z110=\"Oui\",'Q_del,j et Q_del,dh'!$D59,0)","v":0},{"$f":"IF(AA110=\"Oui\",'Q_del,j et Q_del,dh'!$D59,0)","v":0},{"$f":"IF(AB110=\"Oui\",'Q_del,j et Q_del,dh'!$D59,0)","v":0},{"$f":"IF(AC110=\"Oui\",'Q_del,j et Q_del,dh'!$D59,0)","v":0},{"$f":"IF(AD110=\"Oui\",'Q_del,j et Q_del,dh'!$D59,0)","v":0},{"$f":"IF(AE110=\"Oui\",'Q_del,j et Q_del,dh'!$D59,0)","v":0},{"$f":"IF(AF110=\"Oui\",'Q_del,j et Q_del,dh'!$D59,0)","v":0},{"$f":"IF(AG110=\"Oui\",'Q_del,j et Q_del,dh'!$D59,0)","v":0},{"$f":"IF(AH110=\"Oui\",'Q_del,j et Q_del,dh'!$D59,0)","v":0},{"$f":"IF(AI110=\"Oui\",'Q_del,j et Q_del,dh'!$D59,0)","v":0},{"$f":"IF(AJ110=\"Oui\",'Q_del,j et Q_del,dh'!$D59,0)","v":0},{"$f":"IF(AK110=\"Oui\",'Q_del,j et Q_del,dh'!$D59,0)","v":0},{"$f":"IF(AL110=\"Oui\",'Q_del,j et Q_del,dh'!$D59,0)","v":0},{"$f":"IF(AM110=\"Oui\",'Q_del,j et Q_del,dh'!$D59,0)","v":0},{"$f":"IF(AN110=\"Oui\",'Q_del,j et Q_del,dh'!$D59,0)","v":0},{"$f":"IF(AO110=\"Oui\",'Q_del,j et Q_del,dh'!$D59,0)","v":0},{"$f":"IF(AP110=\"Oui\",'Q_del,j et Q_del,dh'!$D59,0)","v":0},{"$f":"IF(AQ110=\"Oui\",'Q_del,j et Q_del,dh'!$D59,0)","v":0},{"$f":"IF(AR110=\"Oui\",'Q_del,j et Q_del,dh'!$D59,0)","v":0},{"$f":"IF(AS110=\"Oui\",'Q_del,j et Q_del,dh'!$D59,0)","v":0},{"$f":"IF(AT110=\"Oui\",'Q_del,j et Q_del,dh'!$D59,0)","v":0},{"$f":"IF(AU110=\"Oui\",'Q_del,j et Q_del,dh'!$D59,0)","v":0},{"$f":"IF(AV110=\"Oui\",'Q_del,j et Q_del,dh'!$D59,0)","v":0},{"$f":"IF(AW110=\"Oui\",'Q_del,j et Q_del,dh'!$D59,0)","v":0},{"$f":"IF(AX110=\"Oui\",'Q_del,j et Q_del,dh'!$D59,0)","v":0},{"$f":"IF(AY110=\"Oui\",'Q_del,j et Q_del,dh'!$D59,0)","v":0},{"$f":"IF(AZ110=\"Oui\",'Q_del,j et Q_del,dh'!$D59,0)","v":0},{"$f":"IF(BA110=\"Oui\",'Q_del,j et Q_del,dh'!$D59,0)","v":0}]
["Qdel,l,j [MJ]","Demandeur de chaleur 53",53,{"$f":"IF(D111=\"Oui\",'Q_del,j et Q_del,dh'!$D60,0)","v":0},{"$f":"IF(E111=\"Oui\",'Q_del,j et Q_del,dh'!$D60,0)","v":0},{"$f":"IF(F111=\"Oui\",'Q_del,j et Q_del,dh'!$D60,0)","v":0},{"$f":"IF(G111=\"Oui\",'Q_del,j et Q_del,dh'!$D60,0)","v":0},{"$f":"IF(H111=\"Oui\",'Q_del,j et Q_del,dh'!$D60,0)","v":0},{"$f":"IF(I111=\"Oui\",'Q_del,j et Q_del,dh'!$D60,0)","v":0},{"$f":"IF(J111=\"Oui\",'Q_del,j et Q_del,dh'!$D60,0)","v":0},{"$f":"IF(K111=\"Oui\",'Q_del,j et Q_del,dh'!$D60,0)","v":0},{"$f":"IF(L111=\"Oui\",'Q_del,j et Q_del,dh'!$D60,0)","v":0},{"$f":"IF(M111=\"Oui\",'Q_del,j et Q_del,dh'!$D60,0)","v":0},{"$f":"IF(N111=\"Oui\",'Q_del,j et Q_del,dh'!$D60,0)","v":0},{"$f":"IF(O111=\"Oui\",'Q_del,j et Q_del,dh'!$D60,0)","v":0},{"$f":"IF(P111=\"Oui\",'Q_del,j et Q_del,dh'!$D60,0)","v":0},{"$f":"IF(Q111=\"Oui\",'Q_del,j et Q_del,dh'!$D60,0)","v":0},{"$f":"IF(R111=\"Oui\",'Q_del,j et Q_del,dh'!$D60,0)","v":0},{"$f":"IF(S111=\"Oui\",'Q_del,j et Q_del,dh'!$D60,0)","v":0},{"$f":"IF(T111=\"Oui\",'Q_del,j et Q_del,dh'!$D60,0)","v":0},{"$f":"IF(U111=\"Oui\",'Q_del,j et Q_del,dh'!$D60,0)","v":0},{"$f":"IF(V111=\"Oui\",'Q_del,j et Q_del,dh'!$D60,0)","v":0},{"$f":"IF(W111=\"Oui\",'Q_del,j et Q_del,dh'!$D60,0)","v":0},{"$f":"IF(X111=\"Oui\",'Q_del,j et Q_del,dh'!$D60,0)","v":0},{"$f":"IF(Y111=\"Oui\",'Q_del,j et Q_del,dh'!$D60,0)","v":0},{"$f":"IF(Z111=\"Oui\",'Q_del,j et Q_del,dh'!$D60,0)","v":0},{"$f":"IF(AA111=\"Oui\",'Q_del,j et Q_del,dh'!$D60,0)","v":0},{"$f":"IF(AB111=\"Oui\",'Q_del,j et Q_del,dh'!$D60,0)","v":0},{"$f":"IF(AC111=\"Oui\",'Q_del,j et Q_del,dh'!$D60,0)","v":0},{"$f":"IF(AD111=\"Oui\",'Q_del,j et Q_del,dh'!$D60,0)","v":0},{"$f":"IF(AE111=\"Oui\",'Q_del,j et Q_del,dh'!$D60,0)","v":0},{"$f":"IF(AF111=\"Oui\",'Q_del,j et Q_del,dh'!$D60,0)","v":0},{"$f":"IF(AG111=\"Oui\",'Q_del,j et Q_del,dh'!$D60,0)","v":0},{"$f":"IF(AH111=\"Oui\",'Q_del,j et Q_del,dh'!$D60,0)","v":0},{"$f":"IF(AI111=\"Oui\",'Q_del,j et Q_del,dh'!$D60,0)","v":0},{"$f":"IF(AJ111=\"Oui\",'Q_del,j et Q_del,dh'!$D60,0)","v":0},{"$f":"IF(AK111=\"Oui\",'Q_del,j et Q_del,dh'!$D60,0)","v":0},{"$f":"IF(AL111=\"Oui\",'Q_del,j et Q_del,dh'!$D60,0)","v":0},{"$f":"IF(AM111=\"Oui\",'Q_del,j et Q_del,dh'!$D60,0)","v":0},{"$f":"IF(AN111=\"Oui\",'Q_del,j et Q_del,dh'!$D60,0)","v":0},{"$f":"IF(AO111=\"Oui\",'Q_del,j et Q_del,dh'!$D60,0)","v":0},{"$f":"IF(AP111=\"Oui\",'Q_del,j et Q_del,dh'!$D60,0)","v":0},{"$f":"IF(AQ111=\"Oui\",'Q_del,j et Q_del,dh'!$D60,0)","v":0},{"$f":"IF(AR111=\"Oui\",'Q_del,j et Q_del,dh'!$D60,0)","v":0},{"$f":"IF(AS111=\"Oui\",'Q_del,j et Q_del,dh'!$D60,0)","v":0},{"$f":"IF(AT111=\"Oui\",'Q_del,j et Q_del,dh'!$D60,0)","v":0},{"$f":"IF(AU111=\"Oui\",'Q_del,j et Q_del,dh'!$D60,0)","v":0},{"$f":"IF(AV111=\"Oui\",'Q_del,j et Q_del,dh'!$D60,0)","v":0},{"$f":"IF(AW111=\"Oui\",'Q_del,j et Q_del,dh'!$D60,0)","v":0},{"$f":"IF(AX111=\"Oui\",'Q_del,j et Q_del,dh'!$D60,0)","v":0},{"$f":"IF(AY111=\"Oui\",'Q_del,j et Q_del,dh'!$D60,0)","v":0},{"$f":"IF(AZ111=\"Oui\",'Q_del,j et Q_del,dh'!$D60,0)","v":0},{"$f":"IF(BA111=\"Oui\",'Q_del,j et Q_del,dh'!$D60,0)","v":0}]
["Qdel,l,j [MJ]","Demandeur de chaleur 54",54,{"$f":"IF(D112=\"Oui\",'Q_del,j et Q_del,dh'!$D61,0)","v":0},{"$f":"IF(E112=\"Oui\",'Q_del,j et Q_del,dh'!$D61,0)","v":0},{"$f":"IF(F112=\"Oui\",'Q_del,j et Q_del,dh'!$D61,0)","v":0},{"$f":"IF(G112=\"Oui\",'Q_del,j et Q_del,dh'!$D61,0)","v":0},{"$f":"IF(H112=\"Oui\",'Q_del,j et Q_del,dh'!$D61,0)","v":0},{"$f":"IF(I112=\"Oui\",'Q_del,j et Q_del,dh'!$D61,0)","v":0},{"$f":"IF(J112=\"Oui\",'Q_del,j et Q_del,dh'!$D61,0)","v":0},{"$f":"IF(K112=\"Oui\",'Q_del,j et Q_del,dh'!$D61,0)","v":0},{"$f":"IF(L112=\"Oui\",'Q_del,j et Q_del,dh'!$D61,0)","v":0},{"$f":"IF(M112=\"Oui\",'Q_del,j et Q_del,dh'!$D61,0)","v":0},{"$f":"IF(N112=\"Oui\",'Q_del,j et Q_del,dh'!$D61,0)","v":0},{"$f":"IF(O112=\"Oui\",'Q_del,j et Q_del,dh'!$D61,0)","v":0},{"$f":"IF(P112=\"Oui\",'Q_del,j et Q_del,dh'!$D61,0)","v":0},{"$f":"IF(Q112=\"Oui\",'Q_del,j et Q_del,dh'!$D61,0)","v":0},{"$f":"IF(R112=\"Oui\",'Q_del,j et Q_del,dh'!$D61,0)","v":0},{"$f":"IF(S112=\"Oui\",'Q_del,j et Q_del,dh'!$D61,0)","v":0},{"$f":"IF(T112=\"Oui\",'Q_del,j et Q_del,dh'!$D61,0)","v":0},{"$f":"IF(U112=\"Oui\",'Q_del,j et Q_del,dh'!$D61,0)","v":0},{"$f":"IF(V112=\"Oui\",'Q_del,j et Q_del,dh'!$D61,0)","v":0},{"$f":"IF(W112=\"Oui\",'Q_del,j et Q_del,dh'!$D61,0)","v":0},{"$f":"IF(X112=\"Oui\",'Q_del,j et Q_del,dh'!$D61,0)","v":0},{"$f":"IF(Y112=\"Oui\",'Q_del,j et Q_del,dh'!$D61,0)","v":0},{"$f":"IF(Z112=\"Oui\",'Q_del,j et Q_del,dh'!$D61,0)","v":0},{"$f":"IF(AA112=\"Oui\",'Q_del,j et Q_del,dh'!$D61,0)","v":0},{"$f":"IF(AB112=\"Oui\",'Q_del,j et Q_del,dh'!$D61,0)","v":0},{"$f":"IF(AC112=\"Oui\",'Q_del,j et Q_del,dh'!$D61,0)","v":0},{"$f":"IF(AD112=\"Oui\",'Q_del,j et Q_del,dh'!$D61,0)","v":0},{"$f":"IF(AE112=\"Oui\",'Q_del,j et Q_del,dh'!$D61,0)","v":0},{"$f":"IF(AF112=\"Oui\",'Q_del,j et Q_del,dh'!$D61,0)","v":0},{"$f":"IF(AG112=\"Oui\",'Q_del,j et Q_del,dh'!$D61,0)","v":0},{"$f":"IF(AH112=\"Oui\",'Q_del,j et Q_del,dh'!$D61,0)","v":0},{"$f":"IF(AI112=\"Oui\",'Q_del,j et Q_del,dh'!$D61,0)","v":0},{"$f":"IF(AJ112=\"Oui\",'Q_del,j et Q_del,dh'!$D61,0)","v":0},{"$f":"IF(AK112=\"Oui\",'Q_del,j et Q_del,dh'!$D61,0)","v":0},{"$f":"IF(AL112=\"Oui\",'Q_del,j et Q_del,dh'!$D61,0)","v":0},{"$f":"IF(AM112=\"Oui\",'Q_del,j et Q_del,dh'!$D61,0)","v":0},{"$f":"IF(AN112=\"Oui\",'Q_del,j et Q_del,dh'!$D61,0)","v":0},{"$f":"IF(AO112=\"Oui\",'Q_del,j et Q_del,dh'!$D61,0)","v":0},{"$f":"IF(AP112=\"Oui\",'Q_del,j et Q_del,dh'!$D61,0)","v":0},{"$f":"IF(AQ112=\"Oui\",'Q_del,j et Q_del,dh'!$D61,0)","v":0},{"$f":"IF(AR112=\"Oui\",'Q_del,j et Q_del,dh'!$D61,0)","v":0},{"$f":"IF(AS112=\"Oui\",'Q_del,j et Q_del,dh'!$D61,0)","v":0},{"$f":"IF(AT112=\"Oui\",'Q_del,j et Q_del,dh'!$D61,0)","v":0},{"$f":"IF(AU112=\"Oui\",'Q_del,j et Q_del,dh'!$D61,0)","v":0},{"$f":"IF(AV112=\"Oui\",'Q_del,j et Q_del,dh'!$D61,0)","v":0},{"$f":"IF(AW112=\"Oui\",'Q_del,j et Q_del,dh'!$D61,0)","v":0},{"$f":"IF(AX112=\"Oui\",'Q_del,j et Q_del,dh'!$D61,0)","v":0},{"$f":"IF(AY112=\"Oui\",'Q_del,j et Q_del,dh'!$D61,0)","v":0},{"$f":"IF(AZ112=\"Oui\",'Q_del,j et Q_del,dh'!$D61,0)","v":0},{"$f":"IF(BA112=\"Oui\",'Q_del,j et Q_del,dh'!$D61,0)","v":0}]
["Qdel,l,j [MJ]","Demandeur de chaleur 55",55,{"$f":"IF(D113=\"Oui\",'Q_del,j et Q_del,dh'!$D62,0)","v":0},{"$f":"IF(E113=\"Oui\",'Q_del,j et Q_del,dh'!$D62,0)","v":0},{"$f":"IF(F113=\"Oui\",'Q_del,j et Q_del,dh'!$D62,0)","v":0},{"$f":"IF(G113=\"Oui\",'Q_del,j et Q_del,dh'!$D62,0)","v":0},{"$f":"IF(H113=\"Oui\",'Q_del,j et Q_del,dh'!$D62,0)","v":0},{"$f":"IF(I113=\"Oui\",'Q_del,j et Q_del,dh'!$D62,0)","v":0},{"$f":"IF(J113=\"Oui\",'Q_del,j et Q_del,dh'!$D62,0)","v":0},{"$f":"IF(K113=\"Oui\",'Q_del,j et Q_del,dh'!$D62,0)","v":0},{"$f":"IF(L113=\"Oui\",'Q_del,j et Q_del,dh'!$D62,0)","v":0},{"$f":"IF(M113=\"Oui\",'Q_del,j et Q_del,dh'!$D62,0)","v":0},{"$f":"IF(N113=\"Oui\",'Q_del,j et Q_del,dh'!$D62,0)","v":0},{"$f":"IF(O113=\"Oui\",'Q_del,j et Q_del,dh'!$D62,0)","v":0},{"$f":"IF(P113=\"Oui\",'Q_del,j et Q_del,dh'!$D62,0)","v":0},{"$f":"IF(Q113=\"Oui\",'Q_del,j et Q_del,dh'!$D62,0)","v":0},{"$f":"IF(R113=\"Oui\",'Q_del,j et Q_del,dh'!$D62,0)","v":0},{"$f":"IF(S113=\"Oui\",'Q_del,j et Q_del,dh'!$D62,0)","v":0},{"$f":"IF(T113=\"Oui\",'Q_del,j et Q_del,dh'!$D62,0)","v":0},{"$f":"IF(U113=\"Oui\",'Q_del,j et Q_del,dh'!$D62,0)","v":0},{"$f":"IF(V113=\"Oui\",'Q_del,j et Q_del,dh'!$D62,0)","v":0},{"$f":"IF(W113=\"Oui\",'Q_del,j et Q_del,dh'!$D62,0)","v":0},{"$f":"IF(X113=\"Oui\",'Q_del,j et Q_del,dh'!$D62,0)","v":0},{"$f":"IF(Y113=\"Oui\",'Q_del,j et Q_del,dh'!$D62,0)","v":0},{"$f":"IF(Z113=\"Oui\",'Q_del,j et Q_del,dh'!$D62,0)","v":0},{"$f":"IF(AA113=\"Oui\",'Q_del,j et Q_del,dh'!$D62,0)","v":0},{"$f":"IF(AB113=\"Oui\",'Q_del,j et Q_del,dh'!$D62,0)","v":0},{"$f":"IF(AC113=\"Oui\",'Q_del,j et Q_del,dh'!$D62,0)","v":0},{"$f":"IF(AD113=\"Oui\",'Q_del,j et Q_del,dh'!$D62,0)","v":0},{"$f":"IF(AE113=\"Oui\",'Q_del,j et Q_del,dh'!$D62,0)","v":0},{"$f":"IF(AF113=\"Oui\",'Q_del,j et Q_del,dh'!$D62,0)","v":0},{"$f":"IF(AG113=\"Oui\",'Q_del,j et Q_del,dh'!$D62,0)","v":0},{"$f":"IF(AH113=\"Oui\",'Q_del,j et Q_del,dh'!$D62,0)","v":0},{"$f":"IF(AI113=\"Oui\",'Q_del,j et Q_del,dh'!$D62,0)","v":0},{"$f":"IF(AJ113=\"Oui\",'Q_del,j et Q_del,dh'!$D62,0)","v":0},{"$f":"IF(AK113=\"Oui\",'Q_del,j et Q_del,dh'!$D62,0)","v":0},{"$f":"IF(AL113=\"Oui\",'Q_del,j et Q_del,dh'!$D62,0)","v":0},{"$f":"IF(AM113=\"Oui\",'Q_del,j et Q_del,dh'!$D62,0)","v":0},{"$f":"IF(AN113=\"Oui\",'Q_del,j et Q_del,dh'!$D62,0)","v":0},{"$f":"IF(AO113=\"Oui\",'Q_del,j et Q_del,dh'!$D62,0)","v":0},{"$f":"IF(AP113=\"Oui\",'Q_del,j et Q_del,dh'!$D62,0)","v":0},{"$f":"IF(AQ113=\"Oui\",'Q_del,j et Q_del,dh'!$D62,0)","v":0},{"$f":"IF(AR113=\"Oui\",'Q_del,j et Q_del,dh'!$D62,0)","v":0},{"$f":"IF(AS113=\"Oui\",'Q_del,j et Q_del,dh'!$D62,0)","v":0},{"$f":"IF(AT113=\"Oui\",'Q_del,j et Q_del,dh'!$D62,0)","v":0},{"$f":"IF(AU113=\"Oui\",'Q_del,j et Q_del,dh'!$D62,0)","v":0},{"$f":"IF(AV113=\"Oui\",'Q_del,j et Q_del,dh'!$D62,0)","v":0},{"$f":"IF(AW113=\"Oui\",'Q_del,j et Q_del,dh'!$D62,0)","v":0},{"$f":"IF(AX113=\"Oui\",'Q_del,j et Q_del,dh'!$D62,0)","v":0},{"$f":"IF(AY113=\"Oui\",'Q_del,j et Q_del,dh'!$D62,0)","v":0},{"$f":"IF(AZ113=\"Oui\",'Q_del,j et Q_del,dh'!$D62,0)","v":0},{"$f":"IF(BA113=\"Oui\",'Q_del,j et Q_del,dh'!$D62,0)","v":0}]
["Qdel,l,j [MJ]","Demandeur de chaleur 56",56,{"$f":"IF(D114=\"Oui\",'Q_del,j et Q_del,dh'!$D63,0)","v":0},{"$f":"IF(E114=\"Oui\",'Q_del,j et Q_del,dh'!$D63,0)","v":0},{"$f":"IF(F114=\"Oui\",'Q_del,j et Q_del,dh'!$D63,0)","v":0},{"$f":"IF(G114=\"Oui\",'Q_del,j et Q_del,dh'!$D63,0)","v":0},{"$f":"IF(H114=\"Oui\",'Q_del,j et Q_del,dh'!$D63,0)","v":0},{"$f":"IF(I114=\"Oui\",'Q_del,j et Q_del,dh'!$D63,0)","v":0},{"$f":"IF(J114=\"Oui\",'Q_del,j et Q_del,dh'!$D63,0)","v":0},{"$f":"IF(K114=\"Oui\",'Q_del,j et Q_del,dh'!$D63,0)","v":0},{"$f":"IF(L114=\"Oui\",'Q_del,j et Q_del,dh'!$D63,0)","v":0},{"$f":"IF(M114=\"Oui\",'Q_del,j et Q_del,dh'!$D63,0)","v":0},{"$f":"IF(N114=\"Oui\",'Q_del,j et Q_del,dh'!$D63,0)","v":0},{"$f":"IF(O114=\"Oui\",'Q_del,j et Q_del,dh'!$D63,0)","v":0},{"$f":"IF(P114=\"Oui\",'Q_del,j et Q_del,dh'!$D63,0)","v":0},{"$f":"IF(Q114=\"Oui\",'Q_del,j et Q_del,dh'!$D63,0)","v":0},{"$f":"IF(R114=\"Oui\",'Q_del,j et Q_del,dh'!$D63,0)","v":0},{"$f":"IF(S114=\"Oui\",'Q_del,j et Q_del,dh'!$D63,0)","v":0},{"$f":"IF(T114=\"Oui\",'Q_del,j et Q_del,dh'!$D63,0)","v":0},{"$f":"IF(U114=\"Oui\",'Q_del,j et Q_del,dh'!$D63,0)","v":0},{"$f":"IF(V114=\"Oui\",'Q_del,j et Q_del,dh'!$D63,0)","v":0},{"$f":"IF(W114=\"Oui\",'Q_del,j et Q_del,dh'!$D63,0)","v":0},{"$f":"IF(X114=\"Oui\",'Q_del,j et Q_del,dh'!$D63,0)","v":0},{"$f":"IF(Y114=\"Oui\",'Q_del,j et Q_del,dh'!$D63,0)","v":0},{"$f":"IF(Z114=\"Oui\",'Q_del,j et Q_del,dh'!$D63,0)","v":0},{"$f":"IF(AA114=\"Oui\",'Q_del,j et Q_del,dh'!$D63,0)","v":0},{"$f":"IF(AB114=\"Oui\",'Q_del,j et Q_del,dh'!$D63,0)","v":0},{"$f":"IF(AC114=\"Oui\",'Q_del,j et Q_del,dh'!$D63,0)","v":0},{"$f":"IF(AD114=\"Oui\",'Q_del,j et Q_del,dh'!$D63,0)","v":0},{"$f":"IF(AE114=\"Oui\",'Q_del,j et Q_del,dh'!$D63,0)","v":0},{"$f":"IF(AF114=\"Oui\",'Q_del,j et Q_del,dh'!$D63,0)","v":0},{"$f":"IF(AG114=\"Oui\",'Q_del,j et Q_del,dh'!$D63,0)","v":0},{"$f":"IF(AH114=\"Oui\",'Q_del,j et Q_del,dh'!$D63,0)","v":0},{"$f":"IF(AI114=\"Oui\",'Q_del,j et Q_del,dh'!$D63,0)","v":0},{"$f":"IF(AJ114=\"Oui\",'Q_del,j et Q_del,dh'!$D63,0)","v":0},{"$f":"IF(AK114=\"Oui\",'Q_del,j et Q_del,dh'!$D63,0)","v":0},{"$f":"IF(AL114=\"Oui\",'Q_del,j et Q_del,dh'!$D63,0)","v":0},{"$f":"IF(AM114=\"Oui\",'Q_del,j et Q_del,dh'!$D63,0)","v":0},{"$f":"IF(AN114=\"Oui\",'Q_del,j et Q_del,dh'!$D63,0)","v":0},{"$f":"IF(AO114=\"Oui\",'Q_del,j et Q_del,dh'!$D63,0)","v":0},{"$f":"IF(AP114=\"Oui\",'Q_del,j et Q_del,dh'!$D63,0)","v":0},{"$f":"IF(AQ114=\"Oui\",'Q_del,j et Q_del,dh'!$D63,0)","v":0},{"$f":"IF(AR114=\"Oui\",'Q_del,j et Q_del,dh'!$D63,0)","v":0},{"$f":"IF(AS114=\"Oui\",'Q_del,j et Q_del,dh'!$D63,0)","v":0},{"$f":"IF(AT114=\"Oui\",'Q_del,j et Q_del,dh'!$D63,0)","v":0},{"$f":"IF(AU114=\"Oui\",'Q_del,j et Q_del,dh'!$D63,0)","v":0},{"$f":"IF(AV114=\"Oui\",'Q_del,j et Q_del,dh'!$D63,0)","v":0},{"$f":"IF(AW114=\"Oui\",'Q_del,j et Q_del,dh'!$D63,0)","v":0},{"$f":"IF(AX114=\"Oui\",'Q_del,j et Q_del,dh'!$D63,0)","v":0},{"$f":"IF(AY114=\"Oui\",'Q_del,j et Q_del,dh'!$D63,0)","v":0},{"$f":"IF(AZ114=\"Oui\",'Q_del,j et Q_del,dh'!$D63,0)","v":0},{"$f":"IF(BA114=\"Oui\",'Q_del,j et Q_del,dh'!$D63,0)","v":0}]
["Qdel,l,j [MJ]","Demandeur de chaleur 57",57,{"$f":"IF(D115=\"Oui\",'Q_del,j et Q_del,dh'!$D64,0)","v":0},{"$f":"IF(E115=\"Oui\",'Q_del,j et Q_del,dh'!$D64,0)","v":0},{"$f":"IF(F115=\"Oui\",'Q_del,j et Q_del,dh'!$D64,0)","v":0},{"$f":"IF(G115=\"Oui\",'Q_del,j et Q_del,dh'!$D64,0)","v":0},{"$f":"IF(H115=\"Oui\",'Q_del,j et Q_del,dh'!$D64,0)","v":0},{"$f":"IF(I115=\"Oui\",'Q_del,j et Q_del,dh'!$D64,0)","v":0},{"$f":"IF(J115=\"Oui\",'Q_del,j et Q_del,dh'!$D64,0)","v":0},{"$f":"IF(K115=\"Oui\",'Q_del,j et Q_del,dh'!$D64,0)","v":0},{"$f":"IF(L115=\"Oui\",'Q_del,j et Q_del,dh'!$D64,0)","v":0},{"$f":"IF(M115=\"Oui\",'Q_del,j et Q_del,dh'!$D64,0)","v":0},{"$f":"IF(N115=\"Oui\",'Q_del,j et Q_del,dh'!$D64,0)","v":0},{"$f":"IF(O115=\"Oui\",'Q_del,j et Q_del,dh'!$D64,0)","v":0},{"$f":"IF(P115=\"Oui\",'Q_del,j et Q_del,dh'!$D64,0)","v":0},{"$f":"IF(Q115=\"Oui\",'Q_del,j et Q_del,dh'!$D64,0)","v":0},{"$f":"IF(R115=\"Oui\",'Q_del,j et Q_del,dh'!$D64,0)","v":0},{"$f":"IF(S115=\"Oui\",'Q_del,j et Q_del,dh'!$D64,0)","v":0},{"$f":"IF(T115=\"Oui\",'Q_del,j et Q_del,dh'!$D64,0)","v":0},{"$f":"IF(U115=\"Oui\",'Q_del,j et Q_del,dh'!$D64,0)","v":0},{"$f":"IF(V115=\"Oui\",'Q_del,j et Q_del,dh'!$D64,0)","v":0},{"$f":"IF(W115=\"Oui\",'Q_del,j et Q_del,dh'!$D64,0)","v":0},{"$f":"IF(X115=\"Oui\",'Q_del,j et Q_del,dh'!$D64,0)","v":0},{"$f":"IF(Y115=\"Oui\",'Q_del,j et Q_del,dh'!$D64,0)","v":0},{"$f":"IF(Z115=\"Oui\",'Q_del,j et Q_del,dh'!$D64,0)","v":0},{"$f":"IF(AA115=\"Oui\",'Q_del,j et Q_del,dh'!$D64,0)","v":0},{"$f":"IF(AB115=\"Oui\",'Q_del,j et Q_del,dh'!$D64,0)","v":0},{"$f":"IF(AC115=\"Oui\",'Q_del,j et Q_del,dh'!$D64,0)","v":0},{"$f":"IF(AD115=\"Oui\",'Q_del,j et Q_del,dh'!$D64,0)","v":0},{"$f":"IF(AE115=\"Oui\",'Q_del,j et Q_del,dh'!$D64,0)","v":0},{"$f":"IF(AF115=\"Oui\",'Q_del,j et Q_del,dh'!$D64,0)","v":0},{"$f":"IF(AG115=\"Oui\",'Q_del,j et Q_del,dh'!$D64,0)","v":0},{"$f":"IF(AH115=\"Oui\",'Q_del,j et Q_del,dh'!$D64,0)","v":0},{"$f":"IF(AI115=\"Oui\",'Q_del,j et Q_del,dh'!$D64,0)","v":0},{"$f":"IF(AJ115=\"Oui\",'Q_del,j et Q_del,dh'!$D64,0)","v":0},{"$f":"IF(AK115=\"Oui\",'Q_del,j et Q_del,dh'!$D64,0)","v":0},{"$f":"IF(AL115=\"Oui\",'Q_del,j et Q_del,dh'!$D64,0)","v":0},{"$f":"IF(AM115=\"Oui\",'Q_del,j et Q_del,dh'!$D64,0)","v":0},{"$f":"IF(AN115=\"Oui\",'Q_del,j et Q_del,dh'!$D64,0)","v":0},{"$f":"IF(AO115=\"Oui\",'Q_del,j et Q_del,dh'!$D64,0)","v":0},{"$f":"IF(AP115=\"Oui\",'Q_del,j et Q_del,dh'!$D64,0)","v":0},{"$f":"IF(AQ115=\"Oui\",'Q_del,j et Q_del,dh'!$D64,0)","v":0},{"$f":"IF(AR115=\"Oui\",'Q_del,j et Q_del,dh'!$D64,0)","v":0},{"$f":"IF(AS115=\"Oui\",'Q_del,j et Q_del,dh'!$D64,0)","v":0},{"$f":"IF(AT115=\"Oui\",'Q_del,j et Q_del,dh'!$D64,0)","v":0},{"$f":"IF(AU115=\"Oui\",'Q_del,j et Q_del,dh'!$D64,0)","v":0},{"$f":"IF(AV115=\"Oui\",'Q_del,j et Q_del,dh'!$D64,0)","v":0},{"$f":"IF(AW115=\"Oui\",'Q_del,j et Q_del,dh'!$D64,0)","v":0},{"$f":"IF(AX115=\"Oui\",'Q_del,j et Q_del,dh'!$D64,0)","v":0},{"$f":"IF(AY115=\"Oui\",'Q_del,j et Q_del,dh'!$D64,0)","v":0},{"$f":"IF(AZ115=\"Oui\",'Q_del,j et Q_del,dh'!$D64,0)","v":0},{"$f":"IF(BA115=\"Oui\",'Q_del,j et Q_del,dh'!$D64,0)","v":0}]
["Qdel,l,j [MJ]","Demandeur de chaleur 58",58,{"$f":"IF(D116=\"Oui\",'Q_del,j et Q_del,dh'!$D65,0)","v":0},{"$f":"IF(E116=\"Oui\",'Q_del,j et Q_del,dh'!$D65,0)","v":0},{"$f":"IF(F116=\"Oui\",'Q_del,j et Q_del,dh'!$D65,0)","v":0},{"$f":"IF(G116=\"Oui\",'Q_del,j et Q_del,dh'!$D65,0)","v":0},{"$f":"IF(H116=\"Oui\",'Q_del,j et Q_del,dh'!$D65,0)","v":0},{"$f":"IF(I116=\"Oui\",'Q_del,j et Q_del,dh'!$D65,0)","v":0},{"$f":"IF(J116=\"Oui\",'Q_del,j et Q_del,dh'!$D65,0)","v":0},{"$f":"IF(K116=\"Oui\",'Q_del,j et Q_del,dh'!$D65,0)","v":0},{"$f":"IF(L116=\"Oui\",'Q_del,j et Q_del,dh'!$D65,0)","v":0},{"$f":"IF(M116=\"Oui\",'Q_del,j et Q_del,dh'!$D65,0)","v":0},{"$f":"IF(N116=\"Oui\",'Q_del,j et Q_del,dh'!$D65,0)","v":0},{"$f":"IF(O116=\"Oui\",'Q_del,j et Q_del,dh'!$D65,0)","v":0},{"$f":"IF(P116=\"Oui\",'Q_del,j et Q_del,dh'!$D65,0)","v":0},{"$f":"IF(Q116=\"Oui\",'Q_del,j et Q_del,dh'!$D65,0)","v":0},{"$f":"IF(R116=\"Oui\",'Q_del,j et Q_del,dh'!$D65,0)","v":0},{"$f":"IF(S116=\"Oui\",'Q_del,j et Q_del,dh'!$D65,0)","v":0},{"$f":"IF(T116=\"Oui\",'Q_del,j et Q_del,dh'!$D65,0)","v":0},{"$f":"IF(U116=\"Oui\",'Q_del,j et Q_del,dh'!$D65,0)","v":0},{"$f":"IF(V116=\"Oui\",'Q_del,j et Q_del,dh'!$D65,0)","v":0},{"$f":"IF(W116=\"Oui\",'Q_del,j et Q_del,dh'!$D65,0)","v":0},{"$f":"IF(X116=\"Oui\",'Q_del,j et Q_del,dh'!$D65,0)","v":0},{"$f":"IF(Y116=\"Oui\",'Q_del,j et Q_del,dh'!$D65,0)","v":0},{"$f":"IF(Z116=\"Oui\",'Q_del,j et Q_del,dh'!$D65,0)","v":0},{"$f":"IF(AA116=\"Oui\",'Q_del,j et Q_del,dh'!$D65,0)","v":0},{"$f":"IF(AB116=\"Oui\",'Q_del,j et Q_del,dh'!$D65,0)","v":0},{"$f":"IF(AC116=\"Oui\",'Q_del,j et Q_del,dh'!$D65,0)","v":0},{"$f":"IF(AD116=\"Oui\",'Q_del,j et Q_del,dh'!$D65,0)","v":0},{"$f":"IF(AE116=\"Oui\",'Q_del,j et Q_del,dh'!$D65,0)","v":0},{"$f":"IF(AF116=\"Oui\",'Q_del,j et Q_del,dh'!$D65,0)","v":0},{"$f":"IF(AG116=\"Oui\",'Q_del,j et Q_del,dh'!$D65,0)","v":0},{"$f":"IF(AH116=\"Oui\",'Q_del,j et Q_del,dh'!$D65,0)","v":0},{"$f":"IF(AI116=\"Oui\",'Q_del,j et Q_del,dh'!$D65,0)","v":0},{"$f":"IF(AJ116=\"Oui\",'Q_del,j et Q_del,dh'!$D65,0)","v":0},{"$f":"IF(AK116=\"Oui\",'Q_del,j et Q_del,dh'!$D65,0)","v":0},{"$f":"IF(AL116=\"Oui\",'Q_del,j et Q_del,dh'!$D65,0)","v":0},{"$f":"IF(AM116=\"Oui\",'Q_del,j et Q_del,dh'!$D65,0)","v":0},{"$f":"IF(AN116=\"Oui\",'Q_del,j et Q_del,dh'!$D65,0)","v":0},{"$f":"IF(AO116=\"Oui\",'Q_del,j et Q_del,dh'!$D65,0)","v":0},{"$f":"IF(AP116=\"Oui\",'Q_del,j et Q_del,dh'!$D65,0)","v":0},{"$f":"IF(AQ116=\"Oui\",'Q_del,j et Q_del,dh'!$D65,0)","v":0},{"$f":"IF(AR116=\"Oui\",'Q_del,j et Q_del,dh'!$D65,0)","v":0},{"$f":"IF(AS116=\"Oui\",'Q_del,j et Q_del,dh'!$D65,0)","v":0},{"$f":"IF(AT116=\"Oui\",'Q_del,j et Q_del,dh'!$D65,0)","v":0},{"$f":"IF(AU116=\"Oui\",'Q_del,j et Q_del,dh'!$D65,0)","v":0},{"$f":"IF(AV116=\"Oui\",'Q_del,j et Q_del,dh'!$D65,0)","v":0},{"$f":"IF(AW116=\"Oui\",'Q_del,j et Q_del,dh'!$D65,0)","v":0},{"$f":"IF(AX116=\"Oui\",'Q_del,j et Q_del,dh'!$D65,0)","v":0},{"$f":"IF(AY116=\"Oui\",'Q_del,j et Q_del,dh'!$D65,0)","v":0},{"$f":"IF(AZ116=\"Oui\",'Q_del,j et Q_del,dh'!$D65,0)","v":0},{"$f":"IF(BA116=\"Oui\",'Q_del,j et Q_del,dh'!$D65,0)","v":0}]
["Qdel,l,j [MJ]","Demandeur de chaleur 59",59,{"$f":"IF(D117=\"Oui\",'Q_del,j et Q_del,dh'!$D66,0)","v":0},{"$f":"IF(E117=\"Oui\",'Q_del,j et Q_del,dh'!$D66,0)","v":0},{"$f":"IF(F117=\"Oui\",'Q_del,j et Q_del,dh'!$D66,0)","v":0},{"$f":"IF(G117=\"Oui\",'Q_del,j et Q_del,dh'!$D66,0)","v":0},{"$f":"IF(H117=\"Oui\",'Q_del,j et Q_del,dh'!$D66,0)","v":0},{"$f":"IF(I117=\"Oui\",'Q_del,j et Q_del,dh'!$D66,0)","v":0},{"$f":"IF(J117=\"Oui\",'Q_del,j et Q_del,dh'!$D66,0)","v":0},{"$f":"IF(K117=\"Oui\",'Q_del,j et Q_del,dh'!$D66,0)","v":0},{"$f":"IF(L117=\"Oui\",'Q_del,j et Q_del,dh'!$D66,0)","v":0},{"$f":"IF(M117=\"Oui\",'Q_del,j et Q_del,dh'!$D66,0)","v":0},{"$f":"IF(N117=\"Oui\",'Q_del,j et Q_del,dh'!$D66,0)","v":0},{"$f":"IF(O117=\"Oui\",'Q_del,j et Q_del,dh'!$D66,0)","v":0},{"$f":"IF(P117=\"Oui\",'Q_del,j et Q_del,dh'!$D66,0)","v":0},{"$f":"IF(Q117=\"Oui\",'Q_del,j et Q_del,dh'!$D66,0)","v":0},{"$f":"IF(R117=\"Oui\",'Q_del,j et Q_del,dh'!$D66,0)","v":0},{"$f":"IF(S117=\"Oui\",'Q_del,j et Q_del,dh'!$D66,0)","v":0},{"$f":"IF(T117=\"Oui\",'Q_del,j et Q_del,dh'!$D66,0)","v":0},{"$f":"IF(U117=\"Oui\",'Q_del,j et Q_del,dh'!$D66,0)","v":0},{"$f":"IF(V117=\"Oui\",'Q_del,j et Q_del,dh'!$D66,0)","v":0},{"$f":"IF(W117=\"Oui\",'Q_del,j et Q_del,dh'!$D66,0)","v":0},{"$f":"IF(X117=\"Oui\",'Q_del,j et Q_del,dh'!$D66,0)","v":0},{"$f":"IF(Y117=\"Oui\",'Q_del,j et Q_del,dh'!$D66,0)","v":0},{"$f":"IF(Z117=\"Oui\",'Q_del,j et Q_del,dh'!$D66,0)","v":0},{"$f":"IF(AA117=\"Oui\",'Q_del,j et Q_del,dh'!$D66,0)","v":0},{"$f":"IF(AB117=\"Oui\",'Q_del,j et Q_del,dh'!$D66,0)","v":0},{"$f":"IF(AC117=\"Oui\",'Q_del,j et Q_del,dh'!$D66,0)","v":0},{"$f":"IF(AD117=\"Oui\",'Q_del,j et Q_del,dh'!$D66,0)","v":0},{"$f":"IF(AE117=\"Oui\",'Q_del,j et Q_del,dh'!$D66,0)","v":0},{"$f":"IF(AF117=\"Oui\",'Q_del,j et Q_del,dh'!$D66,0)","v":0},{"$f":"IF(AG117=\"Oui\",'Q_del,j et Q_del,dh'!$D66,0)","v":0},{"$f":"IF(AH117=\"Oui\",'Q_del,j et Q_del,dh'!$D66,0)","v":0},{"$f":"IF(AI117=\"Oui\",'Q_del,j et Q_del,dh'!$D66,0)","v":0},{"$f":"IF(AJ117=\"Oui\",'Q_del,j et Q_del,dh'!$D66,0)","v":0},{"$f":"IF(AK117=\"Oui\",'Q_del,j et Q_del,dh'!$D66,0)","v":0},{"$f":"IF(AL117=\"Oui\",'Q_del,j et Q_del,dh'!$D66,0)","v":0},{"$f":"IF(AM117=\"Oui\",'Q_del,j et Q_del,dh'!$D66,0)","v":0},{"$f":"IF(AN117=\"Oui\",'Q_del,j et Q_del,dh'!$D66,0)","v":0},{"$f":"IF(AO117=\"Oui\",'Q_del,j et Q_del,dh'!$D66,0)","v":0},{"$f":"IF(AP117=\"Oui\",'Q_del,j et Q_del,dh'!$D66,0)","v":0},{"$f":"IF(AQ117=\"Oui\",'Q_del,j et Q_del,dh'!$D66,0)","v":0},{"$f":"IF(AR117=\"Oui\",'Q_del,j et Q_del,dh'!$D66,0)","v":0},{"$f":"IF(AS117=\"Oui\",'Q_del,j et Q_del,dh'!$D66,0)","v":0},{"$f":"IF(AT117=\"Oui\",'Q_del,j et Q_del,dh'!$D66,0)","v":0},{"$f":"IF(AU117=\"Oui\",'Q_del,j et Q_del,dh'!$D66,0)","v":0},{"$f":"IF(AV117=\"Oui\",'Q_del,j et Q_del,dh'!$D66,0)","v":0},{"$f":"IF(AW117=\"Oui\",'Q_del,j et Q_del,dh'!$D66,0)","v":0},{"$f":"IF(AX117=\"Oui\",'Q_del,j et Q_del,dh'!$D66,0)","v":0},{"$f":"IF(AY117=\"Oui\",'Q_del,j et Q_del,dh'!$D66,0)","v":0},{"$f":"IF(AZ117=\"Oui\",'Q_del,j et Q_del,dh'!$D66,0)","v":0},{"$f":"IF(BA117=\"Oui\",'Q_del,j et Q_del,dh'!$D66,0)","v":0}]
["Qdel,l,j [MJ]","Demandeur de chaleur 60",60,{"$f":"IF(D118=\"Oui\",'Q_del,j et Q_del,dh'!$D67,0)","v":0},{"$f":"IF(E118=\"Oui\",'Q_del,j et Q_del,dh'!$D67,0)","v":0},{"$f":"IF(F118=\"Oui\",'Q_del,j et Q_del,dh'!$D67,0)","v":0},{"$f":"IF(G118=\"Oui\",'Q_del,j et Q_del,dh'!$D67,0)","v":0},{"$f":"IF(H118=\"Oui\",'Q_del,j et Q_del,dh'!$D67,0)","v":0},{"$f":"IF(I118=\"Oui\",'Q_del,j et Q_del,dh'!$D67,0)","v":0},{"$f":"IF(J118=\"Oui\",'Q_del,j et Q_del,dh'!$D67,0)","v":0},{"$f":"IF(K118=\"Oui\",'Q_del,j et Q_del,dh'!$D67,0)","v":0},{"$f":"IF(L118=\"Oui\",'Q_del,j et Q_del,dh'!$D67,0)","v":0},{"$f":"IF(M118=\"Oui\",'Q_del,j et Q_del,dh'!$D67,0)","v":0},{"$f":"IF(N118=\"Oui\",'Q_del,j et Q_del,dh'!$D67,0)","v":0},{"$f":"IF(O118=\"Oui\",'Q_del,j et Q_del,dh'!$D67,0)","v":0},{"$f":"IF(P118=\"Oui\",'Q_del,j et Q_del,dh'!$D67,0)","v":0},{"$f":"IF(Q118=\"Oui\",'Q_del,j et Q_del,dh'!$D67,0)","v":0},{"$f":"IF(R118=\"Oui\",'Q_del,j et Q_del,dh'!$D67,0)","v":0},{"$f":"IF(S118=\"Oui\",'Q_del,j et Q_del,dh'!$D67,0)","v":0},{"$f":"IF(T118=\"Oui\",'Q_del,j et Q_del,dh'!$D67,0)","v":0},{"$f":"IF(U118=\"Oui\",'Q_del,j et Q_del,dh'!$D67,0)","v":0},{"$f":"IF(V118=\"Oui\",'Q_del,j et Q_del,dh'!$D67,0)","v":0},{"$f":"IF(W118=\"Oui\",'Q_del,j et Q_del,dh'!$D67,0)","v":0},{"$f":"IF(X118=\"Oui\",'Q_del,j et Q_del,dh'!$D67,0)","v":0},{"$f":"IF(Y118=\"Oui\",'Q_del,j et Q_del,dh'!$D67,0)","v":0},{"$f":"IF(Z118=\"Oui\",'Q_del,j et Q_del,dh'!$D67,0)","v":0},{"$f":"IF(AA118=\"Oui\",'Q_del,j et Q_del,dh'!$D67,0)","v":0},{"$f":"IF(AB118=\"Oui\",'Q_del,j et Q_del,dh'!$D67,0)","v":0},{"$f":"IF(AC118=\"Oui\",'Q_del,j et Q_del,dh'!$D67,0)","v":0},{"$f":"IF(AD118=\"Oui\",'Q_del,j et Q_del,dh'!$D67,0)","v":0},{"$f":"IF(AE118=\"Oui\",'Q_del,j et Q_del,dh'!$D67,0)","v":0},{"$f":"IF(AF118=\"Oui\",'Q_del,j et Q_del,dh'!$D67,0)","v":0},{"$f":"IF(AG118=\"Oui\",'Q_del,j et Q_del,dh'!$D67,0)","v":0},{"$f":"IF(AH118=\"Oui\",'Q_del,j et Q_del,dh'!$D67,0)","v":0},{"$f":"IF(AI118=\"Oui\",'Q_del,j et Q_del,dh'!$D67,0)","v":0},{"$f":"IF(AJ118=\"Oui\",'Q_del,j et Q_del,dh'!$D67,0)","v":0},{"$f":"IF(AK118=\"Oui\",'Q_del,j et Q_del,dh'!$D67,0)","v":0},{"$f":"IF(AL118=\"Oui\",'Q_del,j et Q_del,dh'!$D67,0)","v":0},{"$f":"IF(AM118=\"Oui\",'Q_del,j et Q_del,dh'!$D67,0)","v":0},{"$f":"IF(AN118=\"Oui\",'Q_del,j et Q_del,dh'!$D67,0)","v":0},{"$f":"IF(AO118=\"Oui\",'Q_del,j et Q_del,dh'!$D67,0)","v":0},{"$f":"IF(AP118=\"Oui\",'Q_del,j et Q_del,dh'!$D67,0)","v":0},{"$f":"IF(AQ118=\"Oui\",'Q_del,j et Q_del,dh'!$D67,0)","v":0},{"$f":"IF(AR118=\"Oui\",'Q_del,j et Q_del,dh'!$D67,0)","v":0},{"$f":"IF(AS118=\"Oui\",'Q_del,j et Q_del,dh'!$D67,0)","v":0},{"$f":"IF(AT118=\"Oui\",'Q_del,j et Q_del,dh'!$D67,0)","v":0},{"$f":"IF(AU118=\"Oui\",'Q_del,j et Q_del,dh'!$D67,0)","v":0},{"$f":"IF(AV118=\"Oui\",'Q_del,j et Q_del,dh'!$D67,0)","v":0},{"$f":"IF(AW118=\"Oui\",'Q_del,j et Q_del,dh'!$D67,0)","v":0},{"$f":"IF(AX118=\"Oui\",'Q_del,j et Q_del,dh'!$D67,0)","v":0},{"$f":"IF(AY118=\"Oui\",'Q_del,j et Q_del,dh'!$D67,0)","v":0},{"$f":"IF(AZ118=\"Oui\",'Q_del,j et Q_del,dh'!$D67,0)","v":0},{"$f":"IF(BA118=\"Oui\",'Q_del,j et Q_del,dh'!$D67,0)","v":0}]
["Qdel,l,j [MJ]","Demandeur de chaleur 61",61,{"$f":"IF(D119=\"Oui\",'Q_del,j et Q_del,dh'!$D68,0)","v":0},{"$f":"IF(E119=\"Oui\",'Q_del,j et Q_del,dh'!$D68,0)","v":0},{"$f":"IF(F119=\"Oui\",'Q_del,j et Q_del,dh'!$D68,0)","v":0},{"$f":"IF(G119=\"Oui\",'Q_del,j et Q_del,dh'!$D68,0)","v":0},{"$f":"IF(H119=\"Oui\",'Q_del,j et Q_del,dh'!$D68,0)","v":0},{"$f":"IF(I119=\"Oui\",'Q_del,j et Q_del,dh'!$D68,0)","v":0},{"$f":"IF(J119=\"Oui\",'Q_del,j et Q_del,dh'!$D68,0)","v":0},{"$f":"IF(K119=\"Oui\",'Q_del,j et Q_del,dh'!$D68,0)","v":0},{"$f":"IF(L119=\"Oui\",'Q_del,j et Q_del,dh'!$D68,0)","v":0},{"$f":"IF(M119=\"Oui\",'Q_del,j et Q_del,dh'!$D68,0)","v":0},{"$f":"IF(N119=\"Oui\",'Q_del,j et Q_del,dh'!$D68,0)","v":0},{"$f":"IF(O119=\"Oui\",'Q_del,j et Q_del,dh'!$D68,0)","v":0},{"$f":"IF(P119=\"Oui\",'Q_del,j et Q_del,dh'!$D68,0)","v":0},{"$f":"IF(Q119=\"Oui\",'Q_del,j et Q_del,dh'!$D68,0)","v":0},{"$f":"IF(R119=\"Oui\",'Q_del,j et Q_del,dh'!$D68,0)","v":0},{"$f":"IF(S119=\"Oui\",'Q_del,j et Q_del,dh'!$D68,0)","v":0},{"$f":"IF(T119=\"Oui\",'Q_del,j et Q_del,dh'!$D68,0)","v":0},{"$f":"IF(U119=\"Oui\",'Q_del,j et Q_del,dh'!$D68,0)","v":0},{"$f":"IF(V119=\"Oui\",'Q_del,j et Q_del,dh'!$D68,0)","v":0},{"$f":"IF(W119=\"Oui\",'Q_del,j et Q_del,dh'!$D68,0)","v":0},{"$f":"IF(X119=\"Oui\",'Q_del,j et Q_del,dh'!$D68,0)","v":0},{"$f":"IF(Y119=\"Oui\",'Q_del,j et Q_del,dh'!$D68,0)","v":0},{"$f":"IF(Z119=\"Oui\",'Q_del,j et Q_del,dh'!$D68,0)","v":0},{"$f":"IF(AA119=\"Oui\",'Q_del,j et Q_del,dh'!$D68,0)","v":0},{"$f":"IF(AB119=\"Oui\",'Q_del,j et Q_del,dh'!$D68,0)","v":0},{"$f":"IF(AC119=\"Oui\",'Q_del,j et Q_del,dh'!$D68,0)","v":0},{"$f":"IF(AD119=\"Oui\",'Q_del,j et Q_del,dh'!$D68,0)","v":0},{"$f":"IF(AE119=\"Oui\",'Q_del,j et Q_del,dh'!$D68,0)","v":0},{"$f":"IF(AF119=\"Oui\",'Q_del,j et Q_del,dh'!$D68,0)","v":0},{"$f":"IF(AG119=\"Oui\",'Q_del,j et Q_del,dh'!$D68,0)","v":0},{"$f":"IF(AH119=\"Oui\",'Q_del,j et Q_del,dh'!$D68,0)","v":0},{"$f":"IF(AI119=\"Oui\",'Q_del,j et Q_del,dh'!$D68,0)","v":0},{"$f":"IF(AJ119=\"Oui\",'Q_del,j et Q_del,dh'!$D68,0)","v":0},{"$f":"IF(AK119=\"Oui\",'Q_del,j et Q_del,dh'!$D68,0)","v":0},{"$f":"IF(AL119=\"Oui\",'Q_del,j et Q_del,dh'!$D68,0)","v":0},{"$f":"IF(AM119=\"Oui\",'Q_del,j et Q_del,dh'!$D68,0)","v":0},{"$f":"IF(AN119=\"Oui\",'Q_del,j et Q_del,dh'!$D68,0)","v":0},{"$f":"IF(AO119=\"Oui\",'Q_del,j et Q_del,dh'!$D68,0)","v":0},{"$f":"IF(AP119=\"Oui\",'Q_del,j et Q_del,dh'!$D68,0)","v":0},{"$f":"IF(AQ119=\"Oui\",'Q_del,j et Q_del,dh'!$D68,0)","v":0},{"$f":"IF(AR119=\"Oui\",'Q_del,j et Q_del,dh'!$D68,0)","v":0},{"$f":"IF(AS119=\"Oui\",'Q_del,j et Q_del,dh'!$D68,0)","v":0},{"$f":"IF(AT119=\"Oui\",'Q_del,j et Q_del,dh'!$D68,0)","v":0},{"$f":"IF(AU119=\"Oui\",'Q_del,j et Q_del,dh'!$D68,0)","v":0},{"$f":"IF(AV119=\"Oui\",'Q_del,j et Q_del,dh'!$D68,0)","v":0},{"$f":"IF(AW119=\"Oui\",'Q_del,j et Q_del,dh'!$D68,0)","v":0},{"$f":"IF(AX119=\"Oui\",'Q_del,j et Q_del,dh'!$D68,0)","v":0},{"$f":"IF(AY119=\"Oui\",'Q_del,j et Q_del,dh'!$D68,0)","v":0},{"$f":"IF(AZ119=\"Oui\",'Q_del,j et Q_del,dh'!$D68,0)","v":0},{"$f":"IF(BA119=\"Oui\",'Q_del,j et Q_del,dh'!$D68,0)","v":0}]
["Qdel,l,j [MJ]","Demandeur de chaleur 62",62,{"$f":"IF(D120=\"Oui\",'Q_del,j et Q_del,dh'!$D69,0)","v":0},{"$f":"IF(E120=\"Oui\",'Q_del,j et Q_del,dh'!$D69,0)","v":0},{"$f":"IF(F120=\"Oui\",'Q_del,j et Q_del,dh'!$D69,0)","v":0},{"$f":"IF(G120=\"Oui\",'Q_del,j et Q_del,dh'!$D69,0)","v":0},{"$f":"IF(H120=\"Oui\",'Q_del,j et Q_del,dh'!$D69,0)","v":0},{"$f":"IF(I120=\"Oui\",'Q_del,j et Q_del,dh'!$D69,0)","v":0},{"$f":"IF(J120=\"Oui\",'Q_del,j et Q_del,dh'!$D69,0)","v":0},{"$f":"IF(K120=\"Oui\",'Q_del,j et Q_del,dh'!$D69,0)","v":0},{"$f":"IF(L120=\"Oui\",'Q_del,j et Q_del,dh'!$D69,0)","v":0},{"$f":"IF(M120=\"Oui\",'Q_del,j et Q_del,dh'!$D69,0)","v":0},{"$f":"IF(N120=\"Oui\",'Q_del,j et Q_del,dh'!$D69,0)","v":0},{"$f":"IF(O120=\"Oui\",'Q_del,j et Q_del,dh'!$D69,0)","v":0},{"$f":"IF(P120=\"Oui\",'Q_del,j et Q_del,dh'!$D69,0)","v":0},{"$f":"IF(Q120=\"Oui\",'Q_del,j et Q_del,dh'!$D69,0)","v":0},{"$f":"IF(R120=\"Oui\",'Q_del,j et Q_del,dh'!$D69,0)","v":0},{"$f":"IF(S120=\"Oui\",'Q_del,j et Q_del,dh'!$D69,0)","v":0},{"$f":"IF(T120=\"Oui\",'Q_del,j et Q_del,dh'!$D69,0)","v":0},{"$f":"IF(U120=\"Oui\",'Q_del,j et Q_del,dh'!$D69,0)","v":0},{"$f":"IF(V120=\"Oui\",'Q_del,j et Q_del,dh'!$D69,0)","v":0},{"$f":"IF(W120=\"Oui\",'Q_del,j et Q_del,dh'!$D69,0)","v":0},{"$f":"IF(X120=\"Oui\",'Q_del,j et Q_del,dh'!$D69,0)","v":0},{"$f":"IF(Y120=\"Oui\",'Q_del,j et Q_del,dh'!$D69,0)","v":0},{"$f":"IF(Z120=\"Oui\",'Q_del,j et Q_del,dh'!$D69,0)","v":0},{"$f":"IF(AA120=\"Oui\",'Q_del,j et Q_del,dh'!$D69,0)","v":0},{"$f":"IF(AB120=\"Oui\",'Q_del,j et Q_del,dh'!$D69,0)","v":0},{"$f":"IF(AC120=\"Oui\",'Q_del,j et Q_del,dh'!$D69,0)","v":0},{"$f":"IF(AD120=\"Oui\",'Q_del,j et Q_del,dh'!$D69,0)","v":0},{"$f":"IF(AE120=\"Oui\",'Q_del,j et Q_del,dh'!$D69,0)","v":0},{"$f":"IF(AF120=\"Oui\",'Q_del,j et Q_del,dh'!$D69,0)","v":0},{"$f":"IF(AG120=\"Oui\",'Q_del,j et Q_del,dh'!$D69,0)","v":0},{"$f":"IF(AH120=\"Oui\",'Q_del,j et Q_del,dh'!$D69,0)","v":0},{"$f":"IF(AI120=\"Oui\",'Q_del,j et Q_del,dh'!$D69,0)","v":0},{"$f":"IF(AJ120=\"Oui\",'Q_del,j et Q_del,dh'!$D69,0)","v":0},{"$f":"IF(AK120=\"Oui\",'Q_del,j et Q_del,dh'!$D69,0)","v":0},{"$f":"IF(AL120=\"Oui\",'Q_del,j et Q_del,dh'!$D69,0)","v":0},{"$f":"IF(AM120=\"Oui\",'Q_del,j et Q_del,dh'!$D69,0)","v":0},{"$f":"IF(AN120=\"Oui\",'Q_del,j et Q_del,dh'!$D69,0)","v":0},{"$f":"IF(AO120=\"Oui\",'Q_del,j et Q_del,dh'!$D69,0)","v":0},{"$f":"IF(AP120=\"Oui\",'Q_del,j et Q_del,dh'!$D69,0)","v":0},{"$f":"IF(AQ120=\"Oui\",'Q_del,j et Q_del,dh'!$D69,0)","v":0},{"$f":"IF(AR120=\"Oui\",'Q_del,j et Q_del,dh'!$D69,0)","v":0},{"$f":"IF(AS120=\"Oui\",'Q_del,j et Q_del,dh'!$D69,0)","v":0},{"$f":"IF(AT120=\"Oui\",'Q_del,j et Q_del,dh'!$D69,0)","v":0},{"$f":"IF(AU120=\"Oui\",'Q_del,j et Q_del,dh'!$D69,0)","v":0},{"$f":"IF(AV120=\"Oui\",'Q_del,j et Q_del,dh'!$D69,0)","v":0},{"$f":"IF(AW120=\"Oui\",'Q_del,j et Q_del,dh'!$D69,0)","v":0},{"$f":"IF(AX120=\"Oui\",'Q_del,j et Q_del,dh'!$D69,0)","v":0},{"$f":"IF(AY120=\"Oui\",'Q_del,j et Q_del,dh'!$D69,0)","v":0},{"$f":"IF(AZ120=\"Oui\",'Q_del,j et Q_del,dh'!$D69,0)","v":0},{"$f":"IF(BA120=\"Oui\",'Q_del,j et Q_del,dh'!$D69,0)","v":0}]
["Qdel,l,j [MJ]","Demandeur de chaleur 63",63,{"$f":"IF(D121=\"Oui\",'Q_del,j et Q_del,dh'!$D70,0)","v":0},{"$f":"IF(E121=\"Oui\",'Q_del,j et Q_del,dh'!$D70,0)","v":0},{"$f":"IF(F121=\"Oui\",'Q_del,j et Q_del,dh'!$D70,0)","v":0},{"$f":"IF(G121=\"Oui\",'Q_del,j et Q_del,dh'!$D70,0)","v":0},{"$f":"IF(H121=\"Oui\",'Q_del,j et Q_del,dh'!$D70,0)","v":0},{"$f":"IF(I121=\"Oui\",'Q_del,j et Q_del,dh'!$D70,0)","v":0},{"$f":"IF(J121=\"Oui\",'Q_del,j et Q_del,dh'!$D70,0)","v":0},{"$f":"IF(K121=\"Oui\",'Q_del,j et Q_del,dh'!$D70,0)","v":0},{"$f":"IF(L121=\"Oui\",'Q_del,j et Q_del,dh'!$D70,0)","v":0},{"$f":"IF(M121=\"Oui\",'Q_del,j et Q_del,dh'!$D70,0)","v":0},{"$f":"IF(N121=\"Oui\",'Q_del,j et Q_del,dh'!$D70,0)","v":0},{"$f":"IF(O121=\"Oui\",'Q_del,j et Q_del,dh'!$D70,0)","v":0},{"$f":"IF(P121=\"Oui\",'Q_del,j et Q_del,dh'!$D70,0)","v":0},{"$f":"IF(Q121=\"Oui\",'Q_del,j et Q_del,dh'!$D70,0)","v":0},{"$f":"IF(R121=\"Oui\",'Q_del,j et Q_del,dh'!$D70,0)","v":0},{"$f":"IF(S121=\"Oui\",'Q_del,j et Q_del,dh'!$D70,0)","v":0},{"$f":"IF(T121=\"Oui\",'Q_del,j et Q_del,dh'!$D70,0)","v":0},{"$f":"IF(U121=\"Oui\",'Q_del,j et Q_del,dh'!$D70,0)","v":0},{"$f":"IF(V121=\"Oui\",'Q_del,j et Q_del,dh'!$D70,0)","v":0},{"$f":"IF(W121=\"Oui\",'Q_del,j et Q_del,dh'!$D70,0)","v":0},{"$f":"IF(X121=\"Oui\",'Q_del,j et Q_del,dh'!$D70,0)","v":0},{"$f":"IF(Y121=\"Oui\",'Q_del,j et Q_del,dh'!$D70,0)","v":0},{"$f":"IF(Z121=\"Oui\",'Q_del,j et Q_del,dh'!$D70,0)","v":0},{"$f":"IF(AA121=\"Oui\",'Q_del,j et Q_del,dh'!$D70,0)","v":0},{"$f":"IF(AB121=\"Oui\",'Q_del,j et Q_del,dh'!$D70,0)","v":0},{"$f":"IF(AC121=\"Oui\",'Q_del,j et Q_del,dh'!$D70,0)","v":0},{"$f":"IF(AD121=\"Oui\",'Q_del,j et Q_del,dh'!$D70,0)","v":0},{"$f":"IF(AE121=\"Oui\",'Q_del,j et Q_del,dh'!$D70,0)","v":0},{"$f":"IF(AF121=\"Oui\",'Q_del,j et Q_del,dh'!$D70,0)","v":0},{"$f":"IF(AG121=\"Oui\",'Q_del,j et Q_del,dh'!$D70,0)","v":0},{"$f":"IF(AH121=\"Oui\",'Q_del,j et Q_del,dh'!$D70,0)","v":0},{"$f":"IF(AI121=\"Oui\",'Q_del,j et Q_del,dh'!$D70,0)","v":0},{"$f":"IF(AJ121=\"Oui\",'Q_del,j et Q_del,dh'!$D70,0)","v":0},{"$f":"IF(AK121=\"Oui\",'Q_del,j et Q_del,dh'!$D70,0)","v":0},{"$f":"IF(AL121=\"Oui\",'Q_del,j et Q_del,dh'!$D70,0)","v":0},{"$f":"IF(AM121=\"Oui\",'Q_del,j et Q_del,dh'!$D70,0)","v":0},{"$f":"IF(AN121=\"Oui\",'Q_del,j et Q_del,dh'!$D70,0)","v":0},{"$f":"IF(AO121=\"Oui\",'Q_del,j et Q_del,dh'!$D70,0)","v":0},{"$f":"IF(AP121=\"Oui\",'Q_del,j et Q_del,dh'!$D70,0)","v":0},{"$f":"IF(AQ121=\"Oui\",'Q_del,j et Q_del,dh'!$D70,0)","v":0},{"$f":"IF(AR121=\"Oui\",'Q_del,j et Q_del,dh'!$D70,0)","v":0},{"$f":"IF(AS121=\"Oui\",'Q_del,j et Q_del,dh'!$D70,0)","v":0},{"$f":"IF(AT121=\"Oui\",'Q_del,j et Q_del,dh'!$D70,0)","v":0},{"$f":"IF(AU121=\"Oui\",'Q_del,j et Q_del,dh'!$D70,0)","v":0},{"$f":"IF(AV121=\"Oui\",'Q_del,j et Q_del,dh'!$D70,0)","v":0},{"$f":"IF(AW121=\"Oui\",'Q_del,j et Q_del,dh'!$D70,0)","v":0},{"$f":"IF(AX121=\"Oui\",'Q_del,j et Q_del,dh'!$D70,0)","v":0},{"$f":"IF(AY121=\"Oui\",'Q_del,j et Q_del,dh'!$D70,0)","v":0},{"$f":"IF(AZ121=\"Oui\",'Q_del,j et Q_del,dh'!$D70,0)","v":0},{"$f":"IF(BA121=\"Oui\",'Q_del,j et Q_del,dh'!$D70,0)","v":0}]
["Qdel,l,j [MJ]","Demandeur de chaleur 64",64,{"$f":"IF(D122=\"Oui\",'Q_del,j et Q_del,dh'!$D71,0)","v":0},{"$f":"IF(E122=\"Oui\",'Q_del,j et Q_del,dh'!$D71,0)","v":0},{"$f":"IF(F122=\"Oui\",'Q_del,j et Q_del,dh'!$D71,0)","v":0},{"$f":"IF(G122=\"Oui\",'Q_del,j et Q_del,dh'!$D71,0)","v":0},{"$f":"IF(H122=\"Oui\",'Q_del,j et Q_del,dh'!$D71,0)","v":0},{"$f":"IF(I122=\"Oui\",'Q_del,j et Q_del,dh'!$D71,0)","v":0},{"$f":"IF(J122=\"Oui\",'Q_del,j et Q_del,dh'!$D71,0)","v":0},{"$f":"IF(K122=\"Oui\",'Q_del,j et Q_del,dh'!$D71,0)","v":0},{"$f":"IF(L122=\"Oui\",'Q_del,j et Q_del,dh'!$D71,0)","v":0},{"$f":"IF(M122=\"Oui\",'Q_del,j et Q_del,dh'!$D71,0)","v":0},{"$f":"IF(N122=\"Oui\",'Q_del,j et Q_del,dh'!$D71,0)","v":0},{"$f":"IF(O122=\"Oui\",'Q_del,j et Q_del,dh'!$D71,0)","v":0},{"$f":"IF(P122=\"Oui\",'Q_del,j et Q_del,dh'!$D71,0)","v":0},{"$f":"IF(Q122=\"Oui\",'Q_del,j et Q_del,dh'!$D71,0)","v":0},{"$f":"IF(R122=\"Oui\",'Q_del,j et Q_del,dh'!$D71,0)","v":0},{"$f":"IF(S122=\"Oui\",'Q_del,j et Q_del,dh'!$D71,0)","v":0},{"$f":"IF(T122=\"Oui\",'Q_del,j et Q_del,dh'!$D71,0)","v":0},{"$f":"IF(U122=\"Oui\",'Q_del,j et Q_del,dh'!$D71,0)","v":0},{"$f":"IF(V122=\"Oui\",'Q_del,j et Q_del,dh'!$D71,0)","v":0},{"$f":"IF(W122=\"Oui\",'Q_del,j et Q_del,dh'!$D71,0)","v":0},{"$f":"IF(X122=\"Oui\",'Q_del,j et Q_del,dh'!$D71,0)","v":0},{"$f":"IF(Y122=\"Oui\",'Q_del,j et Q_del,dh'!$D71,0)","v":0},{"$f":"IF(Z122=\"Oui\",'Q_del,j et Q_del,dh'!$D71,0)","v":0},{"$f":"IF(AA122=\"Oui\",'Q_del,j et Q_del,dh'!$D71,0)","v":0},{"$f":"IF(AB122=\"Oui\",'Q_del,j et Q_del,dh'!$D71,0)","v":0},{"$f":"IF(AC122=\"Oui\",'Q_del,j et Q_del,dh'!$D71,0)","v":0},{"$f":"IF(AD122=\"Oui\",'Q_del,j et Q_del,dh'!$D71,0)","v":0},{"$f":"IF(AE122=\"Oui\",'Q_del,j et Q_del,dh'!$D71,0)","v":0},{"$f":"IF(AF122=\"Oui\",'Q_del,j et Q_del,dh'!$D71,0)","v":0},{"$f":"IF(AG122=\"Oui\",'Q_del,j et Q_del,dh'!$D71,0)","v":0},{"$f":"IF(AH122=\"Oui\",'Q_del,j et Q_del,dh'!$D71,0)","v":0},{"$f":"IF(AI122=\"Oui\",'Q_del,j et Q_del,dh'!$D71,0)","v":0},{"$f":"IF(AJ122=\"Oui\",'Q_del,j et Q_del,dh'!$D71,0)","v":0},{"$f":"IF(AK122=\"Oui\",'Q_del,j et Q_del,dh'!$D71,0)","v":0},{"$f":"IF(AL122=\"Oui\",'Q_del,j et Q_del,dh'!$D71,0)","v":0},{"$f":"IF(AM122=\"Oui\",'Q_del,j et Q_del,dh'!$D71,0)","v":0},{"$f":"IF(AN122=\"Oui\",'Q_del,j et Q_del,dh'!$D71,0)","v":0},{"$f":"IF(AO122=\"Oui\",'Q_del,j et Q_del,dh'!$D71,0)","v":0},{"$f":"IF(AP122=\"Oui\",'Q_del,j et Q_del,dh'!$D71,0)","v":0},{"$f":"IF(AQ122=\"Oui\",'Q_del,j et Q_del,dh'!$D71,0)","v":0},{"$f":"IF(AR122=\"Oui\",'Q_del,j et Q_del,dh'!$D71,0)","v":0},{"$f":"IF(AS122=\"Oui\",'Q_del,j et Q_del,dh'!$D71,0)","v":0},{"$f":"IF(AT122=\"Oui\",'Q_del,j et Q_del,dh'!$D71,0)","v":0},{"$f":"IF(AU122=\"Oui\",'Q_del,j et Q_del,dh'!$D71,0)","v":0},{"$f":"IF(AV122=\"Oui\",'Q_del,j et Q_del,dh'!$D71,0)","v":0},{"$f":"IF(AW122=\"Oui\",'Q_del,j et Q_del,dh'!$D71,0)","v":0},{"$f":"IF(AX122=\"Oui\",'Q_del,j et Q_del,dh'!$D71,0)","v":0},{"$f":"IF(AY122=\"Oui\",'Q_del,j et Q_del,dh'!$D71,0)","v":0},{"$f":"IF(AZ122=\"Oui\",'Q_del,j et Q_del,dh'!$D71,0)","v":0},{"$f":"IF(BA122=\"Oui\",'Q_del,j et Q_del,dh'!$D71,0)","v":0}]
["Qdel,l,j [MJ]",{"$f":"\"Demandeur de chaleur \"&C378","v":"Demandeur de chaleur 65"},65,{"$f":"IF(D123=\"Oui\",'Q_del,j et Q_del,dh'!$D72,0)","v":0},{"$f":"IF(E123=\"Oui\",'Q_del,j et Q_del,dh'!$D72,0)","v":0},{"$f":"IF(F123=\"Oui\",'Q_del,j et Q_del,dh'!$D72,0)","v":0},{"$f":"IF(G123=\"Oui\",'Q_del,j et Q_del,dh'!$D72,0)","v":0},{"$f":"IF(H123=\"Oui\",'Q_del,j et Q_del,dh'!$D72,0)","v":0},{"$f":"IF(I123=\"Oui\",'Q_del,j et Q_del,dh'!$D72,0)","v":0},{"$f":"IF(J123=\"Oui\",'Q_del,j et Q_del,dh'!$D72,0)","v":0},{"$f":"IF(K123=\"Oui\",'Q_del,j et Q_del,dh'!$D72,0)","v":0},{"$f":"IF(L123=\"Oui\",'Q_del,j et Q_del,dh'!$D72,0)","v":0},{"$f":"IF(M123=\"Oui\",'Q_del,j et Q_del,dh'!$D72,0)","v":0},{"$f":"IF(N123=\"Oui\",'Q_del,j et Q_del,dh'!$D72,0)","v":0},{"$f":"IF(O123=\"Oui\",'Q_del,j et Q_del,dh'!$D72,0)","v":0},{"$f":"IF(P123=\"Oui\",'Q_del,j et Q_del,dh'!$D72,0)","v":0},{"$f":"IF(Q123=\"Oui\",'Q_del,j et Q_del,dh'!$D72,0)","v":0},{"$f":"IF(R123=\"Oui\",'Q_del,j et Q_del,dh'!$D72,0)","v":0},{"$f":"IF(S123=\"Oui\",'Q_del,j et Q_del,dh'!$D72,0)","v":0},{"$f":"IF(T123=\"Oui\",'Q_del,j et Q_del,dh'!$D72,0)","v":0},{"$f":"IF(U123=\"Oui\",'Q_del,j et Q_del,dh'!$D72,0)","v":0},{"$f":"IF(V123=\"Oui\",'Q_del,j et Q_del,dh'!$D72,0)","v":0},{"$f":"IF(W123=\"Oui\",'Q_del,j et Q_del,dh'!$D72,0)","v":0},{"$f":"IF(X123=\"Oui\",'Q_del,j et Q_del,dh'!$D72,0)","v":0},{"$f":"IF(Y123=\"Oui\",'Q_del,j et Q_del,dh'!$D72,0)","v":0},{"$f":"IF(Z123=\"Oui\",'Q_del,j et Q_del,dh'!$D72,0)","v":0},{"$f":"IF(AA123=\"Oui\",'Q_del,j et Q_del,dh'!$D72,0)","v":0},{"$f":"IF(AB123=\"Oui\",'Q_del,j et Q_del,dh'!$D72,0)","v":0},{"$f":"IF(AC123=\"Oui\",'Q_del,j et Q_del,dh'!$D72,0)","v":0},{"$f":"IF(AD123=\"Oui\",'Q_del,j et Q_del,dh'!$D72,0)","v":0},{"$f":"IF(AE123=\"Oui\",'Q_del,j et Q_del,dh'!$D72,0)","v":0},{"$f":"IF(AF123=\"Oui\",'Q_del,j et Q_del,dh'!$D72,0)","v":0},{"$f":"IF(AG123=\"Oui\",'Q_del,j et Q_del,dh'!$D72,0)","v":0},{"$f":"IF(AH123=\"Oui\",'Q_del,j et Q_del,dh'!$D72,0)","v":0},{"$f":"IF(AI123=\"Oui\",'Q_del,j et Q_del,dh'!$D72,0)","v":0},{"$f":"IF(AJ123=\"Oui\",'Q_del,j et Q_del,dh'!$D72,0)","v":0},{"$f":"IF(AK123=\"Oui\",'Q_del,j et Q_del,dh'!$D72,0)","v":0},{"$f":"IF(AL123=\"Oui\",'Q_del,j et Q_del,dh'!$D72,0)","v":0},{"$f":"IF(AM123=\"Oui\",'Q_del,j et Q_del,dh'!$D72,0)","v":0},{"$f":"IF(AN123=\"Oui\",'Q_del,j et Q_del,dh'!$D72,0)","v":0},{"$f":"IF(AO123=\"Oui\",'Q_del,j et Q_del,dh'!$D72,0)","v":0},{"$f":"IF(AP123=\"Oui\",'Q_del,j et Q_del,dh'!$D72,0)","v":0},{"$f":"IF(AQ123=\"Oui\",'Q_del,j et Q_del,dh'!$D72,0)","v":0},{"$f":"IF(AR123=\"Oui\",'Q_del,j et Q_del,dh'!$D72,0)","v":0},{"$f":"IF(AS123=\"Oui\",'Q_del,j et Q_del,dh'!$D72,0)","v":0},{"$f":"IF(AT123=\"Oui\",'Q_del,j et Q_del,dh'!$D72,0)","v":0},{"$f":"IF(AU123=\"Oui\",'Q_del,j et Q_del,dh'!$D72,0)","v":0},{"$f":"IF(AV123=\"Oui\",'Q_del,j et Q_del,dh'!$D72,0)","v":0},{"$f":"IF(AW123=\"Oui\",'Q_del,j et Q_del,dh'!$D72,0)","v":0},{"$f":"IF(AX123=\"Oui\",'Q_del,j et Q_del,dh'!$D72,0)","v":0},{"$f":"IF(AY123=\"Oui\",'Q_del,j et Q_del,dh'!$D72,0)","v":0},{"$f":"IF(AZ123=\"Oui\",'Q_del,j et Q_del,dh'!$D72,0)","v":0},{"$f":"IF(BA123=\"Oui\",'Q_del,j et Q_del,dh'!$D72,0)","v":0}]
["Qdel,l,j [MJ]","Demandeur de chaleur 66",66,{"$f":"IF(D124=\"Oui\",'Q_del,j et Q_del,dh'!$D73,0)","v":0},{"$f":"IF(E124=\"Oui\",'Q_del,j et Q_del,dh'!$D73,0)","v":0},{"$f":"IF(F124=\"Oui\",'Q_del,j et Q_del,dh'!$D73,0)","v":0},{"$f":"IF(G124=\"Oui\",'Q_del,j et Q_del,dh'!$D73,0)","v":0},{"$f":"IF(H124=\"Oui\",'Q_del,j et Q_del,dh'!$D73,0)","v":0},{"$f":"IF(I124=\"Oui\",'Q_del,j et Q_del,dh'!$D73,0)","v":0},{"$f":"IF(J124=\"Oui\",'Q_del,j et Q_del,dh'!$D73,0)","v":0},{"$f":"IF(K124=\"Oui\",'Q_del,j et Q_del,dh'!$D73,0)","v":0},{"$f":"IF(L124=\"Oui\",'Q_del,j et Q_del,dh'!$D73,0)","v":0},{"$f":"IF(M124=\"Oui\",'Q_del,j et Q_del,dh'!$D73,0)","v":0},{"$f":"IF(N124=\"Oui\",'Q_del,j et Q_del,dh'!$D73,0)","v":0},{"$f":"IF(O124=\"Oui\",'Q_del,j et Q_del,dh'!$D73,0)","v":0},{"$f":"IF(P124=\"Oui\",'Q_del,j et Q_del,dh'!$D73,0)","v":0},{"$f":"IF(Q124=\"Oui\",'Q_del,j et Q_del,dh'!$D73,0)","v":0},{"$f":"IF(R124=\"Oui\",'Q_del,j et Q_del,dh'!$D73,0)","v":0},{"$f":"IF(S124=\"Oui\",'Q_del,j et Q_del,dh'!$D73,0)","v":0},{"$f":"IF(T124=\"Oui\",'Q_del,j et Q_del,dh'!$D73,0)","v":0},{"$f":"IF(U124=\"Oui\",'Q_del,j et Q_del,dh'!$D73,0)","v":0},{"$f":"IF(V124=\"Oui\",'Q_del,j et Q_del,dh'!$D73,0)","v":0},{"$f":"IF(W124=\"Oui\",'Q_del,j et Q_del,dh'!$D73,0)","v":0},{"$f":"IF(X124=\"Oui\",'Q_del,j et Q_del,dh'!$D73,0)","v":0},{"$f":"IF(Y124=\"Oui\",'Q_del,j et Q_del,dh'!$D73,0)","v":0},{"$f":"IF(Z124=\"Oui\",'Q_del,j et Q_del,dh'!$D73,0)","v":0},{"$f":"IF(AA124=\"Oui\",'Q_del,j et Q_del,dh'!$D73,0)","v":0},{"$f":"IF(AB124=\"Oui\",'Q_del,j et Q_del,dh'!$D73,0)","v":0},{"$f":"IF(AC124=\"Oui\",'Q_del,j et Q_del,dh'!$D73,0)","v":0},{"$f":"IF(AD124=\"Oui\",'Q_del,j et Q_del,dh'!$D73,0)","v":0},{"$f":"IF(AE124=\"Oui\",'Q_del,j et Q_del,dh'!$D73,0)","v":0},{"$f":"IF(AF124=\"Oui\",'Q_del,j et Q_del,dh'!$D73,0)","v":0},{"$f":"IF(AG124=\"Oui\",'Q_del,j et Q_del,dh'!$D73,0)","v":0},{"$f":"IF(AH124=\"Oui\",'Q_del,j et Q_del,dh'!$D73,0)","v":0},{"$f":"IF(AI124=\"Oui\",'Q_del,j et Q_del,dh'!$D73,0)","v":0},{"$f":"IF(AJ124=\"Oui\",'Q_del,j et Q_del,dh'!$D73,0)","v":0},{"$f":"IF(AK124=\"Oui\",'Q_del,j et Q_del,dh'!$D73,0)","v":0},{"$f":"IF(AL124=\"Oui\",'Q_del,j et Q_del,dh'!$D73,0)","v":0},{"$f":"IF(AM124=\"Oui\",'Q_del,j et Q_del,dh'!$D73,0)","v":0},{"$f":"IF(AN124=\"Oui\",'Q_del,j et Q_del,dh'!$D73,0)","v":0},{"$f":"IF(AO124=\"Oui\",'Q_del,j et Q_del,dh'!$D73,0)","v":0},{"$f":"IF(AP124=\"Oui\",'Q_del,j et Q_del,dh'!$D73,0)","v":0},{"$f":"IF(AQ124=\"Oui\",'Q_del,j et Q_del,dh'!$D73,0)","v":0},{"$f":"IF(AR124=\"Oui\",'Q_del,j et Q_del,dh'!$D73,0)","v":0},{"$f":"IF(AS124=\"Oui\",'Q_del,j et Q_del,dh'!$D73,0)","v":0},{"$f":"IF(AT124=\"Oui\",'Q_del,j et Q_del,dh'!$D73,0)","v":0},{"$f":"IF(AU124=\"Oui\",'Q_del,j et Q_del,dh'!$D73,0)","v":0},{"$f":"IF(AV124=\"Oui\",'Q_del,j et Q_del,dh'!$D73,0)","v":0},{"$f":"IF(AW124=\"Oui\",'Q_del,j et Q_del,dh'!$D73,0)","v":0},{"$f":"IF(AX124=\"Oui\",'Q_del,j et Q_del,dh'!$D73,0)","v":0},{"$f":"IF(AY124=\"Oui\",'Q_del,j et Q_del,dh'!$D73,0)","v":0},{"$f":"IF(AZ124=\"Oui\",'Q_del,j et Q_del,dh'!$D73,0)","v":0},{"$f":"IF(BA124=\"Oui\",'Q_del,j et Q_del,dh'!$D73,0)","v":0}]
["Qdel,l,j [MJ]","Demandeur de chaleur 67",{"$f":"C379+1","v":67},{"$f":"IF(D125=\"Oui\",'Q_del,j et Q_del,dh'!$D74,0)","v":0},{"$f":"IF(E125=\"Oui\",'Q_del,j et Q_del,dh'!$D74,0)","v":0},{"$f":"IF(F125=\"Oui\",'Q_del,j et Q_del,dh'!$D74,0)","v":0},{"$f":"IF(G125=\"Oui\",'Q_del,j et Q_del,dh'!$D74,0)","v":0},{"$f":"IF(H125=\"Oui\",'Q_del,j et Q_del,dh'!$D74,0)","v":0},{"$f":"IF(I125=\"Oui\",'Q_del,j et Q_del,dh'!$D74,0)","v":0},{"$f":"IF(J125=\"Oui\",'Q_del,j et Q_del,dh'!$D74,0)","v":0},{"$f":"IF(K125=\"Oui\",'Q_del,j et Q_del,dh'!$D74,0)","v":0},{"$f":"IF(L125=\"Oui\",'Q_del,j et Q_del,dh'!$D74,0)","v":0},{"$f":"IF(M125=\"Oui\",'Q_del,j et Q_del,dh'!$D74,0)","v":0},{"$f":"IF(N125=\"Oui\",'Q_del,j et Q_del,dh'!$D74,0)","v":0},{"$f":"IF(O125=\"Oui\",'Q_del,j et Q_del,dh'!$D74,0)","v":0},{"$f":"IF(P125=\"Oui\",'Q_del,j et Q_del,dh'!$D74,0)","v":0},{"$f":"IF(Q125=\"Oui\",'Q_del,j et Q_del,dh'!$D74,0)","v":0},{"$f":"IF(R125=\"Oui\",'Q_del,j et Q_del,dh'!$D74,0)","v":0},{"$f":"IF(S125=\"Oui\",'Q_del,j et Q_del,dh'!$D74,0)","v":0},{"$f":"IF(T125=\"Oui\",'Q_del,j et Q_del,dh'!$D74,0)","v":0},{"$f":"IF(U125=\"Oui\",'Q_del,j et Q_del,dh'!$D74,0)","v":0},{"$f":"IF(V125=\"Oui\",'Q_del,j et Q_del,dh'!$D74,0)","v":0},{"$f":"IF(W125=\"Oui\",'Q_del,j et Q_del,dh'!$D74,0)","v":0},{"$f":"IF(X125=\"Oui\",'Q_del,j et Q_del,dh'!$D74,0)","v":0},{"$f":"IF(Y125=\"Oui\",'Q_del,j et Q_del,dh'!$D74,0)","v":0},{"$f":"IF(Z125=\"Oui\",'Q_del,j et Q_del,dh'!$D74,0)","v":0},{"$f":"IF(AA125=\"Oui\",'Q_del,j et Q_del,dh'!$D74,0)","v":0},{"$f":"IF(AB125=\"Oui\",'Q_del,j et Q_del,dh'!$D74,0)","v":0},{"$f":"IF(AC125=\"Oui\",'Q_del,j et Q_del,dh'!$D74,0)","v":0},{"$f":"IF(AD125=\"Oui\",'Q_del,j et Q_del,dh'!$D74,0)","v":0},{"$f":"IF(AE125=\"Oui\",'Q_del,j et Q_del,dh'!$D74,0)","v":0},{"$f":"IF(AF125=\"Oui\",'Q_del,j et Q_del,dh'!$D74,0)","v":0},{"$f":"IF(AG125=\"Oui\",'Q_del,j et Q_del,dh'!$D74,0)","v":0},{"$f":"IF(AH125=\"Oui\",'Q_del,j et Q_del,dh'!$D74,0)","v":0},{"$f":"IF(AI125=\"Oui\",'Q_del,j et Q_del,dh'!$D74,0)","v":0},{"$f":"IF(AJ125=\"Oui\",'Q_del,j et Q_del,dh'!$D74,0)","v":0},{"$f":"IF(AK125=\"Oui\",'Q_del,j et Q_del,dh'!$D74,0)","v":0},{"$f":"IF(AL125=\"Oui\",'Q_del,j et Q_del,dh'!$D74,0)","v":0},{"$f":"IF(AM125=\"Oui\",'Q_del,j et Q_del,dh'!$D74,0)","v":0},{"$f":"IF(AN125=\"Oui\",'Q_del,j et Q_del,dh'!$D74,0)","v":0},{"$f":"IF(AO125=\"Oui\",'Q_del,j et Q_del,dh'!$D74,0)","v":0},{"$f":"IF(AP125=\"Oui\",'Q_del,j et Q_del,dh'!$D74,0)","v":0},{"$f":"IF(AQ125=\"Oui\",'Q_del,j et Q_del,dh'!$D74,0)","v":0},{"$f":"IF(AR125=\"Oui\",'Q_del,j et Q_del,dh'!$D74,0)","v":0},{"$f":"IF(AS125=\"Oui\",'Q_del,j et Q_del,dh'!$D74,0)","v":0},{"$f":"IF(AT125=\"Oui\",'Q_del,j et Q_del,dh'!$D74,0)","v":0},{"$f":"IF(AU125=\"Oui\",'Q_del,j et Q_del,dh'!$D74,0)","v":0},{"$f":"IF(AV125=\"Oui\",'Q_del,j et Q_del,dh'!$D74,0)","v":0},{"$f":"IF(AW125=\"Oui\",'Q_del,j et Q_del,dh'!$D74,0)","v":0},{"$f":"IF(AX125=\"Oui\",'Q_del,j et Q_del,dh'!$D74,0)","v":0},{"$f":"IF(AY125=\"Oui\",'Q_del,j et Q_del,dh'!$D74,0)","v":0},{"$f":"IF(AZ125=\"Oui\",'Q_del,j et Q_del,dh'!$D74,0)","v":0},{"$f":"IF(BA125=\"Oui\",'Q_del,j et Q_del,dh'!$D74,0)","v":0}]
["Qdel,l,j [MJ]","Demandeur de chaleur 68",68,{"$f":"IF(D126=\"Oui\",'Q_del,j et Q_del,dh'!$D75,0)","v":0},{"$f":"IF(E126=\"Oui\",'Q_del,j et Q_del,dh'!$D75,0)","v":0},{"$f":"IF(F126=\"Oui\",'Q_del,j et Q_del,dh'!$D75,0)","v":0},{"$f":"IF(G126=\"Oui\",'Q_del,j et Q_del,dh'!$D75,0)","v":0},{"$f":"IF(H126=\"Oui\",'Q_del,j et Q_del,dh'!$D75,0)","v":0},{"$f":"IF(I126=\"Oui\",'Q_del,j et Q_del,dh'!$D75,0)","v":0},{"$f":"IF(J126=\"Oui\",'Q_del,j et Q_del,dh'!$D75,0)","v":0},{"$f":"IF(K126=\"Oui\",'Q_del,j et Q_del,dh'!$D75,0)","v":0},{"$f":"IF(L126=\"Oui\",'Q_del,j et Q_del,dh'!$D75,0)","v":0},{"$f":"IF(M126=\"Oui\",'Q_del,j et Q_del,dh'!$D75,0)","v":0},{"$f":"IF(N126=\"Oui\",'Q_del,j et Q_del,dh'!$D75,0)","v":0},{"$f":"IF(O126=\"Oui\",'Q_del,j et Q_del,dh'!$D75,0)","v":0},{"$f":"IF(P126=\"Oui\",'Q_del,j et Q_del,dh'!$D75,0)","v":0},{"$f":"IF(Q126=\"Oui\",'Q_del,j et Q_del,dh'!$D75,0)","v":0},{"$f":"IF(R126=\"Oui\",'Q_del,j et Q_del,dh'!$D75,0)","v":0},{"$f":"IF(S126=\"Oui\",'Q_del,j et Q_del,dh'!$D75,0)","v":0},{"$f":"IF(T126=\"Oui\",'Q_del,j et Q_del,dh'!$D75,0)","v":0},{"$f":"IF(U126=\"Oui\",'Q_del,j et Q_del,dh'!$D75,0)","v":0},{"$f":"IF(V126=\"Oui\",'Q_del,j et Q_del,dh'!$D75,0)","v":0},{"$f":"IF(W126=\"Oui\",'Q_del,j et Q_del,dh'!$D75,0)","v":0},{"$f":"IF(X126=\"Oui\",'Q_del,j et Q_del,dh'!$D75,0)","v":0},{"$f":"IF(Y126=\"Oui\",'Q_del,j et Q_del,dh'!$D75,0)","v":0},{"$f":"IF(Z126=\"Oui\",'Q_del,j et Q_del,dh'!$D75,0)","v":0},{"$f":"IF(AA126=\"Oui\",'Q_del,j et Q_del,dh'!$D75,0)","v":0},{"$f":"IF(AB126=\"Oui\",'Q_del,j et Q_del,dh'!$D75,0)","v":0},{"$f":"IF(AC126=\"Oui\",'Q_del,j et Q_del,dh'!$D75,0)","v":0},{"$f":"IF(AD126=\"Oui\",'Q_del,j et Q_del,dh'!$D75,0)","v":0},{"$f":"IF(AE126=\"Oui\",'Q_del,j et Q_del,dh'!$D75,0)","v":0},{"$f":"IF(AF126=\"Oui\",'Q_del,j et Q_del,dh'!$D75,0)","v":0},{"$f":"IF(AG126=\"Oui\",'Q_del,j et Q_del,dh'!$D75,0)","v":0},{"$f":"IF(AH126=\"Oui\",'Q_del,j et Q_del,dh'!$D75,0)","v":0},{"$f":"IF(AI126=\"Oui\",'Q_del,j et Q_del,dh'!$D75,0)","v":0},{"$f":"IF(AJ126=\"Oui\",'Q_del,j et Q_del,dh'!$D75,0)","v":0},{"$f":"IF(AK126=\"Oui\",'Q_del,j et Q_del,dh'!$D75,0)","v":0},{"$f":"IF(AL126=\"Oui\",'Q_del,j et Q_del,dh'!$D75,0)","v":0},{"$f":"IF(AM126=\"Oui\",'Q_del,j et Q_del,dh'!$D75,0)","v":0},{"$f":"IF(AN126=\"Oui\",'Q_del,j et Q_del,dh'!$D75,0)","v":0},{"$f":"IF(AO126=\"Oui\",'Q_del,j et Q_del,dh'!$D75,0)","v":0},{"$f":"IF(AP126=\"Oui\",'Q_del,j et Q_del,dh'!$D75,0)","v":0},{"$f":"IF(AQ126=\"Oui\",'Q_del,j et Q_del,dh'!$D75,0)","v":0},{"$f":"IF(AR126=\"Oui\",'Q_del,j et Q_del,dh'!$D75,0)","v":0},{"$f":"IF(AS126=\"Oui\",'Q_del,j et Q_del,dh'!$D75,0)","v":0},{"$f":"IF(AT126=\"Oui\",'Q_del,j et Q_del,dh'!$D75,0)","v":0},{"$f":"IF(AU126=\"Oui\",'Q_del,j et Q_del,dh'!$D75,0)","v":0},{"$f":"IF(AV126=\"Oui\",'Q_del,j et Q_del,dh'!$D75,0)","v":0},{"$f":"IF(AW126=\"Oui\",'Q_del,j et Q_del,dh'!$D75,0)","v":0},{"$f":"IF(AX126=\"Oui\",'Q_del,j et Q_del,dh'!$D75,0)","v":0},{"$f":"IF(AY126=\"Oui\",'Q_del,j et Q_del,dh'!$D75,0)","v":0},{"$f":"IF(AZ126=\"Oui\",'Q_del,j et Q_del,dh'!$D75,0)","v":0},{"$f":"IF(BA126=\"Oui\",'Q_del,j et Q_del,dh'!$D75,0)","v":0}]
["Qdel,l,j [MJ]","Demandeur de chaleur 69",69,{"$f":"IF(D127=\"Oui\",'Q_del,j et Q_del,dh'!$D76,0)","v":0},{"$f":"IF(E127=\"Oui\",'Q_del,j et Q_del,dh'!$D76,0)","v":0},{"$f":"IF(F127=\"Oui\",'Q_del,j et Q_del,dh'!$D76,0)","v":0},{"$f":"IF(G127=\"Oui\",'Q_del,j et Q_del,dh'!$D76,0)","v":0},{"$f":"IF(H127=\"Oui\",'Q_del,j et Q_del,dh'!$D76,0)","v":0},{"$f":"IF(I127=\"Oui\",'Q_del,j et Q_del,dh'!$D76,0)","v":0},{"$f":"IF(J127=\"Oui\",'Q_del,j et Q_del,dh'!$D76,0)","v":0},{"$f":"IF(K127=\"Oui\",'Q_del,j et Q_del,dh'!$D76,0)","v":0},{"$f":"IF(L127=\"Oui\",'Q_del,j et Q_del,dh'!$D76,0)","v":0},{"$f":"IF(M127=\"Oui\",'Q_del,j et Q_del,dh'!$D76,0)","v":0},{"$f":"IF(N127=\"Oui\",'Q_del,j et Q_del,dh'!$D76,0)","v":0},{"$f":"IF(O127=\"Oui\",'Q_del,j et Q_del,dh'!$D76,0)","v":0},{"$f":"IF(P127=\"Oui\",'Q_del,j et Q_del,dh'!$D76,0)","v":0},{"$f":"IF(Q127=\"Oui\",'Q_del,j et Q_del,dh'!$D76,0)","v":0},{"$f":"IF(R127=\"Oui\",'Q_del,j et Q_del,dh'!$D76,0)","v":0},{"$f":"IF(S127=\"Oui\",'Q_del,j et Q_del,dh'!$D76,0)","v":0},{"$f":"IF(T127=\"Oui\",'Q_del,j et Q_del,dh'!$D76,0)","v":0},{"$f":"IF(U127=\"Oui\",'Q_del,j et Q_del,dh'!$D76,0)","v":0},{"$f":"IF(V127=\"Oui\",'Q_del,j et Q_del,dh'!$D76,0)","v":0},{"$f":"IF(W127=\"Oui\",'Q_del,j et Q_del,dh'!$D76,0)","v":0},{"$f":"IF(X127=\"Oui\",'Q_del,j et Q_del,dh'!$D76,0)","v":0},{"$f":"IF(Y127=\"Oui\",'Q_del,j et Q_del,dh'!$D76,0)","v":0},{"$f":"IF(Z127=\"Oui\",'Q_del,j et Q_del,dh'!$D76,0)","v":0},{"$f":"IF(AA127=\"Oui\",'Q_del,j et Q_del,dh'!$D76,0)","v":0},{"$f":"IF(AB127=\"Oui\",'Q_del,j et Q_del,dh'!$D76,0)","v":0},{"$f":"IF(AC127=\"Oui\",'Q_del,j et Q_del,dh'!$D76,0)","v":0},{"$f":"IF(AD127=\"Oui\",'Q_del,j et Q_del,dh'!$D76,0)","v":0},{"$f":"IF(AE127=\"Oui\",'Q_del,j et Q_del,dh'!$D76,0)","v":0},{"$f":"IF(AF127=\"Oui\",'Q_del,j et Q_del,dh'!$D76,0)","v":0},{"$f":"IF(AG127=\"Oui\",'Q_del,j et Q_del,dh'!$D76,0)","v":0},{"$f":"IF(AH127=\"Oui\",'Q_del,j et Q_del,dh'!$D76,0)","v":0},{"$f":"IF(AI127=\"Oui\",'Q_del,j et Q_del,dh'!$D76,0)","v":0},{"$f":"IF(AJ127=\"Oui\",'Q_del,j et Q_del,dh'!$D76,0)","v":0},{"$f":"IF(AK127=\"Oui\",'Q_del,j et Q_del,dh'!$D76,0)","v":0},{"$f":"IF(AL127=\"Oui\",'Q_del,j et Q_del,dh'!$D76,0)","v":0},{"$f":"IF(AM127=\"Oui\",'Q_del,j et Q_del,dh'!$D76,0)","v":0},{"$f":"IF(AN127=\"Oui\",'Q_del,j et Q_del,dh'!$D76,0)","v":0},{"$f":"IF(AO127=\"Oui\",'Q_del,j et Q_del,dh'!$D76,0)","v":0},{"$f":"IF(AP127=\"Oui\",'Q_del,j et Q_del,dh'!$D76,0)","v":0},{"$f":"IF(AQ127=\"Oui\",'Q_del,j et Q_del,dh'!$D76,0)","v":0},{"$f":"IF(AR127=\"Oui\",'Q_del,j et Q_del,dh'!$D76,0)","v":0},{"$f":"IF(AS127=\"Oui\",'Q_del,j et Q_del,dh'!$D76,0)","v":0},{"$f":"IF(AT127=\"Oui\",'Q_del,j et Q_del,dh'!$D76,0)","v":0},{"$f":"IF(AU127=\"Oui\",'Q_del,j et Q_del,dh'!$D76,0)","v":0},{"$f":"IF(AV127=\"Oui\",'Q_del,j et Q_del,dh'!$D76,0)","v":0},{"$f":"IF(AW127=\"Oui\",'Q_del,j et Q_del,dh'!$D76,0)","v":0},{"$f":"IF(AX127=\"Oui\",'Q_del,j et Q_del,dh'!$D76,0)","v":0},{"$f":"IF(AY127=\"Oui\",'Q_del,j et Q_del,dh'!$D76,0)","v":0},{"$f":"IF(AZ127=\"Oui\",'Q_del,j et Q_del,dh'!$D76,0)","v":0},{"$f":"IF(BA127=\"Oui\",'Q_del,j et Q_del,dh'!$D76,0)","v":0}]
["Qdel,l,j [MJ]","Demandeur de chaleur 70",70,{"$f":"IF(D128=\"Oui\",'Q_del,j et Q_del,dh'!$D77,0)","v":0},{"$f":"IF(E128=\"Oui\",'Q_del,j et Q_del,dh'!$D77,0)","v":0},{"$f":"IF(F128=\"Oui\",'Q_del,j et Q_del,dh'!$D77,0)","v":0},{"$f":"IF(G128=\"Oui\",'Q_del,j et Q_del,dh'!$D77,0)","v":0},{"$f":"IF(H128=\"Oui\",'Q_del,j et Q_del,dh'!$D77,0)","v":0},{"$f":"IF(I128=\"Oui\",'Q_del,j et Q_del,dh'!$D77,0)","v":0},{"$f":"IF(J128=\"Oui\",'Q_del,j et Q_del,dh'!$D77,0)","v":0},{"$f":"IF(K128=\"Oui\",'Q_del,j et Q_del,dh'!$D77,0)","v":0},{"$f":"IF(L128=\"Oui\",'Q_del,j et Q_del,dh'!$D77,0)","v":0},{"$f":"IF(M128=\"Oui\",'Q_del,j et Q_del,dh'!$D77,0)","v":0},{"$f":"IF(N128=\"Oui\",'Q_del,j et Q_del,dh'!$D77,0)","v":0},{"$f":"IF(O128=\"Oui\",'Q_del,j et Q_del,dh'!$D77,0)","v":0},{"$f":"IF(P128=\"Oui\",'Q_del,j et Q_del,dh'!$D77,0)","v":0},{"$f":"IF(Q128=\"Oui\",'Q_del,j et Q_del,dh'!$D77,0)","v":0},{"$f":"IF(R128=\"Oui\",'Q_del,j et Q_del,dh'!$D77,0)","v":0},{"$f":"IF(S128=\"Oui\",'Q_del,j et Q_del,dh'!$D77,0)","v":0},{"$f":"IF(T128=\"Oui\",'Q_del,j et Q_del,dh'!$D77,0)","v":0},{"$f":"IF(U128=\"Oui\",'Q_del,j et Q_del,dh'!$D77,0)","v":0},{"$f":"IF(V128=\"Oui\",'Q_del,j et Q_del,dh'!$D77,0)","v":0},{"$f":"IF(W128=\"Oui\",'Q_del,j et Q_del,dh'!$D77,0)","v":0},{"$f":"IF(X128=\"Oui\",'Q_del,j et Q_del,dh'!$D77,0)","v":0},{"$f":"IF(Y128=\"Oui\",'Q_del,j et Q_del,dh'!$D77,0)","v":0},{"$f":"IF(Z128=\"Oui\",'Q_del,j et Q_del,dh'!$D77,0)","v":0},{"$f":"IF(AA128=\"Oui\",'Q_del,j et Q_del,dh'!$D77,0)","v":0},{"$f":"IF(AB128=\"Oui\",'Q_del,j et Q_del,dh'!$D77,0)","v":0},{"$f":"IF(AC128=\"Oui\",'Q_del,j et Q_del,dh'!$D77,0)","v":0},{"$f":"IF(AD128=\"Oui\",'Q_del,j et Q_del,dh'!$D77,0)","v":0},{"$f":"IF(AE128=\"Oui\",'Q_del,j et Q_del,dh'!$D77,0)","v":0},{"$f":"IF(AF128=\"Oui\",'Q_del,j et Q_del,dh'!$D77,0)","v":0},{"$f":"IF(AG128=\"Oui\",'Q_del,j et Q_del,dh'!$D77,0)","v":0},{"$f":"IF(AH128=\"Oui\",'Q_del,j et Q_del,dh'!$D77,0)","v":0},{"$f":"IF(AI128=\"Oui\",'Q_del,j et Q_del,dh'!$D77,0)","v":0},{"$f":"IF(AJ128=\"Oui\",'Q_del,j et Q_del,dh'!$D77,0)","v":0},{"$f":"IF(AK128=\"Oui\",'Q_del,j et Q_del,dh'!$D77,0)","v":0},{"$f":"IF(AL128=\"Oui\",'Q_del,j et Q_del,dh'!$D77,0)","v":0},{"$f":"IF(AM128=\"Oui\",'Q_del,j et Q_del,dh'!$D77,0)","v":0},{"$f":"IF(AN128=\"Oui\",'Q_del,j et Q_del,dh'!$D77,0)","v":0},{"$f":"IF(AO128=\"Oui\",'Q_del,j et Q_del,dh'!$D77,0)","v":0},{"$f":"IF(AP128=\"Oui\",'Q_del,j et Q_del,dh'!$D77,0)","v":0},{"$f":"IF(AQ128=\"Oui\",'Q_del,j et Q_del,dh'!$D77,0)","v":0},{"$f":"IF(AR128=\"Oui\",'Q_del,j et Q_del,dh'!$D77,0)","v":0},{"$f":"IF(AS128=\"Oui\",'Q_del,j et Q_del,dh'!$D77,0)","v":0},{"$f":"IF(AT128=\"Oui\",'Q_del,j et Q_del,dh'!$D77,0)","v":0},{"$f":"IF(AU128=\"Oui\",'Q_del,j et Q_del,dh'!$D77,0)","v":0},{"$f":"IF(AV128=\"Oui\",'Q_del,j et Q_del,dh'!$D77,0)","v":0},{"$f":"IF(AW128=\"Oui\",'Q_del,j et Q_del,dh'!$D77,0)","v":0},{"$f":"IF(AX128=\"Oui\",'Q_del,j et Q_del,dh'!$D77,0)","v":0},{"$f":"IF(AY128=\"Oui\",'Q_del,j et Q_del,dh'!$D77,0)","v":0},{"$f":"IF(AZ128=\"Oui\",'Q_del,j et Q_del,dh'!$D77,0)","v":0},{"$f":"IF(BA128=\"Oui\",'Q_del,j et Q_del,dh'!$D77,0)","v":0}]
["Qdel,l,j [MJ]","Demandeur de chaleur 71",71,{"$f":"IF(D129=\"Oui\",'Q_del,j et Q_del,dh'!$D78,0)","v":0},{"$f":"IF(E129=\"Oui\",'Q_del,j et Q_del,dh'!$D78,0)","v":0},{"$f":"IF(F129=\"Oui\",'Q_del,j et Q_del,dh'!$D78,0)","v":0},{"$f":"IF(G129=\"Oui\",'Q_del,j et Q_del,dh'!$D78,0)","v":0},{"$f":"IF(H129=\"Oui\",'Q_del,j et Q_del,dh'!$D78,0)","v":0},{"$f":"IF(I129=\"Oui\",'Q_del,j et Q_del,dh'!$D78,0)","v":0},{"$f":"IF(J129=\"Oui\",'Q_del,j et Q_del,dh'!$D78,0)","v":0},{"$f":"IF(K129=\"Oui\",'Q_del,j et Q_del,dh'!$D78,0)","v":0},{"$f":"IF(L129=\"Oui\",'Q_del,j et Q_del,dh'!$D78,0)","v":0},{"$f":"IF(M129=\"Oui\",'Q_del,j et Q_del,dh'!$D78,0)","v":0},{"$f":"IF(N129=\"Oui\",'Q_del,j et Q_del,dh'!$D78,0)","v":0},{"$f":"IF(O129=\"Oui\",'Q_del,j et Q_del,dh'!$D78,0)","v":0},{"$f":"IF(P129=\"Oui\",'Q_del,j et Q_del,dh'!$D78,0)","v":0},{"$f":"IF(Q129=\"Oui\",'Q_del,j et Q_del,dh'!$D78,0)","v":0},{"$f":"IF(R129=\"Oui\",'Q_del,j et Q_del,dh'!$D78,0)","v":0},{"$f":"IF(S129=\"Oui\",'Q_del,j et Q_del,dh'!$D78,0)","v":0},{"$f":"IF(T129=\"Oui\",'Q_del,j et Q_del,dh'!$D78,0)","v":0},{"$f":"IF(U129=\"Oui\",'Q_del,j et Q_del,dh'!$D78,0)","v":0},{"$f":"IF(V129=\"Oui\",'Q_del,j et Q_del,dh'!$D78,0)","v":0},{"$f":"IF(W129=\"Oui\",'Q_del,j et Q_del,dh'!$D78,0)","v":0},{"$f":"IF(X129=\"Oui\",'Q_del,j et Q_del,dh'!$D78,0)","v":0},{"$f":"IF(Y129=\"Oui\",'Q_del,j et Q_del,dh'!$D78,0)","v":0},{"$f":"IF(Z129=\"Oui\",'Q_del,j et Q_del,dh'!$D78,0)","v":0},{"$f":"IF(AA129=\"Oui\",'Q_del,j et Q_del,dh'!$D78,0)","v":0},{"$f":"IF(AB129=\"Oui\",'Q_del,j et Q_del,dh'!$D78,0)","v":0},{"$f":"IF(AC129=\"Oui\",'Q_del,j et Q_del,dh'!$D78,0)","v":0},{"$f":"IF(AD129=\"Oui\",'Q_del,j et Q_del,dh'!$D78,0)","v":0},{"$f":"IF(AE129=\"Oui\",'Q_del,j et Q_del,dh'!$D78,0)","v":0},{"$f":"IF(AF129=\"Oui\",'Q_del,j et Q_del,dh'!$D78,0)","v":0},{"$f":"IF(AG129=\"Oui\",'Q_del,j et Q_del,dh'!$D78,0)","v":0},{"$f":"IF(AH129=\"Oui\",'Q_del,j et Q_del,dh'!$D78,0)","v":0},{"$f":"IF(AI129=\"Oui\",'Q_del,j et Q_del,dh'!$D78,0)","v":0},{"$f":"IF(AJ129=\"Oui\",'Q_del,j et Q_del,dh'!$D78,0)","v":0},{"$f":"IF(AK129=\"Oui\",'Q_del,j et Q_del,dh'!$D78,0)","v":0},{"$f":"IF(AL129=\"Oui\",'Q_del,j et Q_del,dh'!$D78,0)","v":0},{"$f":"IF(AM129=\"Oui\",'Q_del,j et Q_del,dh'!$D78,0)","v":0},{"$f":"IF(AN129=\"Oui\",'Q_del,j et Q_del,dh'!$D78,0)","v":0},{"$f":"IF(AO129=\"Oui\",'Q_del,j et Q_del,dh'!$D78,0)","v":0},{"$f":"IF(AP129=\"Oui\",'Q_del,j et Q_del,dh'!$D78,0)","v":0},{"$f":"IF(AQ129=\"Oui\",'Q_del,j et Q_del,dh'!$D78,0)","v":0},{"$f":"IF(AR129=\"Oui\",'Q_del,j et Q_del,dh'!$D78,0)","v":0},{"$f":"IF(AS129=\"Oui\",'Q_del,j et Q_del,dh'!$D78,0)","v":0},{"$f":"IF(AT129=\"Oui\",'Q_del,j et Q_del,dh'!$D78,0)","v":0},{"$f":"IF(AU129=\"Oui\",'Q_del,j et Q_del,dh'!$D78,0)","v":0},{"$f":"IF(AV129=\"Oui\",'Q_del,j et Q_del,dh'!$D78,0)","v":0},{"$f":"IF(AW129=\"Oui\",'Q_del,j et Q_del,dh'!$D78,0)","v":0},{"$f":"IF(AX129=\"Oui\",'Q_del,j et Q_del,dh'!$D78,0)","v":0},{"$f":"IF(AY129=\"Oui\",'Q_del,j et Q_del,dh'!$D78,0)","v":0},{"$f":"IF(AZ129=\"Oui\",'Q_del,j et Q_del,dh'!$D78,0)","v":0},{"$f":"IF(BA129=\"Oui\",'Q_del,j et Q_del,dh'!$D78,0)","v":0}]
["Qdel,l,j [MJ]","Demandeur de chaleur 72",72,{"$f":"IF(D130=\"Oui\",'Q_del,j et Q_del,dh'!$D79,0)","v":0},{"$f":"IF(E130=\"Oui\",'Q_del,j et Q_del,dh'!$D79,0)","v":0},{"$f":"IF(F130=\"Oui\",'Q_del,j et Q_del,dh'!$D79,0)","v":0},{"$f":"IF(G130=\"Oui\",'Q_del,j et Q_del,dh'!$D79,0)","v":0},{"$f":"IF(H130=\"Oui\",'Q_del,j et Q_del,dh'!$D79,0)","v":0},{"$f":"IF(I130=\"Oui\",'Q_del,j et Q_del,dh'!$D79,0)","v":0},{"$f":"IF(J130=\"Oui\",'Q_del,j et Q_del,dh'!$D79,0)","v":0},{"$f":"IF(K130=\"Oui\",'Q_del,j et Q_del,dh'!$D79,0)","v":0},{"$f":"IF(L130=\"Oui\",'Q_del,j et Q_del,dh'!$D79,0)","v":0},{"$f":"IF(M130=\"Oui\",'Q_del,j et Q_del,dh'!$D79,0)","v":0},{"$f":"IF(N130=\"Oui\",'Q_del,j et Q_del,dh'!$D79,0)","v":0},{"$f":"IF(O130=\"Oui\",'Q_del,j et Q_del,dh'!$D79,0)","v":0},{"$f":"IF(P130=\"Oui\",'Q_del,j et Q_del,dh'!$D79,0)","v":0},{"$f":"IF(Q130=\"Oui\",'Q_del,j et Q_del,dh'!$D79,0)","v":0},{"$f":"IF(R130=\"Oui\",'Q_del,j et Q_del,dh'!$D79,0)","v":0},{"$f":"IF(S130=\"Oui\",'Q_del,j et Q_del,dh'!$D79,0)","v":0},{"$f":"IF(T130=\"Oui\",'Q_del,j et Q_del,dh'!$D79,0)","v":0},{"$f":"IF(U130=\"Oui\",'Q_del,j et Q_del,dh'!$D79,0)","v":0},{"$f":"IF(V130=\"Oui\",'Q_del,j et Q_del,dh'!$D79,0)","v":0},{"$f":"IF(W130=\"Oui\",'Q_del,j et Q_del,dh'!$D79,0)","v":0},{"$f":"IF(X130=\"Oui\",'Q_del,j et Q_del,dh'!$D79,0)","v":0},{"$f":"IF(Y130=\"Oui\",'Q_del,j et Q_del,dh'!$D79,0)","v":0},{"$f":"IF(Z130=\"Oui\",'Q_del,j et Q_del,dh'!$D79,0)","v":0},{"$f":"IF(AA130=\"Oui\",'Q_del,j et Q_del,dh'!$D79,0)","v":0},{"$f":"IF(AB130=\"Oui\",'Q_del,j et Q_del,dh'!$D79,0)","v":0},{"$f":"IF(AC130=\"Oui\",'Q_del,j et Q_del,dh'!$D79,0)","v":0},{"$f":"IF(AD130=\"Oui\",'Q_del,j et Q_del,dh'!$D79,0)","v":0},{"$f":"IF(AE130=\"Oui\",'Q_del,j et Q_del,dh'!$D79,0)","v":0},{"$f":"IF(AF130=\"Oui\",'Q_del,j et Q_del,dh'!$D79,0)","v":0},{"$f":"IF(AG130=\"Oui\",'Q_del,j et Q_del,dh'!$D79,0)","v":0},{"$f":"IF(AH130=\"Oui\",'Q_del,j et Q_del,dh'!$D79,0)","v":0},{"$f":"IF(AI130=\"Oui\",'Q_del,j et Q_del,dh'!$D79,0)","v":0},{"$f":"IF(AJ130=\"Oui\",'Q_del,j et Q_del,dh'!$D79,0)","v":0},{"$f":"IF(AK130=\"Oui\",'Q_del,j et Q_del,dh'!$D79,0)","v":0},{"$f":"IF(AL130=\"Oui\",'Q_del,j et Q_del,dh'!$D79,0)","v":0},{"$f":"IF(AM130=\"Oui\",'Q_del,j et Q_del,dh'!$D79,0)","v":0},{"$f":"IF(AN130=\"Oui\",'Q_del,j et Q_del,dh'!$D79,0)","v":0},{"$f":"IF(AO130=\"Oui\",'Q_del,j et Q_del,dh'!$D79,0)","v":0},{"$f":"IF(AP130=\"Oui\",'Q_del,j et Q_del,dh'!$D79,0)","v":0},{"$f":"IF(AQ130=\"Oui\",'Q_del,j et Q_del,dh'!$D79,0)","v":0},{"$f":"IF(AR130=\"Oui\",'Q_del,j et Q_del,dh'!$D79,0)","v":0},{"$f":"IF(AS130=\"Oui\",'Q_del,j et Q_del,dh'!$D79,0)","v":0},{"$f":"IF(AT130=\"Oui\",'Q_del,j et Q_del,dh'!$D79,0)","v":0},{"$f":"IF(AU130=\"Oui\",'Q_del,j et Q_del,dh'!$D79,0)","v":0},{"$f":"IF(AV130=\"Oui\",'Q_del,j et Q_del,dh'!$D79,0)","v":0},{"$f":"IF(AW130=\"Oui\",'Q_del,j et Q_del,dh'!$D79,0)","v":0},{"$f":"IF(AX130=\"Oui\",'Q_del,j et Q_del,dh'!$D79,0)","v":0},{"$f":"IF(AY130=\"Oui\",'Q_del,j et Q_del,dh'!$D79,0)","v":0},{"$f":"IF(AZ130=\"Oui\",'Q_del,j et Q_del,dh'!$D79,0)","v":0},{"$f":"IF(BA130=\"Oui\",'Q_del,j et Q_del,dh'!$D79,0)","v":0}]
["Qdel,l,j [MJ]","Demandeur de chaleur 73",73,{"$f":"IF(D131=\"Oui\",'Q_del,j et Q_del,dh'!$D80,0)","v":0},{"$f":"IF(E131=\"Oui\",'Q_del,j et Q_del,dh'!$D80,0)","v":0},{"$f":"IF(F131=\"Oui\",'Q_del,j et Q_del,dh'!$D80,0)","v":0},{"$f":"IF(G131=\"Oui\",'Q_del,j et Q_del,dh'!$D80,0)","v":0},{"$f":"IF(H131=\"Oui\",'Q_del,j et Q_del,dh'!$D80,0)","v":0},{"$f":"IF(I131=\"Oui\",'Q_del,j et Q_del,dh'!$D80,0)","v":0},{"$f":"IF(J131=\"Oui\",'Q_del,j et Q_del,dh'!$D80,0)","v":0},{"$f":"IF(K131=\"Oui\",'Q_del,j et Q_del,dh'!$D80,0)","v":0},{"$f":"IF(L131=\"Oui\",'Q_del,j et Q_del,dh'!$D80,0)","v":0},{"$f":"IF(M131=\"Oui\",'Q_del,j et Q_del,dh'!$D80,0)","v":0},{"$f":"IF(N131=\"Oui\",'Q_del,j et Q_del,dh'!$D80,0)","v":0},{"$f":"IF(O131=\"Oui\",'Q_del,j et Q_del,dh'!$D80,0)","v":0},{"$f":"IF(P131=\"Oui\",'Q_del,j et Q_del,dh'!$D80,0)","v":0},{"$f":"IF(Q131=\"Oui\",'Q_del,j et Q_del,dh'!$D80,0)","v":0},{"$f":"IF(R131=\"Oui\",'Q_del,j et Q_del,dh'!$D80,0)","v":0},{"$f":"IF(S131=\"Oui\",'Q_del,j et Q_del,dh'!$D80,0)","v":0},{"$f":"IF(T131=\"Oui\",'Q_del,j et Q_del,dh'!$D80,0)","v":0},{"$f":"IF(U131=\"Oui\",'Q_del,j et Q_del,dh'!$D80,0)","v":0},{"$f":"IF(V131=\"Oui\",'Q_del,j et Q_del,dh'!$D80,0)","v":0},{"$f":"IF(W131=\"Oui\",'Q_del,j et Q_del,dh'!$D80,0)","v":0},{"$f":"IF(X131=\"Oui\",'Q_del,j et Q_del,dh'!$D80,0)","v":0},{"$f":"IF(Y131=\"Oui\",'Q_del,j et Q_del,dh'!$D80,0)","v":0},{"$f":"IF(Z131=\"Oui\",'Q_del,j et Q_del,dh'!$D80,0)","v":0},{"$f":"IF(AA131=\"Oui\",'Q_del,j et Q_del,dh'!$D80,0)","v":0},{"$f":"IF(AB131=\"Oui\",'Q_del,j et Q_del,dh'!$D80,0)","v":0},{"$f":"IF(AC131=\"Oui\",'Q_del,j et Q_del,dh'!$D80,0)","v":0},{"$f":"IF(AD131=\"Oui\",'Q_del,j et Q_del,dh'!$D80,0)","v":0},{"$f":"IF(AE131=\"Oui\",'Q_del,j et Q_del,dh'!$D80,0)","v":0},{"$f":"IF(AF131=\"Oui\",'Q_del,j et Q_del,dh'!$D80,0)","v":0},{"$f":"IF(AG131=\"Oui\",'Q_del,j et Q_del,dh'!$D80,0)","v":0},{"$f":"IF(AH131=\"Oui\",'Q_del,j et Q_del,dh'!$D80,0)","v":0},{"$f":"IF(AI131=\"Oui\",'Q_del,j et Q_del,dh'!$D80,0)","v":0},{"$f":"IF(AJ131=\"Oui\",'Q_del,j et Q_del,dh'!$D80,0)","v":0},{"$f":"IF(AK131=\"Oui\",'Q_del,j et Q_del,dh'!$D80,0)","v":0},{"$f":"IF(AL131=\"Oui\",'Q_del,j et Q_del,dh'!$D80,0)","v":0},{"$f":"IF(AM131=\"Oui\",'Q_del,j et Q_del,dh'!$D80,0)","v":0},{"$f":"IF(AN131=\"Oui\",'Q_del,j et Q_del,dh'!$D80,0)","v":0},{"$f":"IF(AO131=\"Oui\",'Q_del,j et Q_del,dh'!$D80,0)","v":0},{"$f":"IF(AP131=\"Oui\",'Q_del,j et Q_del,dh'!$D80,0)","v":0},{"$f":"IF(AQ131=\"Oui\",'Q_del,j et Q_del,dh'!$D80,0)","v":0},{"$f":"IF(AR131=\"Oui\",'Q_del,j et Q_del,dh'!$D80,0)","v":0},{"$f":"IF(AS131=\"Oui\",'Q_del,j et Q_del,dh'!$D80,0)","v":0},{"$f":"IF(AT131=\"Oui\",'Q_del,j et Q_del,dh'!$D80,0)","v":0},{"$f":"IF(AU131=\"Oui\",'Q_del,j et Q_del,dh'!$D80,0)","v":0},{"$f":"IF(AV131=\"Oui\",'Q_del,j et Q_del,dh'!$D80,0)","v":0},{"$f":"IF(AW131=\"Oui\",'Q_del,j et Q_del,dh'!$D80,0)","v":0},{"$f":"IF(AX131=\"Oui\",'Q_del,j et Q_del,dh'!$D80,0)","v":0},{"$f":"IF(AY131=\"Oui\",'Q_del,j et Q_del,dh'!$D80,0)","v":0},{"$f":"IF(AZ131=\"Oui\",'Q_del,j et Q_del,dh'!$D80,0)","v":0},{"$f":"IF(BA131=\"Oui\",'Q_del,j et Q_del,dh'!$D80,0)","v":0}]
["Qdel,l,j [MJ]","Demandeur de chaleur 74",74,{"$f":"IF(D132=\"Oui\",'Q_del,j et Q_del,dh'!$D81,0)","v":0},{"$f":"IF(E132=\"Oui\",'Q_del,j et Q_del,dh'!$D81,0)","v":0},{"$f":"IF(F132=\"Oui\",'Q_del,j et Q_del,dh'!$D81,0)","v":0},{"$f":"IF(G132=\"Oui\",'Q_del,j et Q_del,dh'!$D81,0)","v":0},{"$f":"IF(H132=\"Oui\",'Q_del,j et Q_del,dh'!$D81,0)","v":0},{"$f":"IF(I132=\"Oui\",'Q_del,j et Q_del,dh'!$D81,0)","v":0},{"$f":"IF(J132=\"Oui\",'Q_del,j et Q_del,dh'!$D81,0)","v":0},{"$f":"IF(K132=\"Oui\",'Q_del,j et Q_del,dh'!$D81,0)","v":0},{"$f":"IF(L132=\"Oui\",'Q_del,j et Q_del,dh'!$D81,0)","v":0},{"$f":"IF(M132=\"Oui\",'Q_del,j et Q_del,dh'!$D81,0)","v":0},{"$f":"IF(N132=\"Oui\",'Q_del,j et Q_del,dh'!$D81,0)","v":0},{"$f":"IF(O132=\"Oui\",'Q_del,j et Q_del,dh'!$D81,0)","v":0},{"$f":"IF(P132=\"Oui\",'Q_del,j et Q_del,dh'!$D81,0)","v":0},{"$f":"IF(Q132=\"Oui\",'Q_del,j et Q_del,dh'!$D81,0)","v":0},{"$f":"IF(R132=\"Oui\",'Q_del,j et Q_del,dh'!$D81,0)","v":0},{"$f":"IF(S132=\"Oui\",'Q_del,j et Q_del,dh'!$D81,0)","v":0},{"$f":"IF(T132=\"Oui\",'Q_del,j et Q_del,dh'!$D81,0)","v":0},{"$f":"IF(U132=\"Oui\",'Q_del,j et Q_del,dh'!$D81,0)","v":0},{"$f":"IF(V132=\"Oui\",'Q_del,j et Q_del,dh'!$D81,0)","v":0},{"$f":"IF(W132=\"Oui\",'Q_del,j et Q_del,dh'!$D81,0)","v":0},{"$f":"IF(X132=\"Oui\",'Q_del,j et Q_del,dh'!$D81,0)","v":0},{"$f":"IF(Y132=\"Oui\",'Q_del,j et Q_del,dh'!$D81,0)","v":0},{"$f":"IF(Z132=\"Oui\",'Q_del,j et Q_del,dh'!$D81,0)","v":0},{"$f":"IF(AA132=\"Oui\",'Q_del,j et Q_del,dh'!$D81,0)","v":0},{"$f":"IF(AB132=\"Oui\",'Q_del,j et Q_del,dh'!$D81,0)","v":0},{"$f":"IF(AC132=\"Oui\",'Q_del,j et Q_del,dh'!$D81,0)","v":0},{"$f":"IF(AD132=\"Oui\",'Q_del,j et Q_del,dh'!$D81,0)","v":0},{"$f":"IF(AE132=\"Oui\",'Q_del,j et Q_del,dh'!$D81,0)","v":0},{"$f":"IF(AF132=\"Oui\",'Q_del,j et Q_del,dh'!$D81,0)","v":0},{"$f":"IF(AG132=\"Oui\",'Q_del,j et Q_del,dh'!$D81,0)","v":0},{"$f":"IF(AH132=\"Oui\",'Q_del,j et Q_del,dh'!$D81,0)","v":0},{"$f":"IF(AI132=\"Oui\",'Q_del,j et Q_del,dh'!$D81,0)","v":0},{"$f":"IF(AJ132=\"Oui\",'Q_del,j et Q_del,dh'!$D81,0)","v":0},{"$f":"IF(AK132=\"Oui\",'Q_del,j et Q_del,dh'!$D81,0)","v":0},{"$f":"IF(AL132=\"Oui\",'Q_del,j et Q_del,dh'!$D81,0)","v":0},{"$f":"IF(AM132=\"Oui\",'Q_del,j et Q_del,dh'!$D81,0)","v":0},{"$f":"IF(AN132=\"Oui\",'Q_del,j et Q_del,dh'!$D81,0)","v":0},{"$f":"IF(AO132=\"Oui\",'Q_del,j et Q_del,dh'!$D81,0)","v":0},{"$f":"IF(AP132=\"Oui\",'Q_del,j et Q_del,dh'!$D81,0)","v":0},{"$f":"IF(AQ132=\"Oui\",'Q_del,j et Q_del,dh'!$D81,0)","v":0},{"$f":"IF(AR132=\"Oui\",'Q_del,j et Q_del,dh'!$D81,0)","v":0},{"$f":"IF(AS132=\"Oui\",'Q_del,j et Q_del,dh'!$D81,0)","v":0},{"$f":"IF(AT132=\"Oui\",'Q_del,j et Q_del,dh'!$D81,0)","v":0},{"$f":"IF(AU132=\"Oui\",'Q_del,j et Q_del,dh'!$D81,0)","v":0},{"$f":"IF(AV132=\"Oui\",'Q_del,j et Q_del,dh'!$D81,0)","v":0},{"$f":"IF(AW132=\"Oui\",'Q_del,j et Q_del,dh'!$D81,0)","v":0},{"$f":"IF(AX132=\"Oui\",'Q_del,j et Q_del,dh'!$D81,0)","v":0},{"$f":"IF(AY132=\"Oui\",'Q_del,j et Q_del,dh'!$D81,0)","v":0},{"$f":"IF(AZ132=\"Oui\",'Q_del,j et Q_del,dh'!$D81,0)","v":0},{"$f":"IF(BA132=\"Oui\",'Q_del,j et Q_del,dh'!$D81,0)","v":0}]
["Qdel,l,j [MJ]","Demandeur de chaleur 75",75,{"$f":"IF(D133=\"Oui\",'Q_del,j et Q_del,dh'!$D82,0)","v":0},{"$f":"IF(E133=\"Oui\",'Q_del,j et Q_del,dh'!$D82,0)","v":0},{"$f":"IF(F133=\"Oui\",'Q_del,j et Q_del,dh'!$D82,0)","v":0},{"$f":"IF(G133=\"Oui\",'Q_del,j et Q_del,dh'!$D82,0)","v":0},{"$f":"IF(H133=\"Oui\",'Q_del,j et Q_del,dh'!$D82,0)","v":0},{"$f":"IF(I133=\"Oui\",'Q_del,j et Q_del,dh'!$D82,0)","v":0},{"$f":"IF(J133=\"Oui\",'Q_del,j et Q_del,dh'!$D82,0)","v":0},{"$f":"IF(K133=\"Oui\",'Q_del,j et Q_del,dh'!$D82,0)","v":0},{"$f":"IF(L133=\"Oui\",'Q_del,j et Q_del,dh'!$D82,0)","v":0},{"$f":"IF(M133=\"Oui\",'Q_del,j et Q_del,dh'!$D82,0)","v":0},{"$f":"IF(N133=\"Oui\",'Q_del,j et Q_del,dh'!$D82,0)","v":0},{"$f":"IF(O133=\"Oui\",'Q_del,j et Q_del,dh'!$D82,0)","v":0},{"$f":"IF(P133=\"Oui\",'Q_del,j et Q_del,dh'!$D82,0)","v":0},{"$f":"IF(Q133=\"Oui\",'Q_del,j et Q_del,dh'!$D82,0)","v":0},{"$f":"IF(R133=\"Oui\",'Q_del,j et Q_del,dh'!$D82,0)","v":0},{"$f":"IF(S133=\"Oui\",'Q_del,j et Q_del,dh'!$D82,0)","v":0},{"$f":"IF(T133=\"Oui\",'Q_del,j et Q_del,dh'!$D82,0)","v":0},{"$f":"IF(U133=\"Oui\",'Q_del,j et Q_del,dh'!$D82,0)","v":0},{"$f":"IF(V133=\"Oui\",'Q_del,j et Q_del,dh'!$D82,0)","v":0},{"$f":"IF(W133=\"Oui\",'Q_del,j et Q_del,dh'!$D82,0)","v":0},{"$f":"IF(X133=\"Oui\",'Q_del,j et Q_del,dh'!$D82,0)","v":0},{"$f":"IF(Y133=\"Oui\",'Q_del,j et Q_del,dh'!$D82,0)","v":0},{"$f":"IF(Z133=\"Oui\",'Q_del,j et Q_del,dh'!$D82,0)","v":0},{"$f":"IF(AA133=\"Oui\",'Q_del,j et Q_del,dh'!$D82,0)","v":0},{"$f":"IF(AB133=\"Oui\",'Q_del,j et Q_del,dh'!$D82,0)","v":0},{"$f":"IF(AC133=\"Oui\",'Q_del,j et Q_del,dh'!$D82,0)","v":0},{"$f":"IF(AD133=\"Oui\",'Q_del,j et Q_del,dh'!$D82,0)","v":0},{"$f":"IF(AE133=\"Oui\",'Q_del,j et Q_del,dh'!$D82,0)","v":0},{"$f":"IF(AF133=\"Oui\",'Q_del,j et Q_del,dh'!$D82,0)","v":0},{"$f":"IF(AG133=\"Oui\",'Q_del,j et Q_del,dh'!$D82,0)","v":0},{"$f":"IF(AH133=\"Oui\",'Q_del,j et Q_del,dh'!$D82,0)","v":0},{"$f":"IF(AI133=\"Oui\",'Q_del,j et Q_del,dh'!$D82,0)","v":0},{"$f":"IF(AJ133=\"Oui\",'Q_del,j et Q_del,dh'!$D82,0)","v":0},{"$f":"IF(AK133=\"Oui\",'Q_del,j et Q_del,dh'!$D82,0)","v":0},{"$f":"IF(AL133=\"Oui\",'Q_del,j et Q_del,dh'!$D82,0)","v":0},{"$f":"IF(AM133=\"Oui\",'Q_del,j et Q_del,dh'!$D82,0)","v":0},{"$f":"IF(AN133=\"Oui\",'Q_del,j et Q_del,dh'!$D82,0)","v":0},{"$f":"IF(AO133=\"Oui\",'Q_del,j et Q_del,dh'!$D82,0)","v":0},{"$f":"IF(AP133=\"Oui\",'Q_del,j et Q_del,dh'!$D82,0)","v":0},{"$f":"IF(AQ133=\"Oui\",'Q_del,j et Q_del,dh'!$D82,0)","v":0},{"$f":"IF(AR133=\"Oui\",'Q_del,j et Q_del,dh'!$D82,0)","v":0},{"$f":"IF(AS133=\"Oui\",'Q_del,j et Q_del,dh'!$D82,0)","v":0},{"$f":"IF(AT133=\"Oui\",'Q_del,j et Q_del,dh'!$D82,0)","v":0},{"$f":"IF(AU133=\"Oui\",'Q_del,j et Q_del,dh'!$D82,0)","v":0},{"$f":"IF(AV133=\"Oui\",'Q_del,j et Q_del,dh'!$D82,0)","v":0},{"$f":"IF(AW133=\"Oui\",'Q_del,j et Q_del,dh'!$D82,0)","v":0},{"$f":"IF(AX133=\"Oui\",'Q_del,j et Q_del,dh'!$D82,0)","v":0},{"$f":"IF(AY133=\"Oui\",'Q_del,j et Q_del,dh'!$D82,0)","v":0},{"$f":"IF(AZ133=\"Oui\",'Q_del,j et Q_del,dh'!$D82,0)","v":0},{"$f":"IF(BA133=\"Oui\",'Q_del,j et Q_del,dh'!$D82,0)","v":0}]
["Qdel,l,j [MJ]","Demandeur de chaleur 76",76,{"$f":"IF(D134=\"Oui\",'Q_del,j et Q_del,dh'!$D83,0)","v":0},{"$f":"IF(E134=\"Oui\",'Q_del,j et Q_del,dh'!$D83,0)","v":0},{"$f":"IF(F134=\"Oui\",'Q_del,j et Q_del,dh'!$D83,0)","v":0},{"$f":"IF(G134=\"Oui\",'Q_del,j et Q_del,dh'!$D83,0)","v":0},{"$f":"IF(H134=\"Oui\",'Q_del,j et Q_del,dh'!$D83,0)","v":0},{"$f":"IF(I134=\"Oui\",'Q_del,j et Q_del,dh'!$D83,0)","v":0},{"$f":"IF(J134=\"Oui\",'Q_del,j et Q_del,dh'!$D83,0)","v":0},{"$f":"IF(K134=\"Oui\",'Q_del,j et Q_del,dh'!$D83,0)","v":0},{"$f":"IF(L134=\"Oui\",'Q_del,j et Q_del,dh'!$D83,0)","v":0},{"$f":"IF(M134=\"Oui\",'Q_del,j et Q_del,dh'!$D83,0)","v":0},{"$f":"IF(N134=\"Oui\",'Q_del,j et Q_del,dh'!$D83,0)","v":0},{"$f":"IF(O134=\"Oui\",'Q_del,j et Q_del,dh'!$D83,0)","v":0},{"$f":"IF(P134=\"Oui\",'Q_del,j et Q_del,dh'!$D83,0)","v":0},{"$f":"IF(Q134=\"Oui\",'Q_del,j et Q_del,dh'!$D83,0)","v":0},{"$f":"IF(R134=\"Oui\",'Q_del,j et Q_del,dh'!$D83,0)","v":0},{"$f":"IF(S134=\"Oui\",'Q_del,j et Q_del,dh'!$D83,0)","v":0},{"$f":"IF(T134=\"Oui\",'Q_del,j et Q_del,dh'!$D83,0)","v":0},{"$f":"IF(U134=\"Oui\",'Q_del,j et Q_del,dh'!$D83,0)","v":0},{"$f":"IF(V134=\"Oui\",'Q_del,j et Q_del,dh'!$D83,0)","v":0},{"$f":"IF(W134=\"Oui\",'Q_del,j et Q_del,dh'!$D83,0)","v":0},{"$f":"IF(X134=\"Oui\",'Q_del,j et Q_del,dh'!$D83,0)","v":0},{"$f":"IF(Y134=\"Oui\",'Q_del,j et Q_del,dh'!$D83,0)","v":0},{"$f":"IF(Z134=\"Oui\",'Q_del,j et Q_del,dh'!$D83,0)","v":0},{"$f":"IF(AA134=\"Oui\",'Q_del,j et Q_del,dh'!$D83,0)","v":0},{"$f":"IF(AB134=\"Oui\",'Q_del,j et Q_del,dh'!$D83,0)","v":0},{"$f":"IF(AC134=\"Oui\",'Q_del,j et Q_del,dh'!$D83,0)","v":0},{"$f":"IF(AD134=\"Oui\",'Q_del,j et Q_del,dh'!$D83,0)","v":0},{"$f":"IF(AE134=\"Oui\",'Q_del,j et Q_del,dh'!$D83,0)","v":0},{"$f":"IF(AF134=\"Oui\",'Q_del,j et Q_del,dh'!$D83,0)","v":0},{"$f":"IF(AG134=\"Oui\",'Q_del,j et Q_del,dh'!$D83,0)","v":0},{"$f":"IF(AH134=\"Oui\",'Q_del,j et Q_del,dh'!$D83,0)","v":0},{"$f":"IF(AI134=\"Oui\",'Q_del,j et Q_del,dh'!$D83,0)","v":0},{"$f":"IF(AJ134=\"Oui\",'Q_del,j et Q_del,dh'!$D83,0)","v":0},{"$f":"IF(AK134=\"Oui\",'Q_del,j et Q_del,dh'!$D83,0)","v":0},{"$f":"IF(AL134=\"Oui\",'Q_del,j et Q_del,dh'!$D83,0)","v":0},{"$f":"IF(AM134=\"Oui\",'Q_del,j et Q_del,dh'!$D83,0)","v":0},{"$f":"IF(AN134=\"Oui\",'Q_del,j et Q_del,dh'!$D83,0)","v":0},{"$f":"IF(AO134=\"Oui\",'Q_del,j et Q_del,dh'!$D83,0)","v":0},{"$f":"IF(AP134=\"Oui\",'Q_del,j et Q_del,dh'!$D83,0)","v":0},{"$f":"IF(AQ134=\"Oui\",'Q_del,j et Q_del,dh'!$D83,0)","v":0},{"$f":"IF(AR134=\"Oui\",'Q_del,j et Q_del,dh'!$D83,0)","v":0},{"$f":"IF(AS134=\"Oui\",'Q_del,j et Q_del,dh'!$D83,0)","v":0},{"$f":"IF(AT134=\"Oui\",'Q_del,j et Q_del,dh'!$D83,0)","v":0},{"$f":"IF(AU134=\"Oui\",'Q_del,j et Q_del,dh'!$D83,0)","v":0},{"$f":"IF(AV134=\"Oui\",'Q_del,j et Q_del,dh'!$D83,0)","v":0},{"$f":"IF(AW134=\"Oui\",'Q_del,j et Q_del,dh'!$D83,0)","v":0},{"$f":"IF(AX134=\"Oui\",'Q_del,j et Q_del,dh'!$D83,0)","v":0},{"$f":"IF(AY134=\"Oui\",'Q_del,j et Q_del,dh'!$D83,0)","v":0},{"$f":"IF(AZ134=\"Oui\",'Q_del,j et Q_del,dh'!$D83,0)","v":0},{"$f":"IF(BA134=\"Oui\",'Q_del,j et Q_del,dh'!$D83,0)","v":0}]
["Qdel,l,j [MJ]","Demandeur de chaleur 77",77,{"$f":"IF(D135=\"Oui\",'Q_del,j et Q_del,dh'!$D84,0)","v":0},{"$f":"IF(E135=\"Oui\",'Q_del,j et Q_del,dh'!$D84,0)","v":0},{"$f":"IF(F135=\"Oui\",'Q_del,j et Q_del,dh'!$D84,0)","v":0},{"$f":"IF(G135=\"Oui\",'Q_del,j et Q_del,dh'!$D84,0)","v":0},{"$f":"IF(H135=\"Oui\",'Q_del,j et Q_del,dh'!$D84,0)","v":0},{"$f":"IF(I135=\"Oui\",'Q_del,j et Q_del,dh'!$D84,0)","v":0},{"$f":"IF(J135=\"Oui\",'Q_del,j et Q_del,dh'!$D84,0)","v":0},{"$f":"IF(K135=\"Oui\",'Q_del,j et Q_del,dh'!$D84,0)","v":0},{"$f":"IF(L135=\"Oui\",'Q_del,j et Q_del,dh'!$D84,0)","v":0},{"$f":"IF(M135=\"Oui\",'Q_del,j et Q_del,dh'!$D84,0)","v":0},{"$f":"IF(N135=\"Oui\",'Q_del,j et Q_del,dh'!$D84,0)","v":0},{"$f":"IF(O135=\"Oui\",'Q_del,j et Q_del,dh'!$D84,0)","v":0},{"$f":"IF(P135=\"Oui\",'Q_del,j et Q_del,dh'!$D84,0)","v":0},{"$f":"IF(Q135=\"Oui\",'Q_del,j et Q_del,dh'!$D84,0)","v":0},{"$f":"IF(R135=\"Oui\",'Q_del,j et Q_del,dh'!$D84,0)","v":0},{"$f":"IF(S135=\"Oui\",'Q_del,j et Q_del,dh'!$D84,0)","v":0},{"$f":"IF(T135=\"Oui\",'Q_del,j et Q_del,dh'!$D84,0)","v":0},{"$f":"IF(U135=\"Oui\",'Q_del,j et Q_del,dh'!$D84,0)","v":0},{"$f":"IF(V135=\"Oui\",'Q_del,j et Q_del,dh'!$D84,0)","v":0},{"$f":"IF(W135=\"Oui\",'Q_del,j et Q_del,dh'!$D84,0)","v":0},{"$f":"IF(X135=\"Oui\",'Q_del,j et Q_del,dh'!$D84,0)","v":0},{"$f":"IF(Y135=\"Oui\",'Q_del,j et Q_del,dh'!$D84,0)","v":0},{"$f":"IF(Z135=\"Oui\",'Q_del,j et Q_del,dh'!$D84,0)","v":0},{"$f":"IF(AA135=\"Oui\",'Q_del,j et Q_del,dh'!$D84,0)","v":0},{"$f":"IF(AB135=\"Oui\",'Q_del,j et Q_del,dh'!$D84,0)","v":0},{"$f":"IF(AC135=\"Oui\",'Q_del,j et Q_del,dh'!$D84,0)","v":0},{"$f":"IF(AD135=\"Oui\",'Q_del,j et Q_del,dh'!$D84,0)","v":0},{"$f":"IF(AE135=\"Oui\",'Q_del,j et Q_del,dh'!$D84,0)","v":0},{"$f":"IF(AF135=\"Oui\",'Q_del,j et Q_del,dh'!$D84,0)","v":0},{"$f":"IF(AG135=\"Oui\",'Q_del,j et Q_del,dh'!$D84,0)","v":0},{"$f":"IF(AH135=\"Oui\",'Q_del,j et Q_del,dh'!$D84,0)","v":0},{"$f":"IF(AI135=\"Oui\",'Q_del,j et Q_del,dh'!$D84,0)","v":0},{"$f":"IF(AJ135=\"Oui\",'Q_del,j et Q_del,dh'!$D84,0)","v":0},{"$f":"IF(AK135=\"Oui\",'Q_del,j et Q_del,dh'!$D84,0)","v":0},{"$f":"IF(AL135=\"Oui\",'Q_del,j et Q_del,dh'!$D84,0)","v":0},{"$f":"IF(AM135=\"Oui\",'Q_del,j et Q_del,dh'!$D84,0)","v":0},{"$f":"IF(AN135=\"Oui\",'Q_del,j et Q_del,dh'!$D84,0)","v":0},{"$f":"IF(AO135=\"Oui\",'Q_del,j et Q_del,dh'!$D84,0)","v":0},{"$f":"IF(AP135=\"Oui\",'Q_del,j et Q_del,dh'!$D84,0)","v":0},{"$f":"IF(AQ135=\"Oui\",'Q_del,j et Q_del,dh'!$D84,0)","v":0},{"$f":"IF(AR135=\"Oui\",'Q_del,j et Q_del,dh'!$D84,0)","v":0},{"$f":"IF(AS135=\"Oui\",'Q_del,j et Q_del,dh'!$D84,0)","v":0},{"$f":"IF(AT135=\"Oui\",'Q_del,j et Q_del,dh'!$D84,0)","v":0},{"$f":"IF(AU135=\"Oui\",'Q_del,j et Q_del,dh'!$D84,0)","v":0},{"$f":"IF(AV135=\"Oui\",'Q_del,j et Q_del,dh'!$D84,0)","v":0},{"$f":"IF(AW135=\"Oui\",'Q_del,j et Q_del,dh'!$D84,0)","v":0},{"$f":"IF(AX135=\"Oui\",'Q_del,j et Q_del,dh'!$D84,0)","v":0},{"$f":"IF(AY135=\"Oui\",'Q_del,j et Q_del,dh'!$D84,0)","v":0},{"$f":"IF(AZ135=\"Oui\",'Q_del,j et Q_del,dh'!$D84,0)","v":0},{"$f":"IF(BA135=\"Oui\",'Q_del,j et Q_del,dh'!$D84,0)","v":0}]
["Qdel,l,j [MJ]","Demandeur de chaleur 78",78,{"$f":"IF(D136=\"Oui\",'Q_del,j et Q_del,dh'!$D85,0)","v":0},{"$f":"IF(E136=\"Oui\",'Q_del,j et Q_del,dh'!$D85,0)","v":0},{"$f":"IF(F136=\"Oui\",'Q_del,j et Q_del,dh'!$D85,0)","v":0},{"$f":"IF(G136=\"Oui\",'Q_del,j et Q_del,dh'!$D85,0)","v":0},{"$f":"IF(H136=\"Oui\",'Q_del,j et Q_del,dh'!$D85,0)","v":0},{"$f":"IF(I136=\"Oui\",'Q_del,j et Q_del,dh'!$D85,0)","v":0},{"$f":"IF(J136=\"Oui\",'Q_del,j et Q_del,dh'!$D85,0)","v":0},{"$f":"IF(K136=\"Oui\",'Q_del,j et Q_del,dh'!$D85,0)","v":0},{"$f":"IF(L136=\"Oui\",'Q_del,j et Q_del,dh'!$D85,0)","v":0},{"$f":"IF(M136=\"Oui\",'Q_del,j et Q_del,dh'!$D85,0)","v":0},{"$f":"IF(N136=\"Oui\",'Q_del,j et Q_del,dh'!$D85,0)","v":0},{"$f":"IF(O136=\"Oui\",'Q_del,j et Q_del,dh'!$D85,0)","v":0},{"$f":"IF(P136=\"Oui\",'Q_del,j et Q_del,dh'!$D85,0)","v":0},{"$f":"IF(Q136=\"Oui\",'Q_del,j et Q_del,dh'!$D85,0)","v":0},{"$f":"IF(R136=\"Oui\",'Q_del,j et Q_del,dh'!$D85,0)","v":0},{"$f":"IF(S136=\"Oui\",'Q_del,j et Q_del,dh'!$D85,0)","v":0},{"$f":"IF(T136=\"Oui\",'Q_del,j et Q_del,dh'!$D85,0)","v":0},{"$f":"IF(U136=\"Oui\",'Q_del,j et Q_del,dh'!$D85,0)","v":0},{"$f":"IF(V136=\"Oui\",'Q_del,j et Q_del,dh'!$D85,0)","v":0},{"$f":"IF(W136=\"Oui\",'Q_del,j et Q_del,dh'!$D85,0)","v":0},{"$f":"IF(X136=\"Oui\",'Q_del,j et Q_del,dh'!$D85,0)","v":0},{"$f":"IF(Y136=\"Oui\",'Q_del,j et Q_del,dh'!$D85,0)","v":0},{"$f":"IF(Z136=\"Oui\",'Q_del,j et Q_del,dh'!$D85,0)","v":0},{"$f":"IF(AA136=\"Oui\",'Q_del,j et Q_del,dh'!$D85,0)","v":0},{"$f":"IF(AB136=\"Oui\",'Q_del,j et Q_del,dh'!$D85,0)","v":0},{"$f":"IF(AC136=\"Oui\",'Q_del,j et Q_del,dh'!$D85,0)","v":0},{"$f":"IF(AD136=\"Oui\",'Q_del,j et Q_del,dh'!$D85,0)","v":0},{"$f":"IF(AE136=\"Oui\",'Q_del,j et Q_del,dh'!$D85,0)","v":0},{"$f":"IF(AF136=\"Oui\",'Q_del,j et Q_del,dh'!$D85,0)","v":0},{"$f":"IF(AG136=\"Oui\",'Q_del,j et Q_del,dh'!$D85,0)","v":0},{"$f":"IF(AH136=\"Oui\",'Q_del,j et Q_del,dh'!$D85,0)","v":0},{"$f":"IF(AI136=\"Oui\",'Q_del,j et Q_del,dh'!$D85,0)","v":0},{"$f":"IF(AJ136=\"Oui\",'Q_del,j et Q_del,dh'!$D85,0)","v":0},{"$f":"IF(AK136=\"Oui\",'Q_del,j et Q_del,dh'!$D85,0)","v":0},{"$f":"IF(AL136=\"Oui\",'Q_del,j et Q_del,dh'!$D85,0)","v":0},{"$f":"IF(AM136=\"Oui\",'Q_del,j et Q_del,dh'!$D85,0)","v":0},{"$f":"IF(AN136=\"Oui\",'Q_del,j et Q_del,dh'!$D85,0)","v":0},{"$f":"IF(AO136=\"Oui\",'Q_del,j et Q_del,dh'!$D85,0)","v":0},{"$f":"IF(AP136=\"Oui\",'Q_del,j et Q_del,dh'!$D85,0)","v":0},{"$f":"IF(AQ136=\"Oui\",'Q_del,j et Q_del,dh'!$D85,0)","v":0},{"$f":"IF(AR136=\"Oui\",'Q_del,j et Q_del,dh'!$D85,0)","v":0},{"$f":"IF(AS136=\"Oui\",'Q_del,j et Q_del,dh'!$D85,0)","v":0},{"$f":"IF(AT136=\"Oui\",'Q_del,j et Q_del,dh'!$D85,0)","v":0},{"$f":"IF(AU136=\"Oui\",'Q_del,j et Q_del,dh'!$D85,0)","v":0},{"$f":"IF(AV136=\"Oui\",'Q_del,j et Q_del,dh'!$D85,0)","v":0},{"$f":"IF(AW136=\"Oui\",'Q_del,j et Q_del,dh'!$D85,0)","v":0},{"$f":"IF(AX136=\"Oui\",'Q_del,j et Q_del,dh'!$D85,0)","v":0},{"$f":"IF(AY136=\"Oui\",'Q_del,j et Q_del,dh'!$D85,0)","v":0},{"$f":"IF(AZ136=\"Oui\",'Q_del,j et Q_del,dh'!$D85,0)","v":0},{"$f":"IF(BA136=\"Oui\",'Q_del,j et Q_del,dh'!$D85,0)","v":0}]
["Qdel,l,j [MJ]","Demandeur de chaleur 79",79,{"$f":"IF(D137=\"Oui\",'Q_del,j et Q_del,dh'!$D86,0)","v":0},{"$f":"IF(E137=\"Oui\",'Q_del,j et Q_del,dh'!$D86,0)","v":0},{"$f":"IF(F137=\"Oui\",'Q_del,j et Q_del,dh'!$D86,0)","v":0},{"$f":"IF(G137=\"Oui\",'Q_del,j et Q_del,dh'!$D86,0)","v":0},{"$f":"IF(H137=\"Oui\",'Q_del,j et Q_del,dh'!$D86,0)","v":0},{"$f":"IF(I137=\"Oui\",'Q_del,j et Q_del,dh'!$D86,0)","v":0},{"$f":"IF(J137=\"Oui\",'Q_del,j et Q_del,dh'!$D86,0)","v":0},{"$f":"IF(K137=\"Oui\",'Q_del,j et Q_del,dh'!$D86,0)","v":0},{"$f":"IF(L137=\"Oui\",'Q_del,j et Q_del,dh'!$D86,0)","v":0},{"$f":"IF(M137=\"Oui\",'Q_del,j et Q_del,dh'!$D86,0)","v":0},{"$f":"IF(N137=\"Oui\",'Q_del,j et Q_del,dh'!$D86,0)","v":0},{"$f":"IF(O137=\"Oui\",'Q_del,j et Q_del,dh'!$D86,0)","v":0},{"$f":"IF(P137=\"Oui\",'Q_del,j et Q_del,dh'!$D86,0)","v":0},{"$f":"IF(Q137=\"Oui\",'Q_del,j et Q_del,dh'!$D86,0)","v":0},{"$f":"IF(R137=\"Oui\",'Q_del,j et Q_del,dh'!$D86,0)","v":0},{"$f":"IF(S137=\"Oui\",'Q_del,j et Q_del,dh'!$D86,0)","v":0},{"$f":"IF(T137=\"Oui\",'Q_del,j et Q_del,dh'!$D86,0)","v":0},{"$f":"IF(U137=\"Oui\",'Q_del,j et Q_del,dh'!$D86,0)","v":0},{"$f":"IF(V137=\"Oui\",'Q_del,j et Q_del,dh'!$D86,0)","v":0},{"$f":"IF(W137=\"Oui\",'Q_del,j et Q_del,dh'!$D86,0)","v":0},{"$f":"IF(X137=\"Oui\",'Q_del,j et Q_del,dh'!$D86,0)","v":0},{"$f":"IF(Y137=\"Oui\",'Q_del,j et Q_del,dh'!$D86,0)","v":0},{"$f":"IF(Z137=\"Oui\",'Q_del,j et Q_del,dh'!$D86,0)","v":0},{"$f":"IF(AA137=\"Oui\",'Q_del,j et Q_del,dh'!$D86,0)","v":0},{"$f":"IF(AB137=\"Oui\",'Q_del,j et Q_del,dh'!$D86,0)","v":0},{"$f":"IF(AC137=\"Oui\",'Q_del,j et Q_del,dh'!$D86,0)","v":0},{"$f":"IF(AD137=\"Oui\",'Q_del,j et Q_del,dh'!$D86,0)","v":0},{"$f":"IF(AE137=\"Oui\",'Q_del,j et Q_del,dh'!$D86,0)","v":0},{"$f":"IF(AF137=\"Oui\",'Q_del,j et Q_del,dh'!$D86,0)","v":0},{"$f":"IF(AG137=\"Oui\",'Q_del,j et Q_del,dh'!$D86,0)","v":0},{"$f":"IF(AH137=\"Oui\",'Q_del,j et Q_del,dh'!$D86,0)","v":0},{"$f":"IF(AI137=\"Oui\",'Q_del,j et Q_del,dh'!$D86,0)","v":0},{"$f":"IF(AJ137=\"Oui\",'Q_del,j et Q_del,dh'!$D86,0)","v":0},{"$f":"IF(AK137=\"Oui\",'Q_del,j et Q_del,dh'!$D86,0)","v":0},{"$f":"IF(AL137=\"Oui\",'Q_del,j et Q_del,dh'!$D86,0)","v":0},{"$f":"IF(AM137=\"Oui\",'Q_del,j et Q_del,dh'!$D86,0)","v":0},{"$f":"IF(AN137=\"Oui\",'Q_del,j et Q_del,dh'!$D86,0)","v":0},{"$f":"IF(AO137=\"Oui\",'Q_del,j et Q_del,dh'!$D86,0)","v":0},{"$f":"IF(AP137=\"Oui\",'Q_del,j et Q_del,dh'!$D86,0)","v":0},{"$f":"IF(AQ137=\"Oui\",'Q_del,j et Q_del,dh'!$D86,0)","v":0},{"$f":"IF(AR137=\"Oui\",'Q_del,j et Q_del,dh'!$D86,0)","v":0},{"$f":"IF(AS137=\"Oui\",'Q_del,j et Q_del,dh'!$D86,0)","v":0},{"$f":"IF(AT137=\"Oui\",'Q_del,j et Q_del,dh'!$D86,0)","v":0},{"$f":"IF(AU137=\"Oui\",'Q_del,j et Q_del,dh'!$D86,0)","v":0},{"$f":"IF(AV137=\"Oui\",'Q_del,j et Q_del,dh'!$D86,0)","v":0},{"$f":"IF(AW137=\"Oui\",'Q_del,j et Q_del,dh'!$D86,0)","v":0},{"$f":"IF(AX137=\"Oui\",'Q_del,j et Q_del,dh'!$D86,0)","v":0},{"$f":"IF(AY137=\"Oui\",'Q_del,j et Q_del,dh'!$D86,0)","v":0},{"$f":"IF(AZ137=\"Oui\",'Q_del,j et Q_del,dh'!$D86,0)","v":0},{"$f":"IF(BA137=\"Oui\",'Q_del,j et Q_del,dh'!$D86,0)","v":0}]
["Qdel,l,j [MJ]","Demandeur de chaleur 80",80,{"$f":"IF(D138=\"Oui\",'Q_del,j et Q_del,dh'!$D87,0)","v":0},{"$f":"IF(E138=\"Oui\",'Q_del,j et Q_del,dh'!$D87,0)","v":0},{"$f":"IF(F138=\"Oui\",'Q_del,j et Q_del,dh'!$D87,0)","v":0},{"$f":"IF(G138=\"Oui\",'Q_del,j et Q_del,dh'!$D87,0)","v":0},{"$f":"IF(H138=\"Oui\",'Q_del,j et Q_del,dh'!$D87,0)","v":0},{"$f":"IF(I138=\"Oui\",'Q_del,j et Q_del,dh'!$D87,0)","v":0},{"$f":"IF(J138=\"Oui\",'Q_del,j et Q_del,dh'!$D87,0)","v":0},{"$f":"IF(K138=\"Oui\",'Q_del,j et Q_del,dh'!$D87,0)","v":0},{"$f":"IF(L138=\"Oui\",'Q_del,j et Q_del,dh'!$D87,0)","v":0},{"$f":"IF(M138=\"Oui\",'Q_del,j et Q_del,dh'!$D87,0)","v":0},{"$f":"IF(N138=\"Oui\",'Q_del,j et Q_del,dh'!$D87,0)","v":0},{"$f":"IF(O138=\"Oui\",'Q_del,j et Q_del,dh'!$D87,0)","v":0},{"$f":"IF(P138=\"Oui\",'Q_del,j et Q_del,dh'!$D87,0)","v":0},{"$f":"IF(Q138=\"Oui\",'Q_del,j et Q_del,dh'!$D87,0)","v":0},{"$f":"IF(R138=\"Oui\",'Q_del,j et Q_del,dh'!$D87,0)","v":0},{"$f":"IF(S138=\"Oui\",'Q_del,j et Q_del,dh'!$D87,0)","v":0},{"$f":"IF(T138=\"Oui\",'Q_del,j et Q_del,dh'!$D87,0)","v":0},{"$f":"IF(U138=\"Oui\",'Q_del,j et Q_del,dh'!$D87,0)","v":0},{"$f":"IF(V138=\"Oui\",'Q_del,j et Q_del,dh'!$D87,0)","v":0},{"$f":"IF(W138=\"Oui\",'Q_del,j et Q_del,dh'!$D87,0)","v":0},{"$f":"IF(X138=\"Oui\",'Q_del,j et Q_del,dh'!$D87,0)","v":0},{"$f":"IF(Y138=\"Oui\",'Q_del,j et Q_del,dh'!$D87,0)","v":0},{"$f":"IF(Z138=\"Oui\",'Q_del,j et Q_del,dh'!$D87,0)","v":0},{"$f":"IF(AA138=\"Oui\",'Q_del,j et Q_del,dh'!$D87,0)","v":0},{"$f":"IF(AB138=\"Oui\",'Q_del,j et Q_del,dh'!$D87,0)","v":0},{"$f":"IF(AC138=\"Oui\",'Q_del,j et Q_del,dh'!$D87,0)","v":0},{"$f":"IF(AD138=\"Oui\",'Q_del,j et Q_del,dh'!$D87,0)","v":0},{"$f":"IF(AE138=\"Oui\",'Q_del,j et Q_del,dh'!$D87,0)","v":0},{"$f":"IF(AF138=\"Oui\",'Q_del,j et Q_del,dh'!$D87,0)","v":0},{"$f":"IF(AG138=\"Oui\",'Q_del,j et Q_del,dh'!$D87,0)","v":0},{"$f":"IF(AH138=\"Oui\",'Q_del,j et Q_del,dh'!$D87,0)","v":0},{"$f":"IF(AI138=\"Oui\",'Q_del,j et Q_del,dh'!$D87,0)","v":0},{"$f":"IF(AJ138=\"Oui\",'Q_del,j et Q_del,dh'!$D87,0)","v":0},{"$f":"IF(AK138=\"Oui\",'Q_del,j et Q_del,dh'!$D87,0)","v":0},{"$f":"IF(AL138=\"Oui\",'Q_del,j et Q_del,dh'!$D87,0)","v":0},{"$f":"IF(AM138=\"Oui\",'Q_del,j et Q_del,dh'!$D87,0)","v":0},{"$f":"IF(AN138=\"Oui\",'Q_del,j et Q_del,dh'!$D87,0)","v":0},{"$f":"IF(AO138=\"Oui\",'Q_del,j et Q_del,dh'!$D87,0)","v":0},{"$f":"IF(AP138=\"Oui\",'Q_del,j et Q_del,dh'!$D87,0)","v":0},{"$f":"IF(AQ138=\"Oui\",'Q_del,j et Q_del,dh'!$D87,0)","v":0},{"$f":"IF(AR138=\"Oui\",'Q_del,j et Q_del,dh'!$D87,0)","v":0},{"$f":"IF(AS138=\"Oui\",'Q_del,j et Q_del,dh'!$D87,0)","v":0},{"$f":"IF(AT138=\"Oui\",'Q_del,j et Q_del,dh'!$D87,0)","v":0},{"$f":"IF(AU138=\"Oui\",'Q_del,j et Q_del,dh'!$D87,0)","v":0},{"$f":"IF(AV138=\"Oui\",'Q_del,j et Q_del,dh'!$D87,0)","v":0},{"$f":"IF(AW138=\"Oui\",'Q_del,j et Q_del,dh'!$D87,0)","v":0},{"$f":"IF(AX138=\"Oui\",'Q_del,j et Q_del,dh'!$D87,0)","v":0},{"$f":"IF(AY138=\"Oui\",'Q_del,j et Q_del,dh'!$D87,0)","v":0},{"$f":"IF(AZ138=\"Oui\",'Q_del,j et Q_del,dh'!$D87,0)","v":0},{"$f":"IF(BA138=\"Oui\",'Q_del,j et Q_del,dh'!$D87,0)","v":0}]
["Qdel,l,j [MJ]","Demandeur de chaleur 81",81,{"$f":"IF(D139=\"Oui\",'Q_del,j et Q_del,dh'!$D88,0)","v":0},{"$f":"IF(E139=\"Oui\",'Q_del,j et Q_del,dh'!$D88,0)","v":0},{"$f":"IF(F139=\"Oui\",'Q_del,j et Q_del,dh'!$D88,0)","v":0},{"$f":"IF(G139=\"Oui\",'Q_del,j et Q_del,dh'!$D88,0)","v":0},{"$f":"IF(H139=\"Oui\",'Q_del,j et Q_del,dh'!$D88,0)","v":0},{"$f":"IF(I139=\"Oui\",'Q_del,j et Q_del,dh'!$D88,0)","v":0},{"$f":"IF(J139=\"Oui\",'Q_del,j et Q_del,dh'!$D88,0)","v":0},{"$f":"IF(K139=\"Oui\",'Q_del,j et Q_del,dh'!$D88,0)","v":0},{"$f":"IF(L139=\"Oui\",'Q_del,j et Q_del,dh'!$D88,0)","v":0},{"$f":"IF(M139=\"Oui\",'Q_del,j et Q_del,dh'!$D88,0)","v":0},{"$f":"IF(N139=\"Oui\",'Q_del,j et Q_del,dh'!$D88,0)","v":0},{"$f":"IF(O139=\"Oui\",'Q_del,j et Q_del,dh'!$D88,0)","v":0},{"$f":"IF(P139=\"Oui\",'Q_del,j et Q_del,dh'!$D88,0)","v":0},{"$f":"IF(Q139=\"Oui\",'Q_del,j et Q_del,dh'!$D88,0)","v":0},{"$f":"IF(R139=\"Oui\",'Q_del,j et Q_del,dh'!$D88,0)","v":0},{"$f":"IF(S139=\"Oui\",'Q_del,j et Q_del,dh'!$D88,0)","v":0},{"$f":"IF(T139=\"Oui\",'Q_del,j et Q_del,dh'!$D88,0)","v":0},{"$f":"IF(U139=\"Oui\",'Q_del,j et Q_del,dh'!$D88,0)","v":0},{"$f":"IF(V139=\"Oui\",'Q_del,j et Q_del,dh'!$D88,0)","v":0},{"$f":"IF(W139=\"Oui\",'Q_del,j et Q_del,dh'!$D88,0)","v":0},{"$f":"IF(X139=\"Oui\",'Q_del,j et Q_del,dh'!$D88,0)","v":0},{"$f":"IF(Y139=\"Oui\",'Q_del,j et Q_del,dh'!$D88,0)","v":0},{"$f":"IF(Z139=\"Oui\",'Q_del,j et Q_del,dh'!$D88,0)","v":0},{"$f":"IF(AA139=\"Oui\",'Q_del,j et Q_del,dh'!$D88,0)","v":0},{"$f":"IF(AB139=\"Oui\",'Q_del,j et Q_del,dh'!$D88,0)","v":0},{"$f":"IF(AC139=\"Oui\",'Q_del,j et Q_del,dh'!$D88,0)","v":0},{"$f":"IF(AD139=\"Oui\",'Q_del,j et Q_del,dh'!$D88,0)","v":0},{"$f":"IF(AE139=\"Oui\",'Q_del,j et Q_del,dh'!$D88,0)","v":0},{"$f":"IF(AF139=\"Oui\",'Q_del,j et Q_del,dh'!$D88,0)","v":0},{"$f":"IF(AG139=\"Oui\",'Q_del,j et Q_del,dh'!$D88,0)","v":0},{"$f":"IF(AH139=\"Oui\",'Q_del,j et Q_del,dh'!$D88,0)","v":0},{"$f":"IF(AI139=\"Oui\",'Q_del,j et Q_del,dh'!$D88,0)","v":0},{"$f":"IF(AJ139=\"Oui\",'Q_del,j et Q_del,dh'!$D88,0)","v":0},{"$f":"IF(AK139=\"Oui\",'Q_del,j et Q_del,dh'!$D88,0)","v":0},{"$f":"IF(AL139=\"Oui\",'Q_del,j et Q_del,dh'!$D88,0)","v":0},{"$f":"IF(AM139=\"Oui\",'Q_del,j et Q_del,dh'!$D88,0)","v":0},{"$f":"IF(AN139=\"Oui\",'Q_del,j et Q_del,dh'!$D88,0)","v":0},{"$f":"IF(AO139=\"Oui\",'Q_del,j et Q_del,dh'!$D88,0)","v":0},{"$f":"IF(AP139=\"Oui\",'Q_del,j et Q_del,dh'!$D88,0)","v":0},{"$f":"IF(AQ139=\"Oui\",'Q_del,j et Q_del,dh'!$D88,0)","v":0},{"$f":"IF(AR139=\"Oui\",'Q_del,j et Q_del,dh'!$D88,0)","v":0},{"$f":"IF(AS139=\"Oui\",'Q_del,j et Q_del,dh'!$D88,0)","v":0},{"$f":"IF(AT139=\"Oui\",'Q_del,j et Q_del,dh'!$D88,0)","v":0},{"$f":"IF(AU139=\"Oui\",'Q_del,j et Q_del,dh'!$D88,0)","v":0},{"$f":"IF(AV139=\"Oui\",'Q_del,j et Q_del,dh'!$D88,0)","v":0},{"$f":"IF(AW139=\"Oui\",'Q_del,j et Q_del,dh'!$D88,0)","v":0},{"$f":"IF(AX139=\"Oui\",'Q_del,j et Q_del,dh'!$D88,0)","v":0},{"$f":"IF(AY139=\"Oui\",'Q_del,j et Q_del,dh'!$D88,0)","v":0},{"$f":"IF(AZ139=\"Oui\",'Q_del,j et Q_del,dh'!$D88,0)","v":0},{"$f":"IF(BA139=\"Oui\",'Q_del,j et Q_del,dh'!$D88,0)","v":0}]
["Qdel,l,j [MJ]","Demandeur de chaleur 82",82,{"$f":"IF(D140=\"Oui\",'Q_del,j et Q_del,dh'!$D89,0)","v":0},{"$f":"IF(E140=\"Oui\",'Q_del,j et Q_del,dh'!$D89,0)","v":0},{"$f":"IF(F140=\"Oui\",'Q_del,j et Q_del,dh'!$D89,0)","v":0},{"$f":"IF(G140=\"Oui\",'Q_del,j et Q_del,dh'!$D89,0)","v":0},{"$f":"IF(H140=\"Oui\",'Q_del,j et Q_del,dh'!$D89,0)","v":0},{"$f":"IF(I140=\"Oui\",'Q_del,j et Q_del,dh'!$D89,0)","v":0},{"$f":"IF(J140=\"Oui\",'Q_del,j et Q_del,dh'!$D89,0)","v":0},{"$f":"IF(K140=\"Oui\",'Q_del,j et Q_del,dh'!$D89,0)","v":0},{"$f":"IF(L140=\"Oui\",'Q_del,j et Q_del,dh'!$D89,0)","v":0},{"$f":"IF(M140=\"Oui\",'Q_del,j et Q_del,dh'!$D89,0)","v":0},{"$f":"IF(N140=\"Oui\",'Q_del,j et Q_del,dh'!$D89,0)","v":0},{"$f":"IF(O140=\"Oui\",'Q_del,j et Q_del,dh'!$D89,0)","v":0},{"$f":"IF(P140=\"Oui\",'Q_del,j et Q_del,dh'!$D89,0)","v":0},{"$f":"IF(Q140=\"Oui\",'Q_del,j et Q_del,dh'!$D89,0)","v":0},{"$f":"IF(R140=\"Oui\",'Q_del,j et Q_del,dh'!$D89,0)","v":0},{"$f":"IF(S140=\"Oui\",'Q_del,j et Q_del,dh'!$D89,0)","v":0},{"$f":"IF(T140=\"Oui\",'Q_del,j et Q_del,dh'!$D89,0)","v":0},{"$f":"IF(U140=\"Oui\",'Q_del,j et Q_del,dh'!$D89,0)","v":0},{"$f":"IF(V140=\"Oui\",'Q_del,j et Q_del,dh'!$D89,0)","v":0},{"$f":"IF(W140=\"Oui\",'Q_del,j et Q_del,dh'!$D89,0)","v":0},{"$f":"IF(X140=\"Oui\",'Q_del,j et Q_del,dh'!$D89,0)","v":0},{"$f":"IF(Y140=\"Oui\",'Q_del,j et Q_del,dh'!$D89,0)","v":0},{"$f":"IF(Z140=\"Oui\",'Q_del,j et Q_del,dh'!$D89,0)","v":0},{"$f":"IF(AA140=\"Oui\",'Q_del,j et Q_del,dh'!$D89,0)","v":0},{"$f":"IF(AB140=\"Oui\",'Q_del,j et Q_del,dh'!$D89,0)","v":0},{"$f":"IF(AC140=\"Oui\",'Q_del,j et Q_del,dh'!$D89,0)","v":0},{"$f":"IF(AD140=\"Oui\",'Q_del,j et Q_del,dh'!$D89,0)","v":0},{"$f":"IF(AE140=\"Oui\",'Q_del,j et Q_del,dh'!$D89,0)","v":0},{"$f":"IF(AF140=\"Oui\",'Q_del,j et Q_del,dh'!$D89,0)","v":0},{"$f":"IF(AG140=\"Oui\",'Q_del,j et Q_del,dh'!$D89,0)","v":0},{"$f":"IF(AH140=\"Oui\",'Q_del,j et Q_del,dh'!$D89,0)","v":0},{"$f":"IF(AI140=\"Oui\",'Q_del,j et Q_del,dh'!$D89,0)","v":0},{"$f":"IF(AJ140=\"Oui\",'Q_del,j et Q_del,dh'!$D89,0)","v":0},{"$f":"IF(AK140=\"Oui\",'Q_del,j et Q_del,dh'!$D89,0)","v":0},{"$f":"IF(AL140=\"Oui\",'Q_del,j et Q_del,dh'!$D89,0)","v":0},{"$f":"IF(AM140=\"Oui\",'Q_del,j et Q_del,dh'!$D89,0)","v":0},{"$f":"IF(AN140=\"Oui\",'Q_del,j et Q_del,dh'!$D89,0)","v":0},{"$f":"IF(AO140=\"Oui\",'Q_del,j et Q_del,dh'!$D89,0)","v":0},{"$f":"IF(AP140=\"Oui\",'Q_del,j et Q_del,dh'!$D89,0)","v":0},{"$f":"IF(AQ140=\"Oui\",'Q_del,j et Q_del,dh'!$D89,0)","v":0},{"$f":"IF(AR140=\"Oui\",'Q_del,j et Q_del,dh'!$D89,0)","v":0},{"$f":"IF(AS140=\"Oui\",'Q_del,j et Q_del,dh'!$D89,0)","v":0},{"$f":"IF(AT140=\"Oui\",'Q_del,j et Q_del,dh'!$D89,0)","v":0},{"$f":"IF(AU140=\"Oui\",'Q_del,j et Q_del,dh'!$D89,0)","v":0},{"$f":"IF(AV140=\"Oui\",'Q_del,j et Q_del,dh'!$D89,0)","v":0},{"$f":"IF(AW140=\"Oui\",'Q_del,j et Q_del,dh'!$D89,0)","v":0},{"$f":"IF(AX140=\"Oui\",'Q_del,j et Q_del,dh'!$D89,0)","v":0},{"$f":"IF(AY140=\"Oui\",'Q_del,j et Q_del,dh'!$D89,0)","v":0},{"$f":"IF(AZ140=\"Oui\",'Q_del,j et Q_del,dh'!$D89,0)","v":0},{"$f":"IF(BA140=\"Oui\",'Q_del,j et Q_del,dh'!$D89,0)","v":0}]
["Qdel,l,j [MJ]","Demandeur de chaleur 83",83,{"$f":"IF(D141=\"Oui\",'Q_del,j et Q_del,dh'!$D90,0)","v":0},{"$f":"IF(E141=\"Oui\",'Q_del,j et Q_del,dh'!$D90,0)","v":0},{"$f":"IF(F141=\"Oui\",'Q_del,j et Q_del,dh'!$D90,0)","v":0},{"$f":"IF(G141=\"Oui\",'Q_del,j et Q_del,dh'!$D90,0)","v":0},{"$f":"IF(H141=\"Oui\",'Q_del,j et Q_del,dh'!$D90,0)","v":0},{"$f":"IF(I141=\"Oui\",'Q_del,j et Q_del,dh'!$D90,0)","v":0},{"$f":"IF(J141=\"Oui\",'Q_del,j et Q_del,dh'!$D90,0)","v":0},{"$f":"IF(K141=\"Oui\",'Q_del,j et Q_del,dh'!$D90,0)","v":0},{"$f":"IF(L141=\"Oui\",'Q_del,j et Q_del,dh'!$D90,0)","v":0},{"$f":"IF(M141=\"Oui\",'Q_del,j et Q_del,dh'!$D90,0)","v":0},{"$f":"IF(N141=\"Oui\",'Q_del,j et Q_del,dh'!$D90,0)","v":0},{"$f":"IF(O141=\"Oui\",'Q_del,j et Q_del,dh'!$D90,0)","v":0},{"$f":"IF(P141=\"Oui\",'Q_del,j et Q_del,dh'!$D90,0)","v":0},{"$f":"IF(Q141=\"Oui\",'Q_del,j et Q_del,dh'!$D90,0)","v":0},{"$f":"IF(R141=\"Oui\",'Q_del,j et Q_del,dh'!$D90,0)","v":0},{"$f":"IF(S141=\"Oui\",'Q_del,j et Q_del,dh'!$D90,0)","v":0},{"$f":"IF(T141=\"Oui\",'Q_del,j et Q_del,dh'!$D90,0)","v":0},{"$f":"IF(U141=\"Oui\",'Q_del,j et Q_del,dh'!$D90,0)","v":0},{"$f":"IF(V141=\"Oui\",'Q_del,j et Q_del,dh'!$D90,0)","v":0},{"$f":"IF(W141=\"Oui\",'Q_del,j et Q_del,dh'!$D90,0)","v":0},{"$f":"IF(X141=\"Oui\",'Q_del,j et Q_del,dh'!$D90,0)","v":0},{"$f":"IF(Y141=\"Oui\",'Q_del,j et Q_del,dh'!$D90,0)","v":0},{"$f":"IF(Z141=\"Oui\",'Q_del,j et Q_del,dh'!$D90,0)","v":0},{"$f":"IF(AA141=\"Oui\",'Q_del,j et Q_del,dh'!$D90,0)","v":0},{"$f":"IF(AB141=\"Oui\",'Q_del,j et Q_del,dh'!$D90,0)","v":0},{"$f":"IF(AC141=\"Oui\",'Q_del,j et Q_del,dh'!$D90,0)","v":0},{"$f":"IF(AD141=\"Oui\",'Q_del,j et Q_del,dh'!$D90,0)","v":0},{"$f":"IF(AE141=\"Oui\",'Q_del,j et Q_del,dh'!$D90,0)","v":0},{"$f":"IF(AF141=\"Oui\",'Q_del,j et Q_del,dh'!$D90,0)","v":0},{"$f":"IF(AG141=\"Oui\",'Q_del,j et Q_del,dh'!$D90,0)","v":0},{"$f":"IF(AH141=\"Oui\",'Q_del,j et Q_del,dh'!$D90,0)","v":0},{"$f":"IF(AI141=\"Oui\",'Q_del,j et Q_del,dh'!$D90,0)","v":0},{"$f":"IF(AJ141=\"Oui\",'Q_del,j et Q_del,dh'!$D90,0)","v":0},{"$f":"IF(AK141=\"Oui\",'Q_del,j et Q_del,dh'!$D90,0)","v":0},{"$f":"IF(AL141=\"Oui\",'Q_del,j et Q_del,dh'!$D90,0)","v":0},{"$f":"IF(AM141=\"Oui\",'Q_del,j et Q_del,dh'!$D90,0)","v":0},{"$f":"IF(AN141=\"Oui\",'Q_del,j et Q_del,dh'!$D90,0)","v":0},{"$f":"IF(AO141=\"Oui\",'Q_del,j et Q_del,dh'!$D90,0)","v":0},{"$f":"IF(AP141=\"Oui\",'Q_del,j et Q_del,dh'!$D90,0)","v":0},{"$f":"IF(AQ141=\"Oui\",'Q_del,j et Q_del,dh'!$D90,0)","v":0},{"$f":"IF(AR141=\"Oui\",'Q_del,j et Q_del,dh'!$D90,0)","v":0},{"$f":"IF(AS141=\"Oui\",'Q_del,j et Q_del,dh'!$D90,0)","v":0},{"$f":"IF(AT141=\"Oui\",'Q_del,j et Q_del,dh'!$D90,0)","v":0},{"$f":"IF(AU141=\"Oui\",'Q_del,j et Q_del,dh'!$D90,0)","v":0},{"$f":"IF(AV141=\"Oui\",'Q_del,j et Q_del,dh'!$D90,0)","v":0},{"$f":"IF(AW141=\"Oui\",'Q_del,j et Q_del,dh'!$D90,0)","v":0},{"$f":"IF(AX141=\"Oui\",'Q_del,j et Q_del,dh'!$D90,0)","v":0},{"$f":"IF(AY141=\"Oui\",'Q_del,j et Q_del,dh'!$D90,0)","v":0},{"$f":"IF(AZ141=\"Oui\",'Q_del,j et Q_del,dh'!$D90,0)","v":0},{"$f":"IF(BA141=\"Oui\",'Q_del,j et Q_del,dh'!$D90,0)","v":0}]
["Qdel,l,j [MJ]","Demandeur de chaleur 84",84,{"$f":"IF(D142=\"Oui\",'Q_del,j et Q_del,dh'!$D91,0)","v":0},{"$f":"IF(E142=\"Oui\",'Q_del,j et Q_del,dh'!$D91,0)","v":0},{"$f":"IF(F142=\"Oui\",'Q_del,j et Q_del,dh'!$D91,0)","v":0},{"$f":"IF(G142=\"Oui\",'Q_del,j et Q_del,dh'!$D91,0)","v":0},{"$f":"IF(H142=\"Oui\",'Q_del,j et Q_del,dh'!$D91,0)","v":0},{"$f":"IF(I142=\"Oui\",'Q_del,j et Q_del,dh'!$D91,0)","v":0},{"$f":"IF(J142=\"Oui\",'Q_del,j et Q_del,dh'!$D91,0)","v":0},{"$f":"IF(K142=\"Oui\",'Q_del,j et Q_del,dh'!$D91,0)","v":0},{"$f":"IF(L142=\"Oui\",'Q_del,j et Q_del,dh'!$D91,0)","v":0},{"$f":"IF(M142=\"Oui\",'Q_del,j et Q_del,dh'!$D91,0)","v":0},{"$f":"IF(N142=\"Oui\",'Q_del,j et Q_del,dh'!$D91,0)","v":0},{"$f":"IF(O142=\"Oui\",'Q_del,j et Q_del,dh'!$D91,0)","v":0},{"$f":"IF(P142=\"Oui\",'Q_del,j et Q_del,dh'!$D91,0)","v":0},{"$f":"IF(Q142=\"Oui\",'Q_del,j et Q_del,dh'!$D91,0)","v":0},{"$f":"IF(R142=\"Oui\",'Q_del,j et Q_del,dh'!$D91,0)","v":0},{"$f":"IF(S142=\"Oui\",'Q_del,j et Q_del,dh'!$D91,0)","v":0},{"$f":"IF(T142=\"Oui\",'Q_del,j et Q_del,dh'!$D91,0)","v":0},{"$f":"IF(U142=\"Oui\",'Q_del,j et Q_del,dh'!$D91,0)","v":0},{"$f":"IF(V142=\"Oui\",'Q_del,j et Q_del,dh'!$D91,0)","v":0},{"$f":"IF(W142=\"Oui\",'Q_del,j et Q_del,dh'!$D91,0)","v":0},{"$f":"IF(X142=\"Oui\",'Q_del,j et Q_del,dh'!$D91,0)","v":0},{"$f":"IF(Y142=\"Oui\",'Q_del,j et Q_del,dh'!$D91,0)","v":0},{"$f":"IF(Z142=\"Oui\",'Q_del,j et Q_del,dh'!$D91,0)","v":0},{"$f":"IF(AA142=\"Oui\",'Q_del,j et Q_del,dh'!$D91,0)","v":0},{"$f":"IF(AB142=\"Oui\",'Q_del,j et Q_del,dh'!$D91,0)","v":0},{"$f":"IF(AC142=\"Oui\",'Q_del,j et Q_del,dh'!$D91,0)","v":0},{"$f":"IF(AD142=\"Oui\",'Q_del,j et Q_del,dh'!$D91,0)","v":0},{"$f":"IF(AE142=\"Oui\",'Q_del,j et Q_del,dh'!$D91,0)","v":0},{"$f":"IF(AF142=\"Oui\",'Q_del,j et Q_del,dh'!$D91,0)","v":0},{"$f":"IF(AG142=\"Oui\",'Q_del,j et Q_del,dh'!$D91,0)","v":0},{"$f":"IF(AH142=\"Oui\",'Q_del,j et Q_del,dh'!$D91,0)","v":0},{"$f":"IF(AI142=\"Oui\",'Q_del,j et Q_del,dh'!$D91,0)","v":0},{"$f":"IF(AJ142=\"Oui\",'Q_del,j et Q_del,dh'!$D91,0)","v":0},{"$f":"IF(AK142=\"Oui\",'Q_del,j et Q_del,dh'!$D91,0)","v":0},{"$f":"IF(AL142=\"Oui\",'Q_del,j et Q_del,dh'!$D91,0)","v":0},{"$f":"IF(AM142=\"Oui\",'Q_del,j et Q_del,dh'!$D91,0)","v":0},{"$f":"IF(AN142=\"Oui\",'Q_del,j et Q_del,dh'!$D91,0)","v":0},{"$f":"IF(AO142=\"Oui\",'Q_del,j et Q_del,dh'!$D91,0)","v":0},{"$f":"IF(AP142=\"Oui\",'Q_del,j et Q_del,dh'!$D91,0)","v":0},{"$f":"IF(AQ142=\"Oui\",'Q_del,j et Q_del,dh'!$D91,0)","v":0},{"$f":"IF(AR142=\"Oui\",'Q_del,j et Q_del,dh'!$D91,0)","v":0},{"$f":"IF(AS142=\"Oui\",'Q_del,j et Q_del,dh'!$D91,0)","v":0},{"$f":"IF(AT142=\"Oui\",'Q_del,j et Q_del,dh'!$D91,0)","v":0},{"$f":"IF(AU142=\"Oui\",'Q_del,j et Q_del,dh'!$D91,0)","v":0},{"$f":"IF(AV142=\"Oui\",'Q_del,j et Q_del,dh'!$D91,0)","v":0},{"$f":"IF(AW142=\"Oui\",'Q_del,j et Q_del,dh'!$D91,0)","v":0},{"$f":"IF(AX142=\"Oui\",'Q_del,j et Q_del,dh'!$D91,0)","v":0},{"$f":"IF(AY142=\"Oui\",'Q_del,j et Q_del,dh'!$D91,0)","v":0},{"$f":"IF(AZ142=\"Oui\",'Q_del,j et Q_del,dh'!$D91,0)","v":0},{"$f":"IF(BA142=\"Oui\",'Q_del,j et Q_del,dh'!$D91,0)","v":0}]
["Qdel,l,j [MJ]","Demandeur de chaleur 85",85,{"$f":"IF(D143=\"Oui\",'Q_del,j et Q_del,dh'!$D92,0)","v":0},{"$f":"IF(E143=\"Oui\",'Q_del,j et Q_del,dh'!$D92,0)","v":0},{"$f":"IF(F143=\"Oui\",'Q_del,j et Q_del,dh'!$D92,0)","v":0},{"$f":"IF(G143=\"Oui\",'Q_del,j et Q_del,dh'!$D92,0)","v":0},{"$f":"IF(H143=\"Oui\",'Q_del,j et Q_del,dh'!$D92,0)","v":0},{"$f":"IF(I143=\"Oui\",'Q_del,j et Q_del,dh'!$D92,0)","v":0},{"$f":"IF(J143=\"Oui\",'Q_del,j et Q_del,dh'!$D92,0)","v":0},{"$f":"IF(K143=\"Oui\",'Q_del,j et Q_del,dh'!$D92,0)","v":0},{"$f":"IF(L143=\"Oui\",'Q_del,j et Q_del,dh'!$D92,0)","v":0},{"$f":"IF(M143=\"Oui\",'Q_del,j et Q_del,dh'!$D92,0)","v":0},{"$f":"IF(N143=\"Oui\",'Q_del,j et Q_del,dh'!$D92,0)","v":0},{"$f":"IF(O143=\"Oui\",'Q_del,j et Q_del,dh'!$D92,0)","v":0},{"$f":"IF(P143=\"Oui\",'Q_del,j et Q_del,dh'!$D92,0)","v":0},{"$f":"IF(Q143=\"Oui\",'Q_del,j et Q_del,dh'!$D92,0)","v":0},{"$f":"IF(R143=\"Oui\",'Q_del,j et Q_del,dh'!$D92,0)","v":0},{"$f":"IF(S143=\"Oui\",'Q_del,j et Q_del,dh'!$D92,0)","v":0},{"$f":"IF(T143=\"Oui\",'Q_del,j et Q_del,dh'!$D92,0)","v":0},{"$f":"IF(U143=\"Oui\",'Q_del,j et Q_del,dh'!$D92,0)","v":0},{"$f":"IF(V143=\"Oui\",'Q_del,j et Q_del,dh'!$D92,0)","v":0},{"$f":"IF(W143=\"Oui\",'Q_del,j et Q_del,dh'!$D92,0)","v":0},{"$f":"IF(X143=\"Oui\",'Q_del,j et Q_del,dh'!$D92,0)","v":0},{"$f":"IF(Y143=\"Oui\",'Q_del,j et Q_del,dh'!$D92,0)","v":0},{"$f":"IF(Z143=\"Oui\",'Q_del,j et Q_del,dh'!$D92,0)","v":0},{"$f":"IF(AA143=\"Oui\",'Q_del,j et Q_del,dh'!$D92,0)","v":0},{"$f":"IF(AB143=\"Oui\",'Q_del,j et Q_del,dh'!$D92,0)","v":0},{"$f":"IF(AC143=\"Oui\",'Q_del,j et Q_del,dh'!$D92,0)","v":0},{"$f":"IF(AD143=\"Oui\",'Q_del,j et Q_del,dh'!$D92,0)","v":0},{"$f":"IF(AE143=\"Oui\",'Q_del,j et Q_del,dh'!$D92,0)","v":0},{"$f":"IF(AF143=\"Oui\",'Q_del,j et Q_del,dh'!$D92,0)","v":0},{"$f":"IF(AG143=\"Oui\",'Q_del,j et Q_del,dh'!$D92,0)","v":0},{"$f":"IF(AH143=\"Oui\",'Q_del,j et Q_del,dh'!$D92,0)","v":0},{"$f":"IF(AI143=\"Oui\",'Q_del,j et Q_del,dh'!$D92,0)","v":0},{"$f":"IF(AJ143=\"Oui\",'Q_del,j et Q_del,dh'!$D92,0)","v":0},{"$f":"IF(AK143=\"Oui\",'Q_del,j et Q_del,dh'!$D92,0)","v":0},{"$f":"IF(AL143=\"Oui\",'Q_del,j et Q_del,dh'!$D92,0)","v":0},{"$f":"IF(AM143=\"Oui\",'Q_del,j et Q_del,dh'!$D92,0)","v":0},{"$f":"IF(AN143=\"Oui\",'Q_del,j et Q_del,dh'!$D92,0)","v":0},{"$f":"IF(AO143=\"Oui\",'Q_del,j et Q_del,dh'!$D92,0)","v":0},{"$f":"IF(AP143=\"Oui\",'Q_del,j et Q_del,dh'!$D92,0)","v":0},{"$f":"IF(AQ143=\"Oui\",'Q_del,j et Q_del,dh'!$D92,0)","v":0},{"$f":"IF(AR143=\"Oui\",'Q_del,j et Q_del,dh'!$D92,0)","v":0},{"$f":"IF(AS143=\"Oui\",'Q_del,j et Q_del,dh'!$D92,0)","v":0},{"$f":"IF(AT143=\"Oui\",'Q_del,j et Q_del,dh'!$D92,0)","v":0},{"$f":"IF(AU143=\"Oui\",'Q_del,j et Q_del,dh'!$D92,0)","v":0},{"$f":"IF(AV143=\"Oui\",'Q_del,j et Q_del,dh'!$D92,0)","v":0},{"$f":"IF(AW143=\"Oui\",'Q_del,j et Q_del,dh'!$D92,0)","v":0},{"$f":"IF(AX143=\"Oui\",'Q_del,j et Q_del,dh'!$D92,0)","v":0},{"$f":"IF(AY143=\"Oui\",'Q_del,j et Q_del,dh'!$D92,0)","v":0},{"$f":"IF(AZ143=\"Oui\",'Q_del,j et Q_del,dh'!$D92,0)","v":0},{"$f":"IF(BA143=\"Oui\",'Q_del,j et Q_del,dh'!$D92,0)","v":0}]
["Qdel,l,j [MJ]","Demandeur de chaleur 86",86,{"$f":"IF(D144=\"Oui\",'Q_del,j et Q_del,dh'!$D93,0)","v":0},{"$f":"IF(E144=\"Oui\",'Q_del,j et Q_del,dh'!$D93,0)","v":0},{"$f":"IF(F144=\"Oui\",'Q_del,j et Q_del,dh'!$D93,0)","v":0},{"$f":"IF(G144=\"Oui\",'Q_del,j et Q_del,dh'!$D93,0)","v":0},{"$f":"IF(H144=\"Oui\",'Q_del,j et Q_del,dh'!$D93,0)","v":0},{"$f":"IF(I144=\"Oui\",'Q_del,j et Q_del,dh'!$D93,0)","v":0},{"$f":"IF(J144=\"Oui\",'Q_del,j et Q_del,dh'!$D93,0)","v":0},{"$f":"IF(K144=\"Oui\",'Q_del,j et Q_del,dh'!$D93,0)","v":0},{"$f":"IF(L144=\"Oui\",'Q_del,j et Q_del,dh'!$D93,0)","v":0},{"$f":"IF(M144=\"Oui\",'Q_del,j et Q_del,dh'!$D93,0)","v":0},{"$f":"IF(N144=\"Oui\",'Q_del,j et Q_del,dh'!$D93,0)","v":0},{"$f":"IF(O144=\"Oui\",'Q_del,j et Q_del,dh'!$D93,0)","v":0},{"$f":"IF(P144=\"Oui\",'Q_del,j et Q_del,dh'!$D93,0)","v":0},{"$f":"IF(Q144=\"Oui\",'Q_del,j et Q_del,dh'!$D93,0)","v":0},{"$f":"IF(R144=\"Oui\",'Q_del,j et Q_del,dh'!$D93,0)","v":0},{"$f":"IF(S144=\"Oui\",'Q_del,j et Q_del,dh'!$D93,0)","v":0},{"$f":"IF(T144=\"Oui\",'Q_del,j et Q_del,dh'!$D93,0)","v":0},{"$f":"IF(U144=\"Oui\",'Q_del,j et Q_del,dh'!$D93,0)","v":0},{"$f":"IF(V144=\"Oui\",'Q_del,j et Q_del,dh'!$D93,0)","v":0},{"$f":"IF(W144=\"Oui\",'Q_del,j et Q_del,dh'!$D93,0)","v":0},{"$f":"IF(X144=\"Oui\",'Q_del,j et Q_del,dh'!$D93,0)","v":0},{"$f":"IF(Y144=\"Oui\",'Q_del,j et Q_del,dh'!$D93,0)","v":0},{"$f":"IF(Z144=\"Oui\",'Q_del,j et Q_del,dh'!$D93,0)","v":0},{"$f":"IF(AA144=\"Oui\",'Q_del,j et Q_del,dh'!$D93,0)","v":0},{"$f":"IF(AB144=\"Oui\",'Q_del,j et Q_del,dh'!$D93,0)","v":0},{"$f":"IF(AC144=\"Oui\",'Q_del,j et Q_del,dh'!$D93,0)","v":0},{"$f":"IF(AD144=\"Oui\",'Q_del,j et Q_del,dh'!$D93,0)","v":0},{"$f":"IF(AE144=\"Oui\",'Q_del,j et Q_del,dh'!$D93,0)","v":0},{"$f":"IF(AF144=\"Oui\",'Q_del,j et Q_del,dh'!$D93,0)","v":0},{"$f":"IF(AG144=\"Oui\",'Q_del,j et Q_del,dh'!$D93,0)","v":0},{"$f":"IF(AH144=\"Oui\",'Q_del,j et Q_del,dh'!$D93,0)","v":0},{"$f":"IF(AI144=\"Oui\",'Q_del,j et Q_del,dh'!$D93,0)","v":0},{"$f":"IF(AJ144=\"Oui\",'Q_del,j et Q_del,dh'!$D93,0)","v":0},{"$f":"IF(AK144=\"Oui\",'Q_del,j et Q_del,dh'!$D93,0)","v":0},{"$f":"IF(AL144=\"Oui\",'Q_del,j et Q_del,dh'!$D93,0)","v":0},{"$f":"IF(AM144=\"Oui\",'Q_del,j et Q_del,dh'!$D93,0)","v":0},{"$f":"IF(AN144=\"Oui\",'Q_del,j et Q_del,dh'!$D93,0)","v":0},{"$f":"IF(AO144=\"Oui\",'Q_del,j et Q_del,dh'!$D93,0)","v":0},{"$f":"IF(AP144=\"Oui\",'Q_del,j et Q_del,dh'!$D93,0)","v":0},{"$f":"IF(AQ144=\"Oui\",'Q_del,j et Q_del,dh'!$D93,0)","v":0},{"$f":"IF(AR144=\"Oui\",'Q_del,j et Q_del,dh'!$D93,0)","v":0},{"$f":"IF(AS144=\"Oui\",'Q_del,j et Q_del,dh'!$D93,0)","v":0},{"$f":"IF(AT144=\"Oui\",'Q_del,j et Q_del,dh'!$D93,0)","v":0},{"$f":"IF(AU144=\"Oui\",'Q_del,j et Q_del,dh'!$D93,0)","v":0},{"$f":"IF(AV144=\"Oui\",'Q_del,j et Q_del,dh'!$D93,0)","v":0},{"$f":"IF(AW144=\"Oui\",'Q_del,j et Q_del,dh'!$D93,0)","v":0},{"$f":"IF(AX144=\"Oui\",'Q_del,j et Q_del,dh'!$D93,0)","v":0},{"$f":"IF(AY144=\"Oui\",'Q_del,j et Q_del,dh'!$D93,0)","v":0},{"$f":"IF(AZ144=\"Oui\",'Q_del,j et Q_del,dh'!$D93,0)","v":0},{"$f":"IF(BA144=\"Oui\",'Q_del,j et Q_del,dh'!$D93,0)","v":0}]
["Qdel,l,j [MJ]","Demandeur de chaleur 87",87,{"$f":"IF(D145=\"Oui\",'Q_del,j et Q_del,dh'!$D94,0)","v":0},{"$f":"IF(E145=\"Oui\",'Q_del,j et Q_del,dh'!$D94,0)","v":0},{"$f":"IF(F145=\"Oui\",'Q_del,j et Q_del,dh'!$D94,0)","v":0},{"$f":"IF(G145=\"Oui\",'Q_del,j et Q_del,dh'!$D94,0)","v":0},{"$f":"IF(H145=\"Oui\",'Q_del,j et Q_del,dh'!$D94,0)","v":0},{"$f":"IF(I145=\"Oui\",'Q_del,j et Q_del,dh'!$D94,0)","v":0},{"$f":"IF(J145=\"Oui\",'Q_del,j et Q_del,dh'!$D94,0)","v":0},{"$f":"IF(K145=\"Oui\",'Q_del,j et Q_del,dh'!$D94,0)","v":0},{"$f":"IF(L145=\"Oui\",'Q_del,j et Q_del,dh'!$D94,0)","v":0},{"$f":"IF(M145=\"Oui\",'Q_del,j et Q_del,dh'!$D94,0)","v":0},{"$f":"IF(N145=\"Oui\",'Q_del,j et Q_del,dh'!$D94,0)","v":0},{"$f":"IF(O145=\"Oui\",'Q_del,j et Q_del,dh'!$D94,0)","v":0},{"$f":"IF(P145=\"Oui\",'Q_del,j et Q_del,dh'!$D94,0)","v":0},{"$f":"IF(Q145=\"Oui\",'Q_del,j et Q_del,dh'!$D94,0)","v":0},{"$f":"IF(R145=\"Oui\",'Q_del,j et Q_del,dh'!$D94,0)","v":0},{"$f":"IF(S145=\"Oui\",'Q_del,j et Q_del,dh'!$D94,0)","v":0},{"$f":"IF(T145=\"Oui\",'Q_del,j et Q_del,dh'!$D94,0)","v":0},{"$f":"IF(U145=\"Oui\",'Q_del,j et Q_del,dh'!$D94,0)","v":0},{"$f":"IF(V145=\"Oui\",'Q_del,j et Q_del,dh'!$D94,0)","v":0},{"$f":"IF(W145=\"Oui\",'Q_del,j et Q_del,dh'!$D94,0)","v":0},{"$f":"IF(X145=\"Oui\",'Q_del,j et Q_del,dh'!$D94,0)","v":0},{"$f":"IF(Y145=\"Oui\",'Q_del,j et Q_del,dh'!$D94,0)","v":0},{"$f":"IF(Z145=\"Oui\",'Q_del,j et Q_del,dh'!$D94,0)","v":0},{"$f":"IF(AA145=\"Oui\",'Q_del,j et Q_del,dh'!$D94,0)","v":0},{"$f":"IF(AB145=\"Oui\",'Q_del,j et Q_del,dh'!$D94,0)","v":0},{"$f":"IF(AC145=\"Oui\",'Q_del,j et Q_del,dh'!$D94,0)","v":0},{"$f":"IF(AD145=\"Oui\",'Q_del,j et Q_del,dh'!$D94,0)","v":0},{"$f":"IF(AE145=\"Oui\",'Q_del,j et Q_del,dh'!$D94,0)","v":0},{"$f":"IF(AF145=\"Oui\",'Q_del,j et Q_del,dh'!$D94,0)","v":0},{"$f":"IF(AG145=\"Oui\",'Q_del,j et Q_del,dh'!$D94,0)","v":0},{"$f":"IF(AH145=\"Oui\",'Q_del,j et Q_del,dh'!$D94,0)","v":0},{"$f":"IF(AI145=\"Oui\",'Q_del,j et Q_del,dh'!$D94,0)","v":0},{"$f":"IF(AJ145=\"Oui\",'Q_del,j et Q_del,dh'!$D94,0)","v":0},{"$f":"IF(AK145=\"Oui\",'Q_del,j et Q_del,dh'!$D94,0)","v":0},{"$f":"IF(AL145=\"Oui\",'Q_del,j et Q_del,dh'!$D94,0)","v":0},{"$f":"IF(AM145=\"Oui\",'Q_del,j et Q_del,dh'!$D94,0)","v":0},{"$f":"IF(AN145=\"Oui\",'Q_del,j et Q_del,dh'!$D94,0)","v":0},{"$f":"IF(AO145=\"Oui\",'Q_del,j et Q_del,dh'!$D94,0)","v":0},{"$f":"IF(AP145=\"Oui\",'Q_del,j et Q_del,dh'!$D94,0)","v":0},{"$f":"IF(AQ145=\"Oui\",'Q_del,j et Q_del,dh'!$D94,0)","v":0},{"$f":"IF(AR145=\"Oui\",'Q_del,j et Q_del,dh'!$D94,0)","v":0},{"$f":"IF(AS145=\"Oui\",'Q_del,j et Q_del,dh'!$D94,0)","v":0},{"$f":"IF(AT145=\"Oui\",'Q_del,j et Q_del,dh'!$D94,0)","v":0},{"$f":"IF(AU145=\"Oui\",'Q_del,j et Q_del,dh'!$D94,0)","v":0},{"$f":"IF(AV145=\"Oui\",'Q_del,j et Q_del,dh'!$D94,0)","v":0},{"$f":"IF(AW145=\"Oui\",'Q_del,j et Q_del,dh'!$D94,0)","v":0},{"$f":"IF(AX145=\"Oui\",'Q_del,j et Q_del,dh'!$D94,0)","v":0},{"$f":"IF(AY145=\"Oui\",'Q_del,j et Q_del,dh'!$D94,0)","v":0},{"$f":"IF(AZ145=\"Oui\",'Q_del,j et Q_del,dh'!$D94,0)","v":0},{"$f":"IF(BA145=\"Oui\",'Q_del,j et Q_del,dh'!$D94,0)","v":0}]
["Qdel,l,j [MJ]","Demandeur de chaleur 88",88,{"$f":"IF(D146=\"Oui\",'Q_del,j et Q_del,dh'!$D95,0)","v":0},{"$f":"IF(E146=\"Oui\",'Q_del,j et Q_del,dh'!$D95,0)","v":0},{"$f":"IF(F146=\"Oui\",'Q_del,j et Q_del,dh'!$D95,0)","v":0},{"$f":"IF(G146=\"Oui\",'Q_del,j et Q_del,dh'!$D95,0)","v":0},{"$f":"IF(H146=\"Oui\",'Q_del,j et Q_del,dh'!$D95,0)","v":0},{"$f":"IF(I146=\"Oui\",'Q_del,j et Q_del,dh'!$D95,0)","v":0},{"$f":"IF(J146=\"Oui\",'Q_del,j et Q_del,dh'!$D95,0)","v":0},{"$f":"IF(K146=\"Oui\",'Q_del,j et Q_del,dh'!$D95,0)","v":0},{"$f":"IF(L146=\"Oui\",'Q_del,j et Q_del,dh'!$D95,0)","v":0},{"$f":"IF(M146=\"Oui\",'Q_del,j et Q_del,dh'!$D95,0)","v":0},{"$f":"IF(N146=\"Oui\",'Q_del,j et Q_del,dh'!$D95,0)","v":0},{"$f":"IF(O146=\"Oui\",'Q_del,j et Q_del,dh'!$D95,0)","v":0},{"$f":"IF(P146=\"Oui\",'Q_del,j et Q_del,dh'!$D95,0)","v":0},{"$f":"IF(Q146=\"Oui\",'Q_del,j et Q_del,dh'!$D95,0)","v":0},{"$f":"IF(R146=\"Oui\",'Q_del,j et Q_del,dh'!$D95,0)","v":0},{"$f":"IF(S146=\"Oui\",'Q_del,j et Q_del,dh'!$D95,0)","v":0},{"$f":"IF(T146=\"Oui\",'Q_del,j et Q_del,dh'!$D95,0)","v":0},{"$f":"IF(U146=\"Oui\",'Q_del,j et Q_del,dh'!$D95,0)","v":0},{"$f":"IF(V146=\"Oui\",'Q_del,j et Q_del,dh'!$D95,0)","v":0},{"$f":"IF(W146=\"Oui\",'Q_del,j et Q_del,dh'!$D95,0)","v":0},{"$f":"IF(X146=\"Oui\",'Q_del,j et Q_del,dh'!$D95,0)","v":0},{"$f":"IF(Y146=\"Oui\",'Q_del,j et Q_del,dh'!$D95,0)","v":0},{"$f":"IF(Z146=\"Oui\",'Q_del,j et Q_del,dh'!$D95,0)","v":0},{"$f":"IF(AA146=\"Oui\",'Q_del,j et Q_del,dh'!$D95,0)","v":0},{"$f":"IF(AB146=\"Oui\",'Q_del,j et Q_del,dh'!$D95,0)","v":0},{"$f":"IF(AC146=\"Oui\",'Q_del,j et Q_del,dh'!$D95,0)","v":0},{"$f":"IF(AD146=\"Oui\",'Q_del,j et Q_del,dh'!$D95,0)","v":0},{"$f":"IF(AE146=\"Oui\",'Q_del,j et Q_del,dh'!$D95,0)","v":0},{"$f":"IF(AF146=\"Oui\",'Q_del,j et Q_del,dh'!$D95,0)","v":0},{"$f":"IF(AG146=\"Oui\",'Q_del,j et Q_del,dh'!$D95,0)","v":0},{"$f":"IF(AH146=\"Oui\",'Q_del,j et Q_del,dh'!$D95,0)","v":0},{"$f":"IF(AI146=\"Oui\",'Q_del,j et Q_del,dh'!$D95,0)","v":0},{"$f":"IF(AJ146=\"Oui\",'Q_del,j et Q_del,dh'!$D95,0)","v":0},{"$f":"IF(AK146=\"Oui\",'Q_del,j et Q_del,dh'!$D95,0)","v":0},{"$f":"IF(AL146=\"Oui\",'Q_del,j et Q_del,dh'!$D95,0)","v":0},{"$f":"IF(AM146=\"Oui\",'Q_del,j et Q_del,dh'!$D95,0)","v":0},{"$f":"IF(AN146=\"Oui\",'Q_del,j et Q_del,dh'!$D95,0)","v":0},{"$f":"IF(AO146=\"Oui\",'Q_del,j et Q_del,dh'!$D95,0)","v":0},{"$f":"IF(AP146=\"Oui\",'Q_del,j et Q_del,dh'!$D95,0)","v":0},{"$f":"IF(AQ146=\"Oui\",'Q_del,j et Q_del,dh'!$D95,0)","v":0},{"$f":"IF(AR146=\"Oui\",'Q_del,j et Q_del,dh'!$D95,0)","v":0},{"$f":"IF(AS146=\"Oui\",'Q_del,j et Q_del,dh'!$D95,0)","v":0},{"$f":"IF(AT146=\"Oui\",'Q_del,j et Q_del,dh'!$D95,0)","v":0},{"$f":"IF(AU146=\"Oui\",'Q_del,j et Q_del,dh'!$D95,0)","v":0},{"$f":"IF(AV146=\"Oui\",'Q_del,j et Q_del,dh'!$D95,0)","v":0},{"$f":"IF(AW146=\"Oui\",'Q_del,j et Q_del,dh'!$D95,0)","v":0},{"$f":"IF(AX146=\"Oui\",'Q_del,j et Q_del,dh'!$D95,0)","v":0},{"$f":"IF(AY146=\"Oui\",'Q_del,j et Q_del,dh'!$D95,0)","v":0},{"$f":"IF(AZ146=\"Oui\",'Q_del,j et Q_del,dh'!$D95,0)","v":0},{"$f":"IF(BA146=\"Oui\",'Q_del,j et Q_del,dh'!$D95,0)","v":0}]
["Qdel,l,j [MJ]","Demandeur de chaleur 89",89,{"$f":"IF(D147=\"Oui\",'Q_del,j et Q_del,dh'!$D96,0)","v":0},{"$f":"IF(E147=\"Oui\",'Q_del,j et Q_del,dh'!$D96,0)","v":0},{"$f":"IF(F147=\"Oui\",'Q_del,j et Q_del,dh'!$D96,0)","v":0},{"$f":"IF(G147=\"Oui\",'Q_del,j et Q_del,dh'!$D96,0)","v":0},{"$f":"IF(H147=\"Oui\",'Q_del,j et Q_del,dh'!$D96,0)","v":0},{"$f":"IF(I147=\"Oui\",'Q_del,j et Q_del,dh'!$D96,0)","v":0},{"$f":"IF(J147=\"Oui\",'Q_del,j et Q_del,dh'!$D96,0)","v":0},{"$f":"IF(K147=\"Oui\",'Q_del,j et Q_del,dh'!$D96,0)","v":0},{"$f":"IF(L147=\"Oui\",'Q_del,j et Q_del,dh'!$D96,0)","v":0},{"$f":"IF(M147=\"Oui\",'Q_del,j et Q_del,dh'!$D96,0)","v":0},{"$f":"IF(N147=\"Oui\",'Q_del,j et Q_del,dh'!$D96,0)","v":0},{"$f":"IF(O147=\"Oui\",'Q_del,j et Q_del,dh'!$D96,0)","v":0},{"$f":"IF(P147=\"Oui\",'Q_del,j et Q_del,dh'!$D96,0)","v":0},{"$f":"IF(Q147=\"Oui\",'Q_del,j et Q_del,dh'!$D96,0)","v":0},{"$f":"IF(R147=\"Oui\",'Q_del,j et Q_del,dh'!$D96,0)","v":0},{"$f":"IF(S147=\"Oui\",'Q_del,j et Q_del,dh'!$D96,0)","v":0},{"$f":"IF(T147=\"Oui\",'Q_del,j et Q_del,dh'!$D96,0)","v":0},{"$f":"IF(U147=\"Oui\",'Q_del,j et Q_del,dh'!$D96,0)","v":0},{"$f":"IF(V147=\"Oui\",'Q_del,j et Q_del,dh'!$D96,0)","v":0},{"$f":"IF(W147=\"Oui\",'Q_del,j et Q_del,dh'!$D96,0)","v":0},{"$f":"IF(X147=\"Oui\",'Q_del,j et Q_del,dh'!$D96,0)","v":0},{"$f":"IF(Y147=\"Oui\",'Q_del,j et Q_del,dh'!$D96,0)","v":0},{"$f":"IF(Z147=\"Oui\",'Q_del,j et Q_del,dh'!$D96,0)","v":0},{"$f":"IF(AA147=\"Oui\",'Q_del,j et Q_del,dh'!$D96,0)","v":0},{"$f":"IF(AB147=\"Oui\",'Q_del,j et Q_del,dh'!$D96,0)","v":0},{"$f":"IF(AC147=\"Oui\",'Q_del,j et Q_del,dh'!$D96,0)","v":0},{"$f":"IF(AD147=\"Oui\",'Q_del,j et Q_del,dh'!$D96,0)","v":0},{"$f":"IF(AE147=\"Oui\",'Q_del,j et Q_del,dh'!$D96,0)","v":0},{"$f":"IF(AF147=\"Oui\",'Q_del,j et Q_del,dh'!$D96,0)","v":0},{"$f":"IF(AG147=\"Oui\",'Q_del,j et Q_del,dh'!$D96,0)","v":0},{"$f":"IF(AH147=\"Oui\",'Q_del,j et Q_del,dh'!$D96,0)","v":0},{"$f":"IF(AI147=\"Oui\",'Q_del,j et Q_del,dh'!$D96,0)","v":0},{"$f":"IF(AJ147=\"Oui\",'Q_del,j et Q_del,dh'!$D96,0)","v":0},{"$f":"IF(AK147=\"Oui\",'Q_del,j et Q_del,dh'!$D96,0)","v":0},{"$f":"IF(AL147=\"Oui\",'Q_del,j et Q_del,dh'!$D96,0)","v":0},{"$f":"IF(AM147=\"Oui\",'Q_del,j et Q_del,dh'!$D96,0)","v":0},{"$f":"IF(AN147=\"Oui\",'Q_del,j et Q_del,dh'!$D96,0)","v":0},{"$f":"IF(AO147=\"Oui\",'Q_del,j et Q_del,dh'!$D96,0)","v":0},{"$f":"IF(AP147=\"Oui\",'Q_del,j et Q_del,dh'!$D96,0)","v":0},{"$f":"IF(AQ147=\"Oui\",'Q_del,j et Q_del,dh'!$D96,0)","v":0},{"$f":"IF(AR147=\"Oui\",'Q_del,j et Q_del,dh'!$D96,0)","v":0},{"$f":"IF(AS147=\"Oui\",'Q_del,j et Q_del,dh'!$D96,0)","v":0},{"$f":"IF(AT147=\"Oui\",'Q_del,j et Q_del,dh'!$D96,0)","v":0},{"$f":"IF(AU147=\"Oui\",'Q_del,j et Q_del,dh'!$D96,0)","v":0},{"$f":"IF(AV147=\"Oui\",'Q_del,j et Q_del,dh'!$D96,0)","v":0},{"$f":"IF(AW147=\"Oui\",'Q_del,j et Q_del,dh'!$D96,0)","v":0},{"$f":"IF(AX147=\"Oui\",'Q_del,j et Q_del,dh'!$D96,0)","v":0},{"$f":"IF(AY147=\"Oui\",'Q_del,j et Q_del,dh'!$D96,0)","v":0},{"$f":"IF(AZ147=\"Oui\",'Q_del,j et Q_del,dh'!$D96,0)","v":0},{"$f":"IF(BA147=\"Oui\",'Q_del,j et Q_del,dh'!$D96,0)","v":0}]
["Qdel,l,j [MJ]","Demandeur de chaleur 90",90,{"$f":"IF(D148=\"Oui\",'Q_del,j et Q_del,dh'!$D97,0)","v":0},{"$f":"IF(E148=\"Oui\",'Q_del,j et Q_del,dh'!$D97,0)","v":0},{"$f":"IF(F148=\"Oui\",'Q_del,j et Q_del,dh'!$D97,0)","v":0},{"$f":"IF(G148=\"Oui\",'Q_del,j et Q_del,dh'!$D97,0)","v":0},{"$f":"IF(H148=\"Oui\",'Q_del,j et Q_del,dh'!$D97,0)","v":0},{"$f":"IF(I148=\"Oui\",'Q_del,j et Q_del,dh'!$D97,0)","v":0},{"$f":"IF(J148=\"Oui\",'Q_del,j et Q_del,dh'!$D97,0)","v":0},{"$f":"IF(K148=\"Oui\",'Q_del,j et Q_del,dh'!$D97,0)","v":0},{"$f":"IF(L148=\"Oui\",'Q_del,j et Q_del,dh'!$D97,0)","v":0},{"$f":"IF(M148=\"Oui\",'Q_del,j et Q_del,dh'!$D97,0)","v":0},{"$f":"IF(N148=\"Oui\",'Q_del,j et Q_del,dh'!$D97,0)","v":0},{"$f":"IF(O148=\"Oui\",'Q_del,j et Q_del,dh'!$D97,0)","v":0},{"$f":"IF(P148=\"Oui\",'Q_del,j et Q_del,dh'!$D97,0)","v":0},{"$f":"IF(Q148=\"Oui\",'Q_del,j et Q_del,dh'!$D97,0)","v":0},{"$f":"IF(R148=\"Oui\",'Q_del,j et Q_del,dh'!$D97,0)","v":0},{"$f":"IF(S148=\"Oui\",'Q_del,j et Q_del,dh'!$D97,0)","v":0},{"$f":"IF(T148=\"Oui\",'Q_del,j et Q_del,dh'!$D97,0)","v":0},{"$f":"IF(U148=\"Oui\",'Q_del,j et Q_del,dh'!$D97,0)","v":0},{"$f":"IF(V148=\"Oui\",'Q_del,j et Q_del,dh'!$D97,0)","v":0},{"$f":"IF(W148=\"Oui\",'Q_del,j et Q_del,dh'!$D97,0)","v":0},{"$f":"IF(X148=\"Oui\",'Q_del,j et Q_del,dh'!$D97,0)","v":0},{"$f":"IF(Y148=\"Oui\",'Q_del,j et Q_del,dh'!$D97,0)","v":0},{"$f":"IF(Z148=\"Oui\",'Q_del,j et Q_del,dh'!$D97,0)","v":0},{"$f":"IF(AA148=\"Oui\",'Q_del,j et Q_del,dh'!$D97,0)","v":0},{"$f":"IF(AB148=\"Oui\",'Q_del,j et Q_del,dh'!$D97,0)","v":0},{"$f":"IF(AC148=\"Oui\",'Q_del,j et Q_del,dh'!$D97,0)","v":0},{"$f":"IF(AD148=\"Oui\",'Q_del,j et Q_del,dh'!$D97,0)","v":0},{"$f":"IF(AE148=\"Oui\",'Q_del,j et Q_del,dh'!$D97,0)","v":0},{"$f":"IF(AF148=\"Oui\",'Q_del,j et Q_del,dh'!$D97,0)","v":0},{"$f":"IF(AG148=\"Oui\",'Q_del,j et Q_del,dh'!$D97,0)","v":0},{"$f":"IF(AH148=\"Oui\",'Q_del,j et Q_del,dh'!$D97,0)","v":0},{"$f":"IF(AI148=\"Oui\",'Q_del,j et Q_del,dh'!$D97,0)","v":0},{"$f":"IF(AJ148=\"Oui\",'Q_del,j et Q_del,dh'!$D97,0)","v":0},{"$f":"IF(AK148=\"Oui\",'Q_del,j et Q_del,dh'!$D97,0)","v":0},{"$f":"IF(AL148=\"Oui\",'Q_del,j et Q_del,dh'!$D97,0)","v":0},{"$f":"IF(AM148=\"Oui\",'Q_del,j et Q_del,dh'!$D97,0)","v":0},{"$f":"IF(AN148=\"Oui\",'Q_del,j et Q_del,dh'!$D97,0)","v":0},{"$f":"IF(AO148=\"Oui\",'Q_del,j et Q_del,dh'!$D97,0)","v":0},{"$f":"IF(AP148=\"Oui\",'Q_del,j et Q_del,dh'!$D97,0)","v":0},{"$f":"IF(AQ148=\"Oui\",'Q_del,j et Q_del,dh'!$D97,0)","v":0},{"$f":"IF(AR148=\"Oui\",'Q_del,j et Q_del,dh'!$D97,0)","v":0},{"$f":"IF(AS148=\"Oui\",'Q_del,j et Q_del,dh'!$D97,0)","v":0},{"$f":"IF(AT148=\"Oui\",'Q_del,j et Q_del,dh'!$D97,0)","v":0},{"$f":"IF(AU148=\"Oui\",'Q_del,j et Q_del,dh'!$D97,0)","v":0},{"$f":"IF(AV148=\"Oui\",'Q_del,j et Q_del,dh'!$D97,0)","v":0},{"$f":"IF(AW148=\"Oui\",'Q_del,j et Q_del,dh'!$D97,0)","v":0},{"$f":"IF(AX148=\"Oui\",'Q_del,j et Q_del,dh'!$D97,0)","v":0},{"$f":"IF(AY148=\"Oui\",'Q_del,j et Q_del,dh'!$D97,0)","v":0},{"$f":"IF(AZ148=\"Oui\",'Q_del,j et Q_del,dh'!$D97,0)","v":0},{"$f":"IF(BA148=\"Oui\",'Q_del,j et Q_del,dh'!$D97,0)","v":0}]
["Qdel,l,j [MJ]","Demandeur de chaleur 91",91,{"$f":"IF(D149=\"Oui\",'Q_del,j et Q_del,dh'!$D98,0)","v":0},{"$f":"IF(E149=\"Oui\",'Q_del,j et Q_del,dh'!$D98,0)","v":0},{"$f":"IF(F149=\"Oui\",'Q_del,j et Q_del,dh'!$D98,0)","v":0},{"$f":"IF(G149=\"Oui\",'Q_del,j et Q_del,dh'!$D98,0)","v":0},{"$f":"IF(H149=\"Oui\",'Q_del,j et Q_del,dh'!$D98,0)","v":0},{"$f":"IF(I149=\"Oui\",'Q_del,j et Q_del,dh'!$D98,0)","v":0},{"$f":"IF(J149=\"Oui\",'Q_del,j et Q_del,dh'!$D98,0)","v":0},{"$f":"IF(K149=\"Oui\",'Q_del,j et Q_del,dh'!$D98,0)","v":0},{"$f":"IF(L149=\"Oui\",'Q_del,j et Q_del,dh'!$D98,0)","v":0},{"$f":"IF(M149=\"Oui\",'Q_del,j et Q_del,dh'!$D98,0)","v":0},{"$f":"IF(N149=\"Oui\",'Q_del,j et Q_del,dh'!$D98,0)","v":0},{"$f":"IF(O149=\"Oui\",'Q_del,j et Q_del,dh'!$D98,0)","v":0},{"$f":"IF(P149=\"Oui\",'Q_del,j et Q_del,dh'!$D98,0)","v":0},{"$f":"IF(Q149=\"Oui\",'Q_del,j et Q_del,dh'!$D98,0)","v":0},{"$f":"IF(R149=\"Oui\",'Q_del,j et Q_del,dh'!$D98,0)","v":0},{"$f":"IF(S149=\"Oui\",'Q_del,j et Q_del,dh'!$D98,0)","v":0},{"$f":"IF(T149=\"Oui\",'Q_del,j et Q_del,dh'!$D98,0)","v":0},{"$f":"IF(U149=\"Oui\",'Q_del,j et Q_del,dh'!$D98,0)","v":0},{"$f":"IF(V149=\"Oui\",'Q_del,j et Q_del,dh'!$D98,0)","v":0},{"$f":"IF(W149=\"Oui\",'Q_del,j et Q_del,dh'!$D98,0)","v":0},{"$f":"IF(X149=\"Oui\",'Q_del,j et Q_del,dh'!$D98,0)","v":0},{"$f":"IF(Y149=\"Oui\",'Q_del,j et Q_del,dh'!$D98,0)","v":0},{"$f":"IF(Z149=\"Oui\",'Q_del,j et Q_del,dh'!$D98,0)","v":0},{"$f":"IF(AA149=\"Oui\",'Q_del,j et Q_del,dh'!$D98,0)","v":0},{"$f":"IF(AB149=\"Oui\",'Q_del,j et Q_del,dh'!$D98,0)","v":0},{"$f":"IF(AC149=\"Oui\",'Q_del,j et Q_del,dh'!$D98,0)","v":0},{"$f":"IF(AD149=\"Oui\",'Q_del,j et Q_del,dh'!$D98,0)","v":0},{"$f":"IF(AE149=\"Oui\",'Q_del,j et Q_del,dh'!$D98,0)","v":0},{"$f":"IF(AF149=\"Oui\",'Q_del,j et Q_del,dh'!$D98,0)","v":0},{"$f":"IF(AG149=\"Oui\",'Q_del,j et Q_del,dh'!$D98,0)","v":0},{"$f":"IF(AH149=\"Oui\",'Q_del,j et Q_del,dh'!$D98,0)","v":0},{"$f":"IF(AI149=\"Oui\",'Q_del,j et Q_del,dh'!$D98,0)","v":0},{"$f":"IF(AJ149=\"Oui\",'Q_del,j et Q_del,dh'!$D98,0)","v":0},{"$f":"IF(AK149=\"Oui\",'Q_del,j et Q_del,dh'!$D98,0)","v":0},{"$f":"IF(AL149=\"Oui\",'Q_del,j et Q_del,dh'!$D98,0)","v":0},{"$f":"IF(AM149=\"Oui\",'Q_del,j et Q_del,dh'!$D98,0)","v":0},{"$f":"IF(AN149=\"Oui\",'Q_del,j et Q_del,dh'!$D98,0)","v":0},{"$f":"IF(AO149=\"Oui\",'Q_del,j et Q_del,dh'!$D98,0)","v":0},{"$f":"IF(AP149=\"Oui\",'Q_del,j et Q_del,dh'!$D98,0)","v":0},{"$f":"IF(AQ149=\"Oui\",'Q_del,j et Q_del,dh'!$D98,0)","v":0},{"$f":"IF(AR149=\"Oui\",'Q_del,j et Q_del,dh'!$D98,0)","v":0},{"$f":"IF(AS149=\"Oui\",'Q_del,j et Q_del,dh'!$D98,0)","v":0},{"$f":"IF(AT149=\"Oui\",'Q_del,j et Q_del,dh'!$D98,0)","v":0},{"$f":"IF(AU149=\"Oui\",'Q_del,j et Q_del,dh'!$D98,0)","v":0},{"$f":"IF(AV149=\"Oui\",'Q_del,j et Q_del,dh'!$D98,0)","v":0},{"$f":"IF(AW149=\"Oui\",'Q_del,j et Q_del,dh'!$D98,0)","v":0},{"$f":"IF(AX149=\"Oui\",'Q_del,j et Q_del,dh'!$D98,0)","v":0},{"$f":"IF(AY149=\"Oui\",'Q_del,j et Q_del,dh'!$D98,0)","v":0},{"$f":"IF(AZ149=\"Oui\",'Q_del,j et Q_del,dh'!$D98,0)","v":0},{"$f":"IF(BA149=\"Oui\",'Q_del,j et Q_del,dh'!$D98,0)","v":0}]
["Qdel,l,j [MJ]","Demandeur de chaleur 92",92,{"$f":"IF(D150=\"Oui\",'Q_del,j et Q_del,dh'!$D99,0)","v":0},{"$f":"IF(E150=\"Oui\",'Q_del,j et Q_del,dh'!$D99,0)","v":0},{"$f":"IF(F150=\"Oui\",'Q_del,j et Q_del,dh'!$D99,0)","v":0},{"$f":"IF(G150=\"Oui\",'Q_del,j et Q_del,dh'!$D99,0)","v":0},{"$f":"IF(H150=\"Oui\",'Q_del,j et Q_del,dh'!$D99,0)","v":0},{"$f":"IF(I150=\"Oui\",'Q_del,j et Q_del,dh'!$D99,0)","v":0},{"$f":"IF(J150=\"Oui\",'Q_del,j et Q_del,dh'!$D99,0)","v":0},{"$f":"IF(K150=\"Oui\",'Q_del,j et Q_del,dh'!$D99,0)","v":0},{"$f":"IF(L150=\"Oui\",'Q_del,j et Q_del,dh'!$D99,0)","v":0},{"$f":"IF(M150=\"Oui\",'Q_del,j et Q_del,dh'!$D99,0)","v":0},{"$f":"IF(N150=\"Oui\",'Q_del,j et Q_del,dh'!$D99,0)","v":0},{"$f":"IF(O150=\"Oui\",'Q_del,j et Q_del,dh'!$D99,0)","v":0},{"$f":"IF(P150=\"Oui\",'Q_del,j et Q_del,dh'!$D99,0)","v":0},{"$f":"IF(Q150=\"Oui\",'Q_del,j et Q_del,dh'!$D99,0)","v":0},{"$f":"IF(R150=\"Oui\",'Q_del,j et Q_del,dh'!$D99,0)","v":0},{"$f":"IF(S150=\"Oui\",'Q_del,j et Q_del,dh'!$D99,0)","v":0},{"$f":"IF(T150=\"Oui\",'Q_del,j et Q_del,dh'!$D99,0)","v":0},{"$f":"IF(U150=\"Oui\",'Q_del,j et Q_del,dh'!$D99,0)","v":0},{"$f":"IF(V150=\"Oui\",'Q_del,j et Q_del,dh'!$D99,0)","v":0},{"$f":"IF(W150=\"Oui\",'Q_del,j et Q_del,dh'!$D99,0)","v":0},{"$f":"IF(X150=\"Oui\",'Q_del,j et Q_del,dh'!$D99,0)","v":0},{"$f":"IF(Y150=\"Oui\",'Q_del,j et Q_del,dh'!$D99,0)","v":0},{"$f":"IF(Z150=\"Oui\",'Q_del,j et Q_del,dh'!$D99,0)","v":0},{"$f":"IF(AA150=\"Oui\",'Q_del,j et Q_del,dh'!$D99,0)","v":0},{"$f":"IF(AB150=\"Oui\",'Q_del,j et Q_del,dh'!$D99,0)","v":0},{"$f":"IF(AC150=\"Oui\",'Q_del,j et Q_del,dh'!$D99,0)","v":0},{"$f":"IF(AD150=\"Oui\",'Q_del,j et Q_del,dh'!$D99,0)","v":0},{"$f":"IF(AE150=\"Oui\",'Q_del,j et Q_del,dh'!$D99,0)","v":0},{"$f":"IF(AF150=\"Oui\",'Q_del,j et Q_del,dh'!$D99,0)","v":0},{"$f":"IF(AG150=\"Oui\",'Q_del,j et Q_del,dh'!$D99,0)","v":0},{"$f":"IF(AH150=\"Oui\",'Q_del,j et Q_del,dh'!$D99,0)","v":0},{"$f":"IF(AI150=\"Oui\",'Q_del,j et Q_del,dh'!$D99,0)","v":0},{"$f":"IF(AJ150=\"Oui\",'Q_del,j et Q_del,dh'!$D99,0)","v":0},{"$f":"IF(AK150=\"Oui\",'Q_del,j et Q_del,dh'!$D99,0)","v":0},{"$f":"IF(AL150=\"Oui\",'Q_del,j et Q_del,dh'!$D99,0)","v":0},{"$f":"IF(AM150=\"Oui\",'Q_del,j et Q_del,dh'!$D99,0)","v":0},{"$f":"IF(AN150=\"Oui\",'Q_del,j et Q_del,dh'!$D99,0)","v":0},{"$f":"IF(AO150=\"Oui\",'Q_del,j et Q_del,dh'!$D99,0)","v":0},{"$f":"IF(AP150=\"Oui\",'Q_del,j et Q_del,dh'!$D99,0)","v":0},{"$f":"IF(AQ150=\"Oui\",'Q_del,j et Q_del,dh'!$D99,0)","v":0},{"$f":"IF(AR150=\"Oui\",'Q_del,j et Q_del,dh'!$D99,0)","v":0},{"$f":"IF(AS150=\"Oui\",'Q_del,j et Q_del,dh'!$D99,0)","v":0},{"$f":"IF(AT150=\"Oui\",'Q_del,j et Q_del,dh'!$D99,0)","v":0},{"$f":"IF(AU150=\"Oui\",'Q_del,j et Q_del,dh'!$D99,0)","v":0},{"$f":"IF(AV150=\"Oui\",'Q_del,j et Q_del,dh'!$D99,0)","v":0},{"$f":"IF(AW150=\"Oui\",'Q_del,j et Q_del,dh'!$D99,0)","v":0},{"$f":"IF(AX150=\"Oui\",'Q_del,j et Q_del,dh'!$D99,0)","v":0},{"$f":"IF(AY150=\"Oui\",'Q_del,j et Q_del,dh'!$D99,0)","v":0},{"$f":"IF(AZ150=\"Oui\",'Q_del,j et Q_del,dh'!$D99,0)","v":0},{"$f":"IF(BA150=\"Oui\",'Q_del,j et Q_del,dh'!$D99,0)","v":0}]
["Qdel,l,j [MJ]","Demandeur de chaleur 93",93,{"$f":"IF(D151=\"Oui\",'Q_del,j et Q_del,dh'!$D100,0)","v":0},{"$f":"IF(E151=\"Oui\",'Q_del,j et Q_del,dh'!$D100,0)","v":0},{"$f":"IF(F151=\"Oui\",'Q_del,j et Q_del,dh'!$D100,0)","v":0},{"$f":"IF(G151=\"Oui\",'Q_del,j et Q_del,dh'!$D100,0)","v":0},{"$f":"IF(H151=\"Oui\",'Q_del,j et Q_del,dh'!$D100,0)","v":0},{"$f":"IF(I151=\"Oui\",'Q_del,j et Q_del,dh'!$D100,0)","v":0},{"$f":"IF(J151=\"Oui\",'Q_del,j et Q_del,dh'!$D100,0)","v":0},{"$f":"IF(K151=\"Oui\",'Q_del,j et Q_del,dh'!$D100,0)","v":0},{"$f":"IF(L151=\"Oui\",'Q_del,j et Q_del,dh'!$D100,0)","v":0},{"$f":"IF(M151=\"Oui\",'Q_del,j et Q_del,dh'!$D100,0)","v":0},{"$f":"IF(N151=\"Oui\",'Q_del,j et Q_del,dh'!$D100,0)","v":0},{"$f":"IF(O151=\"Oui\",'Q_del,j et Q_del,dh'!$D100,0)","v":0},{"$f":"IF(P151=\"Oui\",'Q_del,j et Q_del,dh'!$D100,0)","v":0},{"$f":"IF(Q151=\"Oui\",'Q_del,j et Q_del,dh'!$D100,0)","v":0},{"$f":"IF(R151=\"Oui\",'Q_del,j et Q_del,dh'!$D100,0)","v":0},{"$f":"IF(S151=\"Oui\",'Q_del,j et Q_del,dh'!$D100,0)","v":0},{"$f":"IF(T151=\"Oui\",'Q_del,j et Q_del,dh'!$D100,0)","v":0},{"$f":"IF(U151=\"Oui\",'Q_del,j et Q_del,dh'!$D100,0)","v":0},{"$f":"IF(V151=\"Oui\",'Q_del,j et Q_del,dh'!$D100,0)","v":0},{"$f":"IF(W151=\"Oui\",'Q_del,j et Q_del,dh'!$D100,0)","v":0},{"$f":"IF(X151=\"Oui\",'Q_del,j et Q_del,dh'!$D100,0)","v":0},{"$f":"IF(Y151=\"Oui\",'Q_del,j et Q_del,dh'!$D100,0)","v":0},{"$f":"IF(Z151=\"Oui\",'Q_del,j et Q_del,dh'!$D100,0)","v":0},{"$f":"IF(AA151=\"Oui\",'Q_del,j et Q_del,dh'!$D100,0)","v":0},{"$f":"IF(AB151=\"Oui\",'Q_del,j et Q_del,dh'!$D100,0)","v":0},{"$f":"IF(AC151=\"Oui\",'Q_del,j et Q_del,dh'!$D100,0)","v":0},{"$f":"IF(AD151=\"Oui\",'Q_del,j et Q_del,dh'!$D100,0)","v":0},{"$f":"IF(AE151=\"Oui\",'Q_del,j et Q_del,dh'!$D100,0)","v":0},{"$f":"IF(AF151=\"Oui\",'Q_del,j et Q_del,dh'!$D100,0)","v":0},{"$f":"IF(AG151=\"Oui\",'Q_del,j et Q_del,dh'!$D100,0)","v":0},{"$f":"IF(AH151=\"Oui\",'Q_del,j et Q_del,dh'!$D100,0)","v":0},{"$f":"IF(AI151=\"Oui\",'Q_del,j et Q_del,dh'!$D100,0)","v":0},{"$f":"IF(AJ151=\"Oui\",'Q_del,j et Q_del,dh'!$D100,0)","v":0},{"$f":"IF(AK151=\"Oui\",'Q_del,j et Q_del,dh'!$D100,0)","v":0},{"$f":"IF(AL151=\"Oui\",'Q_del,j et Q_del,dh'!$D100,0)","v":0},{"$f":"IF(AM151=\"Oui\",'Q_del,j et Q_del,dh'!$D100,0)","v":0},{"$f":"IF(AN151=\"Oui\",'Q_del,j et Q_del,dh'!$D100,0)","v":0},{"$f":"IF(AO151=\"Oui\",'Q_del,j et Q_del,dh'!$D100,0)","v":0},{"$f":"IF(AP151=\"Oui\",'Q_del,j et Q_del,dh'!$D100,0)","v":0},{"$f":"IF(AQ151=\"Oui\",'Q_del,j et Q_del,dh'!$D100,0)","v":0},{"$f":"IF(AR151=\"Oui\",'Q_del,j et Q_del,dh'!$D100,0)","v":0},{"$f":"IF(AS151=\"Oui\",'Q_del,j et Q_del,dh'!$D100,0)","v":0},{"$f":"IF(AT151=\"Oui\",'Q_del,j et Q_del,dh'!$D100,0)","v":0},{"$f":"IF(AU151=\"Oui\",'Q_del,j et Q_del,dh'!$D100,0)","v":0},{"$f":"IF(AV151=\"Oui\",'Q_del,j et Q_del,dh'!$D100,0)","v":0},{"$f":"IF(AW151=\"Oui\",'Q_del,j et Q_del,dh'!$D100,0)","v":0},{"$f":"IF(AX151=\"Oui\",'Q_del,j et Q_del,dh'!$D100,0)","v":0},{"$f":"IF(AY151=\"Oui\",'Q_del,j et Q_del,dh'!$D100,0)","v":0},{"$f":"IF(AZ151=\"Oui\",'Q_del,j et Q_del,dh'!$D100,0)","v":0},{"$f":"IF(BA151=\"Oui\",'Q_del,j et Q_del,dh'!$D100,0)","v":0}]
["Qdel,l,j [MJ]","Demandeur de chaleur 94",94,{"$f":"IF(D152=\"Oui\",'Q_del,j et Q_del,dh'!$D101,0)","v":0},{"$f":"IF(E152=\"Oui\",'Q_del,j et Q_del,dh'!$D101,0)","v":0},{"$f":"IF(F152=\"Oui\",'Q_del,j et Q_del,dh'!$D101,0)","v":0},{"$f":"IF(G152=\"Oui\",'Q_del,j et Q_del,dh'!$D101,0)","v":0},{"$f":"IF(H152=\"Oui\",'Q_del,j et Q_del,dh'!$D101,0)","v":0},{"$f":"IF(I152=\"Oui\",'Q_del,j et Q_del,dh'!$D101,0)","v":0},{"$f":"IF(J152=\"Oui\",'Q_del,j et Q_del,dh'!$D101,0)","v":0},{"$f":"IF(K152=\"Oui\",'Q_del,j et Q_del,dh'!$D101,0)","v":0},{"$f":"IF(L152=\"Oui\",'Q_del,j et Q_del,dh'!$D101,0)","v":0},{"$f":"IF(M152=\"Oui\",'Q_del,j et Q_del,dh'!$D101,0)","v":0},{"$f":"IF(N152=\"Oui\",'Q_del,j et Q_del,dh'!$D101,0)","v":0},{"$f":"IF(O152=\"Oui\",'Q_del,j et Q_del,dh'!$D101,0)","v":0},{"$f":"IF(P152=\"Oui\",'Q_del,j et Q_del,dh'!$D101,0)","v":0},{"$f":"IF(Q152=\"Oui\",'Q_del,j et Q_del,dh'!$D101,0)","v":0},{"$f":"IF(R152=\"Oui\",'Q_del,j et Q_del,dh'!$D101,0)","v":0},{"$f":"IF(S152=\"Oui\",'Q_del,j et Q_del,dh'!$D101,0)","v":0},{"$f":"IF(T152=\"Oui\",'Q_del,j et Q_del,dh'!$D101,0)","v":0},{"$f":"IF(U152=\"Oui\",'Q_del,j et Q_del,dh'!$D101,0)","v":0},{"$f":"IF(V152=\"Oui\",'Q_del,j et Q_del,dh'!$D101,0)","v":0},{"$f":"IF(W152=\"Oui\",'Q_del,j et Q_del,dh'!$D101,0)","v":0},{"$f":"IF(X152=\"Oui\",'Q_del,j et Q_del,dh'!$D101,0)","v":0},{"$f":"IF(Y152=\"Oui\",'Q_del,j et Q_del,dh'!$D101,0)","v":0},{"$f":"IF(Z152=\"Oui\",'Q_del,j et Q_del,dh'!$D101,0)","v":0},{"$f":"IF(AA152=\"Oui\",'Q_del,j et Q_del,dh'!$D101,0)","v":0},{"$f":"IF(AB152=\"Oui\",'Q_del,j et Q_del,dh'!$D101,0)","v":0},{"$f":"IF(AC152=\"Oui\",'Q_del,j et Q_del,dh'!$D101,0)","v":0},{"$f":"IF(AD152=\"Oui\",'Q_del,j et Q_del,dh'!$D101,0)","v":0},{"$f":"IF(AE152=\"Oui\",'Q_del,j et Q_del,dh'!$D101,0)","v":0},{"$f":"IF(AF152=\"Oui\",'Q_del,j et Q_del,dh'!$D101,0)","v":0},{"$f":"IF(AG152=\"Oui\",'Q_del,j et Q_del,dh'!$D101,0)","v":0},{"$f":"IF(AH152=\"Oui\",'Q_del,j et Q_del,dh'!$D101,0)","v":0},{"$f":"IF(AI152=\"Oui\",'Q_del,j et Q_del,dh'!$D101,0)","v":0},{"$f":"IF(AJ152=\"Oui\",'Q_del,j et Q_del,dh'!$D101,0)","v":0},{"$f":"IF(AK152=\"Oui\",'Q_del,j et Q_del,dh'!$D101,0)","v":0},{"$f":"IF(AL152=\"Oui\",'Q_del,j et Q_del,dh'!$D101,0)","v":0},{"$f":"IF(AM152=\"Oui\",'Q_del,j et Q_del,dh'!$D101,0)","v":0},{"$f":"IF(AN152=\"Oui\",'Q_del,j et Q_del,dh'!$D101,0)","v":0},{"$f":"IF(AO152=\"Oui\",'Q_del,j et Q_del,dh'!$D101,0)","v":0},{"$f":"IF(AP152=\"Oui\",'Q_del,j et Q_del,dh'!$D101,0)","v":0},{"$f":"IF(AQ152=\"Oui\",'Q_del,j et Q_del,dh'!$D101,0)","v":0},{"$f":"IF(AR152=\"Oui\",'Q_del,j et Q_del,dh'!$D101,0)","v":0},{"$f":"IF(AS152=\"Oui\",'Q_del,j et Q_del,dh'!$D101,0)","v":0},{"$f":"IF(AT152=\"Oui\",'Q_del,j et Q_del,dh'!$D101,0)","v":0},{"$f":"IF(AU152=\"Oui\",'Q_del,j et Q_del,dh'!$D101,0)","v":0},{"$f":"IF(AV152=\"Oui\",'Q_del,j et Q_del,dh'!$D101,0)","v":0},{"$f":"IF(AW152=\"Oui\",'Q_del,j et Q_del,dh'!$D101,0)","v":0},{"$f":"IF(AX152=\"Oui\",'Q_del,j et Q_del,dh'!$D101,0)","v":0},{"$f":"IF(AY152=\"Oui\",'Q_del,j et Q_del,dh'!$D101,0)","v":0},{"$f":"IF(AZ152=\"Oui\",'Q_del,j et Q_del,dh'!$D101,0)","v":0},{"$f":"IF(BA152=\"Oui\",'Q_del,j et Q_del,dh'!$D101,0)","v":0}]
["Qdel,l,j [MJ]","Demandeur de chaleur 95",95,{"$f":"IF(D153=\"Oui\",'Q_del,j et Q_del,dh'!$D102,0)","v":0},{"$f":"IF(E153=\"Oui\",'Q_del,j et Q_del,dh'!$D102,0)","v":0},{"$f":"IF(F153=\"Oui\",'Q_del,j et Q_del,dh'!$D102,0)","v":0},{"$f":"IF(G153=\"Oui\",'Q_del,j et Q_del,dh'!$D102,0)","v":0},{"$f":"IF(H153=\"Oui\",'Q_del,j et Q_del,dh'!$D102,0)","v":0},{"$f":"IF(I153=\"Oui\",'Q_del,j et Q_del,dh'!$D102,0)","v":0},{"$f":"IF(J153=\"Oui\",'Q_del,j et Q_del,dh'!$D102,0)","v":0},{"$f":"IF(K153=\"Oui\",'Q_del,j et Q_del,dh'!$D102,0)","v":0},{"$f":"IF(L153=\"Oui\",'Q_del,j et Q_del,dh'!$D102,0)","v":0},{"$f":"IF(M153=\"Oui\",'Q_del,j et Q_del,dh'!$D102,0)","v":0},{"$f":"IF(N153=\"Oui\",'Q_del,j et Q_del,dh'!$D102,0)","v":0},{"$f":"IF(O153=\"Oui\",'Q_del,j et Q_del,dh'!$D102,0)","v":0},{"$f":"IF(P153=\"Oui\",'Q_del,j et Q_del,dh'!$D102,0)","v":0},{"$f":"IF(Q153=\"Oui\",'Q_del,j et Q_del,dh'!$D102,0)","v":0},{"$f":"IF(R153=\"Oui\",'Q_del,j et Q_del,dh'!$D102,0)","v":0},{"$f":"IF(S153=\"Oui\",'Q_del,j et Q_del,dh'!$D102,0)","v":0},{"$f":"IF(T153=\"Oui\",'Q_del,j et Q_del,dh'!$D102,0)","v":0},{"$f":"IF(U153=\"Oui\",'Q_del,j et Q_del,dh'!$D102,0)","v":0},{"$f":"IF(V153=\"Oui\",'Q_del,j et Q_del,dh'!$D102,0)","v":0},{"$f":"IF(W153=\"Oui\",'Q_del,j et Q_del,dh'!$D102,0)","v":0},{"$f":"IF(X153=\"Oui\",'Q_del,j et Q_del,dh'!$D102,0)","v":0},{"$f":"IF(Y153=\"Oui\",'Q_del,j et Q_del,dh'!$D102,0)","v":0},{"$f":"IF(Z153=\"Oui\",'Q_del,j et Q_del,dh'!$D102,0)","v":0},{"$f":"IF(AA153=\"Oui\",'Q_del,j et Q_del,dh'!$D102,0)","v":0},{"$f":"IF(AB153=\"Oui\",'Q_del,j et Q_del,dh'!$D102,0)","v":0},{"$f":"IF(AC153=\"Oui\",'Q_del,j et Q_del,dh'!$D102,0)","v":0},{"$f":"IF(AD153=\"Oui\",'Q_del,j et Q_del,dh'!$D102,0)","v":0},{"$f":"IF(AE153=\"Oui\",'Q_del,j et Q_del,dh'!$D102,0)","v":0},{"$f":"IF(AF153=\"Oui\",'Q_del,j et Q_del,dh'!$D102,0)","v":0},{"$f":"IF(AG153=\"Oui\",'Q_del,j et Q_del,dh'!$D102,0)","v":0},{"$f":"IF(AH153=\"Oui\",'Q_del,j et Q_del,dh'!$D102,0)","v":0},{"$f":"IF(AI153=\"Oui\",'Q_del,j et Q_del,dh'!$D102,0)","v":0},{"$f":"IF(AJ153=\"Oui\",'Q_del,j et Q_del,dh'!$D102,0)","v":0},{"$f":"IF(AK153=\"Oui\",'Q_del,j et Q_del,dh'!$D102,0)","v":0},{"$f":"IF(AL153=\"Oui\",'Q_del,j et Q_del,dh'!$D102,0)","v":0},{"$f":"IF(AM153=\"Oui\",'Q_del,j et Q_del,dh'!$D102,0)","v":0},{"$f":"IF(AN153=\"Oui\",'Q_del,j et Q_del,dh'!$D102,0)","v":0},{"$f":"IF(AO153=\"Oui\",'Q_del,j et Q_del,dh'!$D102,0)","v":0},{"$f":"IF(AP153=\"Oui\",'Q_del,j et Q_del,dh'!$D102,0)","v":0},{"$f":"IF(AQ153=\"Oui\",'Q_del,j et Q_del,dh'!$D102,0)","v":0},{"$f":"IF(AR153=\"Oui\",'Q_del,j et Q_del,dh'!$D102,0)","v":0},{"$f":"IF(AS153=\"Oui\",'Q_del,j et Q_del,dh'!$D102,0)","v":0},{"$f":"IF(AT153=\"Oui\",'Q_del,j et Q_del,dh'!$D102,0)","v":0},{"$f":"IF(AU153=\"Oui\",'Q_del,j et Q_del,dh'!$D102,0)","v":0},{"$f":"IF(AV153=\"Oui\",'Q_del,j et Q_del,dh'!$D102,0)","v":0},{"$f":"IF(AW153=\"Oui\",'Q_del,j et Q_del,dh'!$D102,0)","v":0},{"$f":"IF(AX153=\"Oui\",'Q_del,j et Q_del,dh'!$D102,0)","v":0},{"$f":"IF(AY153=\"Oui\",'Q_del,j et Q_del,dh'!$D102,0)","v":0},{"$f":"IF(AZ153=\"Oui\",'Q_del,j et Q_del,dh'!$D102,0)","v":0},{"$f":"IF(BA153=\"Oui\",'Q_del,j et Q_del,dh'!$D102,0)","v":0}]
["Qdel,l,j [MJ]","Demandeur de chaleur 96",96,{"$f":"IF(D154=\"Oui\",'Q_del,j et Q_del,dh'!$D103,0)","v":0},{"$f":"IF(E154=\"Oui\",'Q_del,j et Q_del,dh'!$D103,0)","v":0},{"$f":"IF(F154=\"Oui\",'Q_del,j et Q_del,dh'!$D103,0)","v":0},{"$f":"IF(G154=\"Oui\",'Q_del,j et Q_del,dh'!$D103,0)","v":0},{"$f":"IF(H154=\"Oui\",'Q_del,j et Q_del,dh'!$D103,0)","v":0},{"$f":"IF(I154=\"Oui\",'Q_del,j et Q_del,dh'!$D103,0)","v":0},{"$f":"IF(J154=\"Oui\",'Q_del,j et Q_del,dh'!$D103,0)","v":0},{"$f":"IF(K154=\"Oui\",'Q_del,j et Q_del,dh'!$D103,0)","v":0},{"$f":"IF(L154=\"Oui\",'Q_del,j et Q_del,dh'!$D103,0)","v":0},{"$f":"IF(M154=\"Oui\",'Q_del,j et Q_del,dh'!$D103,0)","v":0},{"$f":"IF(N154=\"Oui\",'Q_del,j et Q_del,dh'!$D103,0)","v":0},{"$f":"IF(O154=\"Oui\",'Q_del,j et Q_del,dh'!$D103,0)","v":0},{"$f":"IF(P154=\"Oui\",'Q_del,j et Q_del,dh'!$D103,0)","v":0},{"$f":"IF(Q154=\"Oui\",'Q_del,j et Q_del,dh'!$D103,0)","v":0},{"$f":"IF(R154=\"Oui\",'Q_del,j et Q_del,dh'!$D103,0)","v":0},{"$f":"IF(S154=\"Oui\",'Q_del,j et Q_del,dh'!$D103,0)","v":0},{"$f":"IF(T154=\"Oui\",'Q_del,j et Q_del,dh'!$D103,0)","v":0},{"$f":"IF(U154=\"Oui\",'Q_del,j et Q_del,dh'!$D103,0)","v":0},{"$f":"IF(V154=\"Oui\",'Q_del,j et Q_del,dh'!$D103,0)","v":0},{"$f":"IF(W154=\"Oui\",'Q_del,j et Q_del,dh'!$D103,0)","v":0},{"$f":"IF(X154=\"Oui\",'Q_del,j et Q_del,dh'!$D103,0)","v":0},{"$f":"IF(Y154=\"Oui\",'Q_del,j et Q_del,dh'!$D103,0)","v":0},{"$f":"IF(Z154=\"Oui\",'Q_del,j et Q_del,dh'!$D103,0)","v":0},{"$f":"IF(AA154=\"Oui\",'Q_del,j et Q_del,dh'!$D103,0)","v":0},{"$f":"IF(AB154=\"Oui\",'Q_del,j et Q_del,dh'!$D103,0)","v":0},{"$f":"IF(AC154=\"Oui\",'Q_del,j et Q_del,dh'!$D103,0)","v":0},{"$f":"IF(AD154=\"Oui\",'Q_del,j et Q_del,dh'!$D103,0)","v":0},{"$f":"IF(AE154=\"Oui\",'Q_del,j et Q_del,dh'!$D103,0)","v":0},{"$f":"IF(AF154=\"Oui\",'Q_del,j et Q_del,dh'!$D103,0)","v":0},{"$f":"IF(AG154=\"Oui\",'Q_del,j et Q_del,dh'!$D103,0)","v":0},{"$f":"IF(AH154=\"Oui\",'Q_del,j et Q_del,dh'!$D103,0)","v":0},{"$f":"IF(AI154=\"Oui\",'Q_del,j et Q_del,dh'!$D103,0)","v":0},{"$f":"IF(AJ154=\"Oui\",'Q_del,j et Q_del,dh'!$D103,0)","v":0},{"$f":"IF(AK154=\"Oui\",'Q_del,j et Q_del,dh'!$D103,0)","v":0},{"$f":"IF(AL154=\"Oui\",'Q_del,j et Q_del,dh'!$D103,0)","v":0},{"$f":"IF(AM154=\"Oui\",'Q_del,j et Q_del,dh'!$D103,0)","v":0},{"$f":"IF(AN154=\"Oui\",'Q_del,j et Q_del,dh'!$D103,0)","v":0},{"$f":"IF(AO154=\"Oui\",'Q_del,j et Q_del,dh'!$D103,0)","v":0},{"$f":"IF(AP154=\"Oui\",'Q_del,j et Q_del,dh'!$D103,0)","v":0},{"$f":"IF(AQ154=\"Oui\",'Q_del,j et Q_del,dh'!$D103,0)","v":0},{"$f":"IF(AR154=\"Oui\",'Q_del,j et Q_del,dh'!$D103,0)","v":0},{"$f":"IF(AS154=\"Oui\",'Q_del,j et Q_del,dh'!$D103,0)","v":0},{"$f":"IF(AT154=\"Oui\",'Q_del,j et Q_del,dh'!$D103,0)","v":0},{"$f":"IF(AU154=\"Oui\",'Q_del,j et Q_del,dh'!$D103,0)","v":0},{"$f":"IF(AV154=\"Oui\",'Q_del,j et Q_del,dh'!$D103,0)","v":0},{"$f":"IF(AW154=\"Oui\",'Q_del,j et Q_del,dh'!$D103,0)","v":0},{"$f":"IF(AX154=\"Oui\",'Q_del,j et Q_del,dh'!$D103,0)","v":0},{"$f":"IF(AY154=\"Oui\",'Q_del,j et Q_del,dh'!$D103,0)","v":0},{"$f":"IF(AZ154=\"Oui\",'Q_del,j et Q_del,dh'!$D103,0)","v":0},{"$f":"IF(BA154=\"Oui\",'Q_del,j et Q_del,dh'!$D103,0)","v":0}]
["Qdel,l,j [MJ]",{"$f":"\"Demandeur de chaleur \"&C410","v":"Demandeur de chaleur 97"},97,{"$f":"IF(D155=\"Oui\",'Q_del,j et Q_del,dh'!$D104,0)","v":0},{"$f":"IF(E155=\"Oui\",'Q_del,j et Q_del,dh'!$D104,0)","v":0},{"$f":"IF(F155=\"Oui\",'Q_del,j et Q_del,dh'!$D104,0)","v":0},{"$f":"IF(G155=\"Oui\",'Q_del,j et Q_del,dh'!$D104,0)","v":0},{"$f":"IF(H155=\"Oui\",'Q_del,j et Q_del,dh'!$D104,0)","v":0},{"$f":"IF(I155=\"Oui\",'Q_del,j et Q_del,dh'!$D104,0)","v":0},{"$f":"IF(J155=\"Oui\",'Q_del,j et Q_del,dh'!$D104,0)","v":0},{"$f":"IF(K155=\"Oui\",'Q_del,j et Q_del,dh'!$D104,0)","v":0},{"$f":"IF(L155=\"Oui\",'Q_del,j et Q_del,dh'!$D104,0)","v":0},{"$f":"IF(M155=\"Oui\",'Q_del,j et Q_del,dh'!$D104,0)","v":0},{"$f":"IF(N155=\"Oui\",'Q_del,j et Q_del,dh'!$D104,0)","v":0},{"$f":"IF(O155=\"Oui\",'Q_del,j et Q_del,dh'!$D104,0)","v":0},{"$f":"IF(P155=\"Oui\",'Q_del,j et Q_del,dh'!$D104,0)","v":0},{"$f":"IF(Q155=\"Oui\",'Q_del,j et Q_del,dh'!$D104,0)","v":0},{"$f":"IF(R155=\"Oui\",'Q_del,j et Q_del,dh'!$D104,0)","v":0},{"$f":"IF(S155=\"Oui\",'Q_del,j et Q_del,dh'!$D104,0)","v":0},{"$f":"IF(T155=\"Oui\",'Q_del,j et Q_del,dh'!$D104,0)","v":0},{"$f":"IF(U155=\"Oui\",'Q_del,j et Q_del,dh'!$D104,0)","v":0},{"$f":"IF(V155=\"Oui\",'Q_del,j et Q_del,dh'!$D104,0)","v":0},{"$f":"IF(W155=\"Oui\",'Q_del,j et Q_del,dh'!$D104,0)","v":0},{"$f":"IF(X155=\"Oui\",'Q_del,j et Q_del,dh'!$D104,0)","v":0},{"$f":"IF(Y155=\"Oui\",'Q_del,j et Q_del,dh'!$D104,0)","v":0},{"$f":"IF(Z155=\"Oui\",'Q_del,j et Q_del,dh'!$D104,0)","v":0},{"$f":"IF(AA155=\"Oui\",'Q_del,j et Q_del,dh'!$D104,0)","v":0},{"$f":"IF(AB155=\"Oui\",'Q_del,j et Q_del,dh'!$D104,0)","v":0},{"$f":"IF(AC155=\"Oui\",'Q_del,j et Q_del,dh'!$D104,0)","v":0},{"$f":"IF(AD155=\"Oui\",'Q_del,j et Q_del,dh'!$D104,0)","v":0},{"$f":"IF(AE155=\"Oui\",'Q_del,j et Q_del,dh'!$D104,0)","v":0},{"$f":"IF(AF155=\"Oui\",'Q_del,j et Q_del,dh'!$D104,0)","v":0},{"$f":"IF(AG155=\"Oui\",'Q_del,j et Q_del,dh'!$D104,0)","v":0},{"$f":"IF(AH155=\"Oui\",'Q_del,j et Q_del,dh'!$D104,0)","v":0},{"$f":"IF(AI155=\"Oui\",'Q_del,j et Q_del,dh'!$D104,0)","v":0},{"$f":"IF(AJ155=\"Oui\",'Q_del,j et Q_del,dh'!$D104,0)","v":0},{"$f":"IF(AK155=\"Oui\",'Q_del,j et Q_del,dh'!$D104,0)","v":0},{"$f":"IF(AL155=\"Oui\",'Q_del,j et Q_del,dh'!$D104,0)","v":0},{"$f":"IF(AM155=\"Oui\",'Q_del,j et Q_del,dh'!$D104,0)","v":0},{"$f":"IF(AN155=\"Oui\",'Q_del,j et Q_del,dh'!$D104,0)","v":0},{"$f":"IF(AO155=\"Oui\",'Q_del,j et Q_del,dh'!$D104,0)","v":0},{"$f":"IF(AP155=\"Oui\",'Q_del,j et Q_del,dh'!$D104,0)","v":0},{"$f":"IF(AQ155=\"Oui\",'Q_del,j et Q_del,dh'!$D104,0)","v":0},{"$f":"IF(AR155=\"Oui\",'Q_del,j et Q_del,dh'!$D104,0)","v":0},{"$f":"IF(AS155=\"Oui\",'Q_del,j et Q_del,dh'!$D104,0)","v":0},{"$f":"IF(AT155=\"Oui\",'Q_del,j et Q_del,dh'!$D104,0)","v":0},{"$f":"IF(AU155=\"Oui\",'Q_del,j et Q_del,dh'!$D104,0)","v":0},{"$f":"IF(AV155=\"Oui\",'Q_del,j et Q_del,dh'!$D104,0)","v":0},{"$f":"IF(AW155=\"Oui\",'Q_del,j et Q_del,dh'!$D104,0)","v":0},{"$f":"IF(AX155=\"Oui\",'Q_del,j et Q_del,dh'!$D104,0)","v":0},{"$f":"IF(AY155=\"Oui\",'Q_del,j et Q_del,dh'!$D104,0)","v":0},{"$f":"IF(AZ155=\"Oui\",'Q_del,j et Q_del,dh'!$D104,0)","v":0},{"$f":"IF(BA155=\"Oui\",'Q_del,j et Q_del,dh'!$D104,0)","v":0}]
["Qdel,l,j [MJ]","Demandeur de chaleur 98",98,{"$f":"IF(D156=\"Oui\",'Q_del,j et Q_del,dh'!$D105,0)","v":0},{"$f":"IF(E156=\"Oui\",'Q_del,j et Q_del,dh'!$D105,0)","v":0},{"$f":"IF(F156=\"Oui\",'Q_del,j et Q_del,dh'!$D105,0)","v":0},{"$f":"IF(G156=\"Oui\",'Q_del,j et Q_del,dh'!$D105,0)","v":0},{"$f":"IF(H156=\"Oui\",'Q_del,j et Q_del,dh'!$D105,0)","v":0},{"$f":"IF(I156=\"Oui\",'Q_del,j et Q_del,dh'!$D105,0)","v":0},{"$f":"IF(J156=\"Oui\",'Q_del,j et Q_del,dh'!$D105,0)","v":0},{"$f":"IF(K156=\"Oui\",'Q_del,j et Q_del,dh'!$D105,0)","v":0},{"$f":"IF(L156=\"Oui\",'Q_del,j et Q_del,dh'!$D105,0)","v":0},{"$f":"IF(M156=\"Oui\",'Q_del,j et Q_del,dh'!$D105,0)","v":0},{"$f":"IF(N156=\"Oui\",'Q_del,j et Q_del,dh'!$D105,0)","v":0},{"$f":"IF(O156=\"Oui\",'Q_del,j et Q_del,dh'!$D105,0)","v":0},{"$f":"IF(P156=\"Oui\",'Q_del,j et Q_del,dh'!$D105,0)","v":0},{"$f":"IF(Q156=\"Oui\",'Q_del,j et Q_del,dh'!$D105,0)","v":0},{"$f":"IF(R156=\"Oui\",'Q_del,j et Q_del,dh'!$D105,0)","v":0},{"$f":"IF(S156=\"Oui\",'Q_del,j et Q_del,dh'!$D105,0)","v":0},{"$f":"IF(T156=\"Oui\",'Q_del,j et Q_del,dh'!$D105,0)","v":0},{"$f":"IF(U156=\"Oui\",'Q_del,j et Q_del,dh'!$D105,0)","v":0},{"$f":"IF(V156=\"Oui\",'Q_del,j et Q_del,dh'!$D105,0)","v":0},{"$f":"IF(W156=\"Oui\",'Q_del,j et Q_del,dh'!$D105,0)","v":0},{"$f":"IF(X156=\"Oui\",'Q_del,j et Q_del,dh'!$D105,0)","v":0},{"$f":"IF(Y156=\"Oui\",'Q_del,j et Q_del,dh'!$D105,0)","v":0},{"$f":"IF(Z156=\"Oui\",'Q_del,j et Q_del,dh'!$D105,0)","v":0},{"$f":"IF(AA156=\"Oui\",'Q_del,j et Q_del,dh'!$D105,0)","v":0},{"$f":"IF(AB156=\"Oui\",'Q_del,j et Q_del,dh'!$D105,0)","v":0},{"$f":"IF(AC156=\"Oui\",'Q_del,j et Q_del,dh'!$D105,0)","v":0},{"$f":"IF(AD156=\"Oui\",'Q_del,j et Q_del,dh'!$D105,0)","v":0},{"$f":"IF(AE156=\"Oui\",'Q_del,j et Q_del,dh'!$D105,0)","v":0},{"$f":"IF(AF156=\"Oui\",'Q_del,j et Q_del,dh'!$D105,0)","v":0},{"$f":"IF(AG156=\"Oui\",'Q_del,j et Q_del,dh'!$D105,0)","v":0},{"$f":"IF(AH156=\"Oui\",'Q_del,j et Q_del,dh'!$D105,0)","v":0},{"$f":"IF(AI156=\"Oui\",'Q_del,j et Q_del,dh'!$D105,0)","v":0},{"$f":"IF(AJ156=\"Oui\",'Q_del,j et Q_del,dh'!$D105,0)","v":0},{"$f":"IF(AK156=\"Oui\",'Q_del,j et Q_del,dh'!$D105,0)","v":0},{"$f":"IF(AL156=\"Oui\",'Q_del,j et Q_del,dh'!$D105,0)","v":0},{"$f":"IF(AM156=\"Oui\",'Q_del,j et Q_del,dh'!$D105,0)","v":0},{"$f":"IF(AN156=\"Oui\",'Q_del,j et Q_del,dh'!$D105,0)","v":0},{"$f":"IF(AO156=\"Oui\",'Q_del,j et Q_del,dh'!$D105,0)","v":0},{"$f":"IF(AP156=\"Oui\",'Q_del,j et Q_del,dh'!$D105,0)","v":0},{"$f":"IF(AQ156=\"Oui\",'Q_del,j et Q_del,dh'!$D105,0)","v":0},{"$f":"IF(AR156=\"Oui\",'Q_del,j et Q_del,dh'!$D105,0)","v":0},{"$f":"IF(AS156=\"Oui\",'Q_del,j et Q_del,dh'!$D105,0)","v":0},{"$f":"IF(AT156=\"Oui\",'Q_del,j et Q_del,dh'!$D105,0)","v":0},{"$f":"IF(AU156=\"Oui\",'Q_del,j et Q_del,dh'!$D105,0)","v":0},{"$f":"IF(AV156=\"Oui\",'Q_del,j et Q_del,dh'!$D105,0)","v":0},{"$f":"IF(AW156=\"Oui\",'Q_del,j et Q_del,dh'!$D105,0)","v":0},{"$f":"IF(AX156=\"Oui\",'Q_del,j et Q_del,dh'!$D105,0)","v":0},{"$f":"IF(AY156=\"Oui\",'Q_del,j et Q_del,dh'!$D105,0)","v":0},{"$f":"IF(AZ156=\"Oui\",'Q_del,j et Q_del,dh'!$D105,0)","v":0},{"$f":"IF(BA156=\"Oui\",'Q_del,j et Q_del,dh'!$D105,0)","v":0}]
["Qdel,l,j [MJ]","Demandeur de chaleur 99",99,{"$f":"IF(D157=\"Oui\",'Q_del,j et Q_del,dh'!$D106,0)","v":0},{"$f":"IF(E157=\"Oui\",'Q_del,j et Q_del,dh'!$D106,0)","v":0},{"$f":"IF(F157=\"Oui\",'Q_del,j et Q_del,dh'!$D106,0)","v":0},{"$f":"IF(G157=\"Oui\",'Q_del,j et Q_del,dh'!$D106,0)","v":0},{"$f":"IF(H157=\"Oui\",'Q_del,j et Q_del,dh'!$D106,0)","v":0},{"$f":"IF(I157=\"Oui\",'Q_del,j et Q_del,dh'!$D106,0)","v":0},{"$f":"IF(J157=\"Oui\",'Q_del,j et Q_del,dh'!$D106,0)","v":0},{"$f":"IF(K157=\"Oui\",'Q_del,j et Q_del,dh'!$D106,0)","v":0},{"$f":"IF(L157=\"Oui\",'Q_del,j et Q_del,dh'!$D106,0)","v":0},{"$f":"IF(M157=\"Oui\",'Q_del,j et Q_del,dh'!$D106,0)","v":0},{"$f":"IF(N157=\"Oui\",'Q_del,j et Q_del,dh'!$D106,0)","v":0},{"$f":"IF(O157=\"Oui\",'Q_del,j et Q_del,dh'!$D106,0)","v":0},{"$f":"IF(P157=\"Oui\",'Q_del,j et Q_del,dh'!$D106,0)","v":0},{"$f":"IF(Q157=\"Oui\",'Q_del,j et Q_del,dh'!$D106,0)","v":0},{"$f":"IF(R157=\"Oui\",'Q_del,j et Q_del,dh'!$D106,0)","v":0},{"$f":"IF(S157=\"Oui\",'Q_del,j et Q_del,dh'!$D106,0)","v":0},{"$f":"IF(T157=\"Oui\",'Q_del,j et Q_del,dh'!$D106,0)","v":0},{"$f":"IF(U157=\"Oui\",'Q_del,j et Q_del,dh'!$D106,0)","v":0},{"$f":"IF(V157=\"Oui\",'Q_del,j et Q_del,dh'!$D106,0)","v":0},{"$f":"IF(W157=\"Oui\",'Q_del,j et Q_del,dh'!$D106,0)","v":0},{"$f":"IF(X157=\"Oui\",'Q_del,j et Q_del,dh'!$D106,0)","v":0},{"$f":"IF(Y157=\"Oui\",'Q_del,j et Q_del,dh'!$D106,0)","v":0},{"$f":"IF(Z157=\"Oui\",'Q_del,j et Q_del,dh'!$D106,0)","v":0},{"$f":"IF(AA157=\"Oui\",'Q_del,j et Q_del,dh'!$D106,0)","v":0},{"$f":"IF(AB157=\"Oui\",'Q_del,j et Q_del,dh'!$D106,0)","v":0},{"$f":"IF(AC157=\"Oui\",'Q_del,j et Q_del,dh'!$D106,0)","v":0},{"$f":"IF(AD157=\"Oui\",'Q_del,j et Q_del,dh'!$D106,0)","v":0},{"$f":"IF(AE157=\"Oui\",'Q_del,j et Q_del,dh'!$D106,0)","v":0},{"$f":"IF(AF157=\"Oui\",'Q_del,j et Q_del,dh'!$D106,0)","v":0},{"$f":"IF(AG157=\"Oui\",'Q_del,j et Q_del,dh'!$D106,0)","v":0},{"$f":"IF(AH157=\"Oui\",'Q_del,j et Q_del,dh'!$D106,0)","v":0},{"$f":"IF(AI157=\"Oui\",'Q_del,j et Q_del,dh'!$D106,0)","v":0},{"$f":"IF(AJ157=\"Oui\",'Q_del,j et Q_del,dh'!$D106,0)","v":0},{"$f":"IF(AK157=\"Oui\",'Q_del,j et Q_del,dh'!$D106,0)","v":0},{"$f":"IF(AL157=\"Oui\",'Q_del,j et Q_del,dh'!$D106,0)","v":0},{"$f":"IF(AM157=\"Oui\",'Q_del,j et Q_del,dh'!$D106,0)","v":0},{"$f":"IF(AN157=\"Oui\",'Q_del,j et Q_del,dh'!$D106,0)","v":0},{"$f":"IF(AO157=\"Oui\",'Q_del,j et Q_del,dh'!$D106,0)","v":0},{"$f":"IF(AP157=\"Oui\",'Q_del,j et Q_del,dh'!$D106,0)","v":0},{"$f":"IF(AQ157=\"Oui\",'Q_del,j et Q_del,dh'!$D106,0)","v":0},{"$f":"IF(AR157=\"Oui\",'Q_del,j et Q_del,dh'!$D106,0)","v":0},{"$f":"IF(AS157=\"Oui\",'Q_del,j et Q_del,dh'!$D106,0)","v":0},{"$f":"IF(AT157=\"Oui\",'Q_del,j et Q_del,dh'!$D106,0)","v":0},{"$f":"IF(AU157=\"Oui\",'Q_del,j et Q_del,dh'!$D106,0)","v":0},{"$f":"IF(AV157=\"Oui\",'Q_del,j et Q_del,dh'!$D106,0)","v":0},{"$f":"IF(AW157=\"Oui\",'Q_del,j et Q_del,dh'!$D106,0)","v":0},{"$f":"IF(AX157=\"Oui\",'Q_del,j et Q_del,dh'!$D106,0)","v":0},{"$f":"IF(AY157=\"Oui\",'Q_del,j et Q_del,dh'!$D106,0)","v":0},{"$f":"IF(AZ157=\"Oui\",'Q_del,j et Q_del,dh'!$D106,0)","v":0},{"$f":"IF(BA157=\"Oui\",'Q_del,j et Q_del,dh'!$D106,0)","v":0}]
["Qdel,l,j [MJ]","Demandeur de chaleur 100",100,{"$f":"IF(D158=\"Oui\",'Q_del,j et Q_del,dh'!$D107,0)","v":0},{"$f":"IF(E158=\"Oui\",'Q_del,j et Q_del,dh'!$D107,0)","v":0},{"$f":"IF(F158=\"Oui\",'Q_del,j et Q_del,dh'!$D107,0)","v":0},{"$f":"IF(G158=\"Oui\",'Q_del,j et Q_del,dh'!$D107,0)","v":0},{"$f":"IF(H158=\"Oui\",'Q_del,j et Q_del,dh'!$D107,0)","v":0},{"$f":"IF(I158=\"Oui\",'Q_del,j et Q_del,dh'!$D107,0)","v":0},{"$f":"IF(J158=\"Oui\",'Q_del,j et Q_del,dh'!$D107,0)","v":0},{"$f":"IF(K158=\"Oui\",'Q_del,j et Q_del,dh'!$D107,0)","v":0},{"$f":"IF(L158=\"Oui\",'Q_del,j et Q_del,dh'!$D107,0)","v":0},{"$f":"IF(M158=\"Oui\",'Q_del,j et Q_del,dh'!$D107,0)","v":0},{"$f":"IF(N158=\"Oui\",'Q_del,j et Q_del,dh'!$D107,0)","v":0},{"$f":"IF(O158=\"Oui\",'Q_del,j et Q_del,dh'!$D107,0)","v":0},{"$f":"IF(P158=\"Oui\",'Q_del,j et Q_del,dh'!$D107,0)","v":0},{"$f":"IF(Q158=\"Oui\",'Q_del,j et Q_del,dh'!$D107,0)","v":0},{"$f":"IF(R158=\"Oui\",'Q_del,j et Q_del,dh'!$D107,0)","v":0},{"$f":"IF(S158=\"Oui\",'Q_del,j et Q_del,dh'!$D107,0)","v":0},{"$f":"IF(T158=\"Oui\",'Q_del,j et Q_del,dh'!$D107,0)","v":0},{"$f":"IF(U158=\"Oui\",'Q_del,j et Q_del,dh'!$D107,0)","v":0},{"$f":"IF(V158=\"Oui\",'Q_del,j et Q_del,dh'!$D107,0)","v":0},{"$f":"IF(W158=\"Oui\",'Q_del,j et Q_del,dh'!$D107,0)","v":0},{"$f":"IF(X158=\"Oui\",'Q_del,j et Q_del,dh'!$D107,0)","v":0},{"$f":"IF(Y158=\"Oui\",'Q_del,j et Q_del,dh'!$D107,0)","v":0},{"$f":"IF(Z158=\"Oui\",'Q_del,j et Q_del,dh'!$D107,0)","v":0},{"$f":"IF(AA158=\"Oui\",'Q_del,j et Q_del,dh'!$D107,0)","v":0},{"$f":"IF(AB158=\"Oui\",'Q_del,j et Q_del,dh'!$D107,0)","v":0},{"$f":"IF(AC158=\"Oui\",'Q_del,j et Q_del,dh'!$D107,0)","v":0},{"$f":"IF(AD158=\"Oui\",'Q_del,j et Q_del,dh'!$D107,0)","v":0},{"$f":"IF(AE158=\"Oui\",'Q_del,j et Q_del,dh'!$D107,0)","v":0},{"$f":"IF(AF158=\"Oui\",'Q_del,j et Q_del,dh'!$D107,0)","v":0},{"$f":"IF(AG158=\"Oui\",'Q_del,j et Q_del,dh'!$D107,0)","v":0},{"$f":"IF(AH158=\"Oui\",'Q_del,j et Q_del,dh'!$D107,0)","v":0},{"$f":"IF(AI158=\"Oui\",'Q_del,j et Q_del,dh'!$D107,0)","v":0},{"$f":"IF(AJ158=\"Oui\",'Q_del,j et Q_del,dh'!$D107,0)","v":0},{"$f":"IF(AK158=\"Oui\",'Q_del,j et Q_del,dh'!$D107,0)","v":0},{"$f":"IF(AL158=\"Oui\",'Q_del,j et Q_del,dh'!$D107,0)","v":0},{"$f":"IF(AM158=\"Oui\",'Q_del,j et Q_del,dh'!$D107,0)","v":0},{"$f":"IF(AN158=\"Oui\",'Q_del,j et Q_del,dh'!$D107,0)","v":0},{"$f":"IF(AO158=\"Oui\",'Q_del,j et Q_del,dh'!$D107,0)","v":0},{"$f":"IF(AP158=\"Oui\",'Q_del,j et Q_del,dh'!$D107,0)","v":0},{"$f":"IF(AQ158=\"Oui\",'Q_del,j et Q_del,dh'!$D107,0)","v":0},{"$f":"IF(AR158=\"Oui\",'Q_del,j et Q_del,dh'!$D107,0)","v":0},{"$f":"IF(AS158=\"Oui\",'Q_del,j et Q_del,dh'!$D107,0)","v":0},{"$f":"IF(AT158=\"Oui\",'Q_del,j et Q_del,dh'!$D107,0)","v":0},{"$f":"IF(AU158=\"Oui\",'Q_del,j et Q_del,dh'!$D107,0)","v":0},{"$f":"IF(AV158=\"Oui\",'Q_del,j et Q_del,dh'!$D107,0)","v":0},{"$f":"IF(AW158=\"Oui\",'Q_del,j et Q_del,dh'!$D107,0)","v":0},{"$f":"IF(AX158=\"Oui\",'Q_del,j et Q_del,dh'!$D107,0)","v":0},{"$f":"IF(AY158=\"Oui\",'Q_del,j et Q_del,dh'!$D107,0)","v":0},{"$f":"IF(AZ158=\"Oui\",'Q_del,j et Q_del,dh'!$D107,0)","v":0},{"$f":"IF(BA158=\"Oui\",'Q_del,j et Q_del,dh'!$D107,0)","v":0}]
["Qdel,l,j [MJ]","Demandeur de chaleur 101",101,{"$f":"IF(D159=\"Oui\",'Q_del,j et Q_del,dh'!$D108,0)","v":0},{"$f":"IF(E159=\"Oui\",'Q_del,j et Q_del,dh'!$D108,0)","v":0},{"$f":"IF(F159=\"Oui\",'Q_del,j et Q_del,dh'!$D108,0)","v":0},{"$f":"IF(G159=\"Oui\",'Q_del,j et Q_del,dh'!$D108,0)","v":0},{"$f":"IF(H159=\"Oui\",'Q_del,j et Q_del,dh'!$D108,0)","v":0},{"$f":"IF(I159=\"Oui\",'Q_del,j et Q_del,dh'!$D108,0)","v":0},{"$f":"IF(J159=\"Oui\",'Q_del,j et Q_del,dh'!$D108,0)","v":0},{"$f":"IF(K159=\"Oui\",'Q_del,j et Q_del,dh'!$D108,0)","v":0},{"$f":"IF(L159=\"Oui\",'Q_del,j et Q_del,dh'!$D108,0)","v":0},{"$f":"IF(M159=\"Oui\",'Q_del,j et Q_del,dh'!$D108,0)","v":0},{"$f":"IF(N159=\"Oui\",'Q_del,j et Q_del,dh'!$D108,0)","v":0},{"$f":"IF(O159=\"Oui\",'Q_del,j et Q_del,dh'!$D108,0)","v":0},{"$f":"IF(P159=\"Oui\",'Q_del,j et Q_del,dh'!$D108,0)","v":0},{"$f":"IF(Q159=\"Oui\",'Q_del,j et Q_del,dh'!$D108,0)","v":0},{"$f":"IF(R159=\"Oui\",'Q_del,j et Q_del,dh'!$D108,0)","v":0},{"$f":"IF(S159=\"Oui\",'Q_del,j et Q_del,dh'!$D108,0)","v":0},{"$f":"IF(T159=\"Oui\",'Q_del,j et Q_del,dh'!$D108,0)","v":0},{"$f":"IF(U159=\"Oui\",'Q_del,j et Q_del,dh'!$D108,0)","v":0},{"$f":"IF(V159=\"Oui\",'Q_del,j et Q_del,dh'!$D108,0)","v":0},{"$f":"IF(W159=\"Oui\",'Q_del,j et Q_del,dh'!$D108,0)","v":0},{"$f":"IF(X159=\"Oui\",'Q_del,j et Q_del,dh'!$D108,0)","v":0},{"$f":"IF(Y159=\"Oui\",'Q_del,j et Q_del,dh'!$D108,0)","v":0},{"$f":"IF(Z159=\"Oui\",'Q_del,j et Q_del,dh'!$D108,0)","v":0},{"$f":"IF(AA159=\"Oui\",'Q_del,j et Q_del,dh'!$D108,0)","v":0},{"$f":"IF(AB159=\"Oui\",'Q_del,j et Q_del,dh'!$D108,0)","v":0},{"$f":"IF(AC159=\"Oui\",'Q_del,j et Q_del,dh'!$D108,0)","v":0},{"$f":"IF(AD159=\"Oui\",'Q_del,j et Q_del,dh'!$D108,0)","v":0},{"$f":"IF(AE159=\"Oui\",'Q_del,j et Q_del,dh'!$D108,0)","v":0},{"$f":"IF(AF159=\"Oui\",'Q_del,j et Q_del,dh'!$D108,0)","v":0},{"$f":"IF(AG159=\"Oui\",'Q_del,j et Q_del,dh'!$D108,0)","v":0},{"$f":"IF(AH159=\"Oui\",'Q_del,j et Q_del,dh'!$D108,0)","v":0},{"$f":"IF(AI159=\"Oui\",'Q_del,j et Q_del,dh'!$D108,0)","v":0},{"$f":"IF(AJ159=\"Oui\",'Q_del,j et Q_del,dh'!$D108,0)","v":0},{"$f":"IF(AK159=\"Oui\",'Q_del,j et Q_del,dh'!$D108,0)","v":0},{"$f":"IF(AL159=\"Oui\",'Q_del,j et Q_del,dh'!$D108,0)","v":0},{"$f":"IF(AM159=\"Oui\",'Q_del,j et Q_del,dh'!$D108,0)","v":0},{"$f":"IF(AN159=\"Oui\",'Q_del,j et Q_del,dh'!$D108,0)","v":0},{"$f":"IF(AO159=\"Oui\",'Q_del,j et Q_del,dh'!$D108,0)","v":0},{"$f":"IF(AP159=\"Oui\",'Q_del,j et Q_del,dh'!$D108,0)","v":0},{"$f":"IF(AQ159=\"Oui\",'Q_del,j et Q_del,dh'!$D108,0)","v":0},{"$f":"IF(AR159=\"Oui\",'Q_del,j et Q_del,dh'!$D108,0)","v":0},{"$f":"IF(AS159=\"Oui\",'Q_del,j et Q_del,dh'!$D108,0)","v":0},{"$f":"IF(AT159=\"Oui\",'Q_del,j et Q_del,dh'!$D108,0)","v":0},{"$f":"IF(AU159=\"Oui\",'Q_del,j et Q_del,dh'!$D108,0)","v":0},{"$f":"IF(AV159=\"Oui\",'Q_del,j et Q_del,dh'!$D108,0)","v":0},{"$f":"IF(AW159=\"Oui\",'Q_del,j et Q_del,dh'!$D108,0)","v":0},{"$f":"IF(AX159=\"Oui\",'Q_del,j et Q_del,dh'!$D108,0)","v":0},{"$f":"IF(AY159=\"Oui\",'Q_del,j et Q_del,dh'!$D108,0)","v":0},{"$f":"IF(AZ159=\"Oui\",'Q_del,j et Q_del,dh'!$D108,0)","v":0},{"$f":"IF(BA159=\"Oui\",'Q_del,j et Q_del,dh'!$D108,0)","v":0}]
["Qdel,l,j [MJ]","Demandeur de chaleur 102",102,{"$f":"IF(D160=\"Oui\",'Q_del,j et Q_del,dh'!$D109,0)","v":0},{"$f":"IF(E160=\"Oui\",'Q_del,j et Q_del,dh'!$D109,0)","v":0},{"$f":"IF(F160=\"Oui\",'Q_del,j et Q_del,dh'!$D109,0)","v":0},{"$f":"IF(G160=\"Oui\",'Q_del,j et Q_del,dh'!$D109,0)","v":0},{"$f":"IF(H160=\"Oui\",'Q_del,j et Q_del,dh'!$D109,0)","v":0},{"$f":"IF(I160=\"Oui\",'Q_del,j et Q_del,dh'!$D109,0)","v":0},{"$f":"IF(J160=\"Oui\",'Q_del,j et Q_del,dh'!$D109,0)","v":0},{"$f":"IF(K160=\"Oui\",'Q_del,j et Q_del,dh'!$D109,0)","v":0},{"$f":"IF(L160=\"Oui\",'Q_del,j et Q_del,dh'!$D109,0)","v":0},{"$f":"IF(M160=\"Oui\",'Q_del,j et Q_del,dh'!$D109,0)","v":0},{"$f":"IF(N160=\"Oui\",'Q_del,j et Q_del,dh'!$D109,0)","v":0},{"$f":"IF(O160=\"Oui\",'Q_del,j et Q_del,dh'!$D109,0)","v":0},{"$f":"IF(P160=\"Oui\",'Q_del,j et Q_del,dh'!$D109,0)","v":0},{"$f":"IF(Q160=\"Oui\",'Q_del,j et Q_del,dh'!$D109,0)","v":0},{"$f":"IF(R160=\"Oui\",'Q_del,j et Q_del,dh'!$D109,0)","v":0},{"$f":"IF(S160=\"Oui\",'Q_del,j et Q_del,dh'!$D109,0)","v":0},{"$f":"IF(T160=\"Oui\",'Q_del,j et Q_del,dh'!$D109,0)","v":0},{"$f":"IF(U160=\"Oui\",'Q_del,j et Q_del,dh'!$D109,0)","v":0},{"$f":"IF(V160=\"Oui\",'Q_del,j et Q_del,dh'!$D109,0)","v":0},{"$f":"IF(W160=\"Oui\",'Q_del,j et Q_del,dh'!$D109,0)","v":0},{"$f":"IF(X160=\"Oui\",'Q_del,j et Q_del,dh'!$D109,0)","v":0},{"$f":"IF(Y160=\"Oui\",'Q_del,j et Q_del,dh'!$D109,0)","v":0},{"$f":"IF(Z160=\"Oui\",'Q_del,j et Q_del,dh'!$D109,0)","v":0},{"$f":"IF(AA160=\"Oui\",'Q_del,j et Q_del,dh'!$D109,0)","v":0},{"$f":"IF(AB160=\"Oui\",'Q_del,j et Q_del,dh'!$D109,0)","v":0},{"$f":"IF(AC160=\"Oui\",'Q_del,j et Q_del,dh'!$D109,0)","v":0},{"$f":"IF(AD160=\"Oui\",'Q_del,j et Q_del,dh'!$D109,0)","v":0},{"$f":"IF(AE160=\"Oui\",'Q_del,j et Q_del,dh'!$D109,0)","v":0},{"$f":"IF(AF160=\"Oui\",'Q_del,j et Q_del,dh'!$D109,0)","v":0},{"$f":"IF(AG160=\"Oui\",'Q_del,j et Q_del,dh'!$D109,0)","v":0},{"$f":"IF(AH160=\"Oui\",'Q_del,j et Q_del,dh'!$D109,0)","v":0},{"$f":"IF(AI160=\"Oui\",'Q_del,j et Q_del,dh'!$D109,0)","v":0},{"$f":"IF(AJ160=\"Oui\",'Q_del,j et Q_del,dh'!$D109,0)","v":0},{"$f":"IF(AK160=\"Oui\",'Q_del,j et Q_del,dh'!$D109,0)","v":0},{"$f":"IF(AL160=\"Oui\",'Q_del,j et Q_del,dh'!$D109,0)","v":0},{"$f":"IF(AM160=\"Oui\",'Q_del,j et Q_del,dh'!$D109,0)","v":0},{"$f":"IF(AN160=\"Oui\",'Q_del,j et Q_del,dh'!$D109,0)","v":0},{"$f":"IF(AO160=\"Oui\",'Q_del,j et Q_del,dh'!$D109,0)","v":0},{"$f":"IF(AP160=\"Oui\",'Q_del,j et Q_del,dh'!$D109,0)","v":0},{"$f":"IF(AQ160=\"Oui\",'Q_del,j et Q_del,dh'!$D109,0)","v":0},{"$f":"IF(AR160=\"Oui\",'Q_del,j et Q_del,dh'!$D109,0)","v":0},{"$f":"IF(AS160=\"Oui\",'Q_del,j et Q_del,dh'!$D109,0)","v":0},{"$f":"IF(AT160=\"Oui\",'Q_del,j et Q_del,dh'!$D109,0)","v":0},{"$f":"IF(AU160=\"Oui\",'Q_del,j et Q_del,dh'!$D109,0)","v":0},{"$f":"IF(AV160=\"Oui\",'Q_del,j et Q_del,dh'!$D109,0)","v":0},{"$f":"IF(AW160=\"Oui\",'Q_del,j et Q_del,dh'!$D109,0)","v":0},{"$f":"IF(AX160=\"Oui\",'Q_del,j et Q_del,dh'!$D109,0)","v":0},{"$f":"IF(AY160=\"Oui\",'Q_del,j et Q_del,dh'!$D109,0)","v":0},{"$f":"IF(AZ160=\"Oui\",'Q_del,j et Q_del,dh'!$D109,0)","v":0},{"$f":"IF(BA160=\"Oui\",'Q_del,j et Q_del,dh'!$D109,0)","v":0}]
["Qdel,l,j [MJ]","Demandeur de chaleur 103",103,{"$f":"IF(D161=\"Oui\",'Q_del,j et Q_del,dh'!$D110,0)","v":0},{"$f":"IF(E161=\"Oui\",'Q_del,j et Q_del,dh'!$D110,0)","v":0},{"$f":"IF(F161=\"Oui\",'Q_del,j et Q_del,dh'!$D110,0)","v":0},{"$f":"IF(G161=\"Oui\",'Q_del,j et Q_del,dh'!$D110,0)","v":0},{"$f":"IF(H161=\"Oui\",'Q_del,j et Q_del,dh'!$D110,0)","v":0},{"$f":"IF(I161=\"Oui\",'Q_del,j et Q_del,dh'!$D110,0)","v":0},{"$f":"IF(J161=\"Oui\",'Q_del,j et Q_del,dh'!$D110,0)","v":0},{"$f":"IF(K161=\"Oui\",'Q_del,j et Q_del,dh'!$D110,0)","v":0},{"$f":"IF(L161=\"Oui\",'Q_del,j et Q_del,dh'!$D110,0)","v":0},{"$f":"IF(M161=\"Oui\",'Q_del,j et Q_del,dh'!$D110,0)","v":0},{"$f":"IF(N161=\"Oui\",'Q_del,j et Q_del,dh'!$D110,0)","v":0},{"$f":"IF(O161=\"Oui\",'Q_del,j et Q_del,dh'!$D110,0)","v":0},{"$f":"IF(P161=\"Oui\",'Q_del,j et Q_del,dh'!$D110,0)","v":0},{"$f":"IF(Q161=\"Oui\",'Q_del,j et Q_del,dh'!$D110,0)","v":0},{"$f":"IF(R161=\"Oui\",'Q_del,j et Q_del,dh'!$D110,0)","v":0},{"$f":"IF(S161=\"Oui\",'Q_del,j et Q_del,dh'!$D110,0)","v":0},{"$f":"IF(T161=\"Oui\",'Q_del,j et Q_del,dh'!$D110,0)","v":0},{"$f":"IF(U161=\"Oui\",'Q_del,j et Q_del,dh'!$D110,0)","v":0},{"$f":"IF(V161=\"Oui\",'Q_del,j et Q_del,dh'!$D110,0)","v":0},{"$f":"IF(W161=\"Oui\",'Q_del,j et Q_del,dh'!$D110,0)","v":0},{"$f":"IF(X161=\"Oui\",'Q_del,j et Q_del,dh'!$D110,0)","v":0},{"$f":"IF(Y161=\"Oui\",'Q_del,j et Q_del,dh'!$D110,0)","v":0},{"$f":"IF(Z161=\"Oui\",'Q_del,j et Q_del,dh'!$D110,0)","v":0},{"$f":"IF(AA161=\"Oui\",'Q_del,j et Q_del,dh'!$D110,0)","v":0},{"$f":"IF(AB161=\"Oui\",'Q_del,j et Q_del,dh'!$D110,0)","v":0},{"$f":"IF(AC161=\"Oui\",'Q_del,j et Q_del,dh'!$D110,0)","v":0},{"$f":"IF(AD161=\"Oui\",'Q_del,j et Q_del,dh'!$D110,0)","v":0},{"$f":"IF(AE161=\"Oui\",'Q_del,j et Q_del,dh'!$D110,0)","v":0},{"$f":"IF(AF161=\"Oui\",'Q_del,j et Q_del,dh'!$D110,0)","v":0},{"$f":"IF(AG161=\"Oui\",'Q_del,j et Q_del,dh'!$D110,0)","v":0},{"$f":"IF(AH161=\"Oui\",'Q_del,j et Q_del,dh'!$D110,0)","v":0},{"$f":"IF(AI161=\"Oui\",'Q_del,j et Q_del,dh'!$D110,0)","v":0},{"$f":"IF(AJ161=\"Oui\",'Q_del,j et Q_del,dh'!$D110,0)","v":0},{"$f":"IF(AK161=\"Oui\",'Q_del,j et Q_del,dh'!$D110,0)","v":0},{"$f":"IF(AL161=\"Oui\",'Q_del,j et Q_del,dh'!$D110,0)","v":0},{"$f":"IF(AM161=\"Oui\",'Q_del,j et Q_del,dh'!$D110,0)","v":0},{"$f":"IF(AN161=\"Oui\",'Q_del,j et Q_del,dh'!$D110,0)","v":0},{"$f":"IF(AO161=\"Oui\",'Q_del,j et Q_del,dh'!$D110,0)","v":0},{"$f":"IF(AP161=\"Oui\",'Q_del,j et Q_del,dh'!$D110,0)","v":0},{"$f":"IF(AQ161=\"Oui\",'Q_del,j et Q_del,dh'!$D110,0)","v":0},{"$f":"IF(AR161=\"Oui\",'Q_del,j et Q_del,dh'!$D110,0)","v":0},{"$f":"IF(AS161=\"Oui\",'Q_del,j et Q_del,dh'!$D110,0)","v":0},{"$f":"IF(AT161=\"Oui\",'Q_del,j et Q_del,dh'!$D110,0)","v":0},{"$f":"IF(AU161=\"Oui\",'Q_del,j et Q_del,dh'!$D110,0)","v":0},{"$f":"IF(AV161=\"Oui\",'Q_del,j et Q_del,dh'!$D110,0)","v":0},{"$f":"IF(AW161=\"Oui\",'Q_del,j et Q_del,dh'!$D110,0)","v":0},{"$f":"IF(AX161=\"Oui\",'Q_del,j et Q_del,dh'!$D110,0)","v":0},{"$f":"IF(AY161=\"Oui\",'Q_del,j et Q_del,dh'!$D110,0)","v":0},{"$f":"IF(AZ161=\"Oui\",'Q_del,j et Q_del,dh'!$D110,0)","v":0},{"$f":"IF(BA161=\"Oui\",'Q_del,j et Q_del,dh'!$D110,0)","v":0}]
["Qdel,l,j [MJ]","Demandeur de chaleur 104",104,{"$f":"IF(D162=\"Oui\",'Q_del,j et Q_del,dh'!$D111,0)","v":0},{"$f":"IF(E162=\"Oui\",'Q_del,j et Q_del,dh'!$D111,0)","v":0},{"$f":"IF(F162=\"Oui\",'Q_del,j et Q_del,dh'!$D111,0)","v":0},{"$f":"IF(G162=\"Oui\",'Q_del,j et Q_del,dh'!$D111,0)","v":0},{"$f":"IF(H162=\"Oui\",'Q_del,j et Q_del,dh'!$D111,0)","v":0},{"$f":"IF(I162=\"Oui\",'Q_del,j et Q_del,dh'!$D111,0)","v":0},{"$f":"IF(J162=\"Oui\",'Q_del,j et Q_del,dh'!$D111,0)","v":0},{"$f":"IF(K162=\"Oui\",'Q_del,j et Q_del,dh'!$D111,0)","v":0},{"$f":"IF(L162=\"Oui\",'Q_del,j et Q_del,dh'!$D111,0)","v":0},{"$f":"IF(M162=\"Oui\",'Q_del,j et Q_del,dh'!$D111,0)","v":0},{"$f":"IF(N162=\"Oui\",'Q_del,j et Q_del,dh'!$D111,0)","v":0},{"$f":"IF(O162=\"Oui\",'Q_del,j et Q_del,dh'!$D111,0)","v":0},{"$f":"IF(P162=\"Oui\",'Q_del,j et Q_del,dh'!$D111,0)","v":0},{"$f":"IF(Q162=\"Oui\",'Q_del,j et Q_del,dh'!$D111,0)","v":0},{"$f":"IF(R162=\"Oui\",'Q_del,j et Q_del,dh'!$D111,0)","v":0},{"$f":"IF(S162=\"Oui\",'Q_del,j et Q_del,dh'!$D111,0)","v":0},{"$f":"IF(T162=\"Oui\",'Q_del,j et Q_del,dh'!$D111,0)","v":0},{"$f":"IF(U162=\"Oui\",'Q_del,j et Q_del,dh'!$D111,0)","v":0},{"$f":"IF(V162=\"Oui\",'Q_del,j et Q_del,dh'!$D111,0)","v":0},{"$f":"IF(W162=\"Oui\",'Q_del,j et Q_del,dh'!$D111,0)","v":0},{"$f":"IF(X162=\"Oui\",'Q_del,j et Q_del,dh'!$D111,0)","v":0},{"$f":"IF(Y162=\"Oui\",'Q_del,j et Q_del,dh'!$D111,0)","v":0},{"$f":"IF(Z162=\"Oui\",'Q_del,j et Q_del,dh'!$D111,0)","v":0},{"$f":"IF(AA162=\"Oui\",'Q_del,j et Q_del,dh'!$D111,0)","v":0},{"$f":"IF(AB162=\"Oui\",'Q_del,j et Q_del,dh'!$D111,0)","v":0},{"$f":"IF(AC162=\"Oui\",'Q_del,j et Q_del,dh'!$D111,0)","v":0},{"$f":"IF(AD162=\"Oui\",'Q_del,j et Q_del,dh'!$D111,0)","v":0},{"$f":"IF(AE162=\"Oui\",'Q_del,j et Q_del,dh'!$D111,0)","v":0},{"$f":"IF(AF162=\"Oui\",'Q_del,j et Q_del,dh'!$D111,0)","v":0},{"$f":"IF(AG162=\"Oui\",'Q_del,j et Q_del,dh'!$D111,0)","v":0},{"$f":"IF(AH162=\"Oui\",'Q_del,j et Q_del,dh'!$D111,0)","v":0},{"$f":"IF(AI162=\"Oui\",'Q_del,j et Q_del,dh'!$D111,0)","v":0},{"$f":"IF(AJ162=\"Oui\",'Q_del,j et Q_del,dh'!$D111,0)","v":0},{"$f":"IF(AK162=\"Oui\",'Q_del,j et Q_del,dh'!$D111,0)","v":0},{"$f":"IF(AL162=\"Oui\",'Q_del,j et Q_del,dh'!$D111,0)","v":0},{"$f":"IF(AM162=\"Oui\",'Q_del,j et Q_del,dh'!$D111,0)","v":0},{"$f":"IF(AN162=\"Oui\",'Q_del,j et Q_del,dh'!$D111,0)","v":0},{"$f":"IF(AO162=\"Oui\",'Q_del,j et Q_del,dh'!$D111,0)","v":0},{"$f":"IF(AP162=\"Oui\",'Q_del,j et Q_del,dh'!$D111,0)","v":0},{"$f":"IF(AQ162=\"Oui\",'Q_del,j et Q_del,dh'!$D111,0)","v":0},{"$f":"IF(AR162=\"Oui\",'Q_del,j et Q_del,dh'!$D111,0)","v":0},{"$f":"IF(AS162=\"Oui\",'Q_del,j et Q_del,dh'!$D111,0)","v":0},{"$f":"IF(AT162=\"Oui\",'Q_del,j et Q_del,dh'!$D111,0)","v":0},{"$f":"IF(AU162=\"Oui\",'Q_del,j et Q_del,dh'!$D111,0)","v":0},{"$f":"IF(AV162=\"Oui\",'Q_del,j et Q_del,dh'!$D111,0)","v":0},{"$f":"IF(AW162=\"Oui\",'Q_del,j et Q_del,dh'!$D111,0)","v":0},{"$f":"IF(AX162=\"Oui\",'Q_del,j et Q_del,dh'!$D111,0)","v":0},{"$f":"IF(AY162=\"Oui\",'Q_del,j et Q_del,dh'!$D111,0)","v":0},{"$f":"IF(AZ162=\"Oui\",'Q_del,j et Q_del,dh'!$D111,0)","v":0},{"$f":"IF(BA162=\"Oui\",'Q_del,j et Q_del,dh'!$D111,0)","v":0}]
["Qdel,l,j [MJ]","Demandeur de chaleur 105",105,{"$f":"IF(D163=\"Oui\",'Q_del,j et Q_del,dh'!$D112,0)","v":0},{"$f":"IF(E163=\"Oui\",'Q_del,j et Q_del,dh'!$D112,0)","v":0},{"$f":"IF(F163=\"Oui\",'Q_del,j et Q_del,dh'!$D112,0)","v":0},{"$f":"IF(G163=\"Oui\",'Q_del,j et Q_del,dh'!$D112,0)","v":0},{"$f":"IF(H163=\"Oui\",'Q_del,j et Q_del,dh'!$D112,0)","v":0},{"$f":"IF(I163=\"Oui\",'Q_del,j et Q_del,dh'!$D112,0)","v":0},{"$f":"IF(J163=\"Oui\",'Q_del,j et Q_del,dh'!$D112,0)","v":0},{"$f":"IF(K163=\"Oui\",'Q_del,j et Q_del,dh'!$D112,0)","v":0},{"$f":"IF(L163=\"Oui\",'Q_del,j et Q_del,dh'!$D112,0)","v":0},{"$f":"IF(M163=\"Oui\",'Q_del,j et Q_del,dh'!$D112,0)","v":0},{"$f":"IF(N163=\"Oui\",'Q_del,j et Q_del,dh'!$D112,0)","v":0},{"$f":"IF(O163=\"Oui\",'Q_del,j et Q_del,dh'!$D112,0)","v":0},{"$f":"IF(P163=\"Oui\",'Q_del,j et Q_del,dh'!$D112,0)","v":0},{"$f":"IF(Q163=\"Oui\",'Q_del,j et Q_del,dh'!$D112,0)","v":0},{"$f":"IF(R163=\"Oui\",'Q_del,j et Q_del,dh'!$D112,0)","v":0},{"$f":"IF(S163=\"Oui\",'Q_del,j et Q_del,dh'!$D112,0)","v":0},{"$f":"IF(T163=\"Oui\",'Q_del,j et Q_del,dh'!$D112,0)","v":0},{"$f":"IF(U163=\"Oui\",'Q_del,j et Q_del,dh'!$D112,0)","v":0},{"$f":"IF(V163=\"Oui\",'Q_del,j et Q_del,dh'!$D112,0)","v":0},{"$f":"IF(W163=\"Oui\",'Q_del,j et Q_del,dh'!$D112,0)","v":0},{"$f":"IF(X163=\"Oui\",'Q_del,j et Q_del,dh'!$D112,0)","v":0},{"$f":"IF(Y163=\"Oui\",'Q_del,j et Q_del,dh'!$D112,0)","v":0},{"$f":"IF(Z163=\"Oui\",'Q_del,j et Q_del,dh'!$D112,0)","v":0},{"$f":"IF(AA163=\"Oui\",'Q_del,j et Q_del,dh'!$D112,0)","v":0},{"$f":"IF(AB163=\"Oui\",'Q_del,j et Q_del,dh'!$D112,0)","v":0},{"$f":"IF(AC163=\"Oui\",'Q_del,j et Q_del,dh'!$D112,0)","v":0},{"$f":"IF(AD163=\"Oui\",'Q_del,j et Q_del,dh'!$D112,0)","v":0},{"$f":"IF(AE163=\"Oui\",'Q_del,j et Q_del,dh'!$D112,0)","v":0},{"$f":"IF(AF163=\"Oui\",'Q_del,j et Q_del,dh'!$D112,0)","v":0},{"$f":"IF(AG163=\"Oui\",'Q_del,j et Q_del,dh'!$D112,0)","v":0},{"$f":"IF(AH163=\"Oui\",'Q_del,j et Q_del,dh'!$D112,0)","v":0},{"$f":"IF(AI163=\"Oui\",'Q_del,j et Q_del,dh'!$D112,0)","v":0},{"$f":"IF(AJ163=\"Oui\",'Q_del,j et Q_del,dh'!$D112,0)","v":0},{"$f":"IF(AK163=\"Oui\",'Q_del,j et Q_del,dh'!$D112,0)","v":0},{"$f":"IF(AL163=\"Oui\",'Q_del,j et Q_del,dh'!$D112,0)","v":0},{"$f":"IF(AM163=\"Oui\",'Q_del,j et Q_del,dh'!$D112,0)","v":0},{"$f":"IF(AN163=\"Oui\",'Q_del,j et Q_del,dh'!$D112,0)","v":0},{"$f":"IF(AO163=\"Oui\",'Q_del,j et Q_del,dh'!$D112,0)","v":0},{"$f":"IF(AP163=\"Oui\",'Q_del,j et Q_del,dh'!$D112,0)","v":0},{"$f":"IF(AQ163=\"Oui\",'Q_del,j et Q_del,dh'!$D112,0)","v":0},{"$f":"IF(AR163=\"Oui\",'Q_del,j et Q_del,dh'!$D112,0)","v":0},{"$f":"IF(AS163=\"Oui\",'Q_del,j et Q_del,dh'!$D112,0)","v":0},{"$f":"IF(AT163=\"Oui\",'Q_del,j et Q_del,dh'!$D112,0)","v":0},{"$f":"IF(AU163=\"Oui\",'Q_del,j et Q_del,dh'!$D112,0)","v":0},{"$f":"IF(AV163=\"Oui\",'Q_del,j et Q_del,dh'!$D112,0)","v":0},{"$f":"IF(AW163=\"Oui\",'Q_del,j et Q_del,dh'!$D112,0)","v":0},{"$f":"IF(AX163=\"Oui\",'Q_del,j et Q_del,dh'!$D112,0)","v":0},{"$f":"IF(AY163=\"Oui\",'Q_del,j et Q_del,dh'!$D112,0)","v":0},{"$f":"IF(AZ163=\"Oui\",'Q_del,j et Q_del,dh'!$D112,0)","v":0},{"$f":"IF(BA163=\"Oui\",'Q_del,j et Q_del,dh'!$D112,0)","v":0}]
["Qdel,l,j [MJ]","Demandeur de chaleur 106",106,{"$f":"IF(D164=\"Oui\",'Q_del,j et Q_del,dh'!$D113,0)","v":0},{"$f":"IF(E164=\"Oui\",'Q_del,j et Q_del,dh'!$D113,0)","v":0},{"$f":"IF(F164=\"Oui\",'Q_del,j et Q_del,dh'!$D113,0)","v":0},{"$f":"IF(G164=\"Oui\",'Q_del,j et Q_del,dh'!$D113,0)","v":0},{"$f":"IF(H164=\"Oui\",'Q_del,j et Q_del,dh'!$D113,0)","v":0},{"$f":"IF(I164=\"Oui\",'Q_del,j et Q_del,dh'!$D113,0)","v":0},{"$f":"IF(J164=\"Oui\",'Q_del,j et Q_del,dh'!$D113,0)","v":0},{"$f":"IF(K164=\"Oui\",'Q_del,j et Q_del,dh'!$D113,0)","v":0},{"$f":"IF(L164=\"Oui\",'Q_del,j et Q_del,dh'!$D113,0)","v":0},{"$f":"IF(M164=\"Oui\",'Q_del,j et Q_del,dh'!$D113,0)","v":0},{"$f":"IF(N164=\"Oui\",'Q_del,j et Q_del,dh'!$D113,0)","v":0},{"$f":"IF(O164=\"Oui\",'Q_del,j et Q_del,dh'!$D113,0)","v":0},{"$f":"IF(P164=\"Oui\",'Q_del,j et Q_del,dh'!$D113,0)","v":0},{"$f":"IF(Q164=\"Oui\",'Q_del,j et Q_del,dh'!$D113,0)","v":0},{"$f":"IF(R164=\"Oui\",'Q_del,j et Q_del,dh'!$D113,0)","v":0},{"$f":"IF(S164=\"Oui\",'Q_del,j et Q_del,dh'!$D113,0)","v":0},{"$f":"IF(T164=\"Oui\",'Q_del,j et Q_del,dh'!$D113,0)","v":0},{"$f":"IF(U164=\"Oui\",'Q_del,j et Q_del,dh'!$D113,0)","v":0},{"$f":"IF(V164=\"Oui\",'Q_del,j et Q_del,dh'!$D113,0)","v":0},{"$f":"IF(W164=\"Oui\",'Q_del,j et Q_del,dh'!$D113,0)","v":0},{"$f":"IF(X164=\"Oui\",'Q_del,j et Q_del,dh'!$D113,0)","v":0},{"$f":"IF(Y164=\"Oui\",'Q_del,j et Q_del,dh'!$D113,0)","v":0},{"$f":"IF(Z164=\"Oui\",'Q_del,j et Q_del,dh'!$D113,0)","v":0},{"$f":"IF(AA164=\"Oui\",'Q_del,j et Q_del,dh'!$D113,0)","v":0},{"$f":"IF(AB164=\"Oui\",'Q_del,j et Q_del,dh'!$D113,0)","v":0},{"$f":"IF(AC164=\"Oui\",'Q_del,j et Q_del,dh'!$D113,0)","v":0},{"$f":"IF(AD164=\"Oui\",'Q_del,j et Q_del,dh'!$D113,0)","v":0},{"$f":"IF(AE164=\"Oui\",'Q_del,j et Q_del,dh'!$D113,0)","v":0},{"$f":"IF(AF164=\"Oui\",'Q_del,j et Q_del,dh'!$D113,0)","v":0},{"$f":"IF(AG164=\"Oui\",'Q_del,j et Q_del,dh'!$D113,0)","v":0},{"$f":"IF(AH164=\"Oui\",'Q_del,j et Q_del,dh'!$D113,0)","v":0},{"$f":"IF(AI164=\"Oui\",'Q_del,j et Q_del,dh'!$D113,0)","v":0},{"$f":"IF(AJ164=\"Oui\",'Q_del,j et Q_del,dh'!$D113,0)","v":0},{"$f":"IF(AK164=\"Oui\",'Q_del,j et Q_del,dh'!$D113,0)","v":0},{"$f":"IF(AL164=\"Oui\",'Q_del,j et Q_del,dh'!$D113,0)","v":0},{"$f":"IF(AM164=\"Oui\",'Q_del,j et Q_del,dh'!$D113,0)","v":0},{"$f":"IF(AN164=\"Oui\",'Q_del,j et Q_del,dh'!$D113,0)","v":0},{"$f":"IF(AO164=\"Oui\",'Q_del,j et Q_del,dh'!$D113,0)","v":0},{"$f":"IF(AP164=\"Oui\",'Q_del,j et Q_del,dh'!$D113,0)","v":0},{"$f":"IF(AQ164=\"Oui\",'Q_del,j et Q_del,dh'!$D113,0)","v":0},{"$f":"IF(AR164=\"Oui\",'Q_del,j et Q_del,dh'!$D113,0)","v":0},{"$f":"IF(AS164=\"Oui\",'Q_del,j et Q_del,dh'!$D113,0)","v":0},{"$f":"IF(AT164=\"Oui\",'Q_del,j et Q_del,dh'!$D113,0)","v":0},{"$f":"IF(AU164=\"Oui\",'Q_del,j et Q_del,dh'!$D113,0)","v":0},{"$f":"IF(AV164=\"Oui\",'Q_del,j et Q_del,dh'!$D113,0)","v":0},{"$f":"IF(AW164=\"Oui\",'Q_del,j et Q_del,dh'!$D113,0)","v":0},{"$f":"IF(AX164=\"Oui\",'Q_del,j et Q_del,dh'!$D113,0)","v":0},{"$f":"IF(AY164=\"Oui\",'Q_del,j et Q_del,dh'!$D113,0)","v":0},{"$f":"IF(AZ164=\"Oui\",'Q_del,j et Q_del,dh'!$D113,0)","v":0},{"$f":"IF(BA164=\"Oui\",'Q_del,j et Q_del,dh'!$D113,0)","v":0}]
["Qdel,l,j [MJ]","Demandeur de chaleur 107",107,{"$f":"IF(D165=\"Oui\",'Q_del,j et Q_del,dh'!$D114,0)","v":0},{"$f":"IF(E165=\"Oui\",'Q_del,j et Q_del,dh'!$D114,0)","v":0},{"$f":"IF(F165=\"Oui\",'Q_del,j et Q_del,dh'!$D114,0)","v":0},{"$f":"IF(G165=\"Oui\",'Q_del,j et Q_del,dh'!$D114,0)","v":0},{"$f":"IF(H165=\"Oui\",'Q_del,j et Q_del,dh'!$D114,0)","v":0},{"$f":"IF(I165=\"Oui\",'Q_del,j et Q_del,dh'!$D114,0)","v":0},{"$f":"IF(J165=\"Oui\",'Q_del,j et Q_del,dh'!$D114,0)","v":0},{"$f":"IF(K165=\"Oui\",'Q_del,j et Q_del,dh'!$D114,0)","v":0},{"$f":"IF(L165=\"Oui\",'Q_del,j et Q_del,dh'!$D114,0)","v":0},{"$f":"IF(M165=\"Oui\",'Q_del,j et Q_del,dh'!$D114,0)","v":0},{"$f":"IF(N165=\"Oui\",'Q_del,j et Q_del,dh'!$D114,0)","v":0},{"$f":"IF(O165=\"Oui\",'Q_del,j et Q_del,dh'!$D114,0)","v":0},{"$f":"IF(P165=\"Oui\",'Q_del,j et Q_del,dh'!$D114,0)","v":0},{"$f":"IF(Q165=\"Oui\",'Q_del,j et Q_del,dh'!$D114,0)","v":0},{"$f":"IF(R165=\"Oui\",'Q_del,j et Q_del,dh'!$D114,0)","v":0},{"$f":"IF(S165=\"Oui\",'Q_del,j et Q_del,dh'!$D114,0)","v":0},{"$f":"IF(T165=\"Oui\",'Q_del,j et Q_del,dh'!$D114,0)","v":0},{"$f":"IF(U165=\"Oui\",'Q_del,j et Q_del,dh'!$D114,0)","v":0},{"$f":"IF(V165=\"Oui\",'Q_del,j et Q_del,dh'!$D114,0)","v":0},{"$f":"IF(W165=\"Oui\",'Q_del,j et Q_del,dh'!$D114,0)","v":0},{"$f":"IF(X165=\"Oui\",'Q_del,j et Q_del,dh'!$D114,0)","v":0},{"$f":"IF(Y165=\"Oui\",'Q_del,j et Q_del,dh'!$D114,0)","v":0},{"$f":"IF(Z165=\"Oui\",'Q_del,j et Q_del,dh'!$D114,0)","v":0},{"$f":"IF(AA165=\"Oui\",'Q_del,j et Q_del,dh'!$D114,0)","v":0},{"$f":"IF(AB165=\"Oui\",'Q_del,j et Q_del,dh'!$D114,0)","v":0},{"$f":"IF(AC165=\"Oui\",'Q_del,j et Q_del,dh'!$D114,0)","v":0},{"$f":"IF(AD165=\"Oui\",'Q_del,j et Q_del,dh'!$D114,0)","v":0},{"$f":"IF(AE165=\"Oui\",'Q_del,j et Q_del,dh'!$D114,0)","v":0},{"$f":"IF(AF165=\"Oui\",'Q_del,j et Q_del,dh'!$D114,0)","v":0},{"$f":"IF(AG165=\"Oui\",'Q_del,j et Q_del,dh'!$D114,0)","v":0},{"$f":"IF(AH165=\"Oui\",'Q_del,j et Q_del,dh'!$D114,0)","v":0},{"$f":"IF(AI165=\"Oui\",'Q_del,j et Q_del,dh'!$D114,0)","v":0},{"$f":"IF(AJ165=\"Oui\",'Q_del,j et Q_del,dh'!$D114,0)","v":0},{"$f":"IF(AK165=\"Oui\",'Q_del,j et Q_del,dh'!$D114,0)","v":0},{"$f":"IF(AL165=\"Oui\",'Q_del,j et Q_del,dh'!$D114,0)","v":0},{"$f":"IF(AM165=\"Oui\",'Q_del,j et Q_del,dh'!$D114,0)","v":0},{"$f":"IF(AN165=\"Oui\",'Q_del,j et Q_del,dh'!$D114,0)","v":0},{"$f":"IF(AO165=\"Oui\",'Q_del,j et Q_del,dh'!$D114,0)","v":0},{"$f":"IF(AP165=\"Oui\",'Q_del,j et Q_del,dh'!$D114,0)","v":0},{"$f":"IF(AQ165=\"Oui\",'Q_del,j et Q_del,dh'!$D114,0)","v":0},{"$f":"IF(AR165=\"Oui\",'Q_del,j et Q_del,dh'!$D114,0)","v":0},{"$f":"IF(AS165=\"Oui\",'Q_del,j et Q_del,dh'!$D114,0)","v":0},{"$f":"IF(AT165=\"Oui\",'Q_del,j et Q_del,dh'!$D114,0)","v":0},{"$f":"IF(AU165=\"Oui\",'Q_del,j et Q_del,dh'!$D114,0)","v":0},{"$f":"IF(AV165=\"Oui\",'Q_del,j et Q_del,dh'!$D114,0)","v":0},{"$f":"IF(AW165=\"Oui\",'Q_del,j et Q_del,dh'!$D114,0)","v":0},{"$f":"IF(AX165=\"Oui\",'Q_del,j et Q_del,dh'!$D114,0)","v":0},{"$f":"IF(AY165=\"Oui\",'Q_del,j et Q_del,dh'!$D114,0)","v":0},{"$f":"IF(AZ165=\"Oui\",'Q_del,j et Q_del,dh'!$D114,0)","v":0},{"$f":"IF(BA165=\"Oui\",'Q_del,j et Q_del,dh'!$D114,0)","v":0}]
["Qdel,l,j [MJ]","Demandeur de chaleur 108",108,{"$f":"IF(D166=\"Oui\",'Q_del,j et Q_del,dh'!$D115,0)","v":0},{"$f":"IF(E166=\"Oui\",'Q_del,j et Q_del,dh'!$D115,0)","v":0},{"$f":"IF(F166=\"Oui\",'Q_del,j et Q_del,dh'!$D115,0)","v":0},{"$f":"IF(G166=\"Oui\",'Q_del,j et Q_del,dh'!$D115,0)","v":0},{"$f":"IF(H166=\"Oui\",'Q_del,j et Q_del,dh'!$D115,0)","v":0},{"$f":"IF(I166=\"Oui\",'Q_del,j et Q_del,dh'!$D115,0)","v":0},{"$f":"IF(J166=\"Oui\",'Q_del,j et Q_del,dh'!$D115,0)","v":0},{"$f":"IF(K166=\"Oui\",'Q_del,j et Q_del,dh'!$D115,0)","v":0},{"$f":"IF(L166=\"Oui\",'Q_del,j et Q_del,dh'!$D115,0)","v":0},{"$f":"IF(M166=\"Oui\",'Q_del,j et Q_del,dh'!$D115,0)","v":0},{"$f":"IF(N166=\"Oui\",'Q_del,j et Q_del,dh'!$D115,0)","v":0},{"$f":"IF(O166=\"Oui\",'Q_del,j et Q_del,dh'!$D115,0)","v":0},{"$f":"IF(P166=\"Oui\",'Q_del,j et Q_del,dh'!$D115,0)","v":0},{"$f":"IF(Q166=\"Oui\",'Q_del,j et Q_del,dh'!$D115,0)","v":0},{"$f":"IF(R166=\"Oui\",'Q_del,j et Q_del,dh'!$D115,0)","v":0},{"$f":"IF(S166=\"Oui\",'Q_del,j et Q_del,dh'!$D115,0)","v":0},{"$f":"IF(T166=\"Oui\",'Q_del,j et Q_del,dh'!$D115,0)","v":0},{"$f":"IF(U166=\"Oui\",'Q_del,j et Q_del,dh'!$D115,0)","v":0},{"$f":"IF(V166=\"Oui\",'Q_del,j et Q_del,dh'!$D115,0)","v":0},{"$f":"IF(W166=\"Oui\",'Q_del,j et Q_del,dh'!$D115,0)","v":0},{"$f":"IF(X166=\"Oui\",'Q_del,j et Q_del,dh'!$D115,0)","v":0},{"$f":"IF(Y166=\"Oui\",'Q_del,j et Q_del,dh'!$D115,0)","v":0},{"$f":"IF(Z166=\"Oui\",'Q_del,j et Q_del,dh'!$D115,0)","v":0},{"$f":"IF(AA166=\"Oui\",'Q_del,j et Q_del,dh'!$D115,0)","v":0},{"$f":"IF(AB166=\"Oui\",'Q_del,j et Q_del,dh'!$D115,0)","v":0},{"$f":"IF(AC166=\"Oui\",'Q_del,j et Q_del,dh'!$D115,0)","v":0},{"$f":"IF(AD166=\"Oui\",'Q_del,j et Q_del,dh'!$D115,0)","v":0},{"$f":"IF(AE166=\"Oui\",'Q_del,j et Q_del,dh'!$D115,0)","v":0},{"$f":"IF(AF166=\"Oui\",'Q_del,j et Q_del,dh'!$D115,0)","v":0},{"$f":"IF(AG166=\"Oui\",'Q_del,j et Q_del,dh'!$D115,0)","v":0},{"$f":"IF(AH166=\"Oui\",'Q_del,j et Q_del,dh'!$D115,0)","v":0},{"$f":"IF(AI166=\"Oui\",'Q_del,j et Q_del,dh'!$D115,0)","v":0},{"$f":"IF(AJ166=\"Oui\",'Q_del,j et Q_del,dh'!$D115,0)","v":0},{"$f":"IF(AK166=\"Oui\",'Q_del,j et Q_del,dh'!$D115,0)","v":0},{"$f":"IF(AL166=\"Oui\",'Q_del,j et Q_del,dh'!$D115,0)","v":0},{"$f":"IF(AM166=\"Oui\",'Q_del,j et Q_del,dh'!$D115,0)","v":0},{"$f":"IF(AN166=\"Oui\",'Q_del,j et Q_del,dh'!$D115,0)","v":0},{"$f":"IF(AO166=\"Oui\",'Q_del,j et Q_del,dh'!$D115,0)","v":0},{"$f":"IF(AP166=\"Oui\",'Q_del,j et Q_del,dh'!$D115,0)","v":0},{"$f":"IF(AQ166=\"Oui\",'Q_del,j et Q_del,dh'!$D115,0)","v":0},{"$f":"IF(AR166=\"Oui\",'Q_del,j et Q_del,dh'!$D115,0)","v":0},{"$f":"IF(AS166=\"Oui\",'Q_del,j et Q_del,dh'!$D115,0)","v":0},{"$f":"IF(AT166=\"Oui\",'Q_del,j et Q_del,dh'!$D115,0)","v":0},{"$f":"IF(AU166=\"Oui\",'Q_del,j et Q_del,dh'!$D115,0)","v":0},{"$f":"IF(AV166=\"Oui\",'Q_del,j et Q_del,dh'!$D115,0)","v":0},{"$f":"IF(AW166=\"Oui\",'Q_del,j et Q_del,dh'!$D115,0)","v":0},{"$f":"IF(AX166=\"Oui\",'Q_del,j et Q_del,dh'!$D115,0)","v":0},{"$f":"IF(AY166=\"Oui\",'Q_del,j et Q_del,dh'!$D115,0)","v":0},{"$f":"IF(AZ166=\"Oui\",'Q_del,j et Q_del,dh'!$D115,0)","v":0},{"$f":"IF(BA166=\"Oui\",'Q_del,j et Q_del,dh'!$D115,0)","v":0}]
["Qdel,l,j [MJ]","Demandeur de chaleur 109",109,{"$f":"IF(D167=\"Oui\",'Q_del,j et Q_del,dh'!$D116,0)","v":0},{"$f":"IF(E167=\"Oui\",'Q_del,j et Q_del,dh'!$D116,0)","v":0},{"$f":"IF(F167=\"Oui\",'Q_del,j et Q_del,dh'!$D116,0)","v":0},{"$f":"IF(G167=\"Oui\",'Q_del,j et Q_del,dh'!$D116,0)","v":0},{"$f":"IF(H167=\"Oui\",'Q_del,j et Q_del,dh'!$D116,0)","v":0},{"$f":"IF(I167=\"Oui\",'Q_del,j et Q_del,dh'!$D116,0)","v":0},{"$f":"IF(J167=\"Oui\",'Q_del,j et Q_del,dh'!$D116,0)","v":0},{"$f":"IF(K167=\"Oui\",'Q_del,j et Q_del,dh'!$D116,0)","v":0},{"$f":"IF(L167=\"Oui\",'Q_del,j et Q_del,dh'!$D116,0)","v":0},{"$f":"IF(M167=\"Oui\",'Q_del,j et Q_del,dh'!$D116,0)","v":0},{"$f":"IF(N167=\"Oui\",'Q_del,j et Q_del,dh'!$D116,0)","v":0},{"$f":"IF(O167=\"Oui\",'Q_del,j et Q_del,dh'!$D116,0)","v":0},{"$f":"IF(P167=\"Oui\",'Q_del,j et Q_del,dh'!$D116,0)","v":0},{"$f":"IF(Q167=\"Oui\",'Q_del,j et Q_del,dh'!$D116,0)","v":0},{"$f":"IF(R167=\"Oui\",'Q_del,j et Q_del,dh'!$D116,0)","v":0},{"$f":"IF(S167=\"Oui\",'Q_del,j et Q_del,dh'!$D116,0)","v":0},{"$f":"IF(T167=\"Oui\",'Q_del,j et Q_del,dh'!$D116,0)","v":0},{"$f":"IF(U167=\"Oui\",'Q_del,j et Q_del,dh'!$D116,0)","v":0},{"$f":"IF(V167=\"Oui\",'Q_del,j et Q_del,dh'!$D116,0)","v":0},{"$f":"IF(W167=\"Oui\",'Q_del,j et Q_del,dh'!$D116,0)","v":0},{"$f":"IF(X167=\"Oui\",'Q_del,j et Q_del,dh'!$D116,0)","v":0},{"$f":"IF(Y167=\"Oui\",'Q_del,j et Q_del,dh'!$D116,0)","v":0},{"$f":"IF(Z167=\"Oui\",'Q_del,j et Q_del,dh'!$D116,0)","v":0},{"$f":"IF(AA167=\"Oui\",'Q_del,j et Q_del,dh'!$D116,0)","v":0},{"$f":"IF(AB167=\"Oui\",'Q_del,j et Q_del,dh'!$D116,0)","v":0},{"$f":"IF(AC167=\"Oui\",'Q_del,j et Q_del,dh'!$D116,0)","v":0},{"$f":"IF(AD167=\"Oui\",'Q_del,j et Q_del,dh'!$D116,0)","v":0},{"$f":"IF(AE167=\"Oui\",'Q_del,j et Q_del,dh'!$D116,0)","v":0},{"$f":"IF(AF167=\"Oui\",'Q_del,j et Q_del,dh'!$D116,0)","v":0},{"$f":"IF(AG167=\"Oui\",'Q_del,j et Q_del,dh'!$D116,0)","v":0},{"$f":"IF(AH167=\"Oui\",'Q_del,j et Q_del,dh'!$D116,0)","v":0},{"$f":"IF(AI167=\"Oui\",'Q_del,j et Q_del,dh'!$D116,0)","v":0},{"$f":"IF(AJ167=\"Oui\",'Q_del,j et Q_del,dh'!$D116,0)","v":0},{"$f":"IF(AK167=\"Oui\",'Q_del,j et Q_del,dh'!$D116,0)","v":0},{"$f":"IF(AL167=\"Oui\",'Q_del,j et Q_del,dh'!$D116,0)","v":0},{"$f":"IF(AM167=\"Oui\",'Q_del,j et Q_del,dh'!$D116,0)","v":0},{"$f":"IF(AN167=\"Oui\",'Q_del,j et Q_del,dh'!$D116,0)","v":0},{"$f":"IF(AO167=\"Oui\",'Q_del,j et Q_del,dh'!$D116,0)","v":0},{"$f":"IF(AP167=\"Oui\",'Q_del,j et Q_del,dh'!$D116,0)","v":0},{"$f":"IF(AQ167=\"Oui\",'Q_del,j et Q_del,dh'!$D116,0)","v":0},{"$f":"IF(AR167=\"Oui\",'Q_del,j et Q_del,dh'!$D116,0)","v":0},{"$f":"IF(AS167=\"Oui\",'Q_del,j et Q_del,dh'!$D116,0)","v":0},{"$f":"IF(AT167=\"Oui\",'Q_del,j et Q_del,dh'!$D116,0)","v":0},{"$f":"IF(AU167=\"Oui\",'Q_del,j et Q_del,dh'!$D116,0)","v":0},{"$f":"IF(AV167=\"Oui\",'Q_del,j et Q_del,dh'!$D116,0)","v":0},{"$f":"IF(AW167=\"Oui\",'Q_del,j et Q_del,dh'!$D116,0)","v":0},{"$f":"IF(AX167=\"Oui\",'Q_del,j et Q_del,dh'!$D116,0)","v":0},{"$f":"IF(AY167=\"Oui\",'Q_del,j et Q_del,dh'!$D116,0)","v":0},{"$f":"IF(AZ167=\"Oui\",'Q_del,j et Q_del,dh'!$D116,0)","v":0},{"$f":"IF(BA167=\"Oui\",'Q_del,j et Q_del,dh'!$D116,0)","v":0}]
["Qdel,l,j [MJ]","Demandeur de chaleur 110",110,{"$f":"IF(D168=\"Oui\",'Q_del,j et Q_del,dh'!$D117,0)","v":0},{"$f":"IF(E168=\"Oui\",'Q_del,j et Q_del,dh'!$D117,0)","v":0},{"$f":"IF(F168=\"Oui\",'Q_del,j et Q_del,dh'!$D117,0)","v":0},{"$f":"IF(G168=\"Oui\",'Q_del,j et Q_del,dh'!$D117,0)","v":0},{"$f":"IF(H168=\"Oui\",'Q_del,j et Q_del,dh'!$D117,0)","v":0},{"$f":"IF(I168=\"Oui\",'Q_del,j et Q_del,dh'!$D117,0)","v":0},{"$f":"IF(J168=\"Oui\",'Q_del,j et Q_del,dh'!$D117,0)","v":0},{"$f":"IF(K168=\"Oui\",'Q_del,j et Q_del,dh'!$D117,0)","v":0},{"$f":"IF(L168=\"Oui\",'Q_del,j et Q_del,dh'!$D117,0)","v":0},{"$f":"IF(M168=\"Oui\",'Q_del,j et Q_del,dh'!$D117,0)","v":0},{"$f":"IF(N168=\"Oui\",'Q_del,j et Q_del,dh'!$D117,0)","v":0},{"$f":"IF(O168=\"Oui\",'Q_del,j et Q_del,dh'!$D117,0)","v":0},{"$f":"IF(P168=\"Oui\",'Q_del,j et Q_del,dh'!$D117,0)","v":0},{"$f":"IF(Q168=\"Oui\",'Q_del,j et Q_del,dh'!$D117,0)","v":0},{"$f":"IF(R168=\"Oui\",'Q_del,j et Q_del,dh'!$D117,0)","v":0},{"$f":"IF(S168=\"Oui\",'Q_del,j et Q_del,dh'!$D117,0)","v":0},{"$f":"IF(T168=\"Oui\",'Q_del,j et Q_del,dh'!$D117,0)","v":0},{"$f":"IF(U168=\"Oui\",'Q_del,j et Q_del,dh'!$D117,0)","v":0},{"$f":"IF(V168=\"Oui\",'Q_del,j et Q_del,dh'!$D117,0)","v":0},{"$f":"IF(W168=\"Oui\",'Q_del,j et Q_del,dh'!$D117,0)","v":0},{"$f":"IF(X168=\"Oui\",'Q_del,j et Q_del,dh'!$D117,0)","v":0},{"$f":"IF(Y168=\"Oui\",'Q_del,j et Q_del,dh'!$D117,0)","v":0},{"$f":"IF(Z168=\"Oui\",'Q_del,j et Q_del,dh'!$D117,0)","v":0},{"$f":"IF(AA168=\"Oui\",'Q_del,j et Q_del,dh'!$D117,0)","v":0},{"$f":"IF(AB168=\"Oui\",'Q_del,j et Q_del,dh'!$D117,0)","v":0},{"$f":"IF(AC168=\"Oui\",'Q_del,j et Q_del,dh'!$D117,0)","v":0},{"$f":"IF(AD168=\"Oui\",'Q_del,j et Q_del,dh'!$D117,0)","v":0},{"$f":"IF(AE168=\"Oui\",'Q_del,j et Q_del,dh'!$D117,0)","v":0},{"$f":"IF(AF168=\"Oui\",'Q_del,j et Q_del,dh'!$D117,0)","v":0},{"$f":"IF(AG168=\"Oui\",'Q_del,j et Q_del,dh'!$D117,0)","v":0},{"$f":"IF(AH168=\"Oui\",'Q_del,j et Q_del,dh'!$D117,0)","v":0},{"$f":"IF(AI168=\"Oui\",'Q_del,j et Q_del,dh'!$D117,0)","v":0},{"$f":"IF(AJ168=\"Oui\",'Q_del,j et Q_del,dh'!$D117,0)","v":0},{"$f":"IF(AK168=\"Oui\",'Q_del,j et Q_del,dh'!$D117,0)","v":0},{"$f":"IF(AL168=\"Oui\",'Q_del,j et Q_del,dh'!$D117,0)","v":0},{"$f":"IF(AM168=\"Oui\",'Q_del,j et Q_del,dh'!$D117,0)","v":0},{"$f":"IF(AN168=\"Oui\",'Q_del,j et Q_del,dh'!$D117,0)","v":0},{"$f":"IF(AO168=\"Oui\",'Q_del,j et Q_del,dh'!$D117,0)","v":0},{"$f":"IF(AP168=\"Oui\",'Q_del,j et Q_del,dh'!$D117,0)","v":0},{"$f":"IF(AQ168=\"Oui\",'Q_del,j et Q_del,dh'!$D117,0)","v":0},{"$f":"IF(AR168=\"Oui\",'Q_del,j et Q_del,dh'!$D117,0)","v":0},{"$f":"IF(AS168=\"Oui\",'Q_del,j et Q_del,dh'!$D117,0)","v":0},{"$f":"IF(AT168=\"Oui\",'Q_del,j et Q_del,dh'!$D117,0)","v":0},{"$f":"IF(AU168=\"Oui\",'Q_del,j et Q_del,dh'!$D117,0)","v":0},{"$f":"IF(AV168=\"Oui\",'Q_del,j et Q_del,dh'!$D117,0)","v":0},{"$f":"IF(AW168=\"Oui\",'Q_del,j et Q_del,dh'!$D117,0)","v":0},{"$f":"IF(AX168=\"Oui\",'Q_del,j et Q_del,dh'!$D117,0)","v":0},{"$f":"IF(AY168=\"Oui\",'Q_del,j et Q_del,dh'!$D117,0)","v":0},{"$f":"IF(AZ168=\"Oui\",'Q_del,j et Q_del,dh'!$D117,0)","v":0},{"$f":"IF(BA168=\"Oui\",'Q_del,j et Q_del,dh'!$D117,0)","v":0}]
["Qdel,l,j [MJ]","Demandeur de chaleur 111",111,{"$f":"IF(D169=\"Oui\",'Q_del,j et Q_del,dh'!$D118,0)","v":0},{"$f":"IF(E169=\"Oui\",'Q_del,j et Q_del,dh'!$D118,0)","v":0},{"$f":"IF(F169=\"Oui\",'Q_del,j et Q_del,dh'!$D118,0)","v":0},{"$f":"IF(G169=\"Oui\",'Q_del,j et Q_del,dh'!$D118,0)","v":0},{"$f":"IF(H169=\"Oui\",'Q_del,j et Q_del,dh'!$D118,0)","v":0},{"$f":"IF(I169=\"Oui\",'Q_del,j et Q_del,dh'!$D118,0)","v":0},{"$f":"IF(J169=\"Oui\",'Q_del,j et Q_del,dh'!$D118,0)","v":0},{"$f":"IF(K169=\"Oui\",'Q_del,j et Q_del,dh'!$D118,0)","v":0},{"$f":"IF(L169=\"Oui\",'Q_del,j et Q_del,dh'!$D118,0)","v":0},{"$f":"IF(M169=\"Oui\",'Q_del,j et Q_del,dh'!$D118,0)","v":0},{"$f":"IF(N169=\"Oui\",'Q_del,j et Q_del,dh'!$D118,0)","v":0},{"$f":"IF(O169=\"Oui\",'Q_del,j et Q_del,dh'!$D118,0)","v":0},{"$f":"IF(P169=\"Oui\",'Q_del,j et Q_del,dh'!$D118,0)","v":0},{"$f":"IF(Q169=\"Oui\",'Q_del,j et Q_del,dh'!$D118,0)","v":0},{"$f":"IF(R169=\"Oui\",'Q_del,j et Q_del,dh'!$D118,0)","v":0},{"$f":"IF(S169=\"Oui\",'Q_del,j et Q_del,dh'!$D118,0)","v":0},{"$f":"IF(T169=\"Oui\",'Q_del,j et Q_del,dh'!$D118,0)","v":0},{"$f":"IF(U169=\"Oui\",'Q_del,j et Q_del,dh'!$D118,0)","v":0},{"$f":"IF(V169=\"Oui\",'Q_del,j et Q_del,dh'!$D118,0)","v":0},{"$f":"IF(W169=\"Oui\",'Q_del,j et Q_del,dh'!$D118,0)","v":0},{"$f":"IF(X169=\"Oui\",'Q_del,j et Q_del,dh'!$D118,0)","v":0},{"$f":"IF(Y169=\"Oui\",'Q_del,j et Q_del,dh'!$D118,0)","v":0},{"$f":"IF(Z169=\"Oui\",'Q_del,j et Q_del,dh'!$D118,0)","v":0},{"$f":"IF(AA169=\"Oui\",'Q_del,j et Q_del,dh'!$D118,0)","v":0},{"$f":"IF(AB169=\"Oui\",'Q_del,j et Q_del,dh'!$D118,0)","v":0},{"$f":"IF(AC169=\"Oui\",'Q_del,j et Q_del,dh'!$D118,0)","v":0},{"$f":"IF(AD169=\"Oui\",'Q_del,j et Q_del,dh'!$D118,0)","v":0},{"$f":"IF(AE169=\"Oui\",'Q_del,j et Q_del,dh'!$D118,0)","v":0},{"$f":"IF(AF169=\"Oui\",'Q_del,j et Q_del,dh'!$D118,0)","v":0},{"$f":"IF(AG169=\"Oui\",'Q_del,j et Q_del,dh'!$D118,0)","v":0},{"$f":"IF(AH169=\"Oui\",'Q_del,j et Q_del,dh'!$D118,0)","v":0},{"$f":"IF(AI169=\"Oui\",'Q_del,j et Q_del,dh'!$D118,0)","v":0},{"$f":"IF(AJ169=\"Oui\",'Q_del,j et Q_del,dh'!$D118,0)","v":0},{"$f":"IF(AK169=\"Oui\",'Q_del,j et Q_del,dh'!$D118,0)","v":0},{"$f":"IF(AL169=\"Oui\",'Q_del,j et Q_del,dh'!$D118,0)","v":0},{"$f":"IF(AM169=\"Oui\",'Q_del,j et Q_del,dh'!$D118,0)","v":0},{"$f":"IF(AN169=\"Oui\",'Q_del,j et Q_del,dh'!$D118,0)","v":0},{"$f":"IF(AO169=\"Oui\",'Q_del,j et Q_del,dh'!$D118,0)","v":0},{"$f":"IF(AP169=\"Oui\",'Q_del,j et Q_del,dh'!$D118,0)","v":0},{"$f":"IF(AQ169=\"Oui\",'Q_del,j et Q_del,dh'!$D118,0)","v":0},{"$f":"IF(AR169=\"Oui\",'Q_del,j et Q_del,dh'!$D118,0)","v":0},{"$f":"IF(AS169=\"Oui\",'Q_del,j et Q_del,dh'!$D118,0)","v":0},{"$f":"IF(AT169=\"Oui\",'Q_del,j et Q_del,dh'!$D118,0)","v":0},{"$f":"IF(AU169=\"Oui\",'Q_del,j et Q_del,dh'!$D118,0)","v":0},{"$f":"IF(AV169=\"Oui\",'Q_del,j et Q_del,dh'!$D118,0)","v":0},{"$f":"IF(AW169=\"Oui\",'Q_del,j et Q_del,dh'!$D118,0)","v":0},{"$f":"IF(AX169=\"Oui\",'Q_del,j et Q_del,dh'!$D118,0)","v":0},{"$f":"IF(AY169=\"Oui\",'Q_del,j et Q_del,dh'!$D118,0)","v":0},{"$f":"IF(AZ169=\"Oui\",'Q_del,j et Q_del,dh'!$D118,0)","v":0},{"$f":"IF(BA169=\"Oui\",'Q_del,j et Q_del,dh'!$D118,0)","v":0}]
["Qdel,l,j [MJ]","Demandeur de chaleur 112",112,{"$f":"IF(D170=\"Oui\",'Q_del,j et Q_del,dh'!$D119,0)","v":0},{"$f":"IF(E170=\"Oui\",'Q_del,j et Q_del,dh'!$D119,0)","v":0},{"$f":"IF(F170=\"Oui\",'Q_del,j et Q_del,dh'!$D119,0)","v":0},{"$f":"IF(G170=\"Oui\",'Q_del,j et Q_del,dh'!$D119,0)","v":0},{"$f":"IF(H170=\"Oui\",'Q_del,j et Q_del,dh'!$D119,0)","v":0},{"$f":"IF(I170=\"Oui\",'Q_del,j et Q_del,dh'!$D119,0)","v":0},{"$f":"IF(J170=\"Oui\",'Q_del,j et Q_del,dh'!$D119,0)","v":0},{"$f":"IF(K170=\"Oui\",'Q_del,j et Q_del,dh'!$D119,0)","v":0},{"$f":"IF(L170=\"Oui\",'Q_del,j et Q_del,dh'!$D119,0)","v":0},{"$f":"IF(M170=\"Oui\",'Q_del,j et Q_del,dh'!$D119,0)","v":0},{"$f":"IF(N170=\"Oui\",'Q_del,j et Q_del,dh'!$D119,0)","v":0},{"$f":"IF(O170=\"Oui\",'Q_del,j et Q_del,dh'!$D119,0)","v":0},{"$f":"IF(P170=\"Oui\",'Q_del,j et Q_del,dh'!$D119,0)","v":0},{"$f":"IF(Q170=\"Oui\",'Q_del,j et Q_del,dh'!$D119,0)","v":0},{"$f":"IF(R170=\"Oui\",'Q_del,j et Q_del,dh'!$D119,0)","v":0},{"$f":"IF(S170=\"Oui\",'Q_del,j et Q_del,dh'!$D119,0)","v":0},{"$f":"IF(T170=\"Oui\",'Q_del,j et Q_del,dh'!$D119,0)","v":0},{"$f":"IF(U170=\"Oui\",'Q_del,j et Q_del,dh'!$D119,0)","v":0},{"$f":"IF(V170=\"Oui\",'Q_del,j et Q_del,dh'!$D119,0)","v":0},{"$f":"IF(W170=\"Oui\",'Q_del,j et Q_del,dh'!$D119,0)","v":0},{"$f":"IF(X170=\"Oui\",'Q_del,j et Q_del,dh'!$D119,0)","v":0},{"$f":"IF(Y170=\"Oui\",'Q_del,j et Q_del,dh'!$D119,0)","v":0},{"$f":"IF(Z170=\"Oui\",'Q_del,j et Q_del,dh'!$D119,0)","v":0},{"$f":"IF(AA170=\"Oui\",'Q_del,j et Q_del,dh'!$D119,0)","v":0},{"$f":"IF(AB170=\"Oui\",'Q_del,j et Q_del,dh'!$D119,0)","v":0},{"$f":"IF(AC170=\"Oui\",'Q_del,j et Q_del,dh'!$D119,0)","v":0},{"$f":"IF(AD170=\"Oui\",'Q_del,j et Q_del,dh'!$D119,0)","v":0},{"$f":"IF(AE170=\"Oui\",'Q_del,j et Q_del,dh'!$D119,0)","v":0},{"$f":"IF(AF170=\"Oui\",'Q_del,j et Q_del,dh'!$D119,0)","v":0},{"$f":"IF(AG170=\"Oui\",'Q_del,j et Q_del,dh'!$D119,0)","v":0},{"$f":"IF(AH170=\"Oui\",'Q_del,j et Q_del,dh'!$D119,0)","v":0},{"$f":"IF(AI170=\"Oui\",'Q_del,j et Q_del,dh'!$D119,0)","v":0},{"$f":"IF(AJ170=\"Oui\",'Q_del,j et Q_del,dh'!$D119,0)","v":0},{"$f":"IF(AK170=\"Oui\",'Q_del,j et Q_del,dh'!$D119,0)","v":0},{"$f":"IF(AL170=\"Oui\",'Q_del,j et Q_del,dh'!$D119,0)","v":0},{"$f":"IF(AM170=\"Oui\",'Q_del,j et Q_del,dh'!$D119,0)","v":0},{"$f":"IF(AN170=\"Oui\",'Q_del,j et Q_del,dh'!$D119,0)","v":0},{"$f":"IF(AO170=\"Oui\",'Q_del,j et Q_del,dh'!$D119,0)","v":0},{"$f":"IF(AP170=\"Oui\",'Q_del,j et Q_del,dh'!$D119,0)","v":0},{"$f":"IF(AQ170=\"Oui\",'Q_del,j et Q_del,dh'!$D119,0)","v":0},{"$f":"IF(AR170=\"Oui\",'Q_del,j et Q_del,dh'!$D119,0)","v":0},{"$f":"IF(AS170=\"Oui\",'Q_del,j et Q_del,dh'!$D119,0)","v":0},{"$f":"IF(AT170=\"Oui\",'Q_del,j et Q_del,dh'!$D119,0)","v":0},{"$f":"IF(AU170=\"Oui\",'Q_del,j et Q_del,dh'!$D119,0)","v":0},{"$f":"IF(AV170=\"Oui\",'Q_del,j et Q_del,dh'!$D119,0)","v":0},{"$f":"IF(AW170=\"Oui\",'Q_del,j et Q_del,dh'!$D119,0)","v":0},{"$f":"IF(AX170=\"Oui\",'Q_del,j et Q_del,dh'!$D119,0)","v":0},{"$f":"IF(AY170=\"Oui\",'Q_del,j et Q_del,dh'!$D119,0)","v":0},{"$f":"IF(AZ170=\"Oui\",'Q_del,j et Q_del,dh'!$D119,0)","v":0},{"$f":"IF(BA170=\"Oui\",'Q_del,j et Q_del,dh'!$D119,0)","v":0}]
["Qdel,l,j [MJ]","Demandeur de chaleur 113",113,{"$f":"IF(D171=\"Oui\",'Q_del,j et Q_del,dh'!$D120,0)","v":0},{"$f":"IF(E171=\"Oui\",'Q_del,j et Q_del,dh'!$D120,0)","v":0},{"$f":"IF(F171=\"Oui\",'Q_del,j et Q_del,dh'!$D120,0)","v":0},{"$f":"IF(G171=\"Oui\",'Q_del,j et Q_del,dh'!$D120,0)","v":0},{"$f":"IF(H171=\"Oui\",'Q_del,j et Q_del,dh'!$D120,0)","v":0},{"$f":"IF(I171=\"Oui\",'Q_del,j et Q_del,dh'!$D120,0)","v":0},{"$f":"IF(J171=\"Oui\",'Q_del,j et Q_del,dh'!$D120,0)","v":0},{"$f":"IF(K171=\"Oui\",'Q_del,j et Q_del,dh'!$D120,0)","v":0},{"$f":"IF(L171=\"Oui\",'Q_del,j et Q_del,dh'!$D120,0)","v":0},{"$f":"IF(M171=\"Oui\",'Q_del,j et Q_del,dh'!$D120,0)","v":0},{"$f":"IF(N171=\"Oui\",'Q_del,j et Q_del,dh'!$D120,0)","v":0},{"$f":"IF(O171=\"Oui\",'Q_del,j et Q_del,dh'!$D120,0)","v":0},{"$f":"IF(P171=\"Oui\",'Q_del,j et Q_del,dh'!$D120,0)","v":0},{"$f":"IF(Q171=\"Oui\",'Q_del,j et Q_del,dh'!$D120,0)","v":0},{"$f":"IF(R171=\"Oui\",'Q_del,j et Q_del,dh'!$D120,0)","v":0},{"$f":"IF(S171=\"Oui\",'Q_del,j et Q_del,dh'!$D120,0)","v":0},{"$f":"IF(T171=\"Oui\",'Q_del,j et Q_del,dh'!$D120,0)","v":0},{"$f":"IF(U171=\"Oui\",'Q_del,j et Q_del,dh'!$D120,0)","v":0},{"$f":"IF(V171=\"Oui\",'Q_del,j et Q_del,dh'!$D120,0)","v":0},{"$f":"IF(W171=\"Oui\",'Q_del,j et Q_del,dh'!$D120,0)","v":0},{"$f":"IF(X171=\"Oui\",'Q_del,j et Q_del,dh'!$D120,0)","v":0},{"$f":"IF(Y171=\"Oui\",'Q_del,j et Q_del,dh'!$D120,0)","v":0},{"$f":"IF(Z171=\"Oui\",'Q_del,j et Q_del,dh'!$D120,0)","v":0},{"$f":"IF(AA171=\"Oui\",'Q_del,j et Q_del,dh'!$D120,0)","v":0},{"$f":"IF(AB171=\"Oui\",'Q_del,j et Q_del,dh'!$D120,0)","v":0},{"$f":"IF(AC171=\"Oui\",'Q_del,j et Q_del,dh'!$D120,0)","v":0},{"$f":"IF(AD171=\"Oui\",'Q_del,j et Q_del,dh'!$D120,0)","v":0},{"$f":"IF(AE171=\"Oui\",'Q_del,j et Q_del,dh'!$D120,0)","v":0},{"$f":"IF(AF171=\"Oui\",'Q_del,j et Q_del,dh'!$D120,0)","v":0},{"$f":"IF(AG171=\"Oui\",'Q_del,j et Q_del,dh'!$D120,0)","v":0},{"$f":"IF(AH171=\"Oui\",'Q_del,j et Q_del,dh'!$D120,0)","v":0},{"$f":"IF(AI171=\"Oui\",'Q_del,j et Q_del,dh'!$D120,0)","v":0},{"$f":"IF(AJ171=\"Oui\",'Q_del,j et Q_del,dh'!$D120,0)","v":0},{"$f":"IF(AK171=\"Oui\",'Q_del,j et Q_del,dh'!$D120,0)","v":0},{"$f":"IF(AL171=\"Oui\",'Q_del,j et Q_del,dh'!$D120,0)","v":0},{"$f":"IF(AM171=\"Oui\",'Q_del,j et Q_del,dh'!$D120,0)","v":0},{"$f":"IF(AN171=\"Oui\",'Q_del,j et Q_del,dh'!$D120,0)","v":0},{"$f":"IF(AO171=\"Oui\",'Q_del,j et Q_del,dh'!$D120,0)","v":0},{"$f":"IF(AP171=\"Oui\",'Q_del,j et Q_del,dh'!$D120,0)","v":0},{"$f":"IF(AQ171=\"Oui\",'Q_del,j et Q_del,dh'!$D120,0)","v":0},{"$f":"IF(AR171=\"Oui\",'Q_del,j et Q_del,dh'!$D120,0)","v":0},{"$f":"IF(AS171=\"Oui\",'Q_del,j et Q_del,dh'!$D120,0)","v":0},{"$f":"IF(AT171=\"Oui\",'Q_del,j et Q_del,dh'!$D120,0)","v":0},{"$f":"IF(AU171=\"Oui\",'Q_del,j et Q_del,dh'!$D120,0)","v":0},{"$f":"IF(AV171=\"Oui\",'Q_del,j et Q_del,dh'!$D120,0)","v":0},{"$f":"IF(AW171=\"Oui\",'Q_del,j et Q_del,dh'!$D120,0)","v":0},{"$f":"IF(AX171=\"Oui\",'Q_del,j et Q_del,dh'!$D120,0)","v":0},{"$f":"IF(AY171=\"Oui\",'Q_del,j et Q_del,dh'!$D120,0)","v":0},{"$f":"IF(AZ171=\"Oui\",'Q_del,j et Q_del,dh'!$D120,0)","v":0},{"$f":"IF(BA171=\"Oui\",'Q_del,j et Q_del,dh'!$D120,0)","v":0}]
["Qdel,l,j [MJ]","Demandeur de chaleur 114",114,{"$f":"IF(D172=\"Oui\",'Q_del,j et Q_del,dh'!$D121,0)","v":0},{"$f":"IF(E172=\"Oui\",'Q_del,j et Q_del,dh'!$D121,0)","v":0},{"$f":"IF(F172=\"Oui\",'Q_del,j et Q_del,dh'!$D121,0)","v":0},{"$f":"IF(G172=\"Oui\",'Q_del,j et Q_del,dh'!$D121,0)","v":0},{"$f":"IF(H172=\"Oui\",'Q_del,j et Q_del,dh'!$D121,0)","v":0},{"$f":"IF(I172=\"Oui\",'Q_del,j et Q_del,dh'!$D121,0)","v":0},{"$f":"IF(J172=\"Oui\",'Q_del,j et Q_del,dh'!$D121,0)","v":0},{"$f":"IF(K172=\"Oui\",'Q_del,j et Q_del,dh'!$D121,0)","v":0},{"$f":"IF(L172=\"Oui\",'Q_del,j et Q_del,dh'!$D121,0)","v":0},{"$f":"IF(M172=\"Oui\",'Q_del,j et Q_del,dh'!$D121,0)","v":0},{"$f":"IF(N172=\"Oui\",'Q_del,j et Q_del,dh'!$D121,0)","v":0},{"$f":"IF(O172=\"Oui\",'Q_del,j et Q_del,dh'!$D121,0)","v":0},{"$f":"IF(P172=\"Oui\",'Q_del,j et Q_del,dh'!$D121,0)","v":0},{"$f":"IF(Q172=\"Oui\",'Q_del,j et Q_del,dh'!$D121,0)","v":0},{"$f":"IF(R172=\"Oui\",'Q_del,j et Q_del,dh'!$D121,0)","v":0},{"$f":"IF(S172=\"Oui\",'Q_del,j et Q_del,dh'!$D121,0)","v":0},{"$f":"IF(T172=\"Oui\",'Q_del,j et Q_del,dh'!$D121,0)","v":0},{"$f":"IF(U172=\"Oui\",'Q_del,j et Q_del,dh'!$D121,0)","v":0},{"$f":"IF(V172=\"Oui\",'Q_del,j et Q_del,dh'!$D121,0)","v":0},{"$f":"IF(W172=\"Oui\",'Q_del,j et Q_del,dh'!$D121,0)","v":0},{"$f":"IF(X172=\"Oui\",'Q_del,j et Q_del,dh'!$D121,0)","v":0},{"$f":"IF(Y172=\"Oui\",'Q_del,j et Q_del,dh'!$D121,0)","v":0},{"$f":"IF(Z172=\"Oui\",'Q_del,j et Q_del,dh'!$D121,0)","v":0},{"$f":"IF(AA172=\"Oui\",'Q_del,j et Q_del,dh'!$D121,0)","v":0},{"$f":"IF(AB172=\"Oui\",'Q_del,j et Q_del,dh'!$D121,0)","v":0},{"$f":"IF(AC172=\"Oui\",'Q_del,j et Q_del,dh'!$D121,0)","v":0},{"$f":"IF(AD172=\"Oui\",'Q_del,j et Q_del,dh'!$D121,0)","v":0},{"$f":"IF(AE172=\"Oui\",'Q_del,j et Q_del,dh'!$D121,0)","v":0},{"$f":"IF(AF172=\"Oui\",'Q_del,j et Q_del,dh'!$D121,0)","v":0},{"$f":"IF(AG172=\"Oui\",'Q_del,j et Q_del,dh'!$D121,0)","v":0},{"$f":"IF(AH172=\"Oui\",'Q_del,j et Q_del,dh'!$D121,0)","v":0},{"$f":"IF(AI172=\"Oui\",'Q_del,j et Q_del,dh'!$D121,0)","v":0},{"$f":"IF(AJ172=\"Oui\",'Q_del,j et Q_del,dh'!$D121,0)","v":0},{"$f":"IF(AK172=\"Oui\",'Q_del,j et Q_del,dh'!$D121,0)","v":0},{"$f":"IF(AL172=\"Oui\",'Q_del,j et Q_del,dh'!$D121,0)","v":0},{"$f":"IF(AM172=\"Oui\",'Q_del,j et Q_del,dh'!$D121,0)","v":0},{"$f":"IF(AN172=\"Oui\",'Q_del,j et Q_del,dh'!$D121,0)","v":0},{"$f":"IF(AO172=\"Oui\",'Q_del,j et Q_del,dh'!$D121,0)","v":0},{"$f":"IF(AP172=\"Oui\",'Q_del,j et Q_del,dh'!$D121,0)","v":0},{"$f":"IF(AQ172=\"Oui\",'Q_del,j et Q_del,dh'!$D121,0)","v":0},{"$f":"IF(AR172=\"Oui\",'Q_del,j et Q_del,dh'!$D121,0)","v":0},{"$f":"IF(AS172=\"Oui\",'Q_del,j et Q_del,dh'!$D121,0)","v":0},{"$f":"IF(AT172=\"Oui\",'Q_del,j et Q_del,dh'!$D121,0)","v":0},{"$f":"IF(AU172=\"Oui\",'Q_del,j et Q_del,dh'!$D121,0)","v":0},{"$f":"IF(AV172=\"Oui\",'Q_del,j et Q_del,dh'!$D121,0)","v":0},{"$f":"IF(AW172=\"Oui\",'Q_del,j et Q_del,dh'!$D121,0)","v":0},{"$f":"IF(AX172=\"Oui\",'Q_del,j et Q_del,dh'!$D121,0)","v":0},{"$f":"IF(AY172=\"Oui\",'Q_del,j et Q_del,dh'!$D121,0)","v":0},{"$f":"IF(AZ172=\"Oui\",'Q_del,j et Q_del,dh'!$D121,0)","v":0},{"$f":"IF(BA172=\"Oui\",'Q_del,j et Q_del,dh'!$D121,0)","v":0}]
["Qdel,l,j [MJ]","Demandeur de chaleur 115",115,{"$f":"IF(D173=\"Oui\",'Q_del,j et Q_del,dh'!$D122,0)","v":0},{"$f":"IF(E173=\"Oui\",'Q_del,j et Q_del,dh'!$D122,0)","v":0},{"$f":"IF(F173=\"Oui\",'Q_del,j et Q_del,dh'!$D122,0)","v":0},{"$f":"IF(G173=\"Oui\",'Q_del,j et Q_del,dh'!$D122,0)","v":0},{"$f":"IF(H173=\"Oui\",'Q_del,j et Q_del,dh'!$D122,0)","v":0},{"$f":"IF(I173=\"Oui\",'Q_del,j et Q_del,dh'!$D122,0)","v":0},{"$f":"IF(J173=\"Oui\",'Q_del,j et Q_del,dh'!$D122,0)","v":0},{"$f":"IF(K173=\"Oui\",'Q_del,j et Q_del,dh'!$D122,0)","v":0},{"$f":"IF(L173=\"Oui\",'Q_del,j et Q_del,dh'!$D122,0)","v":0},{"$f":"IF(M173=\"Oui\",'Q_del,j et Q_del,dh'!$D122,0)","v":0},{"$f":"IF(N173=\"Oui\",'Q_del,j et Q_del,dh'!$D122,0)","v":0},{"$f":"IF(O173=\"Oui\",'Q_del,j et Q_del,dh'!$D122,0)","v":0},{"$f":"IF(P173=\"Oui\",'Q_del,j et Q_del,dh'!$D122,0)","v":0},{"$f":"IF(Q173=\"Oui\",'Q_del,j et Q_del,dh'!$D122,0)","v":0},{"$f":"IF(R173=\"Oui\",'Q_del,j et Q_del,dh'!$D122,0)","v":0},{"$f":"IF(S173=\"Oui\",'Q_del,j et Q_del,dh'!$D122,0)","v":0},{"$f":"IF(T173=\"Oui\",'Q_del,j et Q_del,dh'!$D122,0)","v":0},{"$f":"IF(U173=\"Oui\",'Q_del,j et Q_del,dh'!$D122,0)","v":0},{"$f":"IF(V173=\"Oui\",'Q_del,j et Q_del,dh'!$D122,0)","v":0},{"$f":"IF(W173=\"Oui\",'Q_del,j et Q_del,dh'!$D122,0)","v":0},{"$f":"IF(X173=\"Oui\",'Q_del,j et Q_del,dh'!$D122,0)","v":0},{"$f":"IF(Y173=\"Oui\",'Q_del,j et Q_del,dh'!$D122,0)","v":0},{"$f":"IF(Z173=\"Oui\",'Q_del,j et Q_del,dh'!$D122,0)","v":0},{"$f":"IF(AA173=\"Oui\",'Q_del,j et Q_del,dh'!$D122,0)","v":0},{"$f":"IF(AB173=\"Oui\",'Q_del,j et Q_del,dh'!$D122,0)","v":0},{"$f":"IF(AC173=\"Oui\",'Q_del,j et Q_del,dh'!$D122,0)","v":0},{"$f":"IF(AD173=\"Oui\",'Q_del,j et Q_del,dh'!$D122,0)","v":0},{"$f":"IF(AE173=\"Oui\",'Q_del,j et Q_del,dh'!$D122,0)","v":0},{"$f":"IF(AF173=\"Oui\",'Q_del,j et Q_del,dh'!$D122,0)","v":0},{"$f":"IF(AG173=\"Oui\",'Q_del,j et Q_del,dh'!$D122,0)","v":0},{"$f":"IF(AH173=\"Oui\",'Q_del,j et Q_del,dh'!$D122,0)","v":0},{"$f":"IF(AI173=\"Oui\",'Q_del,j et Q_del,dh'!$D122,0)","v":0},{"$f":"IF(AJ173=\"Oui\",'Q_del,j et Q_del,dh'!$D122,0)","v":0},{"$f":"IF(AK173=\"Oui\",'Q_del,j et Q_del,dh'!$D122,0)","v":0},{"$f":"IF(AL173=\"Oui\",'Q_del,j et Q_del,dh'!$D122,0)","v":0},{"$f":"IF(AM173=\"Oui\",'Q_del,j et Q_del,dh'!$D122,0)","v":0},{"$f":"IF(AN173=\"Oui\",'Q_del,j et Q_del,dh'!$D122,0)","v":0},{"$f":"IF(AO173=\"Oui\",'Q_del,j et Q_del,dh'!$D122,0)","v":0},{"$f":"IF(AP173=\"Oui\",'Q_del,j et Q_del,dh'!$D122,0)","v":0},{"$f":"IF(AQ173=\"Oui\",'Q_del,j et Q_del,dh'!$D122,0)","v":0},{"$f":"IF(AR173=\"Oui\",'Q_del,j et Q_del,dh'!$D122,0)","v":0},{"$f":"IF(AS173=\"Oui\",'Q_del,j et Q_del,dh'!$D122,0)","v":0},{"$f":"IF(AT173=\"Oui\",'Q_del,j et Q_del,dh'!$D122,0)","v":0},{"$f":"IF(AU173=\"Oui\",'Q_del,j et Q_del,dh'!$D122,0)","v":0},{"$f":"IF(AV173=\"Oui\",'Q_del,j et Q_del,dh'!$D122,0)","v":0},{"$f":"IF(AW173=\"Oui\",'Q_del,j et Q_del,dh'!$D122,0)","v":0},{"$f":"IF(AX173=\"Oui\",'Q_del,j et Q_del,dh'!$D122,0)","v":0},{"$f":"IF(AY173=\"Oui\",'Q_del,j et Q_del,dh'!$D122,0)","v":0},{"$f":"IF(AZ173=\"Oui\",'Q_del,j et Q_del,dh'!$D122,0)","v":0},{"$f":"IF(BA173=\"Oui\",'Q_del,j et Q_del,dh'!$D122,0)","v":0}]
["Qdel,l,j [MJ]","Demandeur de chaleur 116",116,{"$f":"IF(D174=\"Oui\",'Q_del,j et Q_del,dh'!$D123,0)","v":0},{"$f":"IF(E174=\"Oui\",'Q_del,j et Q_del,dh'!$D123,0)","v":0},{"$f":"IF(F174=\"Oui\",'Q_del,j et Q_del,dh'!$D123,0)","v":0},{"$f":"IF(G174=\"Oui\",'Q_del,j et Q_del,dh'!$D123,0)","v":0},{"$f":"IF(H174=\"Oui\",'Q_del,j et Q_del,dh'!$D123,0)","v":0},{"$f":"IF(I174=\"Oui\",'Q_del,j et Q_del,dh'!$D123,0)","v":0},{"$f":"IF(J174=\"Oui\",'Q_del,j et Q_del,dh'!$D123,0)","v":0},{"$f":"IF(K174=\"Oui\",'Q_del,j et Q_del,dh'!$D123,0)","v":0},{"$f":"IF(L174=\"Oui\",'Q_del,j et Q_del,dh'!$D123,0)","v":0},{"$f":"IF(M174=\"Oui\",'Q_del,j et Q_del,dh'!$D123,0)","v":0},{"$f":"IF(N174=\"Oui\",'Q_del,j et Q_del,dh'!$D123,0)","v":0},{"$f":"IF(O174=\"Oui\",'Q_del,j et Q_del,dh'!$D123,0)","v":0},{"$f":"IF(P174=\"Oui\",'Q_del,j et Q_del,dh'!$D123,0)","v":0},{"$f":"IF(Q174=\"Oui\",'Q_del,j et Q_del,dh'!$D123,0)","v":0},{"$f":"IF(R174=\"Oui\",'Q_del,j et Q_del,dh'!$D123,0)","v":0},{"$f":"IF(S174=\"Oui\",'Q_del,j et Q_del,dh'!$D123,0)","v":0},{"$f":"IF(T174=\"Oui\",'Q_del,j et Q_del,dh'!$D123,0)","v":0},{"$f":"IF(U174=\"Oui\",'Q_del,j et Q_del,dh'!$D123,0)","v":0},{"$f":"IF(V174=\"Oui\",'Q_del,j et Q_del,dh'!$D123,0)","v":0},{"$f":"IF(W174=\"Oui\",'Q_del,j et Q_del,dh'!$D123,0)","v":0},{"$f":"IF(X174=\"Oui\",'Q_del,j et Q_del,dh'!$D123,0)","v":0},{"$f":"IF(Y174=\"Oui\",'Q_del,j et Q_del,dh'!$D123,0)","v":0},{"$f":"IF(Z174=\"Oui\",'Q_del,j et Q_del,dh'!$D123,0)","v":0},{"$f":"IF(AA174=\"Oui\",'Q_del,j et Q_del,dh'!$D123,0)","v":0},{"$f":"IF(AB174=\"Oui\",'Q_del,j et Q_del,dh'!$D123,0)","v":0},{"$f":"IF(AC174=\"Oui\",'Q_del,j et Q_del,dh'!$D123,0)","v":0},{"$f":"IF(AD174=\"Oui\",'Q_del,j et Q_del,dh'!$D123,0)","v":0},{"$f":"IF(AE174=\"Oui\",'Q_del,j et Q_del,dh'!$D123,0)","v":0},{"$f":"IF(AF174=\"Oui\",'Q_del,j et Q_del,dh'!$D123,0)","v":0},{"$f":"IF(AG174=\"Oui\",'Q_del,j et Q_del,dh'!$D123,0)","v":0},{"$f":"IF(AH174=\"Oui\",'Q_del,j et Q_del,dh'!$D123,0)","v":0},{"$f":"IF(AI174=\"Oui\",'Q_del,j et Q_del,dh'!$D123,0)","v":0},{"$f":"IF(AJ174=\"Oui\",'Q_del,j et Q_del,dh'!$D123,0)","v":0},{"$f":"IF(AK174=\"Oui\",'Q_del,j et Q_del,dh'!$D123,0)","v":0},{"$f":"IF(AL174=\"Oui\",'Q_del,j et Q_del,dh'!$D123,0)","v":0},{"$f":"IF(AM174=\"Oui\",'Q_del,j et Q_del,dh'!$D123,0)","v":0},{"$f":"IF(AN174=\"Oui\",'Q_del,j et Q_del,dh'!$D123,0)","v":0},{"$f":"IF(AO174=\"Oui\",'Q_del,j et Q_del,dh'!$D123,0)","v":0},{"$f":"IF(AP174=\"Oui\",'Q_del,j et Q_del,dh'!$D123,0)","v":0},{"$f":"IF(AQ174=\"Oui\",'Q_del,j et Q_del,dh'!$D123,0)","v":0},{"$f":"IF(AR174=\"Oui\",'Q_del,j et Q_del,dh'!$D123,0)","v":0},{"$f":"IF(AS174=\"Oui\",'Q_del,j et Q_del,dh'!$D123,0)","v":0},{"$f":"IF(AT174=\"Oui\",'Q_del,j et Q_del,dh'!$D123,0)","v":0},{"$f":"IF(AU174=\"Oui\",'Q_del,j et Q_del,dh'!$D123,0)","v":0},{"$f":"IF(AV174=\"Oui\",'Q_del,j et Q_del,dh'!$D123,0)","v":0},{"$f":"IF(AW174=\"Oui\",'Q_del,j et Q_del,dh'!$D123,0)","v":0},{"$f":"IF(AX174=\"Oui\",'Q_del,j et Q_del,dh'!$D123,0)","v":0},{"$f":"IF(AY174=\"Oui\",'Q_del,j et Q_del,dh'!$D123,0)","v":0},{"$f":"IF(AZ174=\"Oui\",'Q_del,j et Q_del,dh'!$D123,0)","v":0},{"$f":"IF(BA174=\"Oui\",'Q_del,j et Q_del,dh'!$D123,0)","v":0}]
["Qdel,l,j [MJ]","Demandeur de chaleur 117",117,{"$f":"IF(D175=\"Oui\",'Q_del,j et Q_del,dh'!$D124,0)","v":0},{"$f":"IF(E175=\"Oui\",'Q_del,j et Q_del,dh'!$D124,0)","v":0},{"$f":"IF(F175=\"Oui\",'Q_del,j et Q_del,dh'!$D124,0)","v":0},{"$f":"IF(G175=\"Oui\",'Q_del,j et Q_del,dh'!$D124,0)","v":0},{"$f":"IF(H175=\"Oui\",'Q_del,j et Q_del,dh'!$D124,0)","v":0},{"$f":"IF(I175=\"Oui\",'Q_del,j et Q_del,dh'!$D124,0)","v":0},{"$f":"IF(J175=\"Oui\",'Q_del,j et Q_del,dh'!$D124,0)","v":0},{"$f":"IF(K175=\"Oui\",'Q_del,j et Q_del,dh'!$D124,0)","v":0},{"$f":"IF(L175=\"Oui\",'Q_del,j et Q_del,dh'!$D124,0)","v":0},{"$f":"IF(M175=\"Oui\",'Q_del,j et Q_del,dh'!$D124,0)","v":0},{"$f":"IF(N175=\"Oui\",'Q_del,j et Q_del,dh'!$D124,0)","v":0},{"$f":"IF(O175=\"Oui\",'Q_del,j et Q_del,dh'!$D124,0)","v":0},{"$f":"IF(P175=\"Oui\",'Q_del,j et Q_del,dh'!$D124,0)","v":0},{"$f":"IF(Q175=\"Oui\",'Q_del,j et Q_del,dh'!$D124,0)","v":0},{"$f":"IF(R175=\"Oui\",'Q_del,j et Q_del,dh'!$D124,0)","v":0},{"$f":"IF(S175=\"Oui\",'Q_del,j et Q_del,dh'!$D124,0)","v":0},{"$f":"IF(T175=\"Oui\",'Q_del,j et Q_del,dh'!$D124,0)","v":0},{"$f":"IF(U175=\"Oui\",'Q_del,j et Q_del,dh'!$D124,0)","v":0},{"$f":"IF(V175=\"Oui\",'Q_del,j et Q_del,dh'!$D124,0)","v":0},{"$f":"IF(W175=\"Oui\",'Q_del,j et Q_del,dh'!$D124,0)","v":0},{"$f":"IF(X175=\"Oui\",'Q_del,j et Q_del,dh'!$D124,0)","v":0},{"$f":"IF(Y175=\"Oui\",'Q_del,j et Q_del,dh'!$D124,0)","v":0},{"$f":"IF(Z175=\"Oui\",'Q_del,j et Q_del,dh'!$D124,0)","v":0},{"$f":"IF(AA175=\"Oui\",'Q_del,j et Q_del,dh'!$D124,0)","v":0},{"$f":"IF(AB175=\"Oui\",'Q_del,j et Q_del,dh'!$D124,0)","v":0},{"$f":"IF(AC175=\"Oui\",'Q_del,j et Q_del,dh'!$D124,0)","v":0},{"$f":"IF(AD175=\"Oui\",'Q_del,j et Q_del,dh'!$D124,0)","v":0},{"$f":"IF(AE175=\"Oui\",'Q_del,j et Q_del,dh'!$D124,0)","v":0},{"$f":"IF(AF175=\"Oui\",'Q_del,j et Q_del,dh'!$D124,0)","v":0},{"$f":"IF(AG175=\"Oui\",'Q_del,j et Q_del,dh'!$D124,0)","v":0},{"$f":"IF(AH175=\"Oui\",'Q_del,j et Q_del,dh'!$D124,0)","v":0},{"$f":"IF(AI175=\"Oui\",'Q_del,j et Q_del,dh'!$D124,0)","v":0},{"$f":"IF(AJ175=\"Oui\",'Q_del,j et Q_del,dh'!$D124,0)","v":0},{"$f":"IF(AK175=\"Oui\",'Q_del,j et Q_del,dh'!$D124,0)","v":0},{"$f":"IF(AL175=\"Oui\",'Q_del,j et Q_del,dh'!$D124,0)","v":0},{"$f":"IF(AM175=\"Oui\",'Q_del,j et Q_del,dh'!$D124,0)","v":0},{"$f":"IF(AN175=\"Oui\",'Q_del,j et Q_del,dh'!$D124,0)","v":0},{"$f":"IF(AO175=\"Oui\",'Q_del,j et Q_del,dh'!$D124,0)","v":0},{"$f":"IF(AP175=\"Oui\",'Q_del,j et Q_del,dh'!$D124,0)","v":0},{"$f":"IF(AQ175=\"Oui\",'Q_del,j et Q_del,dh'!$D124,0)","v":0},{"$f":"IF(AR175=\"Oui\",'Q_del,j et Q_del,dh'!$D124,0)","v":0},{"$f":"IF(AS175=\"Oui\",'Q_del,j et Q_del,dh'!$D124,0)","v":0},{"$f":"IF(AT175=\"Oui\",'Q_del,j et Q_del,dh'!$D124,0)","v":0},{"$f":"IF(AU175=\"Oui\",'Q_del,j et Q_del,dh'!$D124,0)","v":0},{"$f":"IF(AV175=\"Oui\",'Q_del,j et Q_del,dh'!$D124,0)","v":0},{"$f":"IF(AW175=\"Oui\",'Q_del,j et Q_del,dh'!$D124,0)","v":0},{"$f":"IF(AX175=\"Oui\",'Q_del,j et Q_del,dh'!$D124,0)","v":0},{"$f":"IF(AY175=\"Oui\",'Q_del,j et Q_del,dh'!$D124,0)","v":0},{"$f":"IF(AZ175=\"Oui\",'Q_del,j et Q_del,dh'!$D124,0)","v":0},{"$f":"IF(BA175=\"Oui\",'Q_del,j et Q_del,dh'!$D124,0)","v":0}]
["Qdel,l,j [MJ]","Demandeur de chaleur 118",118,{"$f":"IF(D176=\"Oui\",'Q_del,j et Q_del,dh'!$D125,0)","v":0},{"$f":"IF(E176=\"Oui\",'Q_del,j et Q_del,dh'!$D125,0)","v":0},{"$f":"IF(F176=\"Oui\",'Q_del,j et Q_del,dh'!$D125,0)","v":0},{"$f":"IF(G176=\"Oui\",'Q_del,j et Q_del,dh'!$D125,0)","v":0},{"$f":"IF(H176=\"Oui\",'Q_del,j et Q_del,dh'!$D125,0)","v":0},{"$f":"IF(I176=\"Oui\",'Q_del,j et Q_del,dh'!$D125,0)","v":0},{"$f":"IF(J176=\"Oui\",'Q_del,j et Q_del,dh'!$D125,0)","v":0},{"$f":"IF(K176=\"Oui\",'Q_del,j et Q_del,dh'!$D125,0)","v":0},{"$f":"IF(L176=\"Oui\",'Q_del,j et Q_del,dh'!$D125,0)","v":0},{"$f":"IF(M176=\"Oui\",'Q_del,j et Q_del,dh'!$D125,0)","v":0},{"$f":"IF(N176=\"Oui\",'Q_del,j et Q_del,dh'!$D125,0)","v":0},{"$f":"IF(O176=\"Oui\",'Q_del,j et Q_del,dh'!$D125,0)","v":0},{"$f":"IF(P176=\"Oui\",'Q_del,j et Q_del,dh'!$D125,0)","v":0},{"$f":"IF(Q176=\"Oui\",'Q_del,j et Q_del,dh'!$D125,0)","v":0},{"$f":"IF(R176=\"Oui\",'Q_del,j et Q_del,dh'!$D125,0)","v":0},{"$f":"IF(S176=\"Oui\",'Q_del,j et Q_del,dh'!$D125,0)","v":0},{"$f":"IF(T176=\"Oui\",'Q_del,j et Q_del,dh'!$D125,0)","v":0},{"$f":"IF(U176=\"Oui\",'Q_del,j et Q_del,dh'!$D125,0)","v":0},{"$f":"IF(V176=\"Oui\",'Q_del,j et Q_del,dh'!$D125,0)","v":0},{"$f":"IF(W176=\"Oui\",'Q_del,j et Q_del,dh'!$D125,0)","v":0},{"$f":"IF(X176=\"Oui\",'Q_del,j et Q_del,dh'!$D125,0)","v":0},{"$f":"IF(Y176=\"Oui\",'Q_del,j et Q_del,dh'!$D125,0)","v":0},{"$f":"IF(Z176=\"Oui\",'Q_del,j et Q_del,dh'!$D125,0)","v":0},{"$f":"IF(AA176=\"Oui\",'Q_del,j et Q_del,dh'!$D125,0)","v":0},{"$f":"IF(AB176=\"Oui\",'Q_del,j et Q_del,dh'!$D125,0)","v":0},{"$f":"IF(AC176=\"Oui\",'Q_del,j et Q_del,dh'!$D125,0)","v":0},{"$f":"IF(AD176=\"Oui\",'Q_del,j et Q_del,dh'!$D125,0)","v":0},{"$f":"IF(AE176=\"Oui\",'Q_del,j et Q_del,dh'!$D125,0)","v":0},{"$f":"IF(AF176=\"Oui\",'Q_del,j et Q_del,dh'!$D125,0)","v":0},{"$f":"IF(AG176=\"Oui\",'Q_del,j et Q_del,dh'!$D125,0)","v":0},{"$f":"IF(AH176=\"Oui\",'Q_del,j et Q_del,dh'!$D125,0)","v":0},{"$f":"IF(AI176=\"Oui\",'Q_del,j et Q_del,dh'!$D125,0)","v":0},{"$f":"IF(AJ176=\"Oui\",'Q_del,j et Q_del,dh'!$D125,0)","v":0},{"$f":"IF(AK176=\"Oui\",'Q_del,j et Q_del,dh'!$D125,0)","v":0},{"$f":"IF(AL176=\"Oui\",'Q_del,j et Q_del,dh'!$D125,0)","v":0},{"$f":"IF(AM176=\"Oui\",'Q_del,j et Q_del,dh'!$D125,0)","v":0},{"$f":"IF(AN176=\"Oui\",'Q_del,j et Q_del,dh'!$D125,0)","v":0},{"$f":"IF(AO176=\"Oui\",'Q_del,j et Q_del,dh'!$D125,0)","v":0},{"$f":"IF(AP176=\"Oui\",'Q_del,j et Q_del,dh'!$D125,0)","v":0},{"$f":"IF(AQ176=\"Oui\",'Q_del,j et Q_del,dh'!$D125,0)","v":0},{"$f":"IF(AR176=\"Oui\",'Q_del,j et Q_del,dh'!$D125,0)","v":0},{"$f":"IF(AS176=\"Oui\",'Q_del,j et Q_del,dh'!$D125,0)","v":0},{"$f":"IF(AT176=\"Oui\",'Q_del,j et Q_del,dh'!$D125,0)","v":0},{"$f":"IF(AU176=\"Oui\",'Q_del,j et Q_del,dh'!$D125,0)","v":0},{"$f":"IF(AV176=\"Oui\",'Q_del,j et Q_del,dh'!$D125,0)","v":0},{"$f":"IF(AW176=\"Oui\",'Q_del,j et Q_del,dh'!$D125,0)","v":0},{"$f":"IF(AX176=\"Oui\",'Q_del,j et Q_del,dh'!$D125,0)","v":0},{"$f":"IF(AY176=\"Oui\",'Q_del,j et Q_del,dh'!$D125,0)","v":0},{"$f":"IF(AZ176=\"Oui\",'Q_del,j et Q_del,dh'!$D125,0)","v":0},{"$f":"IF(BA176=\"Oui\",'Q_del,j et Q_del,dh'!$D125,0)","v":0}]
["Qdel,l,j [MJ]","Demandeur de chaleur 119",119,{"$f":"IF(D177=\"Oui\",'Q_del,j et Q_del,dh'!$D126,0)","v":0},{"$f":"IF(E177=\"Oui\",'Q_del,j et Q_del,dh'!$D126,0)","v":0},{"$f":"IF(F177=\"Oui\",'Q_del,j et Q_del,dh'!$D126,0)","v":0},{"$f":"IF(G177=\"Oui\",'Q_del,j et Q_del,dh'!$D126,0)","v":0},{"$f":"IF(H177=\"Oui\",'Q_del,j et Q_del,dh'!$D126,0)","v":0},{"$f":"IF(I177=\"Oui\",'Q_del,j et Q_del,dh'!$D126,0)","v":0},{"$f":"IF(J177=\"Oui\",'Q_del,j et Q_del,dh'!$D126,0)","v":0},{"$f":"IF(K177=\"Oui\",'Q_del,j et Q_del,dh'!$D126,0)","v":0},{"$f":"IF(L177=\"Oui\",'Q_del,j et Q_del,dh'!$D126,0)","v":0},{"$f":"IF(M177=\"Oui\",'Q_del,j et Q_del,dh'!$D126,0)","v":0},{"$f":"IF(N177=\"Oui\",'Q_del,j et Q_del,dh'!$D126,0)","v":0},{"$f":"IF(O177=\"Oui\",'Q_del,j et Q_del,dh'!$D126,0)","v":0},{"$f":"IF(P177=\"Oui\",'Q_del,j et Q_del,dh'!$D126,0)","v":0},{"$f":"IF(Q177=\"Oui\",'Q_del,j et Q_del,dh'!$D126,0)","v":0},{"$f":"IF(R177=\"Oui\",'Q_del,j et Q_del,dh'!$D126,0)","v":0},{"$f":"IF(S177=\"Oui\",'Q_del,j et Q_del,dh'!$D126,0)","v":0},{"$f":"IF(T177=\"Oui\",'Q_del,j et Q_del,dh'!$D126,0)","v":0},{"$f":"IF(U177=\"Oui\",'Q_del,j et Q_del,dh'!$D126,0)","v":0},{"$f":"IF(V177=\"Oui\",'Q_del,j et Q_del,dh'!$D126,0)","v":0},{"$f":"IF(W177=\"Oui\",'Q_del,j et Q_del,dh'!$D126,0)","v":0},{"$f":"IF(X177=\"Oui\",'Q_del,j et Q_del,dh'!$D126,0)","v":0},{"$f":"IF(Y177=\"Oui\",'Q_del,j et Q_del,dh'!$D126,0)","v":0},{"$f":"IF(Z177=\"Oui\",'Q_del,j et Q_del,dh'!$D126,0)","v":0},{"$f":"IF(AA177=\"Oui\",'Q_del,j et Q_del,dh'!$D126,0)","v":0},{"$f":"IF(AB177=\"Oui\",'Q_del,j et Q_del,dh'!$D126,0)","v":0},{"$f":"IF(AC177=\"Oui\",'Q_del,j et Q_del,dh'!$D126,0)","v":0},{"$f":"IF(AD177=\"Oui\",'Q_del,j et Q_del,dh'!$D126,0)","v":0},{"$f":"IF(AE177=\"Oui\",'Q_del,j et Q_del,dh'!$D126,0)","v":0},{"$f":"IF(AF177=\"Oui\",'Q_del,j et Q_del,dh'!$D126,0)","v":0},{"$f":"IF(AG177=\"Oui\",'Q_del,j et Q_del,dh'!$D126,0)","v":0},{"$f":"IF(AH177=\"Oui\",'Q_del,j et Q_del,dh'!$D126,0)","v":0},{"$f":"IF(AI177=\"Oui\",'Q_del,j et Q_del,dh'!$D126,0)","v":0},{"$f":"IF(AJ177=\"Oui\",'Q_del,j et Q_del,dh'!$D126,0)","v":0},{"$f":"IF(AK177=\"Oui\",'Q_del,j et Q_del,dh'!$D126,0)","v":0},{"$f":"IF(AL177=\"Oui\",'Q_del,j et Q_del,dh'!$D126,0)","v":0},{"$f":"IF(AM177=\"Oui\",'Q_del,j et Q_del,dh'!$D126,0)","v":0},{"$f":"IF(AN177=\"Oui\",'Q_del,j et Q_del,dh'!$D126,0)","v":0},{"$f":"IF(AO177=\"Oui\",'Q_del,j et Q_del,dh'!$D126,0)","v":0},{"$f":"IF(AP177=\"Oui\",'Q_del,j et Q_del,dh'!$D126,0)","v":0},{"$f":"IF(AQ177=\"Oui\",'Q_del,j et Q_del,dh'!$D126,0)","v":0},{"$f":"IF(AR177=\"Oui\",'Q_del,j et Q_del,dh'!$D126,0)","v":0},{"$f":"IF(AS177=\"Oui\",'Q_del,j et Q_del,dh'!$D126,0)","v":0},{"$f":"IF(AT177=\"Oui\",'Q_del,j et Q_del,dh'!$D126,0)","v":0},{"$f":"IF(AU177=\"Oui\",'Q_del,j et Q_del,dh'!$D126,0)","v":0},{"$f":"IF(AV177=\"Oui\",'Q_del,j et Q_del,dh'!$D126,0)","v":0},{"$f":"IF(AW177=\"Oui\",'Q_del,j et Q_del,dh'!$D126,0)","v":0},{"$f":"IF(AX177=\"Oui\",'Q_del,j et Q_del,dh'!$D126,0)","v":0},{"$f":"IF(AY177=\"Oui\",'Q_del,j et Q_del,dh'!$D126,0)","v":0},{"$f":"IF(AZ177=\"Oui\",'Q_del,j et Q_del,dh'!$D126,0)","v":0},{"$f":"IF(BA177=\"Oui\",'Q_del,j et Q_del,dh'!$D126,0)","v":0}]
["Qdel,l,j [MJ]","Demandeur de chaleur 120",120,{"$f":"IF(D178=\"Oui\",'Q_del,j et Q_del,dh'!$D127,0)","v":0},{"$f":"IF(E178=\"Oui\",'Q_del,j et Q_del,dh'!$D127,0)","v":0},{"$f":"IF(F178=\"Oui\",'Q_del,j et Q_del,dh'!$D127,0)","v":0},{"$f":"IF(G178=\"Oui\",'Q_del,j et Q_del,dh'!$D127,0)","v":0},{"$f":"IF(H178=\"Oui\",'Q_del,j et Q_del,dh'!$D127,0)","v":0},{"$f":"IF(I178=\"Oui\",'Q_del,j et Q_del,dh'!$D127,0)","v":0},{"$f":"IF(J178=\"Oui\",'Q_del,j et Q_del,dh'!$D127,0)","v":0},{"$f":"IF(K178=\"Oui\",'Q_del,j et Q_del,dh'!$D127,0)","v":0},{"$f":"IF(L178=\"Oui\",'Q_del,j et Q_del,dh'!$D127,0)","v":0},{"$f":"IF(M178=\"Oui\",'Q_del,j et Q_del,dh'!$D127,0)","v":0},{"$f":"IF(N178=\"Oui\",'Q_del,j et Q_del,dh'!$D127,0)","v":0},{"$f":"IF(O178=\"Oui\",'Q_del,j et Q_del,dh'!$D127,0)","v":0},{"$f":"IF(P178=\"Oui\",'Q_del,j et Q_del,dh'!$D127,0)","v":0},{"$f":"IF(Q178=\"Oui\",'Q_del,j et Q_del,dh'!$D127,0)","v":0},{"$f":"IF(R178=\"Oui\",'Q_del,j et Q_del,dh'!$D127,0)","v":0},{"$f":"IF(S178=\"Oui\",'Q_del,j et Q_del,dh'!$D127,0)","v":0},{"$f":"IF(T178=\"Oui\",'Q_del,j et Q_del,dh'!$D127,0)","v":0},{"$f":"IF(U178=\"Oui\",'Q_del,j et Q_del,dh'!$D127,0)","v":0},{"$f":"IF(V178=\"Oui\",'Q_del,j et Q_del,dh'!$D127,0)","v":0},{"$f":"IF(W178=\"Oui\",'Q_del,j et Q_del,dh'!$D127,0)","v":0},{"$f":"IF(X178=\"Oui\",'Q_del,j et Q_del,dh'!$D127,0)","v":0},{"$f":"IF(Y178=\"Oui\",'Q_del,j et Q_del,dh'!$D127,0)","v":0},{"$f":"IF(Z178=\"Oui\",'Q_del,j et Q_del,dh'!$D127,0)","v":0},{"$f":"IF(AA178=\"Oui\",'Q_del,j et Q_del,dh'!$D127,0)","v":0},{"$f":"IF(AB178=\"Oui\",'Q_del,j et Q_del,dh'!$D127,0)","v":0},{"$f":"IF(AC178=\"Oui\",'Q_del,j et Q_del,dh'!$D127,0)","v":0},{"$f":"IF(AD178=\"Oui\",'Q_del,j et Q_del,dh'!$D127,0)","v":0},{"$f":"IF(AE178=\"Oui\",'Q_del,j et Q_del,dh'!$D127,0)","v":0},{"$f":"IF(AF178=\"Oui\",'Q_del,j et Q_del,dh'!$D127,0)","v":0},{"$f":"IF(AG178=\"Oui\",'Q_del,j et Q_del,dh'!$D127,0)","v":0},{"$f":"IF(AH178=\"Oui\",'Q_del,j et Q_del,dh'!$D127,0)","v":0},{"$f":"IF(AI178=\"Oui\",'Q_del,j et Q_del,dh'!$D127,0)","v":0},{"$f":"IF(AJ178=\"Oui\",'Q_del,j et Q_del,dh'!$D127,0)","v":0},{"$f":"IF(AK178=\"Oui\",'Q_del,j et Q_del,dh'!$D127,0)","v":0},{"$f":"IF(AL178=\"Oui\",'Q_del,j et Q_del,dh'!$D127,0)","v":0},{"$f":"IF(AM178=\"Oui\",'Q_del,j et Q_del,dh'!$D127,0)","v":0},{"$f":"IF(AN178=\"Oui\",'Q_del,j et Q_del,dh'!$D127,0)","v":0},{"$f":"IF(AO178=\"Oui\",'Q_del,j et Q_del,dh'!$D127,0)","v":0},{"$f":"IF(AP178=\"Oui\",'Q_del,j et Q_del,dh'!$D127,0)","v":0},{"$f":"IF(AQ178=\"Oui\",'Q_del,j et Q_del,dh'!$D127,0)","v":0},{"$f":"IF(AR178=\"Oui\",'Q_del,j et Q_del,dh'!$D127,0)","v":0},{"$f":"IF(AS178=\"Oui\",'Q_del,j et Q_del,dh'!$D127,0)","v":0},{"$f":"IF(AT178=\"Oui\",'Q_del,j et Q_del,dh'!$D127,0)","v":0},{"$f":"IF(AU178=\"Oui\",'Q_del,j et Q_del,dh'!$D127,0)","v":0},{"$f":"IF(AV178=\"Oui\",'Q_del,j et Q_del,dh'!$D127,0)","v":0},{"$f":"IF(AW178=\"Oui\",'Q_del,j et Q_del,dh'!$D127,0)","v":0},{"$f":"IF(AX178=\"Oui\",'Q_del,j et Q_del,dh'!$D127,0)","v":0},{"$f":"IF(AY178=\"Oui\",'Q_del,j et Q_del,dh'!$D127,0)","v":0},{"$f":"IF(AZ178=\"Oui\",'Q_del,j et Q_del,dh'!$D127,0)","v":0},{"$f":"IF(BA178=\"Oui\",'Q_del,j et Q_del,dh'!$D127,0)","v":0}]
["Qdel,l,j [MJ]","Demandeur de chaleur 121",121,{"$f":"IF(D179=\"Oui\",'Q_del,j et Q_del,dh'!$D128,0)","v":0},{"$f":"IF(E179=\"Oui\",'Q_del,j et Q_del,dh'!$D128,0)","v":0},{"$f":"IF(F179=\"Oui\",'Q_del,j et Q_del,dh'!$D128,0)","v":0},{"$f":"IF(G179=\"Oui\",'Q_del,j et Q_del,dh'!$D128,0)","v":0},{"$f":"IF(H179=\"Oui\",'Q_del,j et Q_del,dh'!$D128,0)","v":0},{"$f":"IF(I179=\"Oui\",'Q_del,j et Q_del,dh'!$D128,0)","v":0},{"$f":"IF(J179=\"Oui\",'Q_del,j et Q_del,dh'!$D128,0)","v":0},{"$f":"IF(K179=\"Oui\",'Q_del,j et Q_del,dh'!$D128,0)","v":0},{"$f":"IF(L179=\"Oui\",'Q_del,j et Q_del,dh'!$D128,0)","v":0},{"$f":"IF(M179=\"Oui\",'Q_del,j et Q_del,dh'!$D128,0)","v":0},{"$f":"IF(N179=\"Oui\",'Q_del,j et Q_del,dh'!$D128,0)","v":0},{"$f":"IF(O179=\"Oui\",'Q_del,j et Q_del,dh'!$D128,0)","v":0},{"$f":"IF(P179=\"Oui\",'Q_del,j et Q_del,dh'!$D128,0)","v":0},{"$f":"IF(Q179=\"Oui\",'Q_del,j et Q_del,dh'!$D128,0)","v":0},{"$f":"IF(R179=\"Oui\",'Q_del,j et Q_del,dh'!$D128,0)","v":0},{"$f":"IF(S179=\"Oui\",'Q_del,j et Q_del,dh'!$D128,0)","v":0},{"$f":"IF(T179=\"Oui\",'Q_del,j et Q_del,dh'!$D128,0)","v":0},{"$f":"IF(U179=\"Oui\",'Q_del,j et Q_del,dh'!$D128,0)","v":0},{"$f":"IF(V179=\"Oui\",'Q_del,j et Q_del,dh'!$D128,0)","v":0},{"$f":"IF(W179=\"Oui\",'Q_del,j et Q_del,dh'!$D128,0)","v":0},{"$f":"IF(X179=\"Oui\",'Q_del,j et Q_del,dh'!$D128,0)","v":0},{"$f":"IF(Y179=\"Oui\",'Q_del,j et Q_del,dh'!$D128,0)","v":0},{"$f":"IF(Z179=\"Oui\",'Q_del,j et Q_del,dh'!$D128,0)","v":0},{"$f":"IF(AA179=\"Oui\",'Q_del,j et Q_del,dh'!$D128,0)","v":0},{"$f":"IF(AB179=\"Oui\",'Q_del,j et Q_del,dh'!$D128,0)","v":0},{"$f":"IF(AC179=\"Oui\",'Q_del,j et Q_del,dh'!$D128,0)","v":0},{"$f":"IF(AD179=\"Oui\",'Q_del,j et Q_del,dh'!$D128,0)","v":0},{"$f":"IF(AE179=\"Oui\",'Q_del,j et Q_del,dh'!$D128,0)","v":0},{"$f":"IF(AF179=\"Oui\",'Q_del,j et Q_del,dh'!$D128,0)","v":0},{"$f":"IF(AG179=\"Oui\",'Q_del,j et Q_del,dh'!$D128,0)","v":0},{"$f":"IF(AH179=\"Oui\",'Q_del,j et Q_del,dh'!$D128,0)","v":0},{"$f":"IF(AI179=\"Oui\",'Q_del,j et Q_del,dh'!$D128,0)","v":0},{"$f":"IF(AJ179=\"Oui\",'Q_del,j et Q_del,dh'!$D128,0)","v":0},{"$f":"IF(AK179=\"Oui\",'Q_del,j et Q_del,dh'!$D128,0)","v":0},{"$f":"IF(AL179=\"Oui\",'Q_del,j et Q_del,dh'!$D128,0)","v":0},{"$f":"IF(AM179=\"Oui\",'Q_del,j et Q_del,dh'!$D128,0)","v":0},{"$f":"IF(AN179=\"Oui\",'Q_del,j et Q_del,dh'!$D128,0)","v":0},{"$f":"IF(AO179=\"Oui\",'Q_del,j et Q_del,dh'!$D128,0)","v":0},{"$f":"IF(AP179=\"Oui\",'Q_del,j et Q_del,dh'!$D128,0)","v":0},{"$f":"IF(AQ179=\"Oui\",'Q_del,j et Q_del,dh'!$D128,0)","v":0},{"$f":"IF(AR179=\"Oui\",'Q_del,j et Q_del,dh'!$D128,0)","v":0},{"$f":"IF(AS179=\"Oui\",'Q_del,j et Q_del,dh'!$D128,0)","v":0},{"$f":"IF(AT179=\"Oui\",'Q_del,j et Q_del,dh'!$D128,0)","v":0},{"$f":"IF(AU179=\"Oui\",'Q_del,j et Q_del,dh'!$D128,0)","v":0},{"$f":"IF(AV179=\"Oui\",'Q_del,j et Q_del,dh'!$D128,0)","v":0},{"$f":"IF(AW179=\"Oui\",'Q_del,j et Q_del,dh'!$D128,0)","v":0},{"$f":"IF(AX179=\"Oui\",'Q_del,j et Q_del,dh'!$D128,0)","v":0},{"$f":"IF(AY179=\"Oui\",'Q_del,j et Q_del,dh'!$D128,0)","v":0},{"$f":"IF(AZ179=\"Oui\",'Q_del,j et Q_del,dh'!$D128,0)","v":0},{"$f":"IF(BA179=\"Oui\",'Q_del,j et Q_del,dh'!$D128,0)","v":0}]
["Qdel,l,j [MJ]","Demandeur de chaleur 122",122,{"$f":"IF(D180=\"Oui\",'Q_del,j et Q_del,dh'!$D129,0)","v":0},{"$f":"IF(E180=\"Oui\",'Q_del,j et Q_del,dh'!$D129,0)","v":0},{"$f":"IF(F180=\"Oui\",'Q_del,j et Q_del,dh'!$D129,0)","v":0},{"$f":"IF(G180=\"Oui\",'Q_del,j et Q_del,dh'!$D129,0)","v":0},{"$f":"IF(H180=\"Oui\",'Q_del,j et Q_del,dh'!$D129,0)","v":0},{"$f":"IF(I180=\"Oui\",'Q_del,j et Q_del,dh'!$D129,0)","v":0},{"$f":"IF(J180=\"Oui\",'Q_del,j et Q_del,dh'!$D129,0)","v":0},{"$f":"IF(K180=\"Oui\",'Q_del,j et Q_del,dh'!$D129,0)","v":0},{"$f":"IF(L180=\"Oui\",'Q_del,j et Q_del,dh'!$D129,0)","v":0},{"$f":"IF(M180=\"Oui\",'Q_del,j et Q_del,dh'!$D129,0)","v":0},{"$f":"IF(N180=\"Oui\",'Q_del,j et Q_del,dh'!$D129,0)","v":0},{"$f":"IF(O180=\"Oui\",'Q_del,j et Q_del,dh'!$D129,0)","v":0},{"$f":"IF(P180=\"Oui\",'Q_del,j et Q_del,dh'!$D129,0)","v":0},{"$f":"IF(Q180=\"Oui\",'Q_del,j et Q_del,dh'!$D129,0)","v":0},{"$f":"IF(R180=\"Oui\",'Q_del,j et Q_del,dh'!$D129,0)","v":0},{"$f":"IF(S180=\"Oui\",'Q_del,j et Q_del,dh'!$D129,0)","v":0},{"$f":"IF(T180=\"Oui\",'Q_del,j et Q_del,dh'!$D129,0)","v":0},{"$f":"IF(U180=\"Oui\",'Q_del,j et Q_del,dh'!$D129,0)","v":0},{"$f":"IF(V180=\"Oui\",'Q_del,j et Q_del,dh'!$D129,0)","v":0},{"$f":"IF(W180=\"Oui\",'Q_del,j et Q_del,dh'!$D129,0)","v":0},{"$f":"IF(X180=\"Oui\",'Q_del,j et Q_del,dh'!$D129,0)","v":0},{"$f":"IF(Y180=\"Oui\",'Q_del,j et Q_del,dh'!$D129,0)","v":0},{"$f":"IF(Z180=\"Oui\",'Q_del,j et Q_del,dh'!$D129,0)","v":0},{"$f":"IF(AA180=\"Oui\",'Q_del,j et Q_del,dh'!$D129,0)","v":0},{"$f":"IF(AB180=\"Oui\",'Q_del,j et Q_del,dh'!$D129,0)","v":0},{"$f":"IF(AC180=\"Oui\",'Q_del,j et Q_del,dh'!$D129,0)","v":0},{"$f":"IF(AD180=\"Oui\",'Q_del,j et Q_del,dh'!$D129,0)","v":0},{"$f":"IF(AE180=\"Oui\",'Q_del,j et Q_del,dh'!$D129,0)","v":0},{"$f":"IF(AF180=\"Oui\",'Q_del,j et Q_del,dh'!$D129,0)","v":0},{"$f":"IF(AG180=\"Oui\",'Q_del,j et Q_del,dh'!$D129,0)","v":0},{"$f":"IF(AH180=\"Oui\",'Q_del,j et Q_del,dh'!$D129,0)","v":0},{"$f":"IF(AI180=\"Oui\",'Q_del,j et Q_del,dh'!$D129,0)","v":0},{"$f":"IF(AJ180=\"Oui\",'Q_del,j et Q_del,dh'!$D129,0)","v":0},{"$f":"IF(AK180=\"Oui\",'Q_del,j et Q_del,dh'!$D129,0)","v":0},{"$f":"IF(AL180=\"Oui\",'Q_del,j et Q_del,dh'!$D129,0)","v":0},{"$f":"IF(AM180=\"Oui\",'Q_del,j et Q_del,dh'!$D129,0)","v":0},{"$f":"IF(AN180=\"Oui\",'Q_del,j et Q_del,dh'!$D129,0)","v":0},{"$f":"IF(AO180=\"Oui\",'Q_del,j et Q_del,dh'!$D129,0)","v":0},{"$f":"IF(AP180=\"Oui\",'Q_del,j et Q_del,dh'!$D129,0)","v":0},{"$f":"IF(AQ180=\"Oui\",'Q_del,j et Q_del,dh'!$D129,0)","v":0},{"$f":"IF(AR180=\"Oui\",'Q_del,j et Q_del,dh'!$D129,0)","v":0},{"$f":"IF(AS180=\"Oui\",'Q_del,j et Q_del,dh'!$D129,0)","v":0},{"$f":"IF(AT180=\"Oui\",'Q_del,j et Q_del,dh'!$D129,0)","v":0},{"$f":"IF(AU180=\"Oui\",'Q_del,j et Q_del,dh'!$D129,0)","v":0},{"$f":"IF(AV180=\"Oui\",'Q_del,j et Q_del,dh'!$D129,0)","v":0},{"$f":"IF(AW180=\"Oui\",'Q_del,j et Q_del,dh'!$D129,0)","v":0},{"$f":"IF(AX180=\"Oui\",'Q_del,j et Q_del,dh'!$D129,0)","v":0},{"$f":"IF(AY180=\"Oui\",'Q_del,j et Q_del,dh'!$D129,0)","v":0},{"$f":"IF(AZ180=\"Oui\",'Q_del,j et Q_del,dh'!$D129,0)","v":0},{"$f":"IF(BA180=\"Oui\",'Q_del,j et Q_del,dh'!$D129,0)","v":0}]
["Qdel,l,j [MJ]","Demandeur de chaleur 123",123,{"$f":"IF(D181=\"Oui\",'Q_del,j et Q_del,dh'!$D130,0)","v":0},{"$f":"IF(E181=\"Oui\",'Q_del,j et Q_del,dh'!$D130,0)","v":0},{"$f":"IF(F181=\"Oui\",'Q_del,j et Q_del,dh'!$D130,0)","v":0},{"$f":"IF(G181=\"Oui\",'Q_del,j et Q_del,dh'!$D130,0)","v":0},{"$f":"IF(H181=\"Oui\",'Q_del,j et Q_del,dh'!$D130,0)","v":0},{"$f":"IF(I181=\"Oui\",'Q_del,j et Q_del,dh'!$D130,0)","v":0},{"$f":"IF(J181=\"Oui\",'Q_del,j et Q_del,dh'!$D130,0)","v":0},{"$f":"IF(K181=\"Oui\",'Q_del,j et Q_del,dh'!$D130,0)","v":0},{"$f":"IF(L181=\"Oui\",'Q_del,j et Q_del,dh'!$D130,0)","v":0},{"$f":"IF(M181=\"Oui\",'Q_del,j et Q_del,dh'!$D130,0)","v":0},{"$f":"IF(N181=\"Oui\",'Q_del,j et Q_del,dh'!$D130,0)","v":0},{"$f":"IF(O181=\"Oui\",'Q_del,j et Q_del,dh'!$D130,0)","v":0},{"$f":"IF(P181=\"Oui\",'Q_del,j et Q_del,dh'!$D130,0)","v":0},{"$f":"IF(Q181=\"Oui\",'Q_del,j et Q_del,dh'!$D130,0)","v":0},{"$f":"IF(R181=\"Oui\",'Q_del,j et Q_del,dh'!$D130,0)","v":0},{"$f":"IF(S181=\"Oui\",'Q_del,j et Q_del,dh'!$D130,0)","v":0},{"$f":"IF(T181=\"Oui\",'Q_del,j et Q_del,dh'!$D130,0)","v":0},{"$f":"IF(U181=\"Oui\",'Q_del,j et Q_del,dh'!$D130,0)","v":0},{"$f":"IF(V181=\"Oui\",'Q_del,j et Q_del,dh'!$D130,0)","v":0},{"$f":"IF(W181=\"Oui\",'Q_del,j et Q_del,dh'!$D130,0)","v":0},{"$f":"IF(X181=\"Oui\",'Q_del,j et Q_del,dh'!$D130,0)","v":0},{"$f":"IF(Y181=\"Oui\",'Q_del,j et Q_del,dh'!$D130,0)","v":0},{"$f":"IF(Z181=\"Oui\",'Q_del,j et Q_del,dh'!$D130,0)","v":0},{"$f":"IF(AA181=\"Oui\",'Q_del,j et Q_del,dh'!$D130,0)","v":0},{"$f":"IF(AB181=\"Oui\",'Q_del,j et Q_del,dh'!$D130,0)","v":0},{"$f":"IF(AC181=\"Oui\",'Q_del,j et Q_del,dh'!$D130,0)","v":0},{"$f":"IF(AD181=\"Oui\",'Q_del,j et Q_del,dh'!$D130,0)","v":0},{"$f":"IF(AE181=\"Oui\",'Q_del,j et Q_del,dh'!$D130,0)","v":0},{"$f":"IF(AF181=\"Oui\",'Q_del,j et Q_del,dh'!$D130,0)","v":0},{"$f":"IF(AG181=\"Oui\",'Q_del,j et Q_del,dh'!$D130,0)","v":0},{"$f":"IF(AH181=\"Oui\",'Q_del,j et Q_del,dh'!$D130,0)","v":0},{"$f":"IF(AI181=\"Oui\",'Q_del,j et Q_del,dh'!$D130,0)","v":0},{"$f":"IF(AJ181=\"Oui\",'Q_del,j et Q_del,dh'!$D130,0)","v":0},{"$f":"IF(AK181=\"Oui\",'Q_del,j et Q_del,dh'!$D130,0)","v":0},{"$f":"IF(AL181=\"Oui\",'Q_del,j et Q_del,dh'!$D130,0)","v":0},{"$f":"IF(AM181=\"Oui\",'Q_del,j et Q_del,dh'!$D130,0)","v":0},{"$f":"IF(AN181=\"Oui\",'Q_del,j et Q_del,dh'!$D130,0)","v":0},{"$f":"IF(AO181=\"Oui\",'Q_del,j et Q_del,dh'!$D130,0)","v":0},{"$f":"IF(AP181=\"Oui\",'Q_del,j et Q_del,dh'!$D130,0)","v":0},{"$f":"IF(AQ181=\"Oui\",'Q_del,j et Q_del,dh'!$D130,0)","v":0},{"$f":"IF(AR181=\"Oui\",'Q_del,j et Q_del,dh'!$D130,0)","v":0},{"$f":"IF(AS181=\"Oui\",'Q_del,j et Q_del,dh'!$D130,0)","v":0},{"$f":"IF(AT181=\"Oui\",'Q_del,j et Q_del,dh'!$D130,0)","v":0},{"$f":"IF(AU181=\"Oui\",'Q_del,j et Q_del,dh'!$D130,0)","v":0},{"$f":"IF(AV181=\"Oui\",'Q_del,j et Q_del,dh'!$D130,0)","v":0},{"$f":"IF(AW181=\"Oui\",'Q_del,j et Q_del,dh'!$D130,0)","v":0},{"$f":"IF(AX181=\"Oui\",'Q_del,j et Q_del,dh'!$D130,0)","v":0},{"$f":"IF(AY181=\"Oui\",'Q_del,j et Q_del,dh'!$D130,0)","v":0},{"$f":"IF(AZ181=\"Oui\",'Q_del,j et Q_del,dh'!$D130,0)","v":0},{"$f":"IF(BA181=\"Oui\",'Q_del,j et Q_del,dh'!$D130,0)","v":0}]
["Qdel,l,j [MJ]","Demandeur de chaleur 124",124,{"$f":"IF(D182=\"Oui\",'Q_del,j et Q_del,dh'!$D131,0)","v":0},{"$f":"IF(E182=\"Oui\",'Q_del,j et Q_del,dh'!$D131,0)","v":0},{"$f":"IF(F182=\"Oui\",'Q_del,j et Q_del,dh'!$D131,0)","v":0},{"$f":"IF(G182=\"Oui\",'Q_del,j et Q_del,dh'!$D131,0)","v":0},{"$f":"IF(H182=\"Oui\",'Q_del,j et Q_del,dh'!$D131,0)","v":0},{"$f":"IF(I182=\"Oui\",'Q_del,j et Q_del,dh'!$D131,0)","v":0},{"$f":"IF(J182=\"Oui\",'Q_del,j et Q_del,dh'!$D131,0)","v":0},{"$f":"IF(K182=\"Oui\",'Q_del,j et Q_del,dh'!$D131,0)","v":0},{"$f":"IF(L182=\"Oui\",'Q_del,j et Q_del,dh'!$D131,0)","v":0},{"$f":"IF(M182=\"Oui\",'Q_del,j et Q_del,dh'!$D131,0)","v":0},{"$f":"IF(N182=\"Oui\",'Q_del,j et Q_del,dh'!$D131,0)","v":0},{"$f":"IF(O182=\"Oui\",'Q_del,j et Q_del,dh'!$D131,0)","v":0},{"$f":"IF(P182=\"Oui\",'Q_del,j et Q_del,dh'!$D131,0)","v":0},{"$f":"IF(Q182=\"Oui\",'Q_del,j et Q_del,dh'!$D131,0)","v":0},{"$f":"IF(R182=\"Oui\",'Q_del,j et Q_del,dh'!$D131,0)","v":0},{"$f":"IF(S182=\"Oui\",'Q_del,j et Q_del,dh'!$D131,0)","v":0},{"$f":"IF(T182=\"Oui\",'Q_del,j et Q_del,dh'!$D131,0)","v":0},{"$f":"IF(U182=\"Oui\",'Q_del,j et Q_del,dh'!$D131,0)","v":0},{"$f":"IF(V182=\"Oui\",'Q_del,j et Q_del,dh'!$D131,0)","v":0},{"$f":"IF(W182=\"Oui\",'Q_del,j et Q_del,dh'!$D131,0)","v":0},{"$f":"IF(X182=\"Oui\",'Q_del,j et Q_del,dh'!$D131,0)","v":0},{"$f":"IF(Y182=\"Oui\",'Q_del,j et Q_del,dh'!$D131,0)","v":0},{"$f":"IF(Z182=\"Oui\",'Q_del,j et Q_del,dh'!$D131,0)","v":0},{"$f":"IF(AA182=\"Oui\",'Q_del,j et Q_del,dh'!$D131,0)","v":0},{"$f":"IF(AB182=\"Oui\",'Q_del,j et Q_del,dh'!$D131,0)","v":0},{"$f":"IF(AC182=\"Oui\",'Q_del,j et Q_del,dh'!$D131,0)","v":0},{"$f":"IF(AD182=\"Oui\",'Q_del,j et Q_del,dh'!$D131,0)","v":0},{"$f":"IF(AE182=\"Oui\",'Q_del,j et Q_del,dh'!$D131,0)","v":0},{"$f":"IF(AF182=\"Oui\",'Q_del,j et Q_del,dh'!$D131,0)","v":0},{"$f":"IF(AG182=\"Oui\",'Q_del,j et Q_del,dh'!$D131,0)","v":0},{"$f":"IF(AH182=\"Oui\",'Q_del,j et Q_del,dh'!$D131,0)","v":0},{"$f":"IF(AI182=\"Oui\",'Q_del,j et Q_del,dh'!$D131,0)","v":0},{"$f":"IF(AJ182=\"Oui\",'Q_del,j et Q_del,dh'!$D131,0)","v":0},{"$f":"IF(AK182=\"Oui\",'Q_del,j et Q_del,dh'!$D131,0)","v":0},{"$f":"IF(AL182=\"Oui\",'Q_del,j et Q_del,dh'!$D131,0)","v":0},{"$f":"IF(AM182=\"Oui\",'Q_del,j et Q_del,dh'!$D131,0)","v":0},{"$f":"IF(AN182=\"Oui\",'Q_del,j et Q_del,dh'!$D131,0)","v":0},{"$f":"IF(AO182=\"Oui\",'Q_del,j et Q_del,dh'!$D131,0)","v":0},{"$f":"IF(AP182=\"Oui\",'Q_del,j et Q_del,dh'!$D131,0)","v":0},{"$f":"IF(AQ182=\"Oui\",'Q_del,j et Q_del,dh'!$D131,0)","v":0},{"$f":"IF(AR182=\"Oui\",'Q_del,j et Q_del,dh'!$D131,0)","v":0},{"$f":"IF(AS182=\"Oui\",'Q_del,j et Q_del,dh'!$D131,0)","v":0},{"$f":"IF(AT182=\"Oui\",'Q_del,j et Q_del,dh'!$D131,0)","v":0},{"$f":"IF(AU182=\"Oui\",'Q_del,j et Q_del,dh'!$D131,0)","v":0},{"$f":"IF(AV182=\"Oui\",'Q_del,j et Q_del,dh'!$D131,0)","v":0},{"$f":"IF(AW182=\"Oui\",'Q_del,j et Q_del,dh'!$D131,0)","v":0},{"$f":"IF(AX182=\"Oui\",'Q_del,j et Q_del,dh'!$D131,0)","v":0},{"$f":"IF(AY182=\"Oui\",'Q_del,j et Q_del,dh'!$D131,0)","v":0},{"$f":"IF(AZ182=\"Oui\",'Q_del,j et Q_del,dh'!$D131,0)","v":0},{"$f":"IF(BA182=\"Oui\",'Q_del,j et Q_del,dh'!$D131,0)","v":0}]
["Qdel,l,j [MJ]","Demandeur de chaleur 125",125,{"$f":"IF(D183=\"Oui\",'Q_del,j et Q_del,dh'!$D132,0)","v":0},{"$f":"IF(E183=\"Oui\",'Q_del,j et Q_del,dh'!$D132,0)","v":0},{"$f":"IF(F183=\"Oui\",'Q_del,j et Q_del,dh'!$D132,0)","v":0},{"$f":"IF(G183=\"Oui\",'Q_del,j et Q_del,dh'!$D132,0)","v":0},{"$f":"IF(H183=\"Oui\",'Q_del,j et Q_del,dh'!$D132,0)","v":0},{"$f":"IF(I183=\"Oui\",'Q_del,j et Q_del,dh'!$D132,0)","v":0},{"$f":"IF(J183=\"Oui\",'Q_del,j et Q_del,dh'!$D132,0)","v":0},{"$f":"IF(K183=\"Oui\",'Q_del,j et Q_del,dh'!$D132,0)","v":0},{"$f":"IF(L183=\"Oui\",'Q_del,j et Q_del,dh'!$D132,0)","v":0},{"$f":"IF(M183=\"Oui\",'Q_del,j et Q_del,dh'!$D132,0)","v":0},{"$f":"IF(N183=\"Oui\",'Q_del,j et Q_del,dh'!$D132,0)","v":0},{"$f":"IF(O183=\"Oui\",'Q_del,j et Q_del,dh'!$D132,0)","v":0},{"$f":"IF(P183=\"Oui\",'Q_del,j et Q_del,dh'!$D132,0)","v":0},{"$f":"IF(Q183=\"Oui\",'Q_del,j et Q_del,dh'!$D132,0)","v":0},{"$f":"IF(R183=\"Oui\",'Q_del,j et Q_del,dh'!$D132,0)","v":0},{"$f":"IF(S183=\"Oui\",'Q_del,j et Q_del,dh'!$D132,0)","v":0},{"$f":"IF(T183=\"Oui\",'Q_del,j et Q_del,dh'!$D132,0)","v":0},{"$f":"IF(U183=\"Oui\",'Q_del,j et Q_del,dh'!$D132,0)","v":0},{"$f":"IF(V183=\"Oui\",'Q_del,j et Q_del,dh'!$D132,0)","v":0},{"$f":"IF(W183=\"Oui\",'Q_del,j et Q_del,dh'!$D132,0)","v":0},{"$f":"IF(X183=\"Oui\",'Q_del,j et Q_del,dh'!$D132,0)","v":0},{"$f":"IF(Y183=\"Oui\",'Q_del,j et Q_del,dh'!$D132,0)","v":0},{"$f":"IF(Z183=\"Oui\",'Q_del,j et Q_del,dh'!$D132,0)","v":0},{"$f":"IF(AA183=\"Oui\",'Q_del,j et Q_del,dh'!$D132,0)","v":0},{"$f":"IF(AB183=\"Oui\",'Q_del,j et Q_del,dh'!$D132,0)","v":0},{"$f":"IF(AC183=\"Oui\",'Q_del,j et Q_del,dh'!$D132,0)","v":0},{"$f":"IF(AD183=\"Oui\",'Q_del,j et Q_del,dh'!$D132,0)","v":0},{"$f":"IF(AE183=\"Oui\",'Q_del,j et Q_del,dh'!$D132,0)","v":0},{"$f":"IF(AF183=\"Oui\",'Q_del,j et Q_del,dh'!$D132,0)","v":0},{"$f":"IF(AG183=\"Oui\",'Q_del,j et Q_del,dh'!$D132,0)","v":0},{"$f":"IF(AH183=\"Oui\",'Q_del,j et Q_del,dh'!$D132,0)","v":0},{"$f":"IF(AI183=\"Oui\",'Q_del,j et Q_del,dh'!$D132,0)","v":0},{"$f":"IF(AJ183=\"Oui\",'Q_del,j et Q_del,dh'!$D132,0)","v":0},{"$f":"IF(AK183=\"Oui\",'Q_del,j et Q_del,dh'!$D132,0)","v":0},{"$f":"IF(AL183=\"Oui\",'Q_del,j et Q_del,dh'!$D132,0)","v":0},{"$f":"IF(AM183=\"Oui\",'Q_del,j et Q_del,dh'!$D132,0)","v":0},{"$f":"IF(AN183=\"Oui\",'Q_del,j et Q_del,dh'!$D132,0)","v":0},{"$f":"IF(AO183=\"Oui\",'Q_del,j et Q_del,dh'!$D132,0)","v":0},{"$f":"IF(AP183=\"Oui\",'Q_del,j et Q_del,dh'!$D132,0)","v":0},{"$f":"IF(AQ183=\"Oui\",'Q_del,j et Q_del,dh'!$D132,0)","v":0},{"$f":"IF(AR183=\"Oui\",'Q_del,j et Q_del,dh'!$D132,0)","v":0},{"$f":"IF(AS183=\"Oui\",'Q_del,j et Q_del,dh'!$D132,0)","v":0},{"$f":"IF(AT183=\"Oui\",'Q_del,j et Q_del,dh'!$D132,0)","v":0},{"$f":"IF(AU183=\"Oui\",'Q_del,j et Q_del,dh'!$D132,0)","v":0},{"$f":"IF(AV183=\"Oui\",'Q_del,j et Q_del,dh'!$D132,0)","v":0},{"$f":"IF(AW183=\"Oui\",'Q_del,j et Q_del,dh'!$D132,0)","v":0},{"$f":"IF(AX183=\"Oui\",'Q_del,j et Q_del,dh'!$D132,0)","v":0},{"$f":"IF(AY183=\"Oui\",'Q_del,j et Q_del,dh'!$D132,0)","v":0},{"$f":"IF(AZ183=\"Oui\",'Q_del,j et Q_del,dh'!$D132,0)","v":0},{"$f":"IF(BA183=\"Oui\",'Q_del,j et Q_del,dh'!$D132,0)","v":0}]
["Qdel,l,j [MJ]","Demandeur de chaleur 126",126,{"$f":"IF(D184=\"Oui\",'Q_del,j et Q_del,dh'!$D133,0)","v":0},{"$f":"IF(E184=\"Oui\",'Q_del,j et Q_del,dh'!$D133,0)","v":0},{"$f":"IF(F184=\"Oui\",'Q_del,j et Q_del,dh'!$D133,0)","v":0},{"$f":"IF(G184=\"Oui\",'Q_del,j et Q_del,dh'!$D133,0)","v":0},{"$f":"IF(H184=\"Oui\",'Q_del,j et Q_del,dh'!$D133,0)","v":0},{"$f":"IF(I184=\"Oui\",'Q_del,j et Q_del,dh'!$D133,0)","v":0},{"$f":"IF(J184=\"Oui\",'Q_del,j et Q_del,dh'!$D133,0)","v":0},{"$f":"IF(K184=\"Oui\",'Q_del,j et Q_del,dh'!$D133,0)","v":0},{"$f":"IF(L184=\"Oui\",'Q_del,j et Q_del,dh'!$D133,0)","v":0},{"$f":"IF(M184=\"Oui\",'Q_del,j et Q_del,dh'!$D133,0)","v":0},{"$f":"IF(N184=\"Oui\",'Q_del,j et Q_del,dh'!$D133,0)","v":0},{"$f":"IF(O184=\"Oui\",'Q_del,j et Q_del,dh'!$D133,0)","v":0},{"$f":"IF(P184=\"Oui\",'Q_del,j et Q_del,dh'!$D133,0)","v":0},{"$f":"IF(Q184=\"Oui\",'Q_del,j et Q_del,dh'!$D133,0)","v":0},{"$f":"IF(R184=\"Oui\",'Q_del,j et Q_del,dh'!$D133,0)","v":0},{"$f":"IF(S184=\"Oui\",'Q_del,j et Q_del,dh'!$D133,0)","v":0},{"$f":"IF(T184=\"Oui\",'Q_del,j et Q_del,dh'!$D133,0)","v":0},{"$f":"IF(U184=\"Oui\",'Q_del,j et Q_del,dh'!$D133,0)","v":0},{"$f":"IF(V184=\"Oui\",'Q_del,j et Q_del,dh'!$D133,0)","v":0},{"$f":"IF(W184=\"Oui\",'Q_del,j et Q_del,dh'!$D133,0)","v":0},{"$f":"IF(X184=\"Oui\",'Q_del,j et Q_del,dh'!$D133,0)","v":0},{"$f":"IF(Y184=\"Oui\",'Q_del,j et Q_del,dh'!$D133,0)","v":0},{"$f":"IF(Z184=\"Oui\",'Q_del,j et Q_del,dh'!$D133,0)","v":0},{"$f":"IF(AA184=\"Oui\",'Q_del,j et Q_del,dh'!$D133,0)","v":0},{"$f":"IF(AB184=\"Oui\",'Q_del,j et Q_del,dh'!$D133,0)","v":0},{"$f":"IF(AC184=\"Oui\",'Q_del,j et Q_del,dh'!$D133,0)","v":0},{"$f":"IF(AD184=\"Oui\",'Q_del,j et Q_del,dh'!$D133,0)","v":0},{"$f":"IF(AE184=\"Oui\",'Q_del,j et Q_del,dh'!$D133,0)","v":0},{"$f":"IF(AF184=\"Oui\",'Q_del,j et Q_del,dh'!$D133,0)","v":0},{"$f":"IF(AG184=\"Oui\",'Q_del,j et Q_del,dh'!$D133,0)","v":0},{"$f":"IF(AH184=\"Oui\",'Q_del,j et Q_del,dh'!$D133,0)","v":0},{"$f":"IF(AI184=\"Oui\",'Q_del,j et Q_del,dh'!$D133,0)","v":0},{"$f":"IF(AJ184=\"Oui\",'Q_del,j et Q_del,dh'!$D133,0)","v":0},{"$f":"IF(AK184=\"Oui\",'Q_del,j et Q_del,dh'!$D133,0)","v":0},{"$f":"IF(AL184=\"Oui\",'Q_del,j et Q_del,dh'!$D133,0)","v":0},{"$f":"IF(AM184=\"Oui\",'Q_del,j et Q_del,dh'!$D133,0)","v":0},{"$f":"IF(AN184=\"Oui\",'Q_del,j et Q_del,dh'!$D133,0)","v":0},{"$f":"IF(AO184=\"Oui\",'Q_del,j et Q_del,dh'!$D133,0)","v":0},{"$f":"IF(AP184=\"Oui\",'Q_del,j et Q_del,dh'!$D133,0)","v":0},{"$f":"IF(AQ184=\"Oui\",'Q_del,j et Q_del,dh'!$D133,0)","v":0},{"$f":"IF(AR184=\"Oui\",'Q_del,j et Q_del,dh'!$D133,0)","v":0},{"$f":"IF(AS184=\"Oui\",'Q_del,j et Q_del,dh'!$D133,0)","v":0},{"$f":"IF(AT184=\"Oui\",'Q_del,j et Q_del,dh'!$D133,0)","v":0},{"$f":"IF(AU184=\"Oui\",'Q_del,j et Q_del,dh'!$D133,0)","v":0},{"$f":"IF(AV184=\"Oui\",'Q_del,j et Q_del,dh'!$D133,0)","v":0},{"$f":"IF(AW184=\"Oui\",'Q_del,j et Q_del,dh'!$D133,0)","v":0},{"$f":"IF(AX184=\"Oui\",'Q_del,j et Q_del,dh'!$D133,0)","v":0},{"$f":"IF(AY184=\"Oui\",'Q_del,j et Q_del,dh'!$D133,0)","v":0},{"$f":"IF(AZ184=\"Oui\",'Q_del,j et Q_del,dh'!$D133,0)","v":0},{"$f":"IF(BA184=\"Oui\",'Q_del,j et Q_del,dh'!$D133,0)","v":0}]
["Qdel,l,j [MJ]","Demandeur de chaleur 127",127,{"$f":"IF(D185=\"Oui\",'Q_del,j et Q_del,dh'!$D134,0)","v":0},{"$f":"IF(E185=\"Oui\",'Q_del,j et Q_del,dh'!$D134,0)","v":0},{"$f":"IF(F185=\"Oui\",'Q_del,j et Q_del,dh'!$D134,0)","v":0},{"$f":"IF(G185=\"Oui\",'Q_del,j et Q_del,dh'!$D134,0)","v":0},{"$f":"IF(H185=\"Oui\",'Q_del,j et Q_del,dh'!$D134,0)","v":0},{"$f":"IF(I185=\"Oui\",'Q_del,j et Q_del,dh'!$D134,0)","v":0},{"$f":"IF(J185=\"Oui\",'Q_del,j et Q_del,dh'!$D134,0)","v":0},{"$f":"IF(K185=\"Oui\",'Q_del,j et Q_del,dh'!$D134,0)","v":0},{"$f":"IF(L185=\"Oui\",'Q_del,j et Q_del,dh'!$D134,0)","v":0},{"$f":"IF(M185=\"Oui\",'Q_del,j et Q_del,dh'!$D134,0)","v":0},{"$f":"IF(N185=\"Oui\",'Q_del,j et Q_del,dh'!$D134,0)","v":0},{"$f":"IF(O185=\"Oui\",'Q_del,j et Q_del,dh'!$D134,0)","v":0},{"$f":"IF(P185=\"Oui\",'Q_del,j et Q_del,dh'!$D134,0)","v":0},{"$f":"IF(Q185=\"Oui\",'Q_del,j et Q_del,dh'!$D134,0)","v":0},{"$f":"IF(R185=\"Oui\",'Q_del,j et Q_del,dh'!$D134,0)","v":0},{"$f":"IF(S185=\"Oui\",'Q_del,j et Q_del,dh'!$D134,0)","v":0},{"$f":"IF(T185=\"Oui\",'Q_del,j et Q_del,dh'!$D134,0)","v":0},{"$f":"IF(U185=\"Oui\",'Q_del,j et Q_del,dh'!$D134,0)","v":0},{"$f":"IF(V185=\"Oui\",'Q_del,j et Q_del,dh'!$D134,0)","v":0},{"$f":"IF(W185=\"Oui\",'Q_del,j et Q_del,dh'!$D134,0)","v":0},{"$f":"IF(X185=\"Oui\",'Q_del,j et Q_del,dh'!$D134,0)","v":0},{"$f":"IF(Y185=\"Oui\",'Q_del,j et Q_del,dh'!$D134,0)","v":0},{"$f":"IF(Z185=\"Oui\",'Q_del,j et Q_del,dh'!$D134,0)","v":0},{"$f":"IF(AA185=\"Oui\",'Q_del,j et Q_del,dh'!$D134,0)","v":0},{"$f":"IF(AB185=\"Oui\",'Q_del,j et Q_del,dh'!$D134,0)","v":0},{"$f":"IF(AC185=\"Oui\",'Q_del,j et Q_del,dh'!$D134,0)","v":0},{"$f":"IF(AD185=\"Oui\",'Q_del,j et Q_del,dh'!$D134,0)","v":0},{"$f":"IF(AE185=\"Oui\",'Q_del,j et Q_del,dh'!$D134,0)","v":0},{"$f":"IF(AF185=\"Oui\",'Q_del,j et Q_del,dh'!$D134,0)","v":0},{"$f":"IF(AG185=\"Oui\",'Q_del,j et Q_del,dh'!$D134,0)","v":0},{"$f":"IF(AH185=\"Oui\",'Q_del,j et Q_del,dh'!$D134,0)","v":0},{"$f":"IF(AI185=\"Oui\",'Q_del,j et Q_del,dh'!$D134,0)","v":0},{"$f":"IF(AJ185=\"Oui\",'Q_del,j et Q_del,dh'!$D134,0)","v":0},{"$f":"IF(AK185=\"Oui\",'Q_del,j et Q_del,dh'!$D134,0)","v":0},{"$f":"IF(AL185=\"Oui\",'Q_del,j et Q_del,dh'!$D134,0)","v":0},{"$f":"IF(AM185=\"Oui\",'Q_del,j et Q_del,dh'!$D134,0)","v":0},{"$f":"IF(AN185=\"Oui\",'Q_del,j et Q_del,dh'!$D134,0)","v":0},{"$f":"IF(AO185=\"Oui\",'Q_del,j et Q_del,dh'!$D134,0)","v":0},{"$f":"IF(AP185=\"Oui\",'Q_del,j et Q_del,dh'!$D134,0)","v":0},{"$f":"IF(AQ185=\"Oui\",'Q_del,j et Q_del,dh'!$D134,0)","v":0},{"$f":"IF(AR185=\"Oui\",'Q_del,j et Q_del,dh'!$D134,0)","v":0},{"$f":"IF(AS185=\"Oui\",'Q_del,j et Q_del,dh'!$D134,0)","v":0},{"$f":"IF(AT185=\"Oui\",'Q_del,j et Q_del,dh'!$D134,0)","v":0},{"$f":"IF(AU185=\"Oui\",'Q_del,j et Q_del,dh'!$D134,0)","v":0},{"$f":"IF(AV185=\"Oui\",'Q_del,j et Q_del,dh'!$D134,0)","v":0},{"$f":"IF(AW185=\"Oui\",'Q_del,j et Q_del,dh'!$D134,0)","v":0},{"$f":"IF(AX185=\"Oui\",'Q_del,j et Q_del,dh'!$D134,0)","v":0},{"$f":"IF(AY185=\"Oui\",'Q_del,j et Q_del,dh'!$D134,0)","v":0},{"$f":"IF(AZ185=\"Oui\",'Q_del,j et Q_del,dh'!$D134,0)","v":0},{"$f":"IF(BA185=\"Oui\",'Q_del,j et Q_del,dh'!$D134,0)","v":0}]
["Qdel,l,j [MJ]","Demandeur de chaleur 128",128,{"$f":"IF(D186=\"Oui\",'Q_del,j et Q_del,dh'!$D135,0)","v":0},{"$f":"IF(E186=\"Oui\",'Q_del,j et Q_del,dh'!$D135,0)","v":0},{"$f":"IF(F186=\"Oui\",'Q_del,j et Q_del,dh'!$D135,0)","v":0},{"$f":"IF(G186=\"Oui\",'Q_del,j et Q_del,dh'!$D135,0)","v":0},{"$f":"IF(H186=\"Oui\",'Q_del,j et Q_del,dh'!$D135,0)","v":0},{"$f":"IF(I186=\"Oui\",'Q_del,j et Q_del,dh'!$D135,0)","v":0},{"$f":"IF(J186=\"Oui\",'Q_del,j et Q_del,dh'!$D135,0)","v":0},{"$f":"IF(K186=\"Oui\",'Q_del,j et Q_del,dh'!$D135,0)","v":0},{"$f":"IF(L186=\"Oui\",'Q_del,j et Q_del,dh'!$D135,0)","v":0},{"$f":"IF(M186=\"Oui\",'Q_del,j et Q_del,dh'!$D135,0)","v":0},{"$f":"IF(N186=\"Oui\",'Q_del,j et Q_del,dh'!$D135,0)","v":0},{"$f":"IF(O186=\"Oui\",'Q_del,j et Q_del,dh'!$D135,0)","v":0},{"$f":"IF(P186=\"Oui\",'Q_del,j et Q_del,dh'!$D135,0)","v":0},{"$f":"IF(Q186=\"Oui\",'Q_del,j et Q_del,dh'!$D135,0)","v":0},{"$f":"IF(R186=\"Oui\",'Q_del,j et Q_del,dh'!$D135,0)","v":0},{"$f":"IF(S186=\"Oui\",'Q_del,j et Q_del,dh'!$D135,0)","v":0},{"$f":"IF(T186=\"Oui\",'Q_del,j et Q_del,dh'!$D135,0)","v":0},{"$f":"IF(U186=\"Oui\",'Q_del,j et Q_del,dh'!$D135,0)","v":0},{"$f":"IF(V186=\"Oui\",'Q_del,j et Q_del,dh'!$D135,0)","v":0},{"$f":"IF(W186=\"Oui\",'Q_del,j et Q_del,dh'!$D135,0)","v":0},{"$f":"IF(X186=\"Oui\",'Q_del,j et Q_del,dh'!$D135,0)","v":0},{"$f":"IF(Y186=\"Oui\",'Q_del,j et Q_del,dh'!$D135,0)","v":0},{"$f":"IF(Z186=\"Oui\",'Q_del,j et Q_del,dh'!$D135,0)","v":0},{"$f":"IF(AA186=\"Oui\",'Q_del,j et Q_del,dh'!$D135,0)","v":0},{"$f":"IF(AB186=\"Oui\",'Q_del,j et Q_del,dh'!$D135,0)","v":0},{"$f":"IF(AC186=\"Oui\",'Q_del,j et Q_del,dh'!$D135,0)","v":0},{"$f":"IF(AD186=\"Oui\",'Q_del,j et Q_del,dh'!$D135,0)","v":0},{"$f":"IF(AE186=\"Oui\",'Q_del,j et Q_del,dh'!$D135,0)","v":0},{"$f":"IF(AF186=\"Oui\",'Q_del,j et Q_del,dh'!$D135,0)","v":0},{"$f":"IF(AG186=\"Oui\",'Q_del,j et Q_del,dh'!$D135,0)","v":0},{"$f":"IF(AH186=\"Oui\",'Q_del,j et Q_del,dh'!$D135,0)","v":0},{"$f":"IF(AI186=\"Oui\",'Q_del,j et Q_del,dh'!$D135,0)","v":0},{"$f":"IF(AJ186=\"Oui\",'Q_del,j et Q_del,dh'!$D135,0)","v":0},{"$f":"IF(AK186=\"Oui\",'Q_del,j et Q_del,dh'!$D135,0)","v":0},{"$f":"IF(AL186=\"Oui\",'Q_del,j et Q_del,dh'!$D135,0)","v":0},{"$f":"IF(AM186=\"Oui\",'Q_del,j et Q_del,dh'!$D135,0)","v":0},{"$f":"IF(AN186=\"Oui\",'Q_del,j et Q_del,dh'!$D135,0)","v":0},{"$f":"IF(AO186=\"Oui\",'Q_del,j et Q_del,dh'!$D135,0)","v":0},{"$f":"IF(AP186=\"Oui\",'Q_del,j et Q_del,dh'!$D135,0)","v":0},{"$f":"IF(AQ186=\"Oui\",'Q_del,j et Q_del,dh'!$D135,0)","v":0},{"$f":"IF(AR186=\"Oui\",'Q_del,j et Q_del,dh'!$D135,0)","v":0},{"$f":"IF(AS186=\"Oui\",'Q_del,j et Q_del,dh'!$D135,0)","v":0},{"$f":"IF(AT186=\"Oui\",'Q_del,j et Q_del,dh'!$D135,0)","v":0},{"$f":"IF(AU186=\"Oui\",'Q_del,j et Q_del,dh'!$D135,0)","v":0},{"$f":"IF(AV186=\"Oui\",'Q_del,j et Q_del,dh'!$D135,0)","v":0},{"$f":"IF(AW186=\"Oui\",'Q_del,j et Q_del,dh'!$D135,0)","v":0},{"$f":"IF(AX186=\"Oui\",'Q_del,j et Q_del,dh'!$D135,0)","v":0},{"$f":"IF(AY186=\"Oui\",'Q_del,j et Q_del,dh'!$D135,0)","v":0},{"$f":"IF(AZ186=\"Oui\",'Q_del,j et Q_del,dh'!$D135,0)","v":0},{"$f":"IF(BA186=\"Oui\",'Q_del,j et Q_del,dh'!$D135,0)","v":0}]
["Qdel,l,j [MJ]",{"$f":"\"Demandeur de chaleur \"&C442","v":"Demandeur de chaleur 129"},129,{"$f":"IF(D187=\"Oui\",'Q_del,j et Q_del,dh'!$D136,0)","v":0},{"$f":"IF(E187=\"Oui\",'Q_del,j et Q_del,dh'!$D136,0)","v":0},{"$f":"IF(F187=\"Oui\",'Q_del,j et Q_del,dh'!$D136,0)","v":0},{"$f":"IF(G187=\"Oui\",'Q_del,j et Q_del,dh'!$D136,0)","v":0},{"$f":"IF(H187=\"Oui\",'Q_del,j et Q_del,dh'!$D136,0)","v":0},{"$f":"IF(I187=\"Oui\",'Q_del,j et Q_del,dh'!$D136,0)","v":0},{"$f":"IF(J187=\"Oui\",'Q_del,j et Q_del,dh'!$D136,0)","v":0},{"$f":"IF(K187=\"Oui\",'Q_del,j et Q_del,dh'!$D136,0)","v":0},{"$f":"IF(L187=\"Oui\",'Q_del,j et Q_del,dh'!$D136,0)","v":0},{"$f":"IF(M187=\"Oui\",'Q_del,j et Q_del,dh'!$D136,0)","v":0},{"$f":"IF(N187=\"Oui\",'Q_del,j et Q_del,dh'!$D136,0)","v":0},{"$f":"IF(O187=\"Oui\",'Q_del,j et Q_del,dh'!$D136,0)","v":0},{"$f":"IF(P187=\"Oui\",'Q_del,j et Q_del,dh'!$D136,0)","v":0},{"$f":"IF(Q187=\"Oui\",'Q_del,j et Q_del,dh'!$D136,0)","v":0},{"$f":"IF(R187=\"Oui\",'Q_del,j et Q_del,dh'!$D136,0)","v":0},{"$f":"IF(S187=\"Oui\",'Q_del,j et Q_del,dh'!$D136,0)","v":0},{"$f":"IF(T187=\"Oui\",'Q_del,j et Q_del,dh'!$D136,0)","v":0},{"$f":"IF(U187=\"Oui\",'Q_del,j et Q_del,dh'!$D136,0)","v":0},{"$f":"IF(V187=\"Oui\",'Q_del,j et Q_del,dh'!$D136,0)","v":0},{"$f":"IF(W187=\"Oui\",'Q_del,j et Q_del,dh'!$D136,0)","v":0},{"$f":"IF(X187=\"Oui\",'Q_del,j et Q_del,dh'!$D136,0)","v":0},{"$f":"IF(Y187=\"Oui\",'Q_del,j et Q_del,dh'!$D136,0)","v":0},{"$f":"IF(Z187=\"Oui\",'Q_del,j et Q_del,dh'!$D136,0)","v":0},{"$f":"IF(AA187=\"Oui\",'Q_del,j et Q_del,dh'!$D136,0)","v":0},{"$f":"IF(AB187=\"Oui\",'Q_del,j et Q_del,dh'!$D136,0)","v":0},{"$f":"IF(AC187=\"Oui\",'Q_del,j et Q_del,dh'!$D136,0)","v":0},{"$f":"IF(AD187=\"Oui\",'Q_del,j et Q_del,dh'!$D136,0)","v":0},{"$f":"IF(AE187=\"Oui\",'Q_del,j et Q_del,dh'!$D136,0)","v":0},{"$f":"IF(AF187=\"Oui\",'Q_del,j et Q_del,dh'!$D136,0)","v":0},{"$f":"IF(AG187=\"Oui\",'Q_del,j et Q_del,dh'!$D136,0)","v":0},{"$f":"IF(AH187=\"Oui\",'Q_del,j et Q_del,dh'!$D136,0)","v":0},{"$f":"IF(AI187=\"Oui\",'Q_del,j et Q_del,dh'!$D136,0)","v":0},{"$f":"IF(AJ187=\"Oui\",'Q_del,j et Q_del,dh'!$D136,0)","v":0},{"$f":"IF(AK187=\"Oui\",'Q_del,j et Q_del,dh'!$D136,0)","v":0},{"$f":"IF(AL187=\"Oui\",'Q_del,j et Q_del,dh'!$D136,0)","v":0},{"$f":"IF(AM187=\"Oui\",'Q_del,j et Q_del,dh'!$D136,0)","v":0},{"$f":"IF(AN187=\"Oui\",'Q_del,j et Q_del,dh'!$D136,0)","v":0},{"$f":"IF(AO187=\"Oui\",'Q_del,j et Q_del,dh'!$D136,0)","v":0},{"$f":"IF(AP187=\"Oui\",'Q_del,j et Q_del,dh'!$D136,0)","v":0},{"$f":"IF(AQ187=\"Oui\",'Q_del,j et Q_del,dh'!$D136,0)","v":0},{"$f":"IF(AR187=\"Oui\",'Q_del,j et Q_del,dh'!$D136,0)","v":0},{"$f":"IF(AS187=\"Oui\",'Q_del,j et Q_del,dh'!$D136,0)","v":0},{"$f":"IF(AT187=\"Oui\",'Q_del,j et Q_del,dh'!$D136,0)","v":0},{"$f":"IF(AU187=\"Oui\",'Q_del,j et Q_del,dh'!$D136,0)","v":0},{"$f":"IF(AV187=\"Oui\",'Q_del,j et Q_del,dh'!$D136,0)","v":0},{"$f":"IF(AW187=\"Oui\",'Q_del,j et Q_del,dh'!$D136,0)","v":0},{"$f":"IF(AX187=\"Oui\",'Q_del,j et Q_del,dh'!$D136,0)","v":0},{"$f":"IF(AY187=\"Oui\",'Q_del,j et Q_del,dh'!$D136,0)","v":0},{"$f":"IF(AZ187=\"Oui\",'Q_del,j et Q_del,dh'!$D136,0)","v":0},{"$f":"IF(BA187=\"Oui\",'Q_del,j et Q_del,dh'!$D136,0)","v":0}]
["Qdel,l,j [MJ]","Demandeur de chaleur 130",130,{"$f":"IF(D188=\"Oui\",'Q_del,j et Q_del,dh'!$D137,0)","v":0},{"$f":"IF(E188=\"Oui\",'Q_del,j et Q_del,dh'!$D137,0)","v":0},{"$f":"IF(F188=\"Oui\",'Q_del,j et Q_del,dh'!$D137,0)","v":0},{"$f":"IF(G188=\"Oui\",'Q_del,j et Q_del,dh'!$D137,0)","v":0},{"$f":"IF(H188=\"Oui\",'Q_del,j et Q_del,dh'!$D137,0)","v":0},{"$f":"IF(I188=\"Oui\",'Q_del,j et Q_del,dh'!$D137,0)","v":0},{"$f":"IF(J188=\"Oui\",'Q_del,j et Q_del,dh'!$D137,0)","v":0},{"$f":"IF(K188=\"Oui\",'Q_del,j et Q_del,dh'!$D137,0)","v":0},{"$f":"IF(L188=\"Oui\",'Q_del,j et Q_del,dh'!$D137,0)","v":0},{"$f":"IF(M188=\"Oui\",'Q_del,j et Q_del,dh'!$D137,0)","v":0},{"$f":"IF(N188=\"Oui\",'Q_del,j et Q_del,dh'!$D137,0)","v":0},{"$f":"IF(O188=\"Oui\",'Q_del,j et Q_del,dh'!$D137,0)","v":0},{"$f":"IF(P188=\"Oui\",'Q_del,j et Q_del,dh'!$D137,0)","v":0},{"$f":"IF(Q188=\"Oui\",'Q_del,j et Q_del,dh'!$D137,0)","v":0},{"$f":"IF(R188=\"Oui\",'Q_del,j et Q_del,dh'!$D137,0)","v":0},{"$f":"IF(S188=\"Oui\",'Q_del,j et Q_del,dh'!$D137,0)","v":0},{"$f":"IF(T188=\"Oui\",'Q_del,j et Q_del,dh'!$D137,0)","v":0},{"$f":"IF(U188=\"Oui\",'Q_del,j et Q_del,dh'!$D137,0)","v":0},{"$f":"IF(V188=\"Oui\",'Q_del,j et Q_del,dh'!$D137,0)","v":0},{"$f":"IF(W188=\"Oui\",'Q_del,j et Q_del,dh'!$D137,0)","v":0},{"$f":"IF(X188=\"Oui\",'Q_del,j et Q_del,dh'!$D137,0)","v":0},{"$f":"IF(Y188=\"Oui\",'Q_del,j et Q_del,dh'!$D137,0)","v":0},{"$f":"IF(Z188=\"Oui\",'Q_del,j et Q_del,dh'!$D137,0)","v":0},{"$f":"IF(AA188=\"Oui\",'Q_del,j et Q_del,dh'!$D137,0)","v":0},{"$f":"IF(AB188=\"Oui\",'Q_del,j et Q_del,dh'!$D137,0)","v":0},{"$f":"IF(AC188=\"Oui\",'Q_del,j et Q_del,dh'!$D137,0)","v":0},{"$f":"IF(AD188=\"Oui\",'Q_del,j et Q_del,dh'!$D137,0)","v":0},{"$f":"IF(AE188=\"Oui\",'Q_del,j et Q_del,dh'!$D137,0)","v":0},{"$f":"IF(AF188=\"Oui\",'Q_del,j et Q_del,dh'!$D137,0)","v":0},{"$f":"IF(AG188=\"Oui\",'Q_del,j et Q_del,dh'!$D137,0)","v":0},{"$f":"IF(AH188=\"Oui\",'Q_del,j et Q_del,dh'!$D137,0)","v":0},{"$f":"IF(AI188=\"Oui\",'Q_del,j et Q_del,dh'!$D137,0)","v":0},{"$f":"IF(AJ188=\"Oui\",'Q_del,j et Q_del,dh'!$D137,0)","v":0},{"$f":"IF(AK188=\"Oui\",'Q_del,j et Q_del,dh'!$D137,0)","v":0},{"$f":"IF(AL188=\"Oui\",'Q_del,j et Q_del,dh'!$D137,0)","v":0},{"$f":"IF(AM188=\"Oui\",'Q_del,j et Q_del,dh'!$D137,0)","v":0},{"$f":"IF(AN188=\"Oui\",'Q_del,j et Q_del,dh'!$D137,0)","v":0},{"$f":"IF(AO188=\"Oui\",'Q_del,j et Q_del,dh'!$D137,0)","v":0},{"$f":"IF(AP188=\"Oui\",'Q_del,j et Q_del,dh'!$D137,0)","v":0},{"$f":"IF(AQ188=\"Oui\",'Q_del,j et Q_del,dh'!$D137,0)","v":0},{"$f":"IF(AR188=\"Oui\",'Q_del,j et Q_del,dh'!$D137,0)","v":0},{"$f":"IF(AS188=\"Oui\",'Q_del,j et Q_del,dh'!$D137,0)","v":0},{"$f":"IF(AT188=\"Oui\",'Q_del,j et Q_del,dh'!$D137,0)","v":0},{"$f":"IF(AU188=\"Oui\",'Q_del,j et Q_del,dh'!$D137,0)","v":0},{"$f":"IF(AV188=\"Oui\",'Q_del,j et Q_del,dh'!$D137,0)","v":0},{"$f":"IF(AW188=\"Oui\",'Q_del,j et Q_del,dh'!$D137,0)","v":0},{"$f":"IF(AX188=\"Oui\",'Q_del,j et Q_del,dh'!$D137,0)","v":0},{"$f":"IF(AY188=\"Oui\",'Q_del,j et Q_del,dh'!$D137,0)","v":0},{"$f":"IF(AZ188=\"Oui\",'Q_del,j et Q_del,dh'!$D137,0)","v":0},{"$f":"IF(BA188=\"Oui\",'Q_del,j et Q_del,dh'!$D137,0)","v":0}]
["Qdel,l,j [MJ]","Demandeur de chaleur 131",{"$f":"C443+1","v":131},{"$f":"IF(D189=\"Oui\",'Q_del,j et Q_del,dh'!$D138,0)","v":0},{"$f":"IF(E189=\"Oui\",'Q_del,j et Q_del,dh'!$D138,0)","v":0},{"$f":"IF(F189=\"Oui\",'Q_del,j et Q_del,dh'!$D138,0)","v":0},{"$f":"IF(G189=\"Oui\",'Q_del,j et Q_del,dh'!$D138,0)","v":0},{"$f":"IF(H189=\"Oui\",'Q_del,j et Q_del,dh'!$D138,0)","v":0},{"$f":"IF(I189=\"Oui\",'Q_del,j et Q_del,dh'!$D138,0)","v":0},{"$f":"IF(J189=\"Oui\",'Q_del,j et Q_del,dh'!$D138,0)","v":0},{"$f":"IF(K189=\"Oui\",'Q_del,j et Q_del,dh'!$D138,0)","v":0},{"$f":"IF(L189=\"Oui\",'Q_del,j et Q_del,dh'!$D138,0)","v":0},{"$f":"IF(M189=\"Oui\",'Q_del,j et Q_del,dh'!$D138,0)","v":0},{"$f":"IF(N189=\"Oui\",'Q_del,j et Q_del,dh'!$D138,0)","v":0},{"$f":"IF(O189=\"Oui\",'Q_del,j et Q_del,dh'!$D138,0)","v":0},{"$f":"IF(P189=\"Oui\",'Q_del,j et Q_del,dh'!$D138,0)","v":0},{"$f":"IF(Q189=\"Oui\",'Q_del,j et Q_del,dh'!$D138,0)","v":0},{"$f":"IF(R189=\"Oui\",'Q_del,j et Q_del,dh'!$D138,0)","v":0},{"$f":"IF(S189=\"Oui\",'Q_del,j et Q_del,dh'!$D138,0)","v":0},{"$f":"IF(T189=\"Oui\",'Q_del,j et Q_del,dh'!$D138,0)","v":0},{"$f":"IF(U189=\"Oui\",'Q_del,j et Q_del,dh'!$D138,0)","v":0},{"$f":"IF(V189=\"Oui\",'Q_del,j et Q_del,dh'!$D138,0)","v":0},{"$f":"IF(W189=\"Oui\",'Q_del,j et Q_del,dh'!$D138,0)","v":0},{"$f":"IF(X189=\"Oui\",'Q_del,j et Q_del,dh'!$D138,0)","v":0},{"$f":"IF(Y189=\"Oui\",'Q_del,j et Q_del,dh'!$D138,0)","v":0},{"$f":"IF(Z189=\"Oui\",'Q_del,j et Q_del,dh'!$D138,0)","v":0},{"$f":"IF(AA189=\"Oui\",'Q_del,j et Q_del,dh'!$D138,0)","v":0},{"$f":"IF(AB189=\"Oui\",'Q_del,j et Q_del,dh'!$D138,0)","v":0},{"$f":"IF(AC189=\"Oui\",'Q_del,j et Q_del,dh'!$D138,0)","v":0},{"$f":"IF(AD189=\"Oui\",'Q_del,j et Q_del,dh'!$D138,0)","v":0},{"$f":"IF(AE189=\"Oui\",'Q_del,j et Q_del,dh'!$D138,0)","v":0},{"$f":"IF(AF189=\"Oui\",'Q_del,j et Q_del,dh'!$D138,0)","v":0},{"$f":"IF(AG189=\"Oui\",'Q_del,j et Q_del,dh'!$D138,0)","v":0},{"$f":"IF(AH189=\"Oui\",'Q_del,j et Q_del,dh'!$D138,0)","v":0},{"$f":"IF(AI189=\"Oui\",'Q_del,j et Q_del,dh'!$D138,0)","v":0},{"$f":"IF(AJ189=\"Oui\",'Q_del,j et Q_del,dh'!$D138,0)","v":0},{"$f":"IF(AK189=\"Oui\",'Q_del,j et Q_del,dh'!$D138,0)","v":0},{"$f":"IF(AL189=\"Oui\",'Q_del,j et Q_del,dh'!$D138,0)","v":0},{"$f":"IF(AM189=\"Oui\",'Q_del,j et Q_del,dh'!$D138,0)","v":0},{"$f":"IF(AN189=\"Oui\",'Q_del,j et Q_del,dh'!$D138,0)","v":0},{"$f":"IF(AO189=\"Oui\",'Q_del,j et Q_del,dh'!$D138,0)","v":0},{"$f":"IF(AP189=\"Oui\",'Q_del,j et Q_del,dh'!$D138,0)","v":0},{"$f":"IF(AQ189=\"Oui\",'Q_del,j et Q_del,dh'!$D138,0)","v":0},{"$f":"IF(AR189=\"Oui\",'Q_del,j et Q_del,dh'!$D138,0)","v":0},{"$f":"IF(AS189=\"Oui\",'Q_del,j et Q_del,dh'!$D138,0)","v":0},{"$f":"IF(AT189=\"Oui\",'Q_del,j et Q_del,dh'!$D138,0)","v":0},{"$f":"IF(AU189=\"Oui\",'Q_del,j et Q_del,dh'!$D138,0)","v":0},{"$f":"IF(AV189=\"Oui\",'Q_del,j et Q_del,dh'!$D138,0)","v":0},{"$f":"IF(AW189=\"Oui\",'Q_del,j et Q_del,dh'!$D138,0)","v":0},{"$f":"IF(AX189=\"Oui\",'Q_del,j et Q_del,dh'!$D138,0)","v":0},{"$f":"IF(AY189=\"Oui\",'Q_del,j et Q_del,dh'!$D138,0)","v":0},{"$f":"IF(AZ189=\"Oui\",'Q_del,j et Q_del,dh'!$D138,0)","v":0},{"$f":"IF(BA189=\"Oui\",'Q_del,j et Q_del,dh'!$D138,0)","v":0}]
["Qdel,l,j [MJ]","Demandeur de chaleur 132",132,{"$f":"IF(D190=\"Oui\",'Q_del,j et Q_del,dh'!$D139,0)","v":0},{"$f":"IF(E190=\"Oui\",'Q_del,j et Q_del,dh'!$D139,0)","v":0},{"$f":"IF(F190=\"Oui\",'Q_del,j et Q_del,dh'!$D139,0)","v":0},{"$f":"IF(G190=\"Oui\",'Q_del,j et Q_del,dh'!$D139,0)","v":0},{"$f":"IF(H190=\"Oui\",'Q_del,j et Q_del,dh'!$D139,0)","v":0},{"$f":"IF(I190=\"Oui\",'Q_del,j et Q_del,dh'!$D139,0)","v":0},{"$f":"IF(J190=\"Oui\",'Q_del,j et Q_del,dh'!$D139,0)","v":0},{"$f":"IF(K190=\"Oui\",'Q_del,j et Q_del,dh'!$D139,0)","v":0},{"$f":"IF(L190=\"Oui\",'Q_del,j et Q_del,dh'!$D139,0)","v":0},{"$f":"IF(M190=\"Oui\",'Q_del,j et Q_del,dh'!$D139,0)","v":0},{"$f":"IF(N190=\"Oui\",'Q_del,j et Q_del,dh'!$D139,0)","v":0},{"$f":"IF(O190=\"Oui\",'Q_del,j et Q_del,dh'!$D139,0)","v":0},{"$f":"IF(P190=\"Oui\",'Q_del,j et Q_del,dh'!$D139,0)","v":0},{"$f":"IF(Q190=\"Oui\",'Q_del,j et Q_del,dh'!$D139,0)","v":0},{"$f":"IF(R190=\"Oui\",'Q_del,j et Q_del,dh'!$D139,0)","v":0},{"$f":"IF(S190=\"Oui\",'Q_del,j et Q_del,dh'!$D139,0)","v":0},{"$f":"IF(T190=\"Oui\",'Q_del,j et Q_del,dh'!$D139,0)","v":0},{"$f":"IF(U190=\"Oui\",'Q_del,j et Q_del,dh'!$D139,0)","v":0},{"$f":"IF(V190=\"Oui\",'Q_del,j et Q_del,dh'!$D139,0)","v":0},{"$f":"IF(W190=\"Oui\",'Q_del,j et Q_del,dh'!$D139,0)","v":0},{"$f":"IF(X190=\"Oui\",'Q_del,j et Q_del,dh'!$D139,0)","v":0},{"$f":"IF(Y190=\"Oui\",'Q_del,j et Q_del,dh'!$D139,0)","v":0},{"$f":"IF(Z190=\"Oui\",'Q_del,j et Q_del,dh'!$D139,0)","v":0},{"$f":"IF(AA190=\"Oui\",'Q_del,j et Q_del,dh'!$D139,0)","v":0},{"$f":"IF(AB190=\"Oui\",'Q_del,j et Q_del,dh'!$D139,0)","v":0},{"$f":"IF(AC190=\"Oui\",'Q_del,j et Q_del,dh'!$D139,0)","v":0},{"$f":"IF(AD190=\"Oui\",'Q_del,j et Q_del,dh'!$D139,0)","v":0},{"$f":"IF(AE190=\"Oui\",'Q_del,j et Q_del,dh'!$D139,0)","v":0},{"$f":"IF(AF190=\"Oui\",'Q_del,j et Q_del,dh'!$D139,0)","v":0},{"$f":"IF(AG190=\"Oui\",'Q_del,j et Q_del,dh'!$D139,0)","v":0},{"$f":"IF(AH190=\"Oui\",'Q_del,j et Q_del,dh'!$D139,0)","v":0},{"$f":"IF(AI190=\"Oui\",'Q_del,j et Q_del,dh'!$D139,0)","v":0},{"$f":"IF(AJ190=\"Oui\",'Q_del,j et Q_del,dh'!$D139,0)","v":0},{"$f":"IF(AK190=\"Oui\",'Q_del,j et Q_del,dh'!$D139,0)","v":0},{"$f":"IF(AL190=\"Oui\",'Q_del,j et Q_del,dh'!$D139,0)","v":0},{"$f":"IF(AM190=\"Oui\",'Q_del,j et Q_del,dh'!$D139,0)","v":0},{"$f":"IF(AN190=\"Oui\",'Q_del,j et Q_del,dh'!$D139,0)","v":0},{"$f":"IF(AO190=\"Oui\",'Q_del,j et Q_del,dh'!$D139,0)","v":0},{"$f":"IF(AP190=\"Oui\",'Q_del,j et Q_del,dh'!$D139,0)","v":0},{"$f":"IF(AQ190=\"Oui\",'Q_del,j et Q_del,dh'!$D139,0)","v":0},{"$f":"IF(AR190=\"Oui\",'Q_del,j et Q_del,dh'!$D139,0)","v":0},{"$f":"IF(AS190=\"Oui\",'Q_del,j et Q_del,dh'!$D139,0)","v":0},{"$f":"IF(AT190=\"Oui\",'Q_del,j et Q_del,dh'!$D139,0)","v":0},{"$f":"IF(AU190=\"Oui\",'Q_del,j et Q_del,dh'!$D139,0)","v":0},{"$f":"IF(AV190=\"Oui\",'Q_del,j et Q_del,dh'!$D139,0)","v":0},{"$f":"IF(AW190=\"Oui\",'Q_del,j et Q_del,dh'!$D139,0)","v":0},{"$f":"IF(AX190=\"Oui\",'Q_del,j et Q_del,dh'!$D139,0)","v":0},{"$f":"IF(AY190=\"Oui\",'Q_del,j et Q_del,dh'!$D139,0)","v":0},{"$f":"IF(AZ190=\"Oui\",'Q_del,j et Q_del,dh'!$D139,0)","v":0},{"$f":"IF(BA190=\"Oui\",'Q_del,j et Q_del,dh'!$D139,0)","v":0}]
["Qdel,l,j [MJ]","Demandeur de chaleur 133",133,{"$f":"IF(D191=\"Oui\",'Q_del,j et Q_del,dh'!$D140,0)","v":0},{"$f":"IF(E191=\"Oui\",'Q_del,j et Q_del,dh'!$D140,0)","v":0},{"$f":"IF(F191=\"Oui\",'Q_del,j et Q_del,dh'!$D140,0)","v":0},{"$f":"IF(G191=\"Oui\",'Q_del,j et Q_del,dh'!$D140,0)","v":0},{"$f":"IF(H191=\"Oui\",'Q_del,j et Q_del,dh'!$D140,0)","v":0},{"$f":"IF(I191=\"Oui\",'Q_del,j et Q_del,dh'!$D140,0)","v":0},{"$f":"IF(J191=\"Oui\",'Q_del,j et Q_del,dh'!$D140,0)","v":0},{"$f":"IF(K191=\"Oui\",'Q_del,j et Q_del,dh'!$D140,0)","v":0},{"$f":"IF(L191=\"Oui\",'Q_del,j et Q_del,dh'!$D140,0)","v":0},{"$f":"IF(M191=\"Oui\",'Q_del,j et Q_del,dh'!$D140,0)","v":0},{"$f":"IF(N191=\"Oui\",'Q_del,j et Q_del,dh'!$D140,0)","v":0},{"$f":"IF(O191=\"Oui\",'Q_del,j et Q_del,dh'!$D140,0)","v":0},{"$f":"IF(P191=\"Oui\",'Q_del,j et Q_del,dh'!$D140,0)","v":0},{"$f":"IF(Q191=\"Oui\",'Q_del,j et Q_del,dh'!$D140,0)","v":0},{"$f":"IF(R191=\"Oui\",'Q_del,j et Q_del,dh'!$D140,0)","v":0},{"$f":"IF(S191=\"Oui\",'Q_del,j et Q_del,dh'!$D140,0)","v":0},{"$f":"IF(T191=\"Oui\",'Q_del,j et Q_del,dh'!$D140,0)","v":0},{"$f":"IF(U191=\"Oui\",'Q_del,j et Q_del,dh'!$D140,0)","v":0},{"$f":"IF(V191=\"Oui\",'Q_del,j et Q_del,dh'!$D140,0)","v":0},{"$f":"IF(W191=\"Oui\",'Q_del,j et Q_del,dh'!$D140,0)","v":0},{"$f":"IF(X191=\"Oui\",'Q_del,j et Q_del,dh'!$D140,0)","v":0},{"$f":"IF(Y191=\"Oui\",'Q_del,j et Q_del,dh'!$D140,0)","v":0},{"$f":"IF(Z191=\"Oui\",'Q_del,j et Q_del,dh'!$D140,0)","v":0},{"$f":"IF(AA191=\"Oui\",'Q_del,j et Q_del,dh'!$D140,0)","v":0},{"$f":"IF(AB191=\"Oui\",'Q_del,j et Q_del,dh'!$D140,0)","v":0},{"$f":"IF(AC191=\"Oui\",'Q_del,j et Q_del,dh'!$D140,0)","v":0},{"$f":"IF(AD191=\"Oui\",'Q_del,j et Q_del,dh'!$D140,0)","v":0},{"$f":"IF(AE191=\"Oui\",'Q_del,j et Q_del,dh'!$D140,0)","v":0},{"$f":"IF(AF191=\"Oui\",'Q_del,j et Q_del,dh'!$D140,0)","v":0},{"$f":"IF(AG191=\"Oui\",'Q_del,j et Q_del,dh'!$D140,0)","v":0},{"$f":"IF(AH191=\"Oui\",'Q_del,j et Q_del,dh'!$D140,0)","v":0},{"$f":"IF(AI191=\"Oui\",'Q_del,j et Q_del,dh'!$D140,0)","v":0},{"$f":"IF(AJ191=\"Oui\",'Q_del,j et Q_del,dh'!$D140,0)","v":0},{"$f":"IF(AK191=\"Oui\",'Q_del,j et Q_del,dh'!$D140,0)","v":0},{"$f":"IF(AL191=\"Oui\",'Q_del,j et Q_del,dh'!$D140,0)","v":0},{"$f":"IF(AM191=\"Oui\",'Q_del,j et Q_del,dh'!$D140,0)","v":0},{"$f":"IF(AN191=\"Oui\",'Q_del,j et Q_del,dh'!$D140,0)","v":0},{"$f":"IF(AO191=\"Oui\",'Q_del,j et Q_del,dh'!$D140,0)","v":0},{"$f":"IF(AP191=\"Oui\",'Q_del,j et Q_del,dh'!$D140,0)","v":0},{"$f":"IF(AQ191=\"Oui\",'Q_del,j et Q_del,dh'!$D140,0)","v":0},{"$f":"IF(AR191=\"Oui\",'Q_del,j et Q_del,dh'!$D140,0)","v":0},{"$f":"IF(AS191=\"Oui\",'Q_del,j et Q_del,dh'!$D140,0)","v":0},{"$f":"IF(AT191=\"Oui\",'Q_del,j et Q_del,dh'!$D140,0)","v":0},{"$f":"IF(AU191=\"Oui\",'Q_del,j et Q_del,dh'!$D140,0)","v":0},{"$f":"IF(AV191=\"Oui\",'Q_del,j et Q_del,dh'!$D140,0)","v":0},{"$f":"IF(AW191=\"Oui\",'Q_del,j et Q_del,dh'!$D140,0)","v":0},{"$f":"IF(AX191=\"Oui\",'Q_del,j et Q_del,dh'!$D140,0)","v":0},{"$f":"IF(AY191=\"Oui\",'Q_del,j et Q_del,dh'!$D140,0)","v":0},{"$f":"IF(AZ191=\"Oui\",'Q_del,j et Q_del,dh'!$D140,0)","v":0},{"$f":"IF(BA191=\"Oui\",'Q_del,j et Q_del,dh'!$D140,0)","v":0}]
["Qdel,l,j [MJ]","Demandeur de chaleur 134",134,{"$f":"IF(D192=\"Oui\",'Q_del,j et Q_del,dh'!$D141,0)","v":0},{"$f":"IF(E192=\"Oui\",'Q_del,j et Q_del,dh'!$D141,0)","v":0},{"$f":"IF(F192=\"Oui\",'Q_del,j et Q_del,dh'!$D141,0)","v":0},{"$f":"IF(G192=\"Oui\",'Q_del,j et Q_del,dh'!$D141,0)","v":0},{"$f":"IF(H192=\"Oui\",'Q_del,j et Q_del,dh'!$D141,0)","v":0},{"$f":"IF(I192=\"Oui\",'Q_del,j et Q_del,dh'!$D141,0)","v":0},{"$f":"IF(J192=\"Oui\",'Q_del,j et Q_del,dh'!$D141,0)","v":0},{"$f":"IF(K192=\"Oui\",'Q_del,j et Q_del,dh'!$D141,0)","v":0},{"$f":"IF(L192=\"Oui\",'Q_del,j et Q_del,dh'!$D141,0)","v":0},{"$f":"IF(M192=\"Oui\",'Q_del,j et Q_del,dh'!$D141,0)","v":0},{"$f":"IF(N192=\"Oui\",'Q_del,j et Q_del,dh'!$D141,0)","v":0},{"$f":"IF(O192=\"Oui\",'Q_del,j et Q_del,dh'!$D141,0)","v":0},{"$f":"IF(P192=\"Oui\",'Q_del,j et Q_del,dh'!$D141,0)","v":0},{"$f":"IF(Q192=\"Oui\",'Q_del,j et Q_del,dh'!$D141,0)","v":0},{"$f":"IF(R192=\"Oui\",'Q_del,j et Q_del,dh'!$D141,0)","v":0},{"$f":"IF(S192=\"Oui\",'Q_del,j et Q_del,dh'!$D141,0)","v":0},{"$f":"IF(T192=\"Oui\",'Q_del,j et Q_del,dh'!$D141,0)","v":0},{"$f":"IF(U192=\"Oui\",'Q_del,j et Q_del,dh'!$D141,0)","v":0},{"$f":"IF(V192=\"Oui\",'Q_del,j et Q_del,dh'!$D141,0)","v":0},{"$f":"IF(W192=\"Oui\",'Q_del,j et Q_del,dh'!$D141,0)","v":0},{"$f":"IF(X192=\"Oui\",'Q_del,j et Q_del,dh'!$D141,0)","v":0},{"$f":"IF(Y192=\"Oui\",'Q_del,j et Q_del,dh'!$D141,0)","v":0},{"$f":"IF(Z192=\"Oui\",'Q_del,j et Q_del,dh'!$D141,0)","v":0},{"$f":"IF(AA192=\"Oui\",'Q_del,j et Q_del,dh'!$D141,0)","v":0},{"$f":"IF(AB192=\"Oui\",'Q_del,j et Q_del,dh'!$D141,0)","v":0},{"$f":"IF(AC192=\"Oui\",'Q_del,j et Q_del,dh'!$D141,0)","v":0},{"$f":"IF(AD192=\"Oui\",'Q_del,j et Q_del,dh'!$D141,0)","v":0},{"$f":"IF(AE192=\"Oui\",'Q_del,j et Q_del,dh'!$D141,0)","v":0},{"$f":"IF(AF192=\"Oui\",'Q_del,j et Q_del,dh'!$D141,0)","v":0},{"$f":"IF(AG192=\"Oui\",'Q_del,j et Q_del,dh'!$D141,0)","v":0},{"$f":"IF(AH192=\"Oui\",'Q_del,j et Q_del,dh'!$D141,0)","v":0},{"$f":"IF(AI192=\"Oui\",'Q_del,j et Q_del,dh'!$D141,0)","v":0},{"$f":"IF(AJ192=\"Oui\",'Q_del,j et Q_del,dh'!$D141,0)","v":0},{"$f":"IF(AK192=\"Oui\",'Q_del,j et Q_del,dh'!$D141,0)","v":0},{"$f":"IF(AL192=\"Oui\",'Q_del,j et Q_del,dh'!$D141,0)","v":0},{"$f":"IF(AM192=\"Oui\",'Q_del,j et Q_del,dh'!$D141,0)","v":0},{"$f":"IF(AN192=\"Oui\",'Q_del,j et Q_del,dh'!$D141,0)","v":0},{"$f":"IF(AO192=\"Oui\",'Q_del,j et Q_del,dh'!$D141,0)","v":0},{"$f":"IF(AP192=\"Oui\",'Q_del,j et Q_del,dh'!$D141,0)","v":0},{"$f":"IF(AQ192=\"Oui\",'Q_del,j et Q_del,dh'!$D141,0)","v":0},{"$f":"IF(AR192=\"Oui\",'Q_del,j et Q_del,dh'!$D141,0)","v":0},{"$f":"IF(AS192=\"Oui\",'Q_del,j et Q_del,dh'!$D141,0)","v":0},{"$f":"IF(AT192=\"Oui\",'Q_del,j et Q_del,dh'!$D141,0)","v":0},{"$f":"IF(AU192=\"Oui\",'Q_del,j et Q_del,dh'!$D141,0)","v":0},{"$f":"IF(AV192=\"Oui\",'Q_del,j et Q_del,dh'!$D141,0)","v":0},{"$f":"IF(AW192=\"Oui\",'Q_del,j et Q_del,dh'!$D141,0)","v":0},{"$f":"IF(AX192=\"Oui\",'Q_del,j et Q_del,dh'!$D141,0)","v":0},{"$f":"IF(AY192=\"Oui\",'Q_del,j et Q_del,dh'!$D141,0)","v":0},{"$f":"IF(AZ192=\"Oui\",'Q_del,j et Q_del,dh'!$D141,0)","v":0},{"$f":"IF(BA192=\"Oui\",'Q_del,j et Q_del,dh'!$D141,0)","v":0}]
["Qdel,l,j [MJ]","Demandeur de chaleur 135",135,{"$f":"IF(D193=\"Oui\",'Q_del,j et Q_del,dh'!$D142,0)","v":0},{"$f":"IF(E193=\"Oui\",'Q_del,j et Q_del,dh'!$D142,0)","v":0},{"$f":"IF(F193=\"Oui\",'Q_del,j et Q_del,dh'!$D142,0)","v":0},{"$f":"IF(G193=\"Oui\",'Q_del,j et Q_del,dh'!$D142,0)","v":0},{"$f":"IF(H193=\"Oui\",'Q_del,j et Q_del,dh'!$D142,0)","v":0},{"$f":"IF(I193=\"Oui\",'Q_del,j et Q_del,dh'!$D142,0)","v":0},{"$f":"IF(J193=\"Oui\",'Q_del,j et Q_del,dh'!$D142,0)","v":0},{"$f":"IF(K193=\"Oui\",'Q_del,j et Q_del,dh'!$D142,0)","v":0},{"$f":"IF(L193=\"Oui\",'Q_del,j et Q_del,dh'!$D142,0)","v":0},{"$f":"IF(M193=\"Oui\",'Q_del,j et Q_del,dh'!$D142,0)","v":0},{"$f":"IF(N193=\"Oui\",'Q_del,j et Q_del,dh'!$D142,0)","v":0},{"$f":"IF(O193=\"Oui\",'Q_del,j et Q_del,dh'!$D142,0)","v":0},{"$f":"IF(P193=\"Oui\",'Q_del,j et Q_del,dh'!$D142,0)","v":0},{"$f":"IF(Q193=\"Oui\",'Q_del,j et Q_del,dh'!$D142,0)","v":0},{"$f":"IF(R193=\"Oui\",'Q_del,j et Q_del,dh'!$D142,0)","v":0},{"$f":"IF(S193=\"Oui\",'Q_del,j et Q_del,dh'!$D142,0)","v":0},{"$f":"IF(T193=\"Oui\",'Q_del,j et Q_del,dh'!$D142,0)","v":0},{"$f":"IF(U193=\"Oui\",'Q_del,j et Q_del,dh'!$D142,0)","v":0},{"$f":"IF(V193=\"Oui\",'Q_del,j et Q_del,dh'!$D142,0)","v":0},{"$f":"IF(W193=\"Oui\",'Q_del,j et Q_del,dh'!$D142,0)","v":0},{"$f":"IF(X193=\"Oui\",'Q_del,j et Q_del,dh'!$D142,0)","v":0},{"$f":"IF(Y193=\"Oui\",'Q_del,j et Q_del,dh'!$D142,0)","v":0},{"$f":"IF(Z193=\"Oui\",'Q_del,j et Q_del,dh'!$D142,0)","v":0},{"$f":"IF(AA193=\"Oui\",'Q_del,j et Q_del,dh'!$D142,0)","v":0},{"$f":"IF(AB193=\"Oui\",'Q_del,j et Q_del,dh'!$D142,0)","v":0},{"$f":"IF(AC193=\"Oui\",'Q_del,j et Q_del,dh'!$D142,0)","v":0},{"$f":"IF(AD193=\"Oui\",'Q_del,j et Q_del,dh'!$D142,0)","v":0},{"$f":"IF(AE193=\"Oui\",'Q_del,j et Q_del,dh'!$D142,0)","v":0},{"$f":"IF(AF193=\"Oui\",'Q_del,j et Q_del,dh'!$D142,0)","v":0},{"$f":"IF(AG193=\"Oui\",'Q_del,j et Q_del,dh'!$D142,0)","v":0},{"$f":"IF(AH193=\"Oui\",'Q_del,j et Q_del,dh'!$D142,0)","v":0},{"$f":"IF(AI193=\"Oui\",'Q_del,j et Q_del,dh'!$D142,0)","v":0},{"$f":"IF(AJ193=\"Oui\",'Q_del,j et Q_del,dh'!$D142,0)","v":0},{"$f":"IF(AK193=\"Oui\",'Q_del,j et Q_del,dh'!$D142,0)","v":0},{"$f":"IF(AL193=\"Oui\",'Q_del,j et Q_del,dh'!$D142,0)","v":0},{"$f":"IF(AM193=\"Oui\",'Q_del,j et Q_del,dh'!$D142,0)","v":0},{"$f":"IF(AN193=\"Oui\",'Q_del,j et Q_del,dh'!$D142,0)","v":0},{"$f":"IF(AO193=\"Oui\",'Q_del,j et Q_del,dh'!$D142,0)","v":0},{"$f":"IF(AP193=\"Oui\",'Q_del,j et Q_del,dh'!$D142,0)","v":0},{"$f":"IF(AQ193=\"Oui\",'Q_del,j et Q_del,dh'!$D142,0)","v":0},{"$f":"IF(AR193=\"Oui\",'Q_del,j et Q_del,dh'!$D142,0)","v":0},{"$f":"IF(AS193=\"Oui\",'Q_del,j et Q_del,dh'!$D142,0)","v":0},{"$f":"IF(AT193=\"Oui\",'Q_del,j et Q_del,dh'!$D142,0)","v":0},{"$f":"IF(AU193=\"Oui\",'Q_del,j et Q_del,dh'!$D142,0)","v":0},{"$f":"IF(AV193=\"Oui\",'Q_del,j et Q_del,dh'!$D142,0)","v":0},{"$f":"IF(AW193=\"Oui\",'Q_del,j et Q_del,dh'!$D142,0)","v":0},{"$f":"IF(AX193=\"Oui\",'Q_del,j et Q_del,dh'!$D142,0)","v":0},{"$f":"IF(AY193=\"Oui\",'Q_del,j et Q_del,dh'!$D142,0)","v":0},{"$f":"IF(AZ193=\"Oui\",'Q_del,j et Q_del,dh'!$D142,0)","v":0},{"$f":"IF(BA193=\"Oui\",'Q_del,j et Q_del,dh'!$D142,0)","v":0}]
["Qdel,l,j [MJ]","Demandeur de chaleur 136",136,{"$f":"IF(D194=\"Oui\",'Q_del,j et Q_del,dh'!$D143,0)","v":0},{"$f":"IF(E194=\"Oui\",'Q_del,j et Q_del,dh'!$D143,0)","v":0},{"$f":"IF(F194=\"Oui\",'Q_del,j et Q_del,dh'!$D143,0)","v":0},{"$f":"IF(G194=\"Oui\",'Q_del,j et Q_del,dh'!$D143,0)","v":0},{"$f":"IF(H194=\"Oui\",'Q_del,j et Q_del,dh'!$D143,0)","v":0},{"$f":"IF(I194=\"Oui\",'Q_del,j et Q_del,dh'!$D143,0)","v":0},{"$f":"IF(J194=\"Oui\",'Q_del,j et Q_del,dh'!$D143,0)","v":0},{"$f":"IF(K194=\"Oui\",'Q_del,j et Q_del,dh'!$D143,0)","v":0},{"$f":"IF(L194=\"Oui\",'Q_del,j et Q_del,dh'!$D143,0)","v":0},{"$f":"IF(M194=\"Oui\",'Q_del,j et Q_del,dh'!$D143,0)","v":0},{"$f":"IF(N194=\"Oui\",'Q_del,j et Q_del,dh'!$D143,0)","v":0},{"$f":"IF(O194=\"Oui\",'Q_del,j et Q_del,dh'!$D143,0)","v":0},{"$f":"IF(P194=\"Oui\",'Q_del,j et Q_del,dh'!$D143,0)","v":0},{"$f":"IF(Q194=\"Oui\",'Q_del,j et Q_del,dh'!$D143,0)","v":0},{"$f":"IF(R194=\"Oui\",'Q_del,j et Q_del,dh'!$D143,0)","v":0},{"$f":"IF(S194=\"Oui\",'Q_del,j et Q_del,dh'!$D143,0)","v":0},{"$f":"IF(T194=\"Oui\",'Q_del,j et Q_del,dh'!$D143,0)","v":0},{"$f":"IF(U194=\"Oui\",'Q_del,j et Q_del,dh'!$D143,0)","v":0},{"$f":"IF(V194=\"Oui\",'Q_del,j et Q_del,dh'!$D143,0)","v":0},{"$f":"IF(W194=\"Oui\",'Q_del,j et Q_del,dh'!$D143,0)","v":0},{"$f":"IF(X194=\"Oui\",'Q_del,j et Q_del,dh'!$D143,0)","v":0},{"$f":"IF(Y194=\"Oui\",'Q_del,j et Q_del,dh'!$D143,0)","v":0},{"$f":"IF(Z194=\"Oui\",'Q_del,j et Q_del,dh'!$D143,0)","v":0},{"$f":"IF(AA194=\"Oui\",'Q_del,j et Q_del,dh'!$D143,0)","v":0},{"$f":"IF(AB194=\"Oui\",'Q_del,j et Q_del,dh'!$D143,0)","v":0},{"$f":"IF(AC194=\"Oui\",'Q_del,j et Q_del,dh'!$D143,0)","v":0},{"$f":"IF(AD194=\"Oui\",'Q_del,j et Q_del,dh'!$D143,0)","v":0},{"$f":"IF(AE194=\"Oui\",'Q_del,j et Q_del,dh'!$D143,0)","v":0},{"$f":"IF(AF194=\"Oui\",'Q_del,j et Q_del,dh'!$D143,0)","v":0},{"$f":"IF(AG194=\"Oui\",'Q_del,j et Q_del,dh'!$D143,0)","v":0},{"$f":"IF(AH194=\"Oui\",'Q_del,j et Q_del,dh'!$D143,0)","v":0},{"$f":"IF(AI194=\"Oui\",'Q_del,j et Q_del,dh'!$D143,0)","v":0},{"$f":"IF(AJ194=\"Oui\",'Q_del,j et Q_del,dh'!$D143,0)","v":0},{"$f":"IF(AK194=\"Oui\",'Q_del,j et Q_del,dh'!$D143,0)","v":0},{"$f":"IF(AL194=\"Oui\",'Q_del,j et Q_del,dh'!$D143,0)","v":0},{"$f":"IF(AM194=\"Oui\",'Q_del,j et Q_del,dh'!$D143,0)","v":0},{"$f":"IF(AN194=\"Oui\",'Q_del,j et Q_del,dh'!$D143,0)","v":0},{"$f":"IF(AO194=\"Oui\",'Q_del,j et Q_del,dh'!$D143,0)","v":0},{"$f":"IF(AP194=\"Oui\",'Q_del,j et Q_del,dh'!$D143,0)","v":0},{"$f":"IF(AQ194=\"Oui\",'Q_del,j et Q_del,dh'!$D143,0)","v":0},{"$f":"IF(AR194=\"Oui\",'Q_del,j et Q_del,dh'!$D143,0)","v":0},{"$f":"IF(AS194=\"Oui\",'Q_del,j et Q_del,dh'!$D143,0)","v":0},{"$f":"IF(AT194=\"Oui\",'Q_del,j et Q_del,dh'!$D143,0)","v":0},{"$f":"IF(AU194=\"Oui\",'Q_del,j et Q_del,dh'!$D143,0)","v":0},{"$f":"IF(AV194=\"Oui\",'Q_del,j et Q_del,dh'!$D143,0)","v":0},{"$f":"IF(AW194=\"Oui\",'Q_del,j et Q_del,dh'!$D143,0)","v":0},{"$f":"IF(AX194=\"Oui\",'Q_del,j et Q_del,dh'!$D143,0)","v":0},{"$f":"IF(AY194=\"Oui\",'Q_del,j et Q_del,dh'!$D143,0)","v":0},{"$f":"IF(AZ194=\"Oui\",'Q_del,j et Q_del,dh'!$D143,0)","v":0},{"$f":"IF(BA194=\"Oui\",'Q_del,j et Q_del,dh'!$D143,0)","v":0}]
["Qdel,l,j [MJ]","Demandeur de chaleur 137",137,{"$f":"IF(D195=\"Oui\",'Q_del,j et Q_del,dh'!$D144,0)","v":0},{"$f":"IF(E195=\"Oui\",'Q_del,j et Q_del,dh'!$D144,0)","v":0},{"$f":"IF(F195=\"Oui\",'Q_del,j et Q_del,dh'!$D144,0)","v":0},{"$f":"IF(G195=\"Oui\",'Q_del,j et Q_del,dh'!$D144,0)","v":0},{"$f":"IF(H195=\"Oui\",'Q_del,j et Q_del,dh'!$D144,0)","v":0},{"$f":"IF(I195=\"Oui\",'Q_del,j et Q_del,dh'!$D144,0)","v":0},{"$f":"IF(J195=\"Oui\",'Q_del,j et Q_del,dh'!$D144,0)","v":0},{"$f":"IF(K195=\"Oui\",'Q_del,j et Q_del,dh'!$D144,0)","v":0},{"$f":"IF(L195=\"Oui\",'Q_del,j et Q_del,dh'!$D144,0)","v":0},{"$f":"IF(M195=\"Oui\",'Q_del,j et Q_del,dh'!$D144,0)","v":0},{"$f":"IF(N195=\"Oui\",'Q_del,j et Q_del,dh'!$D144,0)","v":0},{"$f":"IF(O195=\"Oui\",'Q_del,j et Q_del,dh'!$D144,0)","v":0},{"$f":"IF(P195=\"Oui\",'Q_del,j et Q_del,dh'!$D144,0)","v":0},{"$f":"IF(Q195=\"Oui\",'Q_del,j et Q_del,dh'!$D144,0)","v":0},{"$f":"IF(R195=\"Oui\",'Q_del,j et Q_del,dh'!$D144,0)","v":0},{"$f":"IF(S195=\"Oui\",'Q_del,j et Q_del,dh'!$D144,0)","v":0},{"$f":"IF(T195=\"Oui\",'Q_del,j et Q_del,dh'!$D144,0)","v":0},{"$f":"IF(U195=\"Oui\",'Q_del,j et Q_del,dh'!$D144,0)","v":0},{"$f":"IF(V195=\"Oui\",'Q_del,j et Q_del,dh'!$D144,0)","v":0},{"$f":"IF(W195=\"Oui\",'Q_del,j et Q_del,dh'!$D144,0)","v":0},{"$f":"IF(X195=\"Oui\",'Q_del,j et Q_del,dh'!$D144,0)","v":0},{"$f":"IF(Y195=\"Oui\",'Q_del,j et Q_del,dh'!$D144,0)","v":0},{"$f":"IF(Z195=\"Oui\",'Q_del,j et Q_del,dh'!$D144,0)","v":0},{"$f":"IF(AA195=\"Oui\",'Q_del,j et Q_del,dh'!$D144,0)","v":0},{"$f":"IF(AB195=\"Oui\",'Q_del,j et Q_del,dh'!$D144,0)","v":0},{"$f":"IF(AC195=\"Oui\",'Q_del,j et Q_del,dh'!$D144,0)","v":0},{"$f":"IF(AD195=\"Oui\",'Q_del,j et Q_del,dh'!$D144,0)","v":0},{"$f":"IF(AE195=\"Oui\",'Q_del,j et Q_del,dh'!$D144,0)","v":0},{"$f":"IF(AF195=\"Oui\",'Q_del,j et Q_del,dh'!$D144,0)","v":0},{"$f":"IF(AG195=\"Oui\",'Q_del,j et Q_del,dh'!$D144,0)","v":0},{"$f":"IF(AH195=\"Oui\",'Q_del,j et Q_del,dh'!$D144,0)","v":0},{"$f":"IF(AI195=\"Oui\",'Q_del,j et Q_del,dh'!$D144,0)","v":0},{"$f":"IF(AJ195=\"Oui\",'Q_del,j et Q_del,dh'!$D144,0)","v":0},{"$f":"IF(AK195=\"Oui\",'Q_del,j et Q_del,dh'!$D144,0)","v":0},{"$f":"IF(AL195=\"Oui\",'Q_del,j et Q_del,dh'!$D144,0)","v":0},{"$f":"IF(AM195=\"Oui\",'Q_del,j et Q_del,dh'!$D144,0)","v":0},{"$f":"IF(AN195=\"Oui\",'Q_del,j et Q_del,dh'!$D144,0)","v":0},{"$f":"IF(AO195=\"Oui\",'Q_del,j et Q_del,dh'!$D144,0)","v":0},{"$f":"IF(AP195=\"Oui\",'Q_del,j et Q_del,dh'!$D144,0)","v":0},{"$f":"IF(AQ195=\"Oui\",'Q_del,j et Q_del,dh'!$D144,0)","v":0},{"$f":"IF(AR195=\"Oui\",'Q_del,j et Q_del,dh'!$D144,0)","v":0},{"$f":"IF(AS195=\"Oui\",'Q_del,j et Q_del,dh'!$D144,0)","v":0},{"$f":"IF(AT195=\"Oui\",'Q_del,j et Q_del,dh'!$D144,0)","v":0},{"$f":"IF(AU195=\"Oui\",'Q_del,j et Q_del,dh'!$D144,0)","v":0},{"$f":"IF(AV195=\"Oui\",'Q_del,j et Q_del,dh'!$D144,0)","v":0},{"$f":"IF(AW195=\"Oui\",'Q_del,j et Q_del,dh'!$D144,0)","v":0},{"$f":"IF(AX195=\"Oui\",'Q_del,j et Q_del,dh'!$D144,0)","v":0},{"$f":"IF(AY195=\"Oui\",'Q_del,j et Q_del,dh'!$D144,0)","v":0},{"$f":"IF(AZ195=\"Oui\",'Q_del,j et Q_del,dh'!$D144,0)","v":0},{"$f":"IF(BA195=\"Oui\",'Q_del,j et Q_del,dh'!$D144,0)","v":0}]
["Qdel,l,j [MJ]","Demandeur de chaleur 138",138,{"$f":"IF(D196=\"Oui\",'Q_del,j et Q_del,dh'!$D145,0)","v":0},{"$f":"IF(E196=\"Oui\",'Q_del,j et Q_del,dh'!$D145,0)","v":0},{"$f":"IF(F196=\"Oui\",'Q_del,j et Q_del,dh'!$D145,0)","v":0},{"$f":"IF(G196=\"Oui\",'Q_del,j et Q_del,dh'!$D145,0)","v":0},{"$f":"IF(H196=\"Oui\",'Q_del,j et Q_del,dh'!$D145,0)","v":0},{"$f":"IF(I196=\"Oui\",'Q_del,j et Q_del,dh'!$D145,0)","v":0},{"$f":"IF(J196=\"Oui\",'Q_del,j et Q_del,dh'!$D145,0)","v":0},{"$f":"IF(K196=\"Oui\",'Q_del,j et Q_del,dh'!$D145,0)","v":0},{"$f":"IF(L196=\"Oui\",'Q_del,j et Q_del,dh'!$D145,0)","v":0},{"$f":"IF(M196=\"Oui\",'Q_del,j et Q_del,dh'!$D145,0)","v":0},{"$f":"IF(N196=\"Oui\",'Q_del,j et Q_del,dh'!$D145,0)","v":0},{"$f":"IF(O196=\"Oui\",'Q_del,j et Q_del,dh'!$D145,0)","v":0},{"$f":"IF(P196=\"Oui\",'Q_del,j et Q_del,dh'!$D145,0)","v":0},{"$f":"IF(Q196=\"Oui\",'Q_del,j et Q_del,dh'!$D145,0)","v":0},{"$f":"IF(R196=\"Oui\",'Q_del,j et Q_del,dh'!$D145,0)","v":0},{"$f":"IF(S196=\"Oui\",'Q_del,j et Q_del,dh'!$D145,0)","v":0},{"$f":"IF(T196=\"Oui\",'Q_del,j et Q_del,dh'!$D145,0)","v":0},{"$f":"IF(U196=\"Oui\",'Q_del,j et Q_del,dh'!$D145,0)","v":0},{"$f":"IF(V196=\"Oui\",'Q_del,j et Q_del,dh'!$D145,0)","v":0},{"$f":"IF(W196=\"Oui\",'Q_del,j et Q_del,dh'!$D145,0)","v":0},{"$f":"IF(X196=\"Oui\",'Q_del,j et Q_del,dh'!$D145,0)","v":0},{"$f":"IF(Y196=\"Oui\",'Q_del,j et Q_del,dh'!$D145,0)","v":0},{"$f":"IF(Z196=\"Oui\",'Q_del,j et Q_del,dh'!$D145,0)","v":0},{"$f":"IF(AA196=\"Oui\",'Q_del,j et Q_del,dh'!$D145,0)","v":0},{"$f":"IF(AB196=\"Oui\",'Q_del,j et Q_del,dh'!$D145,0)","v":0},{"$f":"IF(AC196=\"Oui\",'Q_del,j et Q_del,dh'!$D145,0)","v":0},{"$f":"IF(AD196=\"Oui\",'Q_del,j et Q_del,dh'!$D145,0)","v":0},{"$f":"IF(AE196=\"Oui\",'Q_del,j et Q_del,dh'!$D145,0)","v":0},{"$f":"IF(AF196=\"Oui\",'Q_del,j et Q_del,dh'!$D145,0)","v":0},{"$f":"IF(AG196=\"Oui\",'Q_del,j et Q_del,dh'!$D145,0)","v":0},{"$f":"IF(AH196=\"Oui\",'Q_del,j et Q_del,dh'!$D145,0)","v":0},{"$f":"IF(AI196=\"Oui\",'Q_del,j et Q_del,dh'!$D145,0)","v":0},{"$f":"IF(AJ196=\"Oui\",'Q_del,j et Q_del,dh'!$D145,0)","v":0},{"$f":"IF(AK196=\"Oui\",'Q_del,j et Q_del,dh'!$D145,0)","v":0},{"$f":"IF(AL196=\"Oui\",'Q_del,j et Q_del,dh'!$D145,0)","v":0},{"$f":"IF(AM196=\"Oui\",'Q_del,j et Q_del,dh'!$D145,0)","v":0},{"$f":"IF(AN196=\"Oui\",'Q_del,j et Q_del,dh'!$D145,0)","v":0},{"$f":"IF(AO196=\"Oui\",'Q_del,j et Q_del,dh'!$D145,0)","v":0},{"$f":"IF(AP196=\"Oui\",'Q_del,j et Q_del,dh'!$D145,0)","v":0},{"$f":"IF(AQ196=\"Oui\",'Q_del,j et Q_del,dh'!$D145,0)","v":0},{"$f":"IF(AR196=\"Oui\",'Q_del,j et Q_del,dh'!$D145,0)","v":0},{"$f":"IF(AS196=\"Oui\",'Q_del,j et Q_del,dh'!$D145,0)","v":0},{"$f":"IF(AT196=\"Oui\",'Q_del,j et Q_del,dh'!$D145,0)","v":0},{"$f":"IF(AU196=\"Oui\",'Q_del,j et Q_del,dh'!$D145,0)","v":0},{"$f":"IF(AV196=\"Oui\",'Q_del,j et Q_del,dh'!$D145,0)","v":0},{"$f":"IF(AW196=\"Oui\",'Q_del,j et Q_del,dh'!$D145,0)","v":0},{"$f":"IF(AX196=\"Oui\",'Q_del,j et Q_del,dh'!$D145,0)","v":0},{"$f":"IF(AY196=\"Oui\",'Q_del,j et Q_del,dh'!$D145,0)","v":0},{"$f":"IF(AZ196=\"Oui\",'Q_del,j et Q_del,dh'!$D145,0)","v":0},{"$f":"IF(BA196=\"Oui\",'Q_del,j et Q_del,dh'!$D145,0)","v":0}]
["Qdel,l,j [MJ]","Demandeur de chaleur 139",139,{"$f":"IF(D197=\"Oui\",'Q_del,j et Q_del,dh'!$D146,0)","v":0},{"$f":"IF(E197=\"Oui\",'Q_del,j et Q_del,dh'!$D146,0)","v":0},{"$f":"IF(F197=\"Oui\",'Q_del,j et Q_del,dh'!$D146,0)","v":0},{"$f":"IF(G197=\"Oui\",'Q_del,j et Q_del,dh'!$D146,0)","v":0},{"$f":"IF(H197=\"Oui\",'Q_del,j et Q_del,dh'!$D146,0)","v":0},{"$f":"IF(I197=\"Oui\",'Q_del,j et Q_del,dh'!$D146,0)","v":0},{"$f":"IF(J197=\"Oui\",'Q_del,j et Q_del,dh'!$D146,0)","v":0},{"$f":"IF(K197=\"Oui\",'Q_del,j et Q_del,dh'!$D146,0)","v":0},{"$f":"IF(L197=\"Oui\",'Q_del,j et Q_del,dh'!$D146,0)","v":0},{"$f":"IF(M197=\"Oui\",'Q_del,j et Q_del,dh'!$D146,0)","v":0},{"$f":"IF(N197=\"Oui\",'Q_del,j et Q_del,dh'!$D146,0)","v":0},{"$f":"IF(O197=\"Oui\",'Q_del,j et Q_del,dh'!$D146,0)","v":0},{"$f":"IF(P197=\"Oui\",'Q_del,j et Q_del,dh'!$D146,0)","v":0},{"$f":"IF(Q197=\"Oui\",'Q_del,j et Q_del,dh'!$D146,0)","v":0},{"$f":"IF(R197=\"Oui\",'Q_del,j et Q_del,dh'!$D146,0)","v":0},{"$f":"IF(S197=\"Oui\",'Q_del,j et Q_del,dh'!$D146,0)","v":0},{"$f":"IF(T197=\"Oui\",'Q_del,j et Q_del,dh'!$D146,0)","v":0},{"$f":"IF(U197=\"Oui\",'Q_del,j et Q_del,dh'!$D146,0)","v":0},{"$f":"IF(V197=\"Oui\",'Q_del,j et Q_del,dh'!$D146,0)","v":0},{"$f":"IF(W197=\"Oui\",'Q_del,j et Q_del,dh'!$D146,0)","v":0},{"$f":"IF(X197=\"Oui\",'Q_del,j et Q_del,dh'!$D146,0)","v":0},{"$f":"IF(Y197=\"Oui\",'Q_del,j et Q_del,dh'!$D146,0)","v":0},{"$f":"IF(Z197=\"Oui\",'Q_del,j et Q_del,dh'!$D146,0)","v":0},{"$f":"IF(AA197=\"Oui\",'Q_del,j et Q_del,dh'!$D146,0)","v":0},{"$f":"IF(AB197=\"Oui\",'Q_del,j et Q_del,dh'!$D146,0)","v":0},{"$f":"IF(AC197=\"Oui\",'Q_del,j et Q_del,dh'!$D146,0)","v":0},{"$f":"IF(AD197=\"Oui\",'Q_del,j et Q_del,dh'!$D146,0)","v":0},{"$f":"IF(AE197=\"Oui\",'Q_del,j et Q_del,dh'!$D146,0)","v":0},{"$f":"IF(AF197=\"Oui\",'Q_del,j et Q_del,dh'!$D146,0)","v":0},{"$f":"IF(AG197=\"Oui\",'Q_del,j et Q_del,dh'!$D146,0)","v":0},{"$f":"IF(AH197=\"Oui\",'Q_del,j et Q_del,dh'!$D146,0)","v":0},{"$f":"IF(AI197=\"Oui\",'Q_del,j et Q_del,dh'!$D146,0)","v":0},{"$f":"IF(AJ197=\"Oui\",'Q_del,j et Q_del,dh'!$D146,0)","v":0},{"$f":"IF(AK197=\"Oui\",'Q_del,j et Q_del,dh'!$D146,0)","v":0},{"$f":"IF(AL197=\"Oui\",'Q_del,j et Q_del,dh'!$D146,0)","v":0},{"$f":"IF(AM197=\"Oui\",'Q_del,j et Q_del,dh'!$D146,0)","v":0},{"$f":"IF(AN197=\"Oui\",'Q_del,j et Q_del,dh'!$D146,0)","v":0},{"$f":"IF(AO197=\"Oui\",'Q_del,j et Q_del,dh'!$D146,0)","v":0},{"$f":"IF(AP197=\"Oui\",'Q_del,j et Q_del,dh'!$D146,0)","v":0},{"$f":"IF(AQ197=\"Oui\",'Q_del,j et Q_del,dh'!$D146,0)","v":0},{"$f":"IF(AR197=\"Oui\",'Q_del,j et Q_del,dh'!$D146,0)","v":0},{"$f":"IF(AS197=\"Oui\",'Q_del,j et Q_del,dh'!$D146,0)","v":0},{"$f":"IF(AT197=\"Oui\",'Q_del,j et Q_del,dh'!$D146,0)","v":0},{"$f":"IF(AU197=\"Oui\",'Q_del,j et Q_del,dh'!$D146,0)","v":0},{"$f":"IF(AV197=\"Oui\",'Q_del,j et Q_del,dh'!$D146,0)","v":0},{"$f":"IF(AW197=\"Oui\",'Q_del,j et Q_del,dh'!$D146,0)","v":0},{"$f":"IF(AX197=\"Oui\",'Q_del,j et Q_del,dh'!$D146,0)","v":0},{"$f":"IF(AY197=\"Oui\",'Q_del,j et Q_del,dh'!$D146,0)","v":0},{"$f":"IF(AZ197=\"Oui\",'Q_del,j et Q_del,dh'!$D146,0)","v":0},{"$f":"IF(BA197=\"Oui\",'Q_del,j et Q_del,dh'!$D146,0)","v":0}]
["Qdel,l,j [MJ]","Demandeur de chaleur 140",140,{"$f":"IF(D198=\"Oui\",'Q_del,j et Q_del,dh'!$D147,0)","v":0},{"$f":"IF(E198=\"Oui\",'Q_del,j et Q_del,dh'!$D147,0)","v":0},{"$f":"IF(F198=\"Oui\",'Q_del,j et Q_del,dh'!$D147,0)","v":0},{"$f":"IF(G198=\"Oui\",'Q_del,j et Q_del,dh'!$D147,0)","v":0},{"$f":"IF(H198=\"Oui\",'Q_del,j et Q_del,dh'!$D147,0)","v":0},{"$f":"IF(I198=\"Oui\",'Q_del,j et Q_del,dh'!$D147,0)","v":0},{"$f":"IF(J198=\"Oui\",'Q_del,j et Q_del,dh'!$D147,0)","v":0},{"$f":"IF(K198=\"Oui\",'Q_del,j et Q_del,dh'!$D147,0)","v":0},{"$f":"IF(L198=\"Oui\",'Q_del,j et Q_del,dh'!$D147,0)","v":0},{"$f":"IF(M198=\"Oui\",'Q_del,j et Q_del,dh'!$D147,0)","v":0},{"$f":"IF(N198=\"Oui\",'Q_del,j et Q_del,dh'!$D147,0)","v":0},{"$f":"IF(O198=\"Oui\",'Q_del,j et Q_del,dh'!$D147,0)","v":0},{"$f":"IF(P198=\"Oui\",'Q_del,j et Q_del,dh'!$D147,0)","v":0},{"$f":"IF(Q198=\"Oui\",'Q_del,j et Q_del,dh'!$D147,0)","v":0},{"$f":"IF(R198=\"Oui\",'Q_del,j et Q_del,dh'!$D147,0)","v":0},{"$f":"IF(S198=\"Oui\",'Q_del,j et Q_del,dh'!$D147,0)","v":0},{"$f":"IF(T198=\"Oui\",'Q_del,j et Q_del,dh'!$D147,0)","v":0},{"$f":"IF(U198=\"Oui\",'Q_del,j et Q_del,dh'!$D147,0)","v":0},{"$f":"IF(V198=\"Oui\",'Q_del,j et Q_del,dh'!$D147,0)","v":0},{"$f":"IF(W198=\"Oui\",'Q_del,j et Q_del,dh'!$D147,0)","v":0},{"$f":"IF(X198=\"Oui\",'Q_del,j et Q_del,dh'!$D147,0)","v":0},{"$f":"IF(Y198=\"Oui\",'Q_del,j et Q_del,dh'!$D147,0)","v":0},{"$f":"IF(Z198=\"Oui\",'Q_del,j et Q_del,dh'!$D147,0)","v":0},{"$f":"IF(AA198=\"Oui\",'Q_del,j et Q_del,dh'!$D147,0)","v":0},{"$f":"IF(AB198=\"Oui\",'Q_del,j et Q_del,dh'!$D147,0)","v":0},{"$f":"IF(AC198=\"Oui\",'Q_del,j et Q_del,dh'!$D147,0)","v":0},{"$f":"IF(AD198=\"Oui\",'Q_del,j et Q_del,dh'!$D147,0)","v":0},{"$f":"IF(AE198=\"Oui\",'Q_del,j et Q_del,dh'!$D147,0)","v":0},{"$f":"IF(AF198=\"Oui\",'Q_del,j et Q_del,dh'!$D147,0)","v":0},{"$f":"IF(AG198=\"Oui\",'Q_del,j et Q_del,dh'!$D147,0)","v":0},{"$f":"IF(AH198=\"Oui\",'Q_del,j et Q_del,dh'!$D147,0)","v":0},{"$f":"IF(AI198=\"Oui\",'Q_del,j et Q_del,dh'!$D147,0)","v":0},{"$f":"IF(AJ198=\"Oui\",'Q_del,j et Q_del,dh'!$D147,0)","v":0},{"$f":"IF(AK198=\"Oui\",'Q_del,j et Q_del,dh'!$D147,0)","v":0},{"$f":"IF(AL198=\"Oui\",'Q_del,j et Q_del,dh'!$D147,0)","v":0},{"$f":"IF(AM198=\"Oui\",'Q_del,j et Q_del,dh'!$D147,0)","v":0},{"$f":"IF(AN198=\"Oui\",'Q_del,j et Q_del,dh'!$D147,0)","v":0},{"$f":"IF(AO198=\"Oui\",'Q_del,j et Q_del,dh'!$D147,0)","v":0},{"$f":"IF(AP198=\"Oui\",'Q_del,j et Q_del,dh'!$D147,0)","v":0},{"$f":"IF(AQ198=\"Oui\",'Q_del,j et Q_del,dh'!$D147,0)","v":0},{"$f":"IF(AR198=\"Oui\",'Q_del,j et Q_del,dh'!$D147,0)","v":0},{"$f":"IF(AS198=\"Oui\",'Q_del,j et Q_del,dh'!$D147,0)","v":0},{"$f":"IF(AT198=\"Oui\",'Q_del,j et Q_del,dh'!$D147,0)","v":0},{"$f":"IF(AU198=\"Oui\",'Q_del,j et Q_del,dh'!$D147,0)","v":0},{"$f":"IF(AV198=\"Oui\",'Q_del,j et Q_del,dh'!$D147,0)","v":0},{"$f":"IF(AW198=\"Oui\",'Q_del,j et Q_del,dh'!$D147,0)","v":0},{"$f":"IF(AX198=\"Oui\",'Q_del,j et Q_del,dh'!$D147,0)","v":0},{"$f":"IF(AY198=\"Oui\",'Q_del,j et Q_del,dh'!$D147,0)","v":0},{"$f":"IF(AZ198=\"Oui\",'Q_del,j et Q_del,dh'!$D147,0)","v":0},{"$f":"IF(BA198=\"Oui\",'Q_del,j et Q_del,dh'!$D147,0)","v":0}]
["Qdel,l,j [MJ]","Demandeur de chaleur 141",141,{"$f":"IF(D199=\"Oui\",'Q_del,j et Q_del,dh'!$D148,0)","v":0},{"$f":"IF(E199=\"Oui\",'Q_del,j et Q_del,dh'!$D148,0)","v":0},{"$f":"IF(F199=\"Oui\",'Q_del,j et Q_del,dh'!$D148,0)","v":0},{"$f":"IF(G199=\"Oui\",'Q_del,j et Q_del,dh'!$D148,0)","v":0},{"$f":"IF(H199=\"Oui\",'Q_del,j et Q_del,dh'!$D148,0)","v":0},{"$f":"IF(I199=\"Oui\",'Q_del,j et Q_del,dh'!$D148,0)","v":0},{"$f":"IF(J199=\"Oui\",'Q_del,j et Q_del,dh'!$D148,0)","v":0},{"$f":"IF(K199=\"Oui\",'Q_del,j et Q_del,dh'!$D148,0)","v":0},{"$f":"IF(L199=\"Oui\",'Q_del,j et Q_del,dh'!$D148,0)","v":0},{"$f":"IF(M199=\"Oui\",'Q_del,j et Q_del,dh'!$D148,0)","v":0},{"$f":"IF(N199=\"Oui\",'Q_del,j et Q_del,dh'!$D148,0)","v":0},{"$f":"IF(O199=\"Oui\",'Q_del,j et Q_del,dh'!$D148,0)","v":0},{"$f":"IF(P199=\"Oui\",'Q_del,j et Q_del,dh'!$D148,0)","v":0},{"$f":"IF(Q199=\"Oui\",'Q_del,j et Q_del,dh'!$D148,0)","v":0},{"$f":"IF(R199=\"Oui\",'Q_del,j et Q_del,dh'!$D148,0)","v":0},{"$f":"IF(S199=\"Oui\",'Q_del,j et Q_del,dh'!$D148,0)","v":0},{"$f":"IF(T199=\"Oui\",'Q_del,j et Q_del,dh'!$D148,0)","v":0},{"$f":"IF(U199=\"Oui\",'Q_del,j et Q_del,dh'!$D148,0)","v":0},{"$f":"IF(V199=\"Oui\",'Q_del,j et Q_del,dh'!$D148,0)","v":0},{"$f":"IF(W199=\"Oui\",'Q_del,j et Q_del,dh'!$D148,0)","v":0},{"$f":"IF(X199=\"Oui\",'Q_del,j et Q_del,dh'!$D148,0)","v":0},{"$f":"IF(Y199=\"Oui\",'Q_del,j et Q_del,dh'!$D148,0)","v":0},{"$f":"IF(Z199=\"Oui\",'Q_del,j et Q_del,dh'!$D148,0)","v":0},{"$f":"IF(AA199=\"Oui\",'Q_del,j et Q_del,dh'!$D148,0)","v":0},{"$f":"IF(AB199=\"Oui\",'Q_del,j et Q_del,dh'!$D148,0)","v":0},{"$f":"IF(AC199=\"Oui\",'Q_del,j et Q_del,dh'!$D148,0)","v":0},{"$f":"IF(AD199=\"Oui\",'Q_del,j et Q_del,dh'!$D148,0)","v":0},{"$f":"IF(AE199=\"Oui\",'Q_del,j et Q_del,dh'!$D148,0)","v":0},{"$f":"IF(AF199=\"Oui\",'Q_del,j et Q_del,dh'!$D148,0)","v":0},{"$f":"IF(AG199=\"Oui\",'Q_del,j et Q_del,dh'!$D148,0)","v":0},{"$f":"IF(AH199=\"Oui\",'Q_del,j et Q_del,dh'!$D148,0)","v":0},{"$f":"IF(AI199=\"Oui\",'Q_del,j et Q_del,dh'!$D148,0)","v":0},{"$f":"IF(AJ199=\"Oui\",'Q_del,j et Q_del,dh'!$D148,0)","v":0},{"$f":"IF(AK199=\"Oui\",'Q_del,j et Q_del,dh'!$D148,0)","v":0},{"$f":"IF(AL199=\"Oui\",'Q_del,j et Q_del,dh'!$D148,0)","v":0},{"$f":"IF(AM199=\"Oui\",'Q_del,j et Q_del,dh'!$D148,0)","v":0},{"$f":"IF(AN199=\"Oui\",'Q_del,j et Q_del,dh'!$D148,0)","v":0},{"$f":"IF(AO199=\"Oui\",'Q_del,j et Q_del,dh'!$D148,0)","v":0},{"$f":"IF(AP199=\"Oui\",'Q_del,j et Q_del,dh'!$D148,0)","v":0},{"$f":"IF(AQ199=\"Oui\",'Q_del,j et Q_del,dh'!$D148,0)","v":0},{"$f":"IF(AR199=\"Oui\",'Q_del,j et Q_del,dh'!$D148,0)","v":0},{"$f":"IF(AS199=\"Oui\",'Q_del,j et Q_del,dh'!$D148,0)","v":0},{"$f":"IF(AT199=\"Oui\",'Q_del,j et Q_del,dh'!$D148,0)","v":0},{"$f":"IF(AU199=\"Oui\",'Q_del,j et Q_del,dh'!$D148,0)","v":0},{"$f":"IF(AV199=\"Oui\",'Q_del,j et Q_del,dh'!$D148,0)","v":0},{"$f":"IF(AW199=\"Oui\",'Q_del,j et Q_del,dh'!$D148,0)","v":0},{"$f":"IF(AX199=\"Oui\",'Q_del,j et Q_del,dh'!$D148,0)","v":0},{"$f":"IF(AY199=\"Oui\",'Q_del,j et Q_del,dh'!$D148,0)","v":0},{"$f":"IF(AZ199=\"Oui\",'Q_del,j et Q_del,dh'!$D148,0)","v":0},{"$f":"IF(BA199=\"Oui\",'Q_del,j et Q_del,dh'!$D148,0)","v":0}]
["Qdel,l,j [MJ]","Demandeur de chaleur 142",142,{"$f":"IF(D200=\"Oui\",'Q_del,j et Q_del,dh'!$D149,0)","v":0},{"$f":"IF(E200=\"Oui\",'Q_del,j et Q_del,dh'!$D149,0)","v":0},{"$f":"IF(F200=\"Oui\",'Q_del,j et Q_del,dh'!$D149,0)","v":0},{"$f":"IF(G200=\"Oui\",'Q_del,j et Q_del,dh'!$D149,0)","v":0},{"$f":"IF(H200=\"Oui\",'Q_del,j et Q_del,dh'!$D149,0)","v":0},{"$f":"IF(I200=\"Oui\",'Q_del,j et Q_del,dh'!$D149,0)","v":0},{"$f":"IF(J200=\"Oui\",'Q_del,j et Q_del,dh'!$D149,0)","v":0},{"$f":"IF(K200=\"Oui\",'Q_del,j et Q_del,dh'!$D149,0)","v":0},{"$f":"IF(L200=\"Oui\",'Q_del,j et Q_del,dh'!$D149,0)","v":0},{"$f":"IF(M200=\"Oui\",'Q_del,j et Q_del,dh'!$D149,0)","v":0},{"$f":"IF(N200=\"Oui\",'Q_del,j et Q_del,dh'!$D149,0)","v":0},{"$f":"IF(O200=\"Oui\",'Q_del,j et Q_del,dh'!$D149,0)","v":0},{"$f":"IF(P200=\"Oui\",'Q_del,j et Q_del,dh'!$D149,0)","v":0},{"$f":"IF(Q200=\"Oui\",'Q_del,j et Q_del,dh'!$D149,0)","v":0},{"$f":"IF(R200=\"Oui\",'Q_del,j et Q_del,dh'!$D149,0)","v":0},{"$f":"IF(S200=\"Oui\",'Q_del,j et Q_del,dh'!$D149,0)","v":0},{"$f":"IF(T200=\"Oui\",'Q_del,j et Q_del,dh'!$D149,0)","v":0},{"$f":"IF(U200=\"Oui\",'Q_del,j et Q_del,dh'!$D149,0)","v":0},{"$f":"IF(V200=\"Oui\",'Q_del,j et Q_del,dh'!$D149,0)","v":0},{"$f":"IF(W200=\"Oui\",'Q_del,j et Q_del,dh'!$D149,0)","v":0},{"$f":"IF(X200=\"Oui\",'Q_del,j et Q_del,dh'!$D149,0)","v":0},{"$f":"IF(Y200=\"Oui\",'Q_del,j et Q_del,dh'!$D149,0)","v":0},{"$f":"IF(Z200=\"Oui\",'Q_del,j et Q_del,dh'!$D149,0)","v":0},{"$f":"IF(AA200=\"Oui\",'Q_del,j et Q_del,dh'!$D149,0)","v":0},{"$f":"IF(AB200=\"Oui\",'Q_del,j et Q_del,dh'!$D149,0)","v":0},{"$f":"IF(AC200=\"Oui\",'Q_del,j et Q_del,dh'!$D149,0)","v":0},{"$f":"IF(AD200=\"Oui\",'Q_del,j et Q_del,dh'!$D149,0)","v":0},{"$f":"IF(AE200=\"Oui\",'Q_del,j et Q_del,dh'!$D149,0)","v":0},{"$f":"IF(AF200=\"Oui\",'Q_del,j et Q_del,dh'!$D149,0)","v":0},{"$f":"IF(AG200=\"Oui\",'Q_del,j et Q_del,dh'!$D149,0)","v":0},{"$f":"IF(AH200=\"Oui\",'Q_del,j et Q_del,dh'!$D149,0)","v":0},{"$f":"IF(AI200=\"Oui\",'Q_del,j et Q_del,dh'!$D149,0)","v":0},{"$f":"IF(AJ200=\"Oui\",'Q_del,j et Q_del,dh'!$D149,0)","v":0},{"$f":"IF(AK200=\"Oui\",'Q_del,j et Q_del,dh'!$D149,0)","v":0},{"$f":"IF(AL200=\"Oui\",'Q_del,j et Q_del,dh'!$D149,0)","v":0},{"$f":"IF(AM200=\"Oui\",'Q_del,j et Q_del,dh'!$D149,0)","v":0},{"$f":"IF(AN200=\"Oui\",'Q_del,j et Q_del,dh'!$D149,0)","v":0},{"$f":"IF(AO200=\"Oui\",'Q_del,j et Q_del,dh'!$D149,0)","v":0},{"$f":"IF(AP200=\"Oui\",'Q_del,j et Q_del,dh'!$D149,0)","v":0},{"$f":"IF(AQ200=\"Oui\",'Q_del,j et Q_del,dh'!$D149,0)","v":0},{"$f":"IF(AR200=\"Oui\",'Q_del,j et Q_del,dh'!$D149,0)","v":0},{"$f":"IF(AS200=\"Oui\",'Q_del,j et Q_del,dh'!$D149,0)","v":0},{"$f":"IF(AT200=\"Oui\",'Q_del,j et Q_del,dh'!$D149,0)","v":0},{"$f":"IF(AU200=\"Oui\",'Q_del,j et Q_del,dh'!$D149,0)","v":0},{"$f":"IF(AV200=\"Oui\",'Q_del,j et Q_del,dh'!$D149,0)","v":0},{"$f":"IF(AW200=\"Oui\",'Q_del,j et Q_del,dh'!$D149,0)","v":0},{"$f":"IF(AX200=\"Oui\",'Q_del,j et Q_del,dh'!$D149,0)","v":0},{"$f":"IF(AY200=\"Oui\",'Q_del,j et Q_del,dh'!$D149,0)","v":0},{"$f":"IF(AZ200=\"Oui\",'Q_del,j et Q_del,dh'!$D149,0)","v":0},{"$f":"IF(BA200=\"Oui\",'Q_del,j et Q_del,dh'!$D149,0)","v":0}]
["Qdel,l,j [MJ]","Demandeur de chaleur 143",143,{"$f":"IF(D201=\"Oui\",'Q_del,j et Q_del,dh'!$D150,0)","v":0},{"$f":"IF(E201=\"Oui\",'Q_del,j et Q_del,dh'!$D150,0)","v":0},{"$f":"IF(F201=\"Oui\",'Q_del,j et Q_del,dh'!$D150,0)","v":0},{"$f":"IF(G201=\"Oui\",'Q_del,j et Q_del,dh'!$D150,0)","v":0},{"$f":"IF(H201=\"Oui\",'Q_del,j et Q_del,dh'!$D150,0)","v":0},{"$f":"IF(I201=\"Oui\",'Q_del,j et Q_del,dh'!$D150,0)","v":0},{"$f":"IF(J201=\"Oui\",'Q_del,j et Q_del,dh'!$D150,0)","v":0},{"$f":"IF(K201=\"Oui\",'Q_del,j et Q_del,dh'!$D150,0)","v":0},{"$f":"IF(L201=\"Oui\",'Q_del,j et Q_del,dh'!$D150,0)","v":0},{"$f":"IF(M201=\"Oui\",'Q_del,j et Q_del,dh'!$D150,0)","v":0},{"$f":"IF(N201=\"Oui\",'Q_del,j et Q_del,dh'!$D150,0)","v":0},{"$f":"IF(O201=\"Oui\",'Q_del,j et Q_del,dh'!$D150,0)","v":0},{"$f":"IF(P201=\"Oui\",'Q_del,j et Q_del,dh'!$D150,0)","v":0},{"$f":"IF(Q201=\"Oui\",'Q_del,j et Q_del,dh'!$D150,0)","v":0},{"$f":"IF(R201=\"Oui\",'Q_del,j et Q_del,dh'!$D150,0)","v":0},{"$f":"IF(S201=\"Oui\",'Q_del,j et Q_del,dh'!$D150,0)","v":0},{"$f":"IF(T201=\"Oui\",'Q_del,j et Q_del,dh'!$D150,0)","v":0},{"$f":"IF(U201=\"Oui\",'Q_del,j et Q_del,dh'!$D150,0)","v":0},{"$f":"IF(V201=\"Oui\",'Q_del,j et Q_del,dh'!$D150,0)","v":0},{"$f":"IF(W201=\"Oui\",'Q_del,j et Q_del,dh'!$D150,0)","v":0},{"$f":"IF(X201=\"Oui\",'Q_del,j et Q_del,dh'!$D150,0)","v":0},{"$f":"IF(Y201=\"Oui\",'Q_del,j et Q_del,dh'!$D150,0)","v":0},{"$f":"IF(Z201=\"Oui\",'Q_del,j et Q_del,dh'!$D150,0)","v":0},{"$f":"IF(AA201=\"Oui\",'Q_del,j et Q_del,dh'!$D150,0)","v":0},{"$f":"IF(AB201=\"Oui\",'Q_del,j et Q_del,dh'!$D150,0)","v":0},{"$f":"IF(AC201=\"Oui\",'Q_del,j et Q_del,dh'!$D150,0)","v":0},{"$f":"IF(AD201=\"Oui\",'Q_del,j et Q_del,dh'!$D150,0)","v":0},{"$f":"IF(AE201=\"Oui\",'Q_del,j et Q_del,dh'!$D150,0)","v":0},{"$f":"IF(AF201=\"Oui\",'Q_del,j et Q_del,dh'!$D150,0)","v":0},{"$f":"IF(AG201=\"Oui\",'Q_del,j et Q_del,dh'!$D150,0)","v":0},{"$f":"IF(AH201=\"Oui\",'Q_del,j et Q_del,dh'!$D150,0)","v":0},{"$f":"IF(AI201=\"Oui\",'Q_del,j et Q_del,dh'!$D150,0)","v":0},{"$f":"IF(AJ201=\"Oui\",'Q_del,j et Q_del,dh'!$D150,0)","v":0},{"$f":"IF(AK201=\"Oui\",'Q_del,j et Q_del,dh'!$D150,0)","v":0},{"$f":"IF(AL201=\"Oui\",'Q_del,j et Q_del,dh'!$D150,0)","v":0},{"$f":"IF(AM201=\"Oui\",'Q_del,j et Q_del,dh'!$D150,0)","v":0},{"$f":"IF(AN201=\"Oui\",'Q_del,j et Q_del,dh'!$D150,0)","v":0},{"$f":"IF(AO201=\"Oui\",'Q_del,j et Q_del,dh'!$D150,0)","v":0},{"$f":"IF(AP201=\"Oui\",'Q_del,j et Q_del,dh'!$D150,0)","v":0},{"$f":"IF(AQ201=\"Oui\",'Q_del,j et Q_del,dh'!$D150,0)","v":0},{"$f":"IF(AR201=\"Oui\",'Q_del,j et Q_del,dh'!$D150,0)","v":0},{"$f":"IF(AS201=\"Oui\",'Q_del,j et Q_del,dh'!$D150,0)","v":0},{"$f":"IF(AT201=\"Oui\",'Q_del,j et Q_del,dh'!$D150,0)","v":0},{"$f":"IF(AU201=\"Oui\",'Q_del,j et Q_del,dh'!$D150,0)","v":0},{"$f":"IF(AV201=\"Oui\",'Q_del,j et Q_del,dh'!$D150,0)","v":0},{"$f":"IF(AW201=\"Oui\",'Q_del,j et Q_del,dh'!$D150,0)","v":0},{"$f":"IF(AX201=\"Oui\",'Q_del,j et Q_del,dh'!$D150,0)","v":0},{"$f":"IF(AY201=\"Oui\",'Q_del,j et Q_del,dh'!$D150,0)","v":0},{"$f":"IF(AZ201=\"Oui\",'Q_del,j et Q_del,dh'!$D150,0)","v":0},{"$f":"IF(BA201=\"Oui\",'Q_del,j et Q_del,dh'!$D150,0)","v":0}]
["Qdel,l,j [MJ]","Demandeur de chaleur 144",144,{"$f":"IF(D202=\"Oui\",'Q_del,j et Q_del,dh'!$D151,0)","v":0},{"$f":"IF(E202=\"Oui\",'Q_del,j et Q_del,dh'!$D151,0)","v":0},{"$f":"IF(F202=\"Oui\",'Q_del,j et Q_del,dh'!$D151,0)","v":0},{"$f":"IF(G202=\"Oui\",'Q_del,j et Q_del,dh'!$D151,0)","v":0},{"$f":"IF(H202=\"Oui\",'Q_del,j et Q_del,dh'!$D151,0)","v":0},{"$f":"IF(I202=\"Oui\",'Q_del,j et Q_del,dh'!$D151,0)","v":0},{"$f":"IF(J202=\"Oui\",'Q_del,j et Q_del,dh'!$D151,0)","v":0},{"$f":"IF(K202=\"Oui\",'Q_del,j et Q_del,dh'!$D151,0)","v":0},{"$f":"IF(L202=\"Oui\",'Q_del,j et Q_del,dh'!$D151,0)","v":0},{"$f":"IF(M202=\"Oui\",'Q_del,j et Q_del,dh'!$D151,0)","v":0},{"$f":"IF(N202=\"Oui\",'Q_del,j et Q_del,dh'!$D151,0)","v":0},{"$f":"IF(O202=\"Oui\",'Q_del,j et Q_del,dh'!$D151,0)","v":0},{"$f":"IF(P202=\"Oui\",'Q_del,j et Q_del,dh'!$D151,0)","v":0},{"$f":"IF(Q202=\"Oui\",'Q_del,j et Q_del,dh'!$D151,0)","v":0},{"$f":"IF(R202=\"Oui\",'Q_del,j et Q_del,dh'!$D151,0)","v":0},{"$f":"IF(S202=\"Oui\",'Q_del,j et Q_del,dh'!$D151,0)","v":0},{"$f":"IF(T202=\"Oui\",'Q_del,j et Q_del,dh'!$D151,0)","v":0},{"$f":"IF(U202=\"Oui\",'Q_del,j et Q_del,dh'!$D151,0)","v":0},{"$f":"IF(V202=\"Oui\",'Q_del,j et Q_del,dh'!$D151,0)","v":0},{"$f":"IF(W202=\"Oui\",'Q_del,j et Q_del,dh'!$D151,0)","v":0},{"$f":"IF(X202=\"Oui\",'Q_del,j et Q_del,dh'!$D151,0)","v":0},{"$f":"IF(Y202=\"Oui\",'Q_del,j et Q_del,dh'!$D151,0)","v":0},{"$f":"IF(Z202=\"Oui\",'Q_del,j et Q_del,dh'!$D151,0)","v":0},{"$f":"IF(AA202=\"Oui\",'Q_del,j et Q_del,dh'!$D151,0)","v":0},{"$f":"IF(AB202=\"Oui\",'Q_del,j et Q_del,dh'!$D151,0)","v":0},{"$f":"IF(AC202=\"Oui\",'Q_del,j et Q_del,dh'!$D151,0)","v":0},{"$f":"IF(AD202=\"Oui\",'Q_del,j et Q_del,dh'!$D151,0)","v":0},{"$f":"IF(AE202=\"Oui\",'Q_del,j et Q_del,dh'!$D151,0)","v":0},{"$f":"IF(AF202=\"Oui\",'Q_del,j et Q_del,dh'!$D151,0)","v":0},{"$f":"IF(AG202=\"Oui\",'Q_del,j et Q_del,dh'!$D151,0)","v":0},{"$f":"IF(AH202=\"Oui\",'Q_del,j et Q_del,dh'!$D151,0)","v":0},{"$f":"IF(AI202=\"Oui\",'Q_del,j et Q_del,dh'!$D151,0)","v":0},{"$f":"IF(AJ202=\"Oui\",'Q_del,j et Q_del,dh'!$D151,0)","v":0},{"$f":"IF(AK202=\"Oui\",'Q_del,j et Q_del,dh'!$D151,0)","v":0},{"$f":"IF(AL202=\"Oui\",'Q_del,j et Q_del,dh'!$D151,0)","v":0},{"$f":"IF(AM202=\"Oui\",'Q_del,j et Q_del,dh'!$D151,0)","v":0},{"$f":"IF(AN202=\"Oui\",'Q_del,j et Q_del,dh'!$D151,0)","v":0},{"$f":"IF(AO202=\"Oui\",'Q_del,j et Q_del,dh'!$D151,0)","v":0},{"$f":"IF(AP202=\"Oui\",'Q_del,j et Q_del,dh'!$D151,0)","v":0},{"$f":"IF(AQ202=\"Oui\",'Q_del,j et Q_del,dh'!$D151,0)","v":0},{"$f":"IF(AR202=\"Oui\",'Q_del,j et Q_del,dh'!$D151,0)","v":0},{"$f":"IF(AS202=\"Oui\",'Q_del,j et Q_del,dh'!$D151,0)","v":0},{"$f":"IF(AT202=\"Oui\",'Q_del,j et Q_del,dh'!$D151,0)","v":0},{"$f":"IF(AU202=\"Oui\",'Q_del,j et Q_del,dh'!$D151,0)","v":0},{"$f":"IF(AV202=\"Oui\",'Q_del,j et Q_del,dh'!$D151,0)","v":0},{"$f":"IF(AW202=\"Oui\",'Q_del,j et Q_del,dh'!$D151,0)","v":0},{"$f":"IF(AX202=\"Oui\",'Q_del,j et Q_del,dh'!$D151,0)","v":0},{"$f":"IF(AY202=\"Oui\",'Q_del,j et Q_del,dh'!$D151,0)","v":0},{"$f":"IF(AZ202=\"Oui\",'Q_del,j et Q_del,dh'!$D151,0)","v":0},{"$f":"IF(BA202=\"Oui\",'Q_del,j et Q_del,dh'!$D151,0)","v":0}]
["Qdel,l,j [MJ]","Demandeur de chaleur 145",145,{"$f":"IF(D203=\"Oui\",'Q_del,j et Q_del,dh'!$D152,0)","v":0},{"$f":"IF(E203=\"Oui\",'Q_del,j et Q_del,dh'!$D152,0)","v":0},{"$f":"IF(F203=\"Oui\",'Q_del,j et Q_del,dh'!$D152,0)","v":0},{"$f":"IF(G203=\"Oui\",'Q_del,j et Q_del,dh'!$D152,0)","v":0},{"$f":"IF(H203=\"Oui\",'Q_del,j et Q_del,dh'!$D152,0)","v":0},{"$f":"IF(I203=\"Oui\",'Q_del,j et Q_del,dh'!$D152,0)","v":0},{"$f":"IF(J203=\"Oui\",'Q_del,j et Q_del,dh'!$D152,0)","v":0},{"$f":"IF(K203=\"Oui\",'Q_del,j et Q_del,dh'!$D152,0)","v":0},{"$f":"IF(L203=\"Oui\",'Q_del,j et Q_del,dh'!$D152,0)","v":0},{"$f":"IF(M203=\"Oui\",'Q_del,j et Q_del,dh'!$D152,0)","v":0},{"$f":"IF(N203=\"Oui\",'Q_del,j et Q_del,dh'!$D152,0)","v":0},{"$f":"IF(O203=\"Oui\",'Q_del,j et Q_del,dh'!$D152,0)","v":0},{"$f":"IF(P203=\"Oui\",'Q_del,j et Q_del,dh'!$D152,0)","v":0},{"$f":"IF(Q203=\"Oui\",'Q_del,j et Q_del,dh'!$D152,0)","v":0},{"$f":"IF(R203=\"Oui\",'Q_del,j et Q_del,dh'!$D152,0)","v":0},{"$f":"IF(S203=\"Oui\",'Q_del,j et Q_del,dh'!$D152,0)","v":0},{"$f":"IF(T203=\"Oui\",'Q_del,j et Q_del,dh'!$D152,0)","v":0},{"$f":"IF(U203=\"Oui\",'Q_del,j et Q_del,dh'!$D152,0)","v":0},{"$f":"IF(V203=\"Oui\",'Q_del,j et Q_del,dh'!$D152,0)","v":0},{"$f":"IF(W203=\"Oui\",'Q_del,j et Q_del,dh'!$D152,0)","v":0},{"$f":"IF(X203=\"Oui\",'Q_del,j et Q_del,dh'!$D152,0)","v":0},{"$f":"IF(Y203=\"Oui\",'Q_del,j et Q_del,dh'!$D152,0)","v":0},{"$f":"IF(Z203=\"Oui\",'Q_del,j et Q_del,dh'!$D152,0)","v":0},{"$f":"IF(AA203=\"Oui\",'Q_del,j et Q_del,dh'!$D152,0)","v":0},{"$f":"IF(AB203=\"Oui\",'Q_del,j et Q_del,dh'!$D152,0)","v":0},{"$f":"IF(AC203=\"Oui\",'Q_del,j et Q_del,dh'!$D152,0)","v":0},{"$f":"IF(AD203=\"Oui\",'Q_del,j et Q_del,dh'!$D152,0)","v":0},{"$f":"IF(AE203=\"Oui\",'Q_del,j et Q_del,dh'!$D152,0)","v":0},{"$f":"IF(AF203=\"Oui\",'Q_del,j et Q_del,dh'!$D152,0)","v":0},{"$f":"IF(AG203=\"Oui\",'Q_del,j et Q_del,dh'!$D152,0)","v":0},{"$f":"IF(AH203=\"Oui\",'Q_del,j et Q_del,dh'!$D152,0)","v":0},{"$f":"IF(AI203=\"Oui\",'Q_del,j et Q_del,dh'!$D152,0)","v":0},{"$f":"IF(AJ203=\"Oui\",'Q_del,j et Q_del,dh'!$D152,0)","v":0},{"$f":"IF(AK203=\"Oui\",'Q_del,j et Q_del,dh'!$D152,0)","v":0},{"$f":"IF(AL203=\"Oui\",'Q_del,j et Q_del,dh'!$D152,0)","v":0},{"$f":"IF(AM203=\"Oui\",'Q_del,j et Q_del,dh'!$D152,0)","v":0},{"$f":"IF(AN203=\"Oui\",'Q_del,j et Q_del,dh'!$D152,0)","v":0},{"$f":"IF(AO203=\"Oui\",'Q_del,j et Q_del,dh'!$D152,0)","v":0},{"$f":"IF(AP203=\"Oui\",'Q_del,j et Q_del,dh'!$D152,0)","v":0},{"$f":"IF(AQ203=\"Oui\",'Q_del,j et Q_del,dh'!$D152,0)","v":0},{"$f":"IF(AR203=\"Oui\",'Q_del,j et Q_del,dh'!$D152,0)","v":0},{"$f":"IF(AS203=\"Oui\",'Q_del,j et Q_del,dh'!$D152,0)","v":0},{"$f":"IF(AT203=\"Oui\",'Q_del,j et Q_del,dh'!$D152,0)","v":0},{"$f":"IF(AU203=\"Oui\",'Q_del,j et Q_del,dh'!$D152,0)","v":0},{"$f":"IF(AV203=\"Oui\",'Q_del,j et Q_del,dh'!$D152,0)","v":0},{"$f":"IF(AW203=\"Oui\",'Q_del,j et Q_del,dh'!$D152,0)","v":0},{"$f":"IF(AX203=\"Oui\",'Q_del,j et Q_del,dh'!$D152,0)","v":0},{"$f":"IF(AY203=\"Oui\",'Q_del,j et Q_del,dh'!$D152,0)","v":0},{"$f":"IF(AZ203=\"Oui\",'Q_del,j et Q_del,dh'!$D152,0)","v":0},{"$f":"IF(BA203=\"Oui\",'Q_del,j et Q_del,dh'!$D152,0)","v":0}]
["Qdel,l,j [MJ]","Demandeur de chaleur 146",146,{"$f":"IF(D204=\"Oui\",'Q_del,j et Q_del,dh'!$D153,0)","v":0},{"$f":"IF(E204=\"Oui\",'Q_del,j et Q_del,dh'!$D153,0)","v":0},{"$f":"IF(F204=\"Oui\",'Q_del,j et Q_del,dh'!$D153,0)","v":0},{"$f":"IF(G204=\"Oui\",'Q_del,j et Q_del,dh'!$D153,0)","v":0},{"$f":"IF(H204=\"Oui\",'Q_del,j et Q_del,dh'!$D153,0)","v":0},{"$f":"IF(I204=\"Oui\",'Q_del,j et Q_del,dh'!$D153,0)","v":0},{"$f":"IF(J204=\"Oui\",'Q_del,j et Q_del,dh'!$D153,0)","v":0},{"$f":"IF(K204=\"Oui\",'Q_del,j et Q_del,dh'!$D153,0)","v":0},{"$f":"IF(L204=\"Oui\",'Q_del,j et Q_del,dh'!$D153,0)","v":0},{"$f":"IF(M204=\"Oui\",'Q_del,j et Q_del,dh'!$D153,0)","v":0},{"$f":"IF(N204=\"Oui\",'Q_del,j et Q_del,dh'!$D153,0)","v":0},{"$f":"IF(O204=\"Oui\",'Q_del,j et Q_del,dh'!$D153,0)","v":0},{"$f":"IF(P204=\"Oui\",'Q_del,j et Q_del,dh'!$D153,0)","v":0},{"$f":"IF(Q204=\"Oui\",'Q_del,j et Q_del,dh'!$D153,0)","v":0},{"$f":"IF(R204=\"Oui\",'Q_del,j et Q_del,dh'!$D153,0)","v":0},{"$f":"IF(S204=\"Oui\",'Q_del,j et Q_del,dh'!$D153,0)","v":0},{"$f":"IF(T204=\"Oui\",'Q_del,j et Q_del,dh'!$D153,0)","v":0},{"$f":"IF(U204=\"Oui\",'Q_del,j et Q_del,dh'!$D153,0)","v":0},{"$f":"IF(V204=\"Oui\",'Q_del,j et Q_del,dh'!$D153,0)","v":0},{"$f":"IF(W204=\"Oui\",'Q_del,j et Q_del,dh'!$D153,0)","v":0},{"$f":"IF(X204=\"Oui\",'Q_del,j et Q_del,dh'!$D153,0)","v":0},{"$f":"IF(Y204=\"Oui\",'Q_del,j et Q_del,dh'!$D153,0)","v":0},{"$f":"IF(Z204=\"Oui\",'Q_del,j et Q_del,dh'!$D153,0)","v":0},{"$f":"IF(AA204=\"Oui\",'Q_del,j et Q_del,dh'!$D153,0)","v":0},{"$f":"IF(AB204=\"Oui\",'Q_del,j et Q_del,dh'!$D153,0)","v":0},{"$f":"IF(AC204=\"Oui\",'Q_del,j et Q_del,dh'!$D153,0)","v":0},{"$f":"IF(AD204=\"Oui\",'Q_del,j et Q_del,dh'!$D153,0)","v":0},{"$f":"IF(AE204=\"Oui\",'Q_del,j et Q_del,dh'!$D153,0)","v":0},{"$f":"IF(AF204=\"Oui\",'Q_del,j et Q_del,dh'!$D153,0)","v":0},{"$f":"IF(AG204=\"Oui\",'Q_del,j et Q_del,dh'!$D153,0)","v":0},{"$f":"IF(AH204=\"Oui\",'Q_del,j et Q_del,dh'!$D153,0)","v":0},{"$f":"IF(AI204=\"Oui\",'Q_del,j et Q_del,dh'!$D153,0)","v":0},{"$f":"IF(AJ204=\"Oui\",'Q_del,j et Q_del,dh'!$D153,0)","v":0},{"$f":"IF(AK204=\"Oui\",'Q_del,j et Q_del,dh'!$D153,0)","v":0},{"$f":"IF(AL204=\"Oui\",'Q_del,j et Q_del,dh'!$D153,0)","v":0},{"$f":"IF(AM204=\"Oui\",'Q_del,j et Q_del,dh'!$D153,0)","v":0},{"$f":"IF(AN204=\"Oui\",'Q_del,j et Q_del,dh'!$D153,0)","v":0},{"$f":"IF(AO204=\"Oui\",'Q_del,j et Q_del,dh'!$D153,0)","v":0},{"$f":"IF(AP204=\"Oui\",'Q_del,j et Q_del,dh'!$D153,0)","v":0},{"$f":"IF(AQ204=\"Oui\",'Q_del,j et Q_del,dh'!$D153,0)","v":0},{"$f":"IF(AR204=\"Oui\",'Q_del,j et Q_del,dh'!$D153,0)","v":0},{"$f":"IF(AS204=\"Oui\",'Q_del,j et Q_del,dh'!$D153,0)","v":0},{"$f":"IF(AT204=\"Oui\",'Q_del,j et Q_del,dh'!$D153,0)","v":0},{"$f":"IF(AU204=\"Oui\",'Q_del,j et Q_del,dh'!$D153,0)","v":0},{"$f":"IF(AV204=\"Oui\",'Q_del,j et Q_del,dh'!$D153,0)","v":0},{"$f":"IF(AW204=\"Oui\",'Q_del,j et Q_del,dh'!$D153,0)","v":0},{"$f":"IF(AX204=\"Oui\",'Q_del,j et Q_del,dh'!$D153,0)","v":0},{"$f":"IF(AY204=\"Oui\",'Q_del,j et Q_del,dh'!$D153,0)","v":0},{"$f":"IF(AZ204=\"Oui\",'Q_del,j et Q_del,dh'!$D153,0)","v":0},{"$f":"IF(BA204=\"Oui\",'Q_del,j et Q_del,dh'!$D153,0)","v":0}]
["Qdel,l,j [MJ]","Demandeur de chaleur 147",147,{"$f":"IF(D205=\"Oui\",'Q_del,j et Q_del,dh'!$D154,0)","v":0},{"$f":"IF(E205=\"Oui\",'Q_del,j et Q_del,dh'!$D154,0)","v":0},{"$f":"IF(F205=\"Oui\",'Q_del,j et Q_del,dh'!$D154,0)","v":0},{"$f":"IF(G205=\"Oui\",'Q_del,j et Q_del,dh'!$D154,0)","v":0},{"$f":"IF(H205=\"Oui\",'Q_del,j et Q_del,dh'!$D154,0)","v":0},{"$f":"IF(I205=\"Oui\",'Q_del,j et Q_del,dh'!$D154,0)","v":0},{"$f":"IF(J205=\"Oui\",'Q_del,j et Q_del,dh'!$D154,0)","v":0},{"$f":"IF(K205=\"Oui\",'Q_del,j et Q_del,dh'!$D154,0)","v":0},{"$f":"IF(L205=\"Oui\",'Q_del,j et Q_del,dh'!$D154,0)","v":0},{"$f":"IF(M205=\"Oui\",'Q_del,j et Q_del,dh'!$D154,0)","v":0},{"$f":"IF(N205=\"Oui\",'Q_del,j et Q_del,dh'!$D154,0)","v":0},{"$f":"IF(O205=\"Oui\",'Q_del,j et Q_del,dh'!$D154,0)","v":0},{"$f":"IF(P205=\"Oui\",'Q_del,j et Q_del,dh'!$D154,0)","v":0},{"$f":"IF(Q205=\"Oui\",'Q_del,j et Q_del,dh'!$D154,0)","v":0},{"$f":"IF(R205=\"Oui\",'Q_del,j et Q_del,dh'!$D154,0)","v":0},{"$f":"IF(S205=\"Oui\",'Q_del,j et Q_del,dh'!$D154,0)","v":0},{"$f":"IF(T205=\"Oui\",'Q_del,j et Q_del,dh'!$D154,0)","v":0},{"$f":"IF(U205=\"Oui\",'Q_del,j et Q_del,dh'!$D154,0)","v":0},{"$f":"IF(V205=\"Oui\",'Q_del,j et Q_del,dh'!$D154,0)","v":0},{"$f":"IF(W205=\"Oui\",'Q_del,j et Q_del,dh'!$D154,0)","v":0},{"$f":"IF(X205=\"Oui\",'Q_del,j et Q_del,dh'!$D154,0)","v":0},{"$f":"IF(Y205=\"Oui\",'Q_del,j et Q_del,dh'!$D154,0)","v":0},{"$f":"IF(Z205=\"Oui\",'Q_del,j et Q_del,dh'!$D154,0)","v":0},{"$f":"IF(AA205=\"Oui\",'Q_del,j et Q_del,dh'!$D154,0)","v":0},{"$f":"IF(AB205=\"Oui\",'Q_del,j et Q_del,dh'!$D154,0)","v":0},{"$f":"IF(AC205=\"Oui\",'Q_del,j et Q_del,dh'!$D154,0)","v":0},{"$f":"IF(AD205=\"Oui\",'Q_del,j et Q_del,dh'!$D154,0)","v":0},{"$f":"IF(AE205=\"Oui\",'Q_del,j et Q_del,dh'!$D154,0)","v":0},{"$f":"IF(AF205=\"Oui\",'Q_del,j et Q_del,dh'!$D154,0)","v":0},{"$f":"IF(AG205=\"Oui\",'Q_del,j et Q_del,dh'!$D154,0)","v":0},{"$f":"IF(AH205=\"Oui\",'Q_del,j et Q_del,dh'!$D154,0)","v":0},{"$f":"IF(AI205=\"Oui\",'Q_del,j et Q_del,dh'!$D154,0)","v":0},{"$f":"IF(AJ205=\"Oui\",'Q_del,j et Q_del,dh'!$D154,0)","v":0},{"$f":"IF(AK205=\"Oui\",'Q_del,j et Q_del,dh'!$D154,0)","v":0},{"$f":"IF(AL205=\"Oui\",'Q_del,j et Q_del,dh'!$D154,0)","v":0},{"$f":"IF(AM205=\"Oui\",'Q_del,j et Q_del,dh'!$D154,0)","v":0},{"$f":"IF(AN205=\"Oui\",'Q_del,j et Q_del,dh'!$D154,0)","v":0},{"$f":"IF(AO205=\"Oui\",'Q_del,j et Q_del,dh'!$D154,0)","v":0},{"$f":"IF(AP205=\"Oui\",'Q_del,j et Q_del,dh'!$D154,0)","v":0},{"$f":"IF(AQ205=\"Oui\",'Q_del,j et Q_del,dh'!$D154,0)","v":0},{"$f":"IF(AR205=\"Oui\",'Q_del,j et Q_del,dh'!$D154,0)","v":0},{"$f":"IF(AS205=\"Oui\",'Q_del,j et Q_del,dh'!$D154,0)","v":0},{"$f":"IF(AT205=\"Oui\",'Q_del,j et Q_del,dh'!$D154,0)","v":0},{"$f":"IF(AU205=\"Oui\",'Q_del,j et Q_del,dh'!$D154,0)","v":0},{"$f":"IF(AV205=\"Oui\",'Q_del,j et Q_del,dh'!$D154,0)","v":0},{"$f":"IF(AW205=\"Oui\",'Q_del,j et Q_del,dh'!$D154,0)","v":0},{"$f":"IF(AX205=\"Oui\",'Q_del,j et Q_del,dh'!$D154,0)","v":0},{"$f":"IF(AY205=\"Oui\",'Q_del,j et Q_del,dh'!$D154,0)","v":0},{"$f":"IF(AZ205=\"Oui\",'Q_del,j et Q_del,dh'!$D154,0)","v":0},{"$f":"IF(BA205=\"Oui\",'Q_del,j et Q_del,dh'!$D154,0)","v":0}]
["Qdel,l,j [MJ]","Demandeur de chaleur 148",148,{"$f":"IF(D206=\"Oui\",'Q_del,j et Q_del,dh'!$D155,0)","v":0},{"$f":"IF(E206=\"Oui\",'Q_del,j et Q_del,dh'!$D155,0)","v":0},{"$f":"IF(F206=\"Oui\",'Q_del,j et Q_del,dh'!$D155,0)","v":0},{"$f":"IF(G206=\"Oui\",'Q_del,j et Q_del,dh'!$D155,0)","v":0},{"$f":"IF(H206=\"Oui\",'Q_del,j et Q_del,dh'!$D155,0)","v":0},{"$f":"IF(I206=\"Oui\",'Q_del,j et Q_del,dh'!$D155,0)","v":0},{"$f":"IF(J206=\"Oui\",'Q_del,j et Q_del,dh'!$D155,0)","v":0},{"$f":"IF(K206=\"Oui\",'Q_del,j et Q_del,dh'!$D155,0)","v":0},{"$f":"IF(L206=\"Oui\",'Q_del,j et Q_del,dh'!$D155,0)","v":0},{"$f":"IF(M206=\"Oui\",'Q_del,j et Q_del,dh'!$D155,0)","v":0},{"$f":"IF(N206=\"Oui\",'Q_del,j et Q_del,dh'!$D155,0)","v":0},{"$f":"IF(O206=\"Oui\",'Q_del,j et Q_del,dh'!$D155,0)","v":0},{"$f":"IF(P206=\"Oui\",'Q_del,j et Q_del,dh'!$D155,0)","v":0},{"$f":"IF(Q206=\"Oui\",'Q_del,j et Q_del,dh'!$D155,0)","v":0},{"$f":"IF(R206=\"Oui\",'Q_del,j et Q_del,dh'!$D155,0)","v":0},{"$f":"IF(S206=\"Oui\",'Q_del,j et Q_del,dh'!$D155,0)","v":0},{"$f":"IF(T206=\"Oui\",'Q_del,j et Q_del,dh'!$D155,0)","v":0},{"$f":"IF(U206=\"Oui\",'Q_del,j et Q_del,dh'!$D155,0)","v":0},{"$f":"IF(V206=\"Oui\",'Q_del,j et Q_del,dh'!$D155,0)","v":0},{"$f":"IF(W206=\"Oui\",'Q_del,j et Q_del,dh'!$D155,0)","v":0},{"$f":"IF(X206=\"Oui\",'Q_del,j et Q_del,dh'!$D155,0)","v":0},{"$f":"IF(Y206=\"Oui\",'Q_del,j et Q_del,dh'!$D155,0)","v":0},{"$f":"IF(Z206=\"Oui\",'Q_del,j et Q_del,dh'!$D155,0)","v":0},{"$f":"IF(AA206=\"Oui\",'Q_del,j et Q_del,dh'!$D155,0)","v":0},{"$f":"IF(AB206=\"Oui\",'Q_del,j et Q_del,dh'!$D155,0)","v":0},{"$f":"IF(AC206=\"Oui\",'Q_del,j et Q_del,dh'!$D155,0)","v":0},{"$f":"IF(AD206=\"Oui\",'Q_del,j et Q_del,dh'!$D155,0)","v":0},{"$f":"IF(AE206=\"Oui\",'Q_del,j et Q_del,dh'!$D155,0)","v":0},{"$f":"IF(AF206=\"Oui\",'Q_del,j et Q_del,dh'!$D155,0)","v":0},{"$f":"IF(AG206=\"Oui\",'Q_del,j et Q_del,dh'!$D155,0)","v":0},{"$f":"IF(AH206=\"Oui\",'Q_del,j et Q_del,dh'!$D155,0)","v":0},{"$f":"IF(AI206=\"Oui\",'Q_del,j et Q_del,dh'!$D155,0)","v":0},{"$f":"IF(AJ206=\"Oui\",'Q_del,j et Q_del,dh'!$D155,0)","v":0},{"$f":"IF(AK206=\"Oui\",'Q_del,j et Q_del,dh'!$D155,0)","v":0},{"$f":"IF(AL206=\"Oui\",'Q_del,j et Q_del,dh'!$D155,0)","v":0},{"$f":"IF(AM206=\"Oui\",'Q_del,j et Q_del,dh'!$D155,0)","v":0},{"$f":"IF(AN206=\"Oui\",'Q_del,j et Q_del,dh'!$D155,0)","v":0},{"$f":"IF(AO206=\"Oui\",'Q_del,j et Q_del,dh'!$D155,0)","v":0},{"$f":"IF(AP206=\"Oui\",'Q_del,j et Q_del,dh'!$D155,0)","v":0},{"$f":"IF(AQ206=\"Oui\",'Q_del,j et Q_del,dh'!$D155,0)","v":0},{"$f":"IF(AR206=\"Oui\",'Q_del,j et Q_del,dh'!$D155,0)","v":0},{"$f":"IF(AS206=\"Oui\",'Q_del,j et Q_del,dh'!$D155,0)","v":0},{"$f":"IF(AT206=\"Oui\",'Q_del,j et Q_del,dh'!$D155,0)","v":0},{"$f":"IF(AU206=\"Oui\",'Q_del,j et Q_del,dh'!$D155,0)","v":0},{"$f":"IF(AV206=\"Oui\",'Q_del,j et Q_del,dh'!$D155,0)","v":0},{"$f":"IF(AW206=\"Oui\",'Q_del,j et Q_del,dh'!$D155,0)","v":0},{"$f":"IF(AX206=\"Oui\",'Q_del,j et Q_del,dh'!$D155,0)","v":0},{"$f":"IF(AY206=\"Oui\",'Q_del,j et Q_del,dh'!$D155,0)","v":0},{"$f":"IF(AZ206=\"Oui\",'Q_del,j et Q_del,dh'!$D155,0)","v":0},{"$f":"IF(BA206=\"Oui\",'Q_del,j et Q_del,dh'!$D155,0)","v":0}]
["Qdel,l,j [MJ]","Demandeur de chaleur 149",149,{"$f":"IF(D207=\"Oui\",'Q_del,j et Q_del,dh'!$D156,0)","v":0},{"$f":"IF(E207=\"Oui\",'Q_del,j et Q_del,dh'!$D156,0)","v":0},{"$f":"IF(F207=\"Oui\",'Q_del,j et Q_del,dh'!$D156,0)","v":0},{"$f":"IF(G207=\"Oui\",'Q_del,j et Q_del,dh'!$D156,0)","v":0},{"$f":"IF(H207=\"Oui\",'Q_del,j et Q_del,dh'!$D156,0)","v":0},{"$f":"IF(I207=\"Oui\",'Q_del,j et Q_del,dh'!$D156,0)","v":0},{"$f":"IF(J207=\"Oui\",'Q_del,j et Q_del,dh'!$D156,0)","v":0},{"$f":"IF(K207=\"Oui\",'Q_del,j et Q_del,dh'!$D156,0)","v":0},{"$f":"IF(L207=\"Oui\",'Q_del,j et Q_del,dh'!$D156,0)","v":0},{"$f":"IF(M207=\"Oui\",'Q_del,j et Q_del,dh'!$D156,0)","v":0},{"$f":"IF(N207=\"Oui\",'Q_del,j et Q_del,dh'!$D156,0)","v":0},{"$f":"IF(O207=\"Oui\",'Q_del,j et Q_del,dh'!$D156,0)","v":0},{"$f":"IF(P207=\"Oui\",'Q_del,j et Q_del,dh'!$D156,0)","v":0},{"$f":"IF(Q207=\"Oui\",'Q_del,j et Q_del,dh'!$D156,0)","v":0},{"$f":"IF(R207=\"Oui\",'Q_del,j et Q_del,dh'!$D156,0)","v":0},{"$f":"IF(S207=\"Oui\",'Q_del,j et Q_del,dh'!$D156,0)","v":0},{"$f":"IF(T207=\"Oui\",'Q_del,j et Q_del,dh'!$D156,0)","v":0},{"$f":"IF(U207=\"Oui\",'Q_del,j et Q_del,dh'!$D156,0)","v":0},{"$f":"IF(V207=\"Oui\",'Q_del,j et Q_del,dh'!$D156,0)","v":0},{"$f":"IF(W207=\"Oui\",'Q_del,j et Q_del,dh'!$D156,0)","v":0},{"$f":"IF(X207=\"Oui\",'Q_del,j et Q_del,dh'!$D156,0)","v":0},{"$f":"IF(Y207=\"Oui\",'Q_del,j et Q_del,dh'!$D156,0)","v":0},{"$f":"IF(Z207=\"Oui\",'Q_del,j et Q_del,dh'!$D156,0)","v":0},{"$f":"IF(AA207=\"Oui\",'Q_del,j et Q_del,dh'!$D156,0)","v":0},{"$f":"IF(AB207=\"Oui\",'Q_del,j et Q_del,dh'!$D156,0)","v":0},{"$f":"IF(AC207=\"Oui\",'Q_del,j et Q_del,dh'!$D156,0)","v":0},{"$f":"IF(AD207=\"Oui\",'Q_del,j et Q_del,dh'!$D156,0)","v":0},{"$f":"IF(AE207=\"Oui\",'Q_del,j et Q_del,dh'!$D156,0)","v":0},{"$f":"IF(AF207=\"Oui\",'Q_del,j et Q_del,dh'!$D156,0)","v":0},{"$f":"IF(AG207=\"Oui\",'Q_del,j et Q_del,dh'!$D156,0)","v":0},{"$f":"IF(AH207=\"Oui\",'Q_del,j et Q_del,dh'!$D156,0)","v":0},{"$f":"IF(AI207=\"Oui\",'Q_del,j et Q_del,dh'!$D156,0)","v":0},{"$f":"IF(AJ207=\"Oui\",'Q_del,j et Q_del,dh'!$D156,0)","v":0},{"$f":"IF(AK207=\"Oui\",'Q_del,j et Q_del,dh'!$D156,0)","v":0},{"$f":"IF(AL207=\"Oui\",'Q_del,j et Q_del,dh'!$D156,0)","v":0},{"$f":"IF(AM207=\"Oui\",'Q_del,j et Q_del,dh'!$D156,0)","v":0},{"$f":"IF(AN207=\"Oui\",'Q_del,j et Q_del,dh'!$D156,0)","v":0},{"$f":"IF(AO207=\"Oui\",'Q_del,j et Q_del,dh'!$D156,0)","v":0},{"$f":"IF(AP207=\"Oui\",'Q_del,j et Q_del,dh'!$D156,0)","v":0},{"$f":"IF(AQ207=\"Oui\",'Q_del,j et Q_del,dh'!$D156,0)","v":0},{"$f":"IF(AR207=\"Oui\",'Q_del,j et Q_del,dh'!$D156,0)","v":0},{"$f":"IF(AS207=\"Oui\",'Q_del,j et Q_del,dh'!$D156,0)","v":0},{"$f":"IF(AT207=\"Oui\",'Q_del,j et Q_del,dh'!$D156,0)","v":0},{"$f":"IF(AU207=\"Oui\",'Q_del,j et Q_del,dh'!$D156,0)","v":0},{"$f":"IF(AV207=\"Oui\",'Q_del,j et Q_del,dh'!$D156,0)","v":0},{"$f":"IF(AW207=\"Oui\",'Q_del,j et Q_del,dh'!$D156,0)","v":0},{"$f":"IF(AX207=\"Oui\",'Q_del,j et Q_del,dh'!$D156,0)","v":0},{"$f":"IF(AY207=\"Oui\",'Q_del,j et Q_del,dh'!$D156,0)","v":0},{"$f":"IF(AZ207=\"Oui\",'Q_del,j et Q_del,dh'!$D156,0)","v":0},{"$f":"IF(BA207=\"Oui\",'Q_del,j et Q_del,dh'!$D156,0)","v":0}]
["Qdel,l,j [MJ]","Demandeur de chaleur 150",150,{"$f":"IF(D208=\"Oui\",'Q_del,j et Q_del,dh'!$D157,0)","v":0},{"$f":"IF(E208=\"Oui\",'Q_del,j et Q_del,dh'!$D157,0)","v":0},{"$f":"IF(F208=\"Oui\",'Q_del,j et Q_del,dh'!$D157,0)","v":0},{"$f":"IF(G208=\"Oui\",'Q_del,j et Q_del,dh'!$D157,0)","v":0},{"$f":"IF(H208=\"Oui\",'Q_del,j et Q_del,dh'!$D157,0)","v":0},{"$f":"IF(I208=\"Oui\",'Q_del,j et Q_del,dh'!$D157,0)","v":0},{"$f":"IF(J208=\"Oui\",'Q_del,j et Q_del,dh'!$D157,0)","v":0},{"$f":"IF(K208=\"Oui\",'Q_del,j et Q_del,dh'!$D157,0)","v":0},{"$f":"IF(L208=\"Oui\",'Q_del,j et Q_del,dh'!$D157,0)","v":0},{"$f":"IF(M208=\"Oui\",'Q_del,j et Q_del,dh'!$D157,0)","v":0},{"$f":"IF(N208=\"Oui\",'Q_del,j et Q_del,dh'!$D157,0)","v":0},{"$f":"IF(O208=\"Oui\",'Q_del,j et Q_del,dh'!$D157,0)","v":0},{"$f":"IF(P208=\"Oui\",'Q_del,j et Q_del,dh'!$D157,0)","v":0},{"$f":"IF(Q208=\"Oui\",'Q_del,j et Q_del,dh'!$D157,0)","v":0},{"$f":"IF(R208=\"Oui\",'Q_del,j et Q_del,dh'!$D157,0)","v":0},{"$f":"IF(S208=\"Oui\",'Q_del,j et Q_del,dh'!$D157,0)","v":0},{"$f":"IF(T208=\"Oui\",'Q_del,j et Q_del,dh'!$D157,0)","v":0},{"$f":"IF(U208=\"Oui\",'Q_del,j et Q_del,dh'!$D157,0)","v":0},{"$f":"IF(V208=\"Oui\",'Q_del,j et Q_del,dh'!$D157,0)","v":0},{"$f":"IF(W208=\"Oui\",'Q_del,j et Q_del,dh'!$D157,0)","v":0},{"$f":"IF(X208=\"Oui\",'Q_del,j et Q_del,dh'!$D157,0)","v":0},{"$f":"IF(Y208=\"Oui\",'Q_del,j et Q_del,dh'!$D157,0)","v":0},{"$f":"IF(Z208=\"Oui\",'Q_del,j et Q_del,dh'!$D157,0)","v":0},{"$f":"IF(AA208=\"Oui\",'Q_del,j et Q_del,dh'!$D157,0)","v":0},{"$f":"IF(AB208=\"Oui\",'Q_del,j et Q_del,dh'!$D157,0)","v":0},{"$f":"IF(AC208=\"Oui\",'Q_del,j et Q_del,dh'!$D157,0)","v":0},{"$f":"IF(AD208=\"Oui\",'Q_del,j et Q_del,dh'!$D157,0)","v":0},{"$f":"IF(AE208=\"Oui\",'Q_del,j et Q_del,dh'!$D157,0)","v":0},{"$f":"IF(AF208=\"Oui\",'Q_del,j et Q_del,dh'!$D157,0)","v":0},{"$f":"IF(AG208=\"Oui\",'Q_del,j et Q_del,dh'!$D157,0)","v":0},{"$f":"IF(AH208=\"Oui\",'Q_del,j et Q_del,dh'!$D157,0)","v":0},{"$f":"IF(AI208=\"Oui\",'Q_del,j et Q_del,dh'!$D157,0)","v":0},{"$f":"IF(AJ208=\"Oui\",'Q_del,j et Q_del,dh'!$D157,0)","v":0},{"$f":"IF(AK208=\"Oui\",'Q_del,j et Q_del,dh'!$D157,0)","v":0},{"$f":"IF(AL208=\"Oui\",'Q_del,j et Q_del,dh'!$D157,0)","v":0},{"$f":"IF(AM208=\"Oui\",'Q_del,j et Q_del,dh'!$D157,0)","v":0},{"$f":"IF(AN208=\"Oui\",'Q_del,j et Q_del,dh'!$D157,0)","v":0},{"$f":"IF(AO208=\"Oui\",'Q_del,j et Q_del,dh'!$D157,0)","v":0},{"$f":"IF(AP208=\"Oui\",'Q_del,j et Q_del,dh'!$D157,0)","v":0},{"$f":"IF(AQ208=\"Oui\",'Q_del,j et Q_del,dh'!$D157,0)","v":0},{"$f":"IF(AR208=\"Oui\",'Q_del,j et Q_del,dh'!$D157,0)","v":0},{"$f":"IF(AS208=\"Oui\",'Q_del,j et Q_del,dh'!$D157,0)","v":0},{"$f":"IF(AT208=\"Oui\",'Q_del,j et Q_del,dh'!$D157,0)","v":0},{"$f":"IF(AU208=\"Oui\",'Q_del,j et Q_del,dh'!$D157,0)","v":0},{"$f":"IF(AV208=\"Oui\",'Q_del,j et Q_del,dh'!$D157,0)","v":0},{"$f":"IF(AW208=\"Oui\",'Q_del,j et Q_del,dh'!$D157,0)","v":0},{"$f":"IF(AX208=\"Oui\",'Q_del,j et Q_del,dh'!$D157,0)","v":0},{"$f":"IF(AY208=\"Oui\",'Q_del,j et Q_del,dh'!$D157,0)","v":0},{"$f":"IF(AZ208=\"Oui\",'Q_del,j et Q_del,dh'!$D157,0)","v":0},{"$f":"IF(BA208=\"Oui\",'Q_del,j et Q_del,dh'!$D157,0)","v":0}]
["Qdel,l,j [MJ]","Demandeur de chaleur 151",151,{"$f":"IF(D209=\"Oui\",'Q_del,j et Q_del,dh'!$D158,0)","v":0},{"$f":"IF(E209=\"Oui\",'Q_del,j et Q_del,dh'!$D158,0)","v":0},{"$f":"IF(F209=\"Oui\",'Q_del,j et Q_del,dh'!$D158,0)","v":0},{"$f":"IF(G209=\"Oui\",'Q_del,j et Q_del,dh'!$D158,0)","v":0},{"$f":"IF(H209=\"Oui\",'Q_del,j et Q_del,dh'!$D158,0)","v":0},{"$f":"IF(I209=\"Oui\",'Q_del,j et Q_del,dh'!$D158,0)","v":0},{"$f":"IF(J209=\"Oui\",'Q_del,j et Q_del,dh'!$D158,0)","v":0},{"$f":"IF(K209=\"Oui\",'Q_del,j et Q_del,dh'!$D158,0)","v":0},{"$f":"IF(L209=\"Oui\",'Q_del,j et Q_del,dh'!$D158,0)","v":0},{"$f":"IF(M209=\"Oui\",'Q_del,j et Q_del,dh'!$D158,0)","v":0},{"$f":"IF(N209=\"Oui\",'Q_del,j et Q_del,dh'!$D158,0)","v":0},{"$f":"IF(O209=\"Oui\",'Q_del,j et Q_del,dh'!$D158,0)","v":0},{"$f":"IF(P209=\"Oui\",'Q_del,j et Q_del,dh'!$D158,0)","v":0},{"$f":"IF(Q209=\"Oui\",'Q_del,j et Q_del,dh'!$D158,0)","v":0},{"$f":"IF(R209=\"Oui\",'Q_del,j et Q_del,dh'!$D158,0)","v":0},{"$f":"IF(S209=\"Oui\",'Q_del,j et Q_del,dh'!$D158,0)","v":0},{"$f":"IF(T209=\"Oui\",'Q_del,j et Q_del,dh'!$D158,0)","v":0},{"$f":"IF(U209=\"Oui\",'Q_del,j et Q_del,dh'!$D158,0)","v":0},{"$f":"IF(V209=\"Oui\",'Q_del,j et Q_del,dh'!$D158,0)","v":0},{"$f":"IF(W209=\"Oui\",'Q_del,j et Q_del,dh'!$D158,0)","v":0},{"$f":"IF(X209=\"Oui\",'Q_del,j et Q_del,dh'!$D158,0)","v":0},{"$f":"IF(Y209=\"Oui\",'Q_del,j et Q_del,dh'!$D158,0)","v":0},{"$f":"IF(Z209=\"Oui\",'Q_del,j et Q_del,dh'!$D158,0)","v":0},{"$f":"IF(AA209=\"Oui\",'Q_del,j et Q_del,dh'!$D158,0)","v":0},{"$f":"IF(AB209=\"Oui\",'Q_del,j et Q_del,dh'!$D158,0)","v":0},{"$f":"IF(AC209=\"Oui\",'Q_del,j et Q_del,dh'!$D158,0)","v":0},{"$f":"IF(AD209=\"Oui\",'Q_del,j et Q_del,dh'!$D158,0)","v":0},{"$f":"IF(AE209=\"Oui\",'Q_del,j et Q_del,dh'!$D158,0)","v":0},{"$f":"IF(AF209=\"Oui\",'Q_del,j et Q_del,dh'!$D158,0)","v":0},{"$f":"IF(AG209=\"Oui\",'Q_del,j et Q_del,dh'!$D158,0)","v":0},{"$f":"IF(AH209=\"Oui\",'Q_del,j et Q_del,dh'!$D158,0)","v":0},{"$f":"IF(AI209=\"Oui\",'Q_del,j et Q_del,dh'!$D158,0)","v":0},{"$f":"IF(AJ209=\"Oui\",'Q_del,j et Q_del,dh'!$D158,0)","v":0},{"$f":"IF(AK209=\"Oui\",'Q_del,j et Q_del,dh'!$D158,0)","v":0},{"$f":"IF(AL209=\"Oui\",'Q_del,j et Q_del,dh'!$D158,0)","v":0},{"$f":"IF(AM209=\"Oui\",'Q_del,j et Q_del,dh'!$D158,0)","v":0},{"$f":"IF(AN209=\"Oui\",'Q_del,j et Q_del,dh'!$D158,0)","v":0},{"$f":"IF(AO209=\"Oui\",'Q_del,j et Q_del,dh'!$D158,0)","v":0},{"$f":"IF(AP209=\"Oui\",'Q_del,j et Q_del,dh'!$D158,0)","v":0},{"$f":"IF(AQ209=\"Oui\",'Q_del,j et Q_del,dh'!$D158,0)","v":0},{"$f":"IF(AR209=\"Oui\",'Q_del,j et Q_del,dh'!$D158,0)","v":0},{"$f":"IF(AS209=\"Oui\",'Q_del,j et Q_del,dh'!$D158,0)","v":0},{"$f":"IF(AT209=\"Oui\",'Q_del,j et Q_del,dh'!$D158,0)","v":0},{"$f":"IF(AU209=\"Oui\",'Q_del,j et Q_del,dh'!$D158,0)","v":0},{"$f":"IF(AV209=\"Oui\",'Q_del,j et Q_del,dh'!$D158,0)","v":0},{"$f":"IF(AW209=\"Oui\",'Q_del,j et Q_del,dh'!$D158,0)","v":0},{"$f":"IF(AX209=\"Oui\",'Q_del,j et Q_del,dh'!$D158,0)","v":0},{"$f":"IF(AY209=\"Oui\",'Q_del,j et Q_del,dh'!$D158,0)","v":0},{"$f":"IF(AZ209=\"Oui\",'Q_del,j et Q_del,dh'!$D158,0)","v":0},{"$f":"IF(BA209=\"Oui\",'Q_del,j et Q_del,dh'!$D158,0)","v":0}]
["Qdel,l,j [MJ]","Demandeur de chaleur 152",152,{"$f":"IF(D210=\"Oui\",'Q_del,j et Q_del,dh'!$D159,0)","v":0},{"$f":"IF(E210=\"Oui\",'Q_del,j et Q_del,dh'!$D159,0)","v":0},{"$f":"IF(F210=\"Oui\",'Q_del,j et Q_del,dh'!$D159,0)","v":0},{"$f":"IF(G210=\"Oui\",'Q_del,j et Q_del,dh'!$D159,0)","v":0},{"$f":"IF(H210=\"Oui\",'Q_del,j et Q_del,dh'!$D159,0)","v":0},{"$f":"IF(I210=\"Oui\",'Q_del,j et Q_del,dh'!$D159,0)","v":0},{"$f":"IF(J210=\"Oui\",'Q_del,j et Q_del,dh'!$D159,0)","v":0},{"$f":"IF(K210=\"Oui\",'Q_del,j et Q_del,dh'!$D159,0)","v":0},{"$f":"IF(L210=\"Oui\",'Q_del,j et Q_del,dh'!$D159,0)","v":0},{"$f":"IF(M210=\"Oui\",'Q_del,j et Q_del,dh'!$D159,0)","v":0},{"$f":"IF(N210=\"Oui\",'Q_del,j et Q_del,dh'!$D159,0)","v":0},{"$f":"IF(O210=\"Oui\",'Q_del,j et Q_del,dh'!$D159,0)","v":0},{"$f":"IF(P210=\"Oui\",'Q_del,j et Q_del,dh'!$D159,0)","v":0},{"$f":"IF(Q210=\"Oui\",'Q_del,j et Q_del,dh'!$D159,0)","v":0},{"$f":"IF(R210=\"Oui\",'Q_del,j et Q_del,dh'!$D159,0)","v":0},{"$f":"IF(S210=\"Oui\",'Q_del,j et Q_del,dh'!$D159,0)","v":0},{"$f":"IF(T210=\"Oui\",'Q_del,j et Q_del,dh'!$D159,0)","v":0},{"$f":"IF(U210=\"Oui\",'Q_del,j et Q_del,dh'!$D159,0)","v":0},{"$f":"IF(V210=\"Oui\",'Q_del,j et Q_del,dh'!$D159,0)","v":0},{"$f":"IF(W210=\"Oui\",'Q_del,j et Q_del,dh'!$D159,0)","v":0},{"$f":"IF(X210=\"Oui\",'Q_del,j et Q_del,dh'!$D159,0)","v":0},{"$f":"IF(Y210=\"Oui\",'Q_del,j et Q_del,dh'!$D159,0)","v":0},{"$f":"IF(Z210=\"Oui\",'Q_del,j et Q_del,dh'!$D159,0)","v":0},{"$f":"IF(AA210=\"Oui\",'Q_del,j et Q_del,dh'!$D159,0)","v":0},{"$f":"IF(AB210=\"Oui\",'Q_del,j et Q_del,dh'!$D159,0)","v":0},{"$f":"IF(AC210=\"Oui\",'Q_del,j et Q_del,dh'!$D159,0)","v":0},{"$f":"IF(AD210=\"Oui\",'Q_del,j et Q_del,dh'!$D159,0)","v":0},{"$f":"IF(AE210=\"Oui\",'Q_del,j et Q_del,dh'!$D159,0)","v":0},{"$f":"IF(AF210=\"Oui\",'Q_del,j et Q_del,dh'!$D159,0)","v":0},{"$f":"IF(AG210=\"Oui\",'Q_del,j et Q_del,dh'!$D159,0)","v":0},{"$f":"IF(AH210=\"Oui\",'Q_del,j et Q_del,dh'!$D159,0)","v":0},{"$f":"IF(AI210=\"Oui\",'Q_del,j et Q_del,dh'!$D159,0)","v":0},{"$f":"IF(AJ210=\"Oui\",'Q_del,j et Q_del,dh'!$D159,0)","v":0},{"$f":"IF(AK210=\"Oui\",'Q_del,j et Q_del,dh'!$D159,0)","v":0},{"$f":"IF(AL210=\"Oui\",'Q_del,j et Q_del,dh'!$D159,0)","v":0},{"$f":"IF(AM210=\"Oui\",'Q_del,j et Q_del,dh'!$D159,0)","v":0},{"$f":"IF(AN210=\"Oui\",'Q_del,j et Q_del,dh'!$D159,0)","v":0},{"$f":"IF(AO210=\"Oui\",'Q_del,j et Q_del,dh'!$D159,0)","v":0},{"$f":"IF(AP210=\"Oui\",'Q_del,j et Q_del,dh'!$D159,0)","v":0},{"$f":"IF(AQ210=\"Oui\",'Q_del,j et Q_del,dh'!$D159,0)","v":0},{"$f":"IF(AR210=\"Oui\",'Q_del,j et Q_del,dh'!$D159,0)","v":0},{"$f":"IF(AS210=\"Oui\",'Q_del,j et Q_del,dh'!$D159,0)","v":0},{"$f":"IF(AT210=\"Oui\",'Q_del,j et Q_del,dh'!$D159,0)","v":0},{"$f":"IF(AU210=\"Oui\",'Q_del,j et Q_del,dh'!$D159,0)","v":0},{"$f":"IF(AV210=\"Oui\",'Q_del,j et Q_del,dh'!$D159,0)","v":0},{"$f":"IF(AW210=\"Oui\",'Q_del,j et Q_del,dh'!$D159,0)","v":0},{"$f":"IF(AX210=\"Oui\",'Q_del,j et Q_del,dh'!$D159,0)","v":0},{"$f":"IF(AY210=\"Oui\",'Q_del,j et Q_del,dh'!$D159,0)","v":0},{"$f":"IF(AZ210=\"Oui\",'Q_del,j et Q_del,dh'!$D159,0)","v":0},{"$f":"IF(BA210=\"Oui\",'Q_del,j et Q_del,dh'!$D159,0)","v":0}]
["Qdel,l,j [MJ]","Demandeur de chaleur 153",153,{"$f":"IF(D211=\"Oui\",'Q_del,j et Q_del,dh'!$D160,0)","v":0},{"$f":"IF(E211=\"Oui\",'Q_del,j et Q_del,dh'!$D160,0)","v":0},{"$f":"IF(F211=\"Oui\",'Q_del,j et Q_del,dh'!$D160,0)","v":0},{"$f":"IF(G211=\"Oui\",'Q_del,j et Q_del,dh'!$D160,0)","v":0},{"$f":"IF(H211=\"Oui\",'Q_del,j et Q_del,dh'!$D160,0)","v":0},{"$f":"IF(I211=\"Oui\",'Q_del,j et Q_del,dh'!$D160,0)","v":0},{"$f":"IF(J211=\"Oui\",'Q_del,j et Q_del,dh'!$D160,0)","v":0},{"$f":"IF(K211=\"Oui\",'Q_del,j et Q_del,dh'!$D160,0)","v":0},{"$f":"IF(L211=\"Oui\",'Q_del,j et Q_del,dh'!$D160,0)","v":0},{"$f":"IF(M211=\"Oui\",'Q_del,j et Q_del,dh'!$D160,0)","v":0},{"$f":"IF(N211=\"Oui\",'Q_del,j et Q_del,dh'!$D160,0)","v":0},{"$f":"IF(O211=\"Oui\",'Q_del,j et Q_del,dh'!$D160,0)","v":0},{"$f":"IF(P211=\"Oui\",'Q_del,j et Q_del,dh'!$D160,0)","v":0},{"$f":"IF(Q211=\"Oui\",'Q_del,j et Q_del,dh'!$D160,0)","v":0},{"$f":"IF(R211=\"Oui\",'Q_del,j et Q_del,dh'!$D160,0)","v":0},{"$f":"IF(S211=\"Oui\",'Q_del,j et Q_del,dh'!$D160,0)","v":0},{"$f":"IF(T211=\"Oui\",'Q_del,j et Q_del,dh'!$D160,0)","v":0},{"$f":"IF(U211=\"Oui\",'Q_del,j et Q_del,dh'!$D160,0)","v":0},{"$f":"IF(V211=\"Oui\",'Q_del,j et Q_del,dh'!$D160,0)","v":0},{"$f":"IF(W211=\"Oui\",'Q_del,j et Q_del,dh'!$D160,0)","v":0},{"$f":"IF(X211=\"Oui\",'Q_del,j et Q_del,dh'!$D160,0)","v":0},{"$f":"IF(Y211=\"Oui\",'Q_del,j et Q_del,dh'!$D160,0)","v":0},{"$f":"IF(Z211=\"Oui\",'Q_del,j et Q_del,dh'!$D160,0)","v":0},{"$f":"IF(AA211=\"Oui\",'Q_del,j et Q_del,dh'!$D160,0)","v":0},{"$f":"IF(AB211=\"Oui\",'Q_del,j et Q_del,dh'!$D160,0)","v":0},{"$f":"IF(AC211=\"Oui\",'Q_del,j et Q_del,dh'!$D160,0)","v":0},{"$f":"IF(AD211=\"Oui\",'Q_del,j et Q_del,dh'!$D160,0)","v":0},{"$f":"IF(AE211=\"Oui\",'Q_del,j et Q_del,dh'!$D160,0)","v":0},{"$f":"IF(AF211=\"Oui\",'Q_del,j et Q_del,dh'!$D160,0)","v":0},{"$f":"IF(AG211=\"Oui\",'Q_del,j et Q_del,dh'!$D160,0)","v":0},{"$f":"IF(AH211=\"Oui\",'Q_del,j et Q_del,dh'!$D160,0)","v":0},{"$f":"IF(AI211=\"Oui\",'Q_del,j et Q_del,dh'!$D160,0)","v":0},{"$f":"IF(AJ211=\"Oui\",'Q_del,j et Q_del,dh'!$D160,0)","v":0},{"$f":"IF(AK211=\"Oui\",'Q_del,j et Q_del,dh'!$D160,0)","v":0},{"$f":"IF(AL211=\"Oui\",'Q_del,j et Q_del,dh'!$D160,0)","v":0},{"$f":"IF(AM211=\"Oui\",'Q_del,j et Q_del,dh'!$D160,0)","v":0},{"$f":"IF(AN211=\"Oui\",'Q_del,j et Q_del,dh'!$D160,0)","v":0},{"$f":"IF(AO211=\"Oui\",'Q_del,j et Q_del,dh'!$D160,0)","v":0},{"$f":"IF(AP211=\"Oui\",'Q_del,j et Q_del,dh'!$D160,0)","v":0},{"$f":"IF(AQ211=\"Oui\",'Q_del,j et Q_del,dh'!$D160,0)","v":0},{"$f":"IF(AR211=\"Oui\",'Q_del,j et Q_del,dh'!$D160,0)","v":0},{"$f":"IF(AS211=\"Oui\",'Q_del,j et Q_del,dh'!$D160,0)","v":0},{"$f":"IF(AT211=\"Oui\",'Q_del,j et Q_del,dh'!$D160,0)","v":0},{"$f":"IF(AU211=\"Oui\",'Q_del,j et Q_del,dh'!$D160,0)","v":0},{"$f":"IF(AV211=\"Oui\",'Q_del,j et Q_del,dh'!$D160,0)","v":0},{"$f":"IF(AW211=\"Oui\",'Q_del,j et Q_del,dh'!$D160,0)","v":0},{"$f":"IF(AX211=\"Oui\",'Q_del,j et Q_del,dh'!$D160,0)","v":0},{"$f":"IF(AY211=\"Oui\",'Q_del,j et Q_del,dh'!$D160,0)","v":0},{"$f":"IF(AZ211=\"Oui\",'Q_del,j et Q_del,dh'!$D160,0)","v":0},{"$f":"IF(BA211=\"Oui\",'Q_del,j et Q_del,dh'!$D160,0)","v":0}]
["Qdel,l,j [MJ]","Demandeur de chaleur 154",154,{"$f":"IF(D212=\"Oui\",'Q_del,j et Q_del,dh'!$D161,0)","v":0},{"$f":"IF(E212=\"Oui\",'Q_del,j et Q_del,dh'!$D161,0)","v":0},{"$f":"IF(F212=\"Oui\",'Q_del,j et Q_del,dh'!$D161,0)","v":0},{"$f":"IF(G212=\"Oui\",'Q_del,j et Q_del,dh'!$D161,0)","v":0},{"$f":"IF(H212=\"Oui\",'Q_del,j et Q_del,dh'!$D161,0)","v":0},{"$f":"IF(I212=\"Oui\",'Q_del,j et Q_del,dh'!$D161,0)","v":0},{"$f":"IF(J212=\"Oui\",'Q_del,j et Q_del,dh'!$D161,0)","v":0},{"$f":"IF(K212=\"Oui\",'Q_del,j et Q_del,dh'!$D161,0)","v":0},{"$f":"IF(L212=\"Oui\",'Q_del,j et Q_del,dh'!$D161,0)","v":0},{"$f":"IF(M212=\"Oui\",'Q_del,j et Q_del,dh'!$D161,0)","v":0},{"$f":"IF(N212=\"Oui\",'Q_del,j et Q_del,dh'!$D161,0)","v":0},{"$f":"IF(O212=\"Oui\",'Q_del,j et Q_del,dh'!$D161,0)","v":0},{"$f":"IF(P212=\"Oui\",'Q_del,j et Q_del,dh'!$D161,0)","v":0},{"$f":"IF(Q212=\"Oui\",'Q_del,j et Q_del,dh'!$D161,0)","v":0},{"$f":"IF(R212=\"Oui\",'Q_del,j et Q_del,dh'!$D161,0)","v":0},{"$f":"IF(S212=\"Oui\",'Q_del,j et Q_del,dh'!$D161,0)","v":0},{"$f":"IF(T212=\"Oui\",'Q_del,j et Q_del,dh'!$D161,0)","v":0},{"$f":"IF(U212=\"Oui\",'Q_del,j et Q_del,dh'!$D161,0)","v":0},{"$f":"IF(V212=\"Oui\",'Q_del,j et Q_del,dh'!$D161,0)","v":0},{"$f":"IF(W212=\"Oui\",'Q_del,j et Q_del,dh'!$D161,0)","v":0},{"$f":"IF(X212=\"Oui\",'Q_del,j et Q_del,dh'!$D161,0)","v":0},{"$f":"IF(Y212=\"Oui\",'Q_del,j et Q_del,dh'!$D161,0)","v":0},{"$f":"IF(Z212=\"Oui\",'Q_del,j et Q_del,dh'!$D161,0)","v":0},{"$f":"IF(AA212=\"Oui\",'Q_del,j et Q_del,dh'!$D161,0)","v":0},{"$f":"IF(AB212=\"Oui\",'Q_del,j et Q_del,dh'!$D161,0)","v":0},{"$f":"IF(AC212=\"Oui\",'Q_del,j et Q_del,dh'!$D161,0)","v":0},{"$f":"IF(AD212=\"Oui\",'Q_del,j et Q_del,dh'!$D161,0)","v":0},{"$f":"IF(AE212=\"Oui\",'Q_del,j et Q_del,dh'!$D161,0)","v":0},{"$f":"IF(AF212=\"Oui\",'Q_del,j et Q_del,dh'!$D161,0)","v":0},{"$f":"IF(AG212=\"Oui\",'Q_del,j et Q_del,dh'!$D161,0)","v":0},{"$f":"IF(AH212=\"Oui\",'Q_del,j et Q_del,dh'!$D161,0)","v":0},{"$f":"IF(AI212=\"Oui\",'Q_del,j et Q_del,dh'!$D161,0)","v":0},{"$f":"IF(AJ212=\"Oui\",'Q_del,j et Q_del,dh'!$D161,0)","v":0},{"$f":"IF(AK212=\"Oui\",'Q_del,j et Q_del,dh'!$D161,0)","v":0},{"$f":"IF(AL212=\"Oui\",'Q_del,j et Q_del,dh'!$D161,0)","v":0},{"$f":"IF(AM212=\"Oui\",'Q_del,j et Q_del,dh'!$D161,0)","v":0},{"$f":"IF(AN212=\"Oui\",'Q_del,j et Q_del,dh'!$D161,0)","v":0},{"$f":"IF(AO212=\"Oui\",'Q_del,j et Q_del,dh'!$D161,0)","v":0},{"$f":"IF(AP212=\"Oui\",'Q_del,j et Q_del,dh'!$D161,0)","v":0},{"$f":"IF(AQ212=\"Oui\",'Q_del,j et Q_del,dh'!$D161,0)","v":0},{"$f":"IF(AR212=\"Oui\",'Q_del,j et Q_del,dh'!$D161,0)","v":0},{"$f":"IF(AS212=\"Oui\",'Q_del,j et Q_del,dh'!$D161,0)","v":0},{"$f":"IF(AT212=\"Oui\",'Q_del,j et Q_del,dh'!$D161,0)","v":0},{"$f":"IF(AU212=\"Oui\",'Q_del,j et Q_del,dh'!$D161,0)","v":0},{"$f":"IF(AV212=\"Oui\",'Q_del,j et Q_del,dh'!$D161,0)","v":0},{"$f":"IF(AW212=\"Oui\",'Q_del,j et Q_del,dh'!$D161,0)","v":0},{"$f":"IF(AX212=\"Oui\",'Q_del,j et Q_del,dh'!$D161,0)","v":0},{"$f":"IF(AY212=\"Oui\",'Q_del,j et Q_del,dh'!$D161,0)","v":0},{"$f":"IF(AZ212=\"Oui\",'Q_del,j et Q_del,dh'!$D161,0)","v":0},{"$f":"IF(BA212=\"Oui\",'Q_del,j et Q_del,dh'!$D161,0)","v":0}]
["Qdel,l,j [MJ]","Demandeur de chaleur 155",155,{"$f":"IF(D213=\"Oui\",'Q_del,j et Q_del,dh'!$D162,0)","v":0},{"$f":"IF(E213=\"Oui\",'Q_del,j et Q_del,dh'!$D162,0)","v":0},{"$f":"IF(F213=\"Oui\",'Q_del,j et Q_del,dh'!$D162,0)","v":0},{"$f":"IF(G213=\"Oui\",'Q_del,j et Q_del,dh'!$D162,0)","v":0},{"$f":"IF(H213=\"Oui\",'Q_del,j et Q_del,dh'!$D162,0)","v":0},{"$f":"IF(I213=\"Oui\",'Q_del,j et Q_del,dh'!$D162,0)","v":0},{"$f":"IF(J213=\"Oui\",'Q_del,j et Q_del,dh'!$D162,0)","v":0},{"$f":"IF(K213=\"Oui\",'Q_del,j et Q_del,dh'!$D162,0)","v":0},{"$f":"IF(L213=\"Oui\",'Q_del,j et Q_del,dh'!$D162,0)","v":0},{"$f":"IF(M213=\"Oui\",'Q_del,j et Q_del,dh'!$D162,0)","v":0},{"$f":"IF(N213=\"Oui\",'Q_del,j et Q_del,dh'!$D162,0)","v":0},{"$f":"IF(O213=\"Oui\",'Q_del,j et Q_del,dh'!$D162,0)","v":0},{"$f":"IF(P213=\"Oui\",'Q_del,j et Q_del,dh'!$D162,0)","v":0},{"$f":"IF(Q213=\"Oui\",'Q_del,j et Q_del,dh'!$D162,0)","v":0},{"$f":"IF(R213=\"Oui\",'Q_del,j et Q_del,dh'!$D162,0)","v":0},{"$f":"IF(S213=\"Oui\",'Q_del,j et Q_del,dh'!$D162,0)","v":0},{"$f":"IF(T213=\"Oui\",'Q_del,j et Q_del,dh'!$D162,0)","v":0},{"$f":"IF(U213=\"Oui\",'Q_del,j et Q_del,dh'!$D162,0)","v":0},{"$f":"IF(V213=\"Oui\",'Q_del,j et Q_del,dh'!$D162,0)","v":0},{"$f":"IF(W213=\"Oui\",'Q_del,j et Q_del,dh'!$D162,0)","v":0},{"$f":"IF(X213=\"Oui\",'Q_del,j et Q_del,dh'!$D162,0)","v":0},{"$f":"IF(Y213=\"Oui\",'Q_del,j et Q_del,dh'!$D162,0)","v":0},{"$f":"IF(Z213=\"Oui\",'Q_del,j et Q_del,dh'!$D162,0)","v":0},{"$f":"IF(AA213=\"Oui\",'Q_del,j et Q_del,dh'!$D162,0)","v":0},{"$f":"IF(AB213=\"Oui\",'Q_del,j et Q_del,dh'!$D162,0)","v":0},{"$f":"IF(AC213=\"Oui\",'Q_del,j et Q_del,dh'!$D162,0)","v":0},{"$f":"IF(AD213=\"Oui\",'Q_del,j et Q_del,dh'!$D162,0)","v":0},{"$f":"IF(AE213=\"Oui\",'Q_del,j et Q_del,dh'!$D162,0)","v":0},{"$f":"IF(AF213=\"Oui\",'Q_del,j et Q_del,dh'!$D162,0)","v":0},{"$f":"IF(AG213=\"Oui\",'Q_del,j et Q_del,dh'!$D162,0)","v":0},{"$f":"IF(AH213=\"Oui\",'Q_del,j et Q_del,dh'!$D162,0)","v":0},{"$f":"IF(AI213=\"Oui\",'Q_del,j et Q_del,dh'!$D162,0)","v":0},{"$f":"IF(AJ213=\"Oui\",'Q_del,j et Q_del,dh'!$D162,0)","v":0},{"$f":"IF(AK213=\"Oui\",'Q_del,j et Q_del,dh'!$D162,0)","v":0},{"$f":"IF(AL213=\"Oui\",'Q_del,j et Q_del,dh'!$D162,0)","v":0},{"$f":"IF(AM213=\"Oui\",'Q_del,j et Q_del,dh'!$D162,0)","v":0},{"$f":"IF(AN213=\"Oui\",'Q_del,j et Q_del,dh'!$D162,0)","v":0},{"$f":"IF(AO213=\"Oui\",'Q_del,j et Q_del,dh'!$D162,0)","v":0},{"$f":"IF(AP213=\"Oui\",'Q_del,j et Q_del,dh'!$D162,0)","v":0},{"$f":"IF(AQ213=\"Oui\",'Q_del,j et Q_del,dh'!$D162,0)","v":0},{"$f":"IF(AR213=\"Oui\",'Q_del,j et Q_del,dh'!$D162,0)","v":0},{"$f":"IF(AS213=\"Oui\",'Q_del,j et Q_del,dh'!$D162,0)","v":0},{"$f":"IF(AT213=\"Oui\",'Q_del,j et Q_del,dh'!$D162,0)","v":0},{"$f":"IF(AU213=\"Oui\",'Q_del,j et Q_del,dh'!$D162,0)","v":0},{"$f":"IF(AV213=\"Oui\",'Q_del,j et Q_del,dh'!$D162,0)","v":0},{"$f":"IF(AW213=\"Oui\",'Q_del,j et Q_del,dh'!$D162,0)","v":0},{"$f":"IF(AX213=\"Oui\",'Q_del,j et Q_del,dh'!$D162,0)","v":0},{"$f":"IF(AY213=\"Oui\",'Q_del,j et Q_del,dh'!$D162,0)","v":0},{"$f":"IF(AZ213=\"Oui\",'Q_del,j et Q_del,dh'!$D162,0)","v":0},{"$f":"IF(BA213=\"Oui\",'Q_del,j et Q_del,dh'!$D162,0)","v":0}]
["Qdel,l,j [MJ]","Demandeur de chaleur 156",156,{"$f":"IF(D214=\"Oui\",'Q_del,j et Q_del,dh'!$D163,0)","v":0},{"$f":"IF(E214=\"Oui\",'Q_del,j et Q_del,dh'!$D163,0)","v":0},{"$f":"IF(F214=\"Oui\",'Q_del,j et Q_del,dh'!$D163,0)","v":0},{"$f":"IF(G214=\"Oui\",'Q_del,j et Q_del,dh'!$D163,0)","v":0},{"$f":"IF(H214=\"Oui\",'Q_del,j et Q_del,dh'!$D163,0)","v":0},{"$f":"IF(I214=\"Oui\",'Q_del,j et Q_del,dh'!$D163,0)","v":0},{"$f":"IF(J214=\"Oui\",'Q_del,j et Q_del,dh'!$D163,0)","v":0},{"$f":"IF(K214=\"Oui\",'Q_del,j et Q_del,dh'!$D163,0)","v":0},{"$f":"IF(L214=\"Oui\",'Q_del,j et Q_del,dh'!$D163,0)","v":0},{"$f":"IF(M214=\"Oui\",'Q_del,j et Q_del,dh'!$D163,0)","v":0},{"$f":"IF(N214=\"Oui\",'Q_del,j et Q_del,dh'!$D163,0)","v":0},{"$f":"IF(O214=\"Oui\",'Q_del,j et Q_del,dh'!$D163,0)","v":0},{"$f":"IF(P214=\"Oui\",'Q_del,j et Q_del,dh'!$D163,0)","v":0},{"$f":"IF(Q214=\"Oui\",'Q_del,j et Q_del,dh'!$D163,0)","v":0},{"$f":"IF(R214=\"Oui\",'Q_del,j et Q_del,dh'!$D163,0)","v":0},{"$f":"IF(S214=\"Oui\",'Q_del,j et Q_del,dh'!$D163,0)","v":0},{"$f":"IF(T214=\"Oui\",'Q_del,j et Q_del,dh'!$D163,0)","v":0},{"$f":"IF(U214=\"Oui\",'Q_del,j et Q_del,dh'!$D163,0)","v":0},{"$f":"IF(V214=\"Oui\",'Q_del,j et Q_del,dh'!$D163,0)","v":0},{"$f":"IF(W214=\"Oui\",'Q_del,j et Q_del,dh'!$D163,0)","v":0},{"$f":"IF(X214=\"Oui\",'Q_del,j et Q_del,dh'!$D163,0)","v":0},{"$f":"IF(Y214=\"Oui\",'Q_del,j et Q_del,dh'!$D163,0)","v":0},{"$f":"IF(Z214=\"Oui\",'Q_del,j et Q_del,dh'!$D163,0)","v":0},{"$f":"IF(AA214=\"Oui\",'Q_del,j et Q_del,dh'!$D163,0)","v":0},{"$f":"IF(AB214=\"Oui\",'Q_del,j et Q_del,dh'!$D163,0)","v":0},{"$f":"IF(AC214=\"Oui\",'Q_del,j et Q_del,dh'!$D163,0)","v":0},{"$f":"IF(AD214=\"Oui\",'Q_del,j et Q_del,dh'!$D163,0)","v":0},{"$f":"IF(AE214=\"Oui\",'Q_del,j et Q_del,dh'!$D163,0)","v":0},{"$f":"IF(AF214=\"Oui\",'Q_del,j et Q_del,dh'!$D163,0)","v":0},{"$f":"IF(AG214=\"Oui\",'Q_del,j et Q_del,dh'!$D163,0)","v":0},{"$f":"IF(AH214=\"Oui\",'Q_del,j et Q_del,dh'!$D163,0)","v":0},{"$f":"IF(AI214=\"Oui\",'Q_del,j et Q_del,dh'!$D163,0)","v":0},{"$f":"IF(AJ214=\"Oui\",'Q_del,j et Q_del,dh'!$D163,0)","v":0},{"$f":"IF(AK214=\"Oui\",'Q_del,j et Q_del,dh'!$D163,0)","v":0},{"$f":"IF(AL214=\"Oui\",'Q_del,j et Q_del,dh'!$D163,0)","v":0},{"$f":"IF(AM214=\"Oui\",'Q_del,j et Q_del,dh'!$D163,0)","v":0},{"$f":"IF(AN214=\"Oui\",'Q_del,j et Q_del,dh'!$D163,0)","v":0},{"$f":"IF(AO214=\"Oui\",'Q_del,j et Q_del,dh'!$D163,0)","v":0},{"$f":"IF(AP214=\"Oui\",'Q_del,j et Q_del,dh'!$D163,0)","v":0},{"$f":"IF(AQ214=\"Oui\",'Q_del,j et Q_del,dh'!$D163,0)","v":0},{"$f":"IF(AR214=\"Oui\",'Q_del,j et Q_del,dh'!$D163,0)","v":0},{"$f":"IF(AS214=\"Oui\",'Q_del,j et Q_del,dh'!$D163,0)","v":0},{"$f":"IF(AT214=\"Oui\",'Q_del,j et Q_del,dh'!$D163,0)","v":0},{"$f":"IF(AU214=\"Oui\",'Q_del,j et Q_del,dh'!$D163,0)","v":0},{"$f":"IF(AV214=\"Oui\",'Q_del,j et Q_del,dh'!$D163,0)","v":0},{"$f":"IF(AW214=\"Oui\",'Q_del,j et Q_del,dh'!$D163,0)","v":0},{"$f":"IF(AX214=\"Oui\",'Q_del,j et Q_del,dh'!$D163,0)","v":0},{"$f":"IF(AY214=\"Oui\",'Q_del,j et Q_del,dh'!$D163,0)","v":0},{"$f":"IF(AZ214=\"Oui\",'Q_del,j et Q_del,dh'!$D163,0)","v":0},{"$f":"IF(BA214=\"Oui\",'Q_del,j et Q_del,dh'!$D163,0)","v":0}]
["Qdel,l,j [MJ]","Demandeur de chaleur 157",157,{"$f":"IF(D215=\"Oui\",'Q_del,j et Q_del,dh'!$D164,0)","v":0},{"$f":"IF(E215=\"Oui\",'Q_del,j et Q_del,dh'!$D164,0)","v":0},{"$f":"IF(F215=\"Oui\",'Q_del,j et Q_del,dh'!$D164,0)","v":0},{"$f":"IF(G215=\"Oui\",'Q_del,j et Q_del,dh'!$D164,0)","v":0},{"$f":"IF(H215=\"Oui\",'Q_del,j et Q_del,dh'!$D164,0)","v":0},{"$f":"IF(I215=\"Oui\",'Q_del,j et Q_del,dh'!$D164,0)","v":0},{"$f":"IF(J215=\"Oui\",'Q_del,j et Q_del,dh'!$D164,0)","v":0},{"$f":"IF(K215=\"Oui\",'Q_del,j et Q_del,dh'!$D164,0)","v":0},{"$f":"IF(L215=\"Oui\",'Q_del,j et Q_del,dh'!$D164,0)","v":0},{"$f":"IF(M215=\"Oui\",'Q_del,j et Q_del,dh'!$D164,0)","v":0},{"$f":"IF(N215=\"Oui\",'Q_del,j et Q_del,dh'!$D164,0)","v":0},{"$f":"IF(O215=\"Oui\",'Q_del,j et Q_del,dh'!$D164,0)","v":0},{"$f":"IF(P215=\"Oui\",'Q_del,j et Q_del,dh'!$D164,0)","v":0},{"$f":"IF(Q215=\"Oui\",'Q_del,j et Q_del,dh'!$D164,0)","v":0},{"$f":"IF(R215=\"Oui\",'Q_del,j et Q_del,dh'!$D164,0)","v":0},{"$f":"IF(S215=\"Oui\",'Q_del,j et Q_del,dh'!$D164,0)","v":0},{"$f":"IF(T215=\"Oui\",'Q_del,j et Q_del,dh'!$D164,0)","v":0},{"$f":"IF(U215=\"Oui\",'Q_del,j et Q_del,dh'!$D164,0)","v":0},{"$f":"IF(V215=\"Oui\",'Q_del,j et Q_del,dh'!$D164,0)","v":0},{"$f":"IF(W215=\"Oui\",'Q_del,j et Q_del,dh'!$D164,0)","v":0},{"$f":"IF(X215=\"Oui\",'Q_del,j et Q_del,dh'!$D164,0)","v":0},{"$f":"IF(Y215=\"Oui\",'Q_del,j et Q_del,dh'!$D164,0)","v":0},{"$f":"IF(Z215=\"Oui\",'Q_del,j et Q_del,dh'!$D164,0)","v":0},{"$f":"IF(AA215=\"Oui\",'Q_del,j et Q_del,dh'!$D164,0)","v":0},{"$f":"IF(AB215=\"Oui\",'Q_del,j et Q_del,dh'!$D164,0)","v":0},{"$f":"IF(AC215=\"Oui\",'Q_del,j et Q_del,dh'!$D164,0)","v":0},{"$f":"IF(AD215=\"Oui\",'Q_del,j et Q_del,dh'!$D164,0)","v":0},{"$f":"IF(AE215=\"Oui\",'Q_del,j et Q_del,dh'!$D164,0)","v":0},{"$f":"IF(AF215=\"Oui\",'Q_del,j et Q_del,dh'!$D164,0)","v":0},{"$f":"IF(AG215=\"Oui\",'Q_del,j et Q_del,dh'!$D164,0)","v":0},{"$f":"IF(AH215=\"Oui\",'Q_del,j et Q_del,dh'!$D164,0)","v":0},{"$f":"IF(AI215=\"Oui\",'Q_del,j et Q_del,dh'!$D164,0)","v":0},{"$f":"IF(AJ215=\"Oui\",'Q_del,j et Q_del,dh'!$D164,0)","v":0},{"$f":"IF(AK215=\"Oui\",'Q_del,j et Q_del,dh'!$D164,0)","v":0},{"$f":"IF(AL215=\"Oui\",'Q_del,j et Q_del,dh'!$D164,0)","v":0},{"$f":"IF(AM215=\"Oui\",'Q_del,j et Q_del,dh'!$D164,0)","v":0},{"$f":"IF(AN215=\"Oui\",'Q_del,j et Q_del,dh'!$D164,0)","v":0},{"$f":"IF(AO215=\"Oui\",'Q_del,j et Q_del,dh'!$D164,0)","v":0},{"$f":"IF(AP215=\"Oui\",'Q_del,j et Q_del,dh'!$D164,0)","v":0},{"$f":"IF(AQ215=\"Oui\",'Q_del,j et Q_del,dh'!$D164,0)","v":0},{"$f":"IF(AR215=\"Oui\",'Q_del,j et Q_del,dh'!$D164,0)","v":0},{"$f":"IF(AS215=\"Oui\",'Q_del,j et Q_del,dh'!$D164,0)","v":0},{"$f":"IF(AT215=\"Oui\",'Q_del,j et Q_del,dh'!$D164,0)","v":0},{"$f":"IF(AU215=\"Oui\",'Q_del,j et Q_del,dh'!$D164,0)","v":0},{"$f":"IF(AV215=\"Oui\",'Q_del,j et Q_del,dh'!$D164,0)","v":0},{"$f":"IF(AW215=\"Oui\",'Q_del,j et Q_del,dh'!$D164,0)","v":0},{"$f":"IF(AX215=\"Oui\",'Q_del,j et Q_del,dh'!$D164,0)","v":0},{"$f":"IF(AY215=\"Oui\",'Q_del,j et Q_del,dh'!$D164,0)","v":0},{"$f":"IF(AZ215=\"Oui\",'Q_del,j et Q_del,dh'!$D164,0)","v":0},{"$f":"IF(BA215=\"Oui\",'Q_del,j et Q_del,dh'!$D164,0)","v":0}]
["Qdel,l,j [MJ]","Demandeur de chaleur 158",158,{"$f":"IF(D216=\"Oui\",'Q_del,j et Q_del,dh'!$D165,0)","v":0},{"$f":"IF(E216=\"Oui\",'Q_del,j et Q_del,dh'!$D165,0)","v":0},{"$f":"IF(F216=\"Oui\",'Q_del,j et Q_del,dh'!$D165,0)","v":0},{"$f":"IF(G216=\"Oui\",'Q_del,j et Q_del,dh'!$D165,0)","v":0},{"$f":"IF(H216=\"Oui\",'Q_del,j et Q_del,dh'!$D165,0)","v":0},{"$f":"IF(I216=\"Oui\",'Q_del,j et Q_del,dh'!$D165,0)","v":0},{"$f":"IF(J216=\"Oui\",'Q_del,j et Q_del,dh'!$D165,0)","v":0},{"$f":"IF(K216=\"Oui\",'Q_del,j et Q_del,dh'!$D165,0)","v":0},{"$f":"IF(L216=\"Oui\",'Q_del,j et Q_del,dh'!$D165,0)","v":0},{"$f":"IF(M216=\"Oui\",'Q_del,j et Q_del,dh'!$D165,0)","v":0},{"$f":"IF(N216=\"Oui\",'Q_del,j et Q_del,dh'!$D165,0)","v":0},{"$f":"IF(O216=\"Oui\",'Q_del,j et Q_del,dh'!$D165,0)","v":0},{"$f":"IF(P216=\"Oui\",'Q_del,j et Q_del,dh'!$D165,0)","v":0},{"$f":"IF(Q216=\"Oui\",'Q_del,j et Q_del,dh'!$D165,0)","v":0},{"$f":"IF(R216=\"Oui\",'Q_del,j et Q_del,dh'!$D165,0)","v":0},{"$f":"IF(S216=\"Oui\",'Q_del,j et Q_del,dh'!$D165,0)","v":0},{"$f":"IF(T216=\"Oui\",'Q_del,j et Q_del,dh'!$D165,0)","v":0},{"$f":"IF(U216=\"Oui\",'Q_del,j et Q_del,dh'!$D165,0)","v":0},{"$f":"IF(V216=\"Oui\",'Q_del,j et Q_del,dh'!$D165,0)","v":0},{"$f":"IF(W216=\"Oui\",'Q_del,j et Q_del,dh'!$D165,0)","v":0},{"$f":"IF(X216=\"Oui\",'Q_del,j et Q_del,dh'!$D165,0)","v":0},{"$f":"IF(Y216=\"Oui\",'Q_del,j et Q_del,dh'!$D165,0)","v":0},{"$f":"IF(Z216=\"Oui\",'Q_del,j et Q_del,dh'!$D165,0)","v":0},{"$f":"IF(AA216=\"Oui\",'Q_del,j et Q_del,dh'!$D165,0)","v":0},{"$f":"IF(AB216=\"Oui\",'Q_del,j et Q_del,dh'!$D165,0)","v":0},{"$f":"IF(AC216=\"Oui\",'Q_del,j et Q_del,dh'!$D165,0)","v":0},{"$f":"IF(AD216=\"Oui\",'Q_del,j et Q_del,dh'!$D165,0)","v":0},{"$f":"IF(AE216=\"Oui\",'Q_del,j et Q_del,dh'!$D165,0)","v":0},{"$f":"IF(AF216=\"Oui\",'Q_del,j et Q_del,dh'!$D165,0)","v":0},{"$f":"IF(AG216=\"Oui\",'Q_del,j et Q_del,dh'!$D165,0)","v":0},{"$f":"IF(AH216=\"Oui\",'Q_del,j et Q_del,dh'!$D165,0)","v":0},{"$f":"IF(AI216=\"Oui\",'Q_del,j et Q_del,dh'!$D165,0)","v":0},{"$f":"IF(AJ216=\"Oui\",'Q_del,j et Q_del,dh'!$D165,0)","v":0},{"$f":"IF(AK216=\"Oui\",'Q_del,j et Q_del,dh'!$D165,0)","v":0},{"$f":"IF(AL216=\"Oui\",'Q_del,j et Q_del,dh'!$D165,0)","v":0},{"$f":"IF(AM216=\"Oui\",'Q_del,j et Q_del,dh'!$D165,0)","v":0},{"$f":"IF(AN216=\"Oui\",'Q_del,j et Q_del,dh'!$D165,0)","v":0},{"$f":"IF(AO216=\"Oui\",'Q_del,j et Q_del,dh'!$D165,0)","v":0},{"$f":"IF(AP216=\"Oui\",'Q_del,j et Q_del,dh'!$D165,0)","v":0},{"$f":"IF(AQ216=\"Oui\",'Q_del,j et Q_del,dh'!$D165,0)","v":0},{"$f":"IF(AR216=\"Oui\",'Q_del,j et Q_del,dh'!$D165,0)","v":0},{"$f":"IF(AS216=\"Oui\",'Q_del,j et Q_del,dh'!$D165,0)","v":0},{"$f":"IF(AT216=\"Oui\",'Q_del,j et Q_del,dh'!$D165,0)","v":0},{"$f":"IF(AU216=\"Oui\",'Q_del,j et Q_del,dh'!$D165,0)","v":0},{"$f":"IF(AV216=\"Oui\",'Q_del,j et Q_del,dh'!$D165,0)","v":0},{"$f":"IF(AW216=\"Oui\",'Q_del,j et Q_del,dh'!$D165,0)","v":0},{"$f":"IF(AX216=\"Oui\",'Q_del,j et Q_del,dh'!$D165,0)","v":0},{"$f":"IF(AY216=\"Oui\",'Q_del,j et Q_del,dh'!$D165,0)","v":0},{"$f":"IF(AZ216=\"Oui\",'Q_del,j et Q_del,dh'!$D165,0)","v":0},{"$f":"IF(BA216=\"Oui\",'Q_del,j et Q_del,dh'!$D165,0)","v":0}]
["Qdel,l,j [MJ]","Demandeur de chaleur 159",159,{"$f":"IF(D217=\"Oui\",'Q_del,j et Q_del,dh'!$D166,0)","v":0},{"$f":"IF(E217=\"Oui\",'Q_del,j et Q_del,dh'!$D166,0)","v":0},{"$f":"IF(F217=\"Oui\",'Q_del,j et Q_del,dh'!$D166,0)","v":0},{"$f":"IF(G217=\"Oui\",'Q_del,j et Q_del,dh'!$D166,0)","v":0},{"$f":"IF(H217=\"Oui\",'Q_del,j et Q_del,dh'!$D166,0)","v":0},{"$f":"IF(I217=\"Oui\",'Q_del,j et Q_del,dh'!$D166,0)","v":0},{"$f":"IF(J217=\"Oui\",'Q_del,j et Q_del,dh'!$D166,0)","v":0},{"$f":"IF(K217=\"Oui\",'Q_del,j et Q_del,dh'!$D166,0)","v":0},{"$f":"IF(L217=\"Oui\",'Q_del,j et Q_del,dh'!$D166,0)","v":0},{"$f":"IF(M217=\"Oui\",'Q_del,j et Q_del,dh'!$D166,0)","v":0},{"$f":"IF(N217=\"Oui\",'Q_del,j et Q_del,dh'!$D166,0)","v":0},{"$f":"IF(O217=\"Oui\",'Q_del,j et Q_del,dh'!$D166,0)","v":0},{"$f":"IF(P217=\"Oui\",'Q_del,j et Q_del,dh'!$D166,0)","v":0},{"$f":"IF(Q217=\"Oui\",'Q_del,j et Q_del,dh'!$D166,0)","v":0},{"$f":"IF(R217=\"Oui\",'Q_del,j et Q_del,dh'!$D166,0)","v":0},{"$f":"IF(S217=\"Oui\",'Q_del,j et Q_del,dh'!$D166,0)","v":0},{"$f":"IF(T217=\"Oui\",'Q_del,j et Q_del,dh'!$D166,0)","v":0},{"$f":"IF(U217=\"Oui\",'Q_del,j et Q_del,dh'!$D166,0)","v":0},{"$f":"IF(V217=\"Oui\",'Q_del,j et Q_del,dh'!$D166,0)","v":0},{"$f":"IF(W217=\"Oui\",'Q_del,j et Q_del,dh'!$D166,0)","v":0},{"$f":"IF(X217=\"Oui\",'Q_del,j et Q_del,dh'!$D166,0)","v":0},{"$f":"IF(Y217=\"Oui\",'Q_del,j et Q_del,dh'!$D166,0)","v":0},{"$f":"IF(Z217=\"Oui\",'Q_del,j et Q_del,dh'!$D166,0)","v":0},{"$f":"IF(AA217=\"Oui\",'Q_del,j et Q_del,dh'!$D166,0)","v":0},{"$f":"IF(AB217=\"Oui\",'Q_del,j et Q_del,dh'!$D166,0)","v":0},{"$f":"IF(AC217=\"Oui\",'Q_del,j et Q_del,dh'!$D166,0)","v":0},{"$f":"IF(AD217=\"Oui\",'Q_del,j et Q_del,dh'!$D166,0)","v":0},{"$f":"IF(AE217=\"Oui\",'Q_del,j et Q_del,dh'!$D166,0)","v":0},{"$f":"IF(AF217=\"Oui\",'Q_del,j et Q_del,dh'!$D166,0)","v":0},{"$f":"IF(AG217=\"Oui\",'Q_del,j et Q_del,dh'!$D166,0)","v":0},{"$f":"IF(AH217=\"Oui\",'Q_del,j et Q_del,dh'!$D166,0)","v":0},{"$f":"IF(AI217=\"Oui\",'Q_del,j et Q_del,dh'!$D166,0)","v":0},{"$f":"IF(AJ217=\"Oui\",'Q_del,j et Q_del,dh'!$D166,0)","v":0},{"$f":"IF(AK217=\"Oui\",'Q_del,j et Q_del,dh'!$D166,0)","v":0},{"$f":"IF(AL217=\"Oui\",'Q_del,j et Q_del,dh'!$D166,0)","v":0},{"$f":"IF(AM217=\"Oui\",'Q_del,j et Q_del,dh'!$D166,0)","v":0},{"$f":"IF(AN217=\"Oui\",'Q_del,j et Q_del,dh'!$D166,0)","v":0},{"$f":"IF(AO217=\"Oui\",'Q_del,j et Q_del,dh'!$D166,0)","v":0},{"$f":"IF(AP217=\"Oui\",'Q_del,j et Q_del,dh'!$D166,0)","v":0},{"$f":"IF(AQ217=\"Oui\",'Q_del,j et Q_del,dh'!$D166,0)","v":0},{"$f":"IF(AR217=\"Oui\",'Q_del,j et Q_del,dh'!$D166,0)","v":0},{"$f":"IF(AS217=\"Oui\",'Q_del,j et Q_del,dh'!$D166,0)","v":0},{"$f":"IF(AT217=\"Oui\",'Q_del,j et Q_del,dh'!$D166,0)","v":0},{"$f":"IF(AU217=\"Oui\",'Q_del,j et Q_del,dh'!$D166,0)","v":0},{"$f":"IF(AV217=\"Oui\",'Q_del,j et Q_del,dh'!$D166,0)","v":0},{"$f":"IF(AW217=\"Oui\",'Q_del,j et Q_del,dh'!$D166,0)","v":0},{"$f":"IF(AX217=\"Oui\",'Q_del,j et Q_del,dh'!$D166,0)","v":0},{"$f":"IF(AY217=\"Oui\",'Q_del,j et Q_del,dh'!$D166,0)","v":0},{"$f":"IF(AZ217=\"Oui\",'Q_del,j et Q_del,dh'!$D166,0)","v":0},{"$f":"IF(BA217=\"Oui\",'Q_del,j et Q_del,dh'!$D166,0)","v":0}]
["Qdel,l,j [MJ]","Demandeur de chaleur 160",160,{"$f":"IF(D218=\"Oui\",'Q_del,j et Q_del,dh'!$D167,0)","v":0},{"$f":"IF(E218=\"Oui\",'Q_del,j et Q_del,dh'!$D167,0)","v":0},{"$f":"IF(F218=\"Oui\",'Q_del,j et Q_del,dh'!$D167,0)","v":0},{"$f":"IF(G218=\"Oui\",'Q_del,j et Q_del,dh'!$D167,0)","v":0},{"$f":"IF(H218=\"Oui\",'Q_del,j et Q_del,dh'!$D167,0)","v":0},{"$f":"IF(I218=\"Oui\",'Q_del,j et Q_del,dh'!$D167,0)","v":0},{"$f":"IF(J218=\"Oui\",'Q_del,j et Q_del,dh'!$D167,0)","v":0},{"$f":"IF(K218=\"Oui\",'Q_del,j et Q_del,dh'!$D167,0)","v":0},{"$f":"IF(L218=\"Oui\",'Q_del,j et Q_del,dh'!$D167,0)","v":0},{"$f":"IF(M218=\"Oui\",'Q_del,j et Q_del,dh'!$D167,0)","v":0},{"$f":"IF(N218=\"Oui\",'Q_del,j et Q_del,dh'!$D167,0)","v":0},{"$f":"IF(O218=\"Oui\",'Q_del,j et Q_del,dh'!$D167,0)","v":0},{"$f":"IF(P218=\"Oui\",'Q_del,j et Q_del,dh'!$D167,0)","v":0},{"$f":"IF(Q218=\"Oui\",'Q_del,j et Q_del,dh'!$D167,0)","v":0},{"$f":"IF(R218=\"Oui\",'Q_del,j et Q_del,dh'!$D167,0)","v":0},{"$f":"IF(S218=\"Oui\",'Q_del,j et Q_del,dh'!$D167,0)","v":0},{"$f":"IF(T218=\"Oui\",'Q_del,j et Q_del,dh'!$D167,0)","v":0},{"$f":"IF(U218=\"Oui\",'Q_del,j et Q_del,dh'!$D167,0)","v":0},{"$f":"IF(V218=\"Oui\",'Q_del,j et Q_del,dh'!$D167,0)","v":0},{"$f":"IF(W218=\"Oui\",'Q_del,j et Q_del,dh'!$D167,0)","v":0},{"$f":"IF(X218=\"Oui\",'Q_del,j et Q_del,dh'!$D167,0)","v":0},{"$f":"IF(Y218=\"Oui\",'Q_del,j et Q_del,dh'!$D167,0)","v":0},{"$f":"IF(Z218=\"Oui\",'Q_del,j et Q_del,dh'!$D167,0)","v":0},{"$f":"IF(AA218=\"Oui\",'Q_del,j et Q_del,dh'!$D167,0)","v":0},{"$f":"IF(AB218=\"Oui\",'Q_del,j et Q_del,dh'!$D167,0)","v":0},{"$f":"IF(AC218=\"Oui\",'Q_del,j et Q_del,dh'!$D167,0)","v":0},{"$f":"IF(AD218=\"Oui\",'Q_del,j et Q_del,dh'!$D167,0)","v":0},{"$f":"IF(AE218=\"Oui\",'Q_del,j et Q_del,dh'!$D167,0)","v":0},{"$f":"IF(AF218=\"Oui\",'Q_del,j et Q_del,dh'!$D167,0)","v":0},{"$f":"IF(AG218=\"Oui\",'Q_del,j et Q_del,dh'!$D167,0)","v":0},{"$f":"IF(AH218=\"Oui\",'Q_del,j et Q_del,dh'!$D167,0)","v":0},{"$f":"IF(AI218=\"Oui\",'Q_del,j et Q_del,dh'!$D167,0)","v":0},{"$f":"IF(AJ218=\"Oui\",'Q_del,j et Q_del,dh'!$D167,0)","v":0},{"$f":"IF(AK218=\"Oui\",'Q_del,j et Q_del,dh'!$D167,0)","v":0},{"$f":"IF(AL218=\"Oui\",'Q_del,j et Q_del,dh'!$D167,0)","v":0},{"$f":"IF(AM218=\"Oui\",'Q_del,j et Q_del,dh'!$D167,0)","v":0},{"$f":"IF(AN218=\"Oui\",'Q_del,j et Q_del,dh'!$D167,0)","v":0},{"$f":"IF(AO218=\"Oui\",'Q_del,j et Q_del,dh'!$D167,0)","v":0},{"$f":"IF(AP218=\"Oui\",'Q_del,j et Q_del,dh'!$D167,0)","v":0},{"$f":"IF(AQ218=\"Oui\",'Q_del,j et Q_del,dh'!$D167,0)","v":0},{"$f":"IF(AR218=\"Oui\",'Q_del,j et Q_del,dh'!$D167,0)","v":0},{"$f":"IF(AS218=\"Oui\",'Q_del,j et Q_del,dh'!$D167,0)","v":0},{"$f":"IF(AT218=\"Oui\",'Q_del,j et Q_del,dh'!$D167,0)","v":0},{"$f":"IF(AU218=\"Oui\",'Q_del,j et Q_del,dh'!$D167,0)","v":0},{"$f":"IF(AV218=\"Oui\",'Q_del,j et Q_del,dh'!$D167,0)","v":0},{"$f":"IF(AW218=\"Oui\",'Q_del,j et Q_del,dh'!$D167,0)","v":0},{"$f":"IF(AX218=\"Oui\",'Q_del,j et Q_del,dh'!$D167,0)","v":0},{"$f":"IF(AY218=\"Oui\",'Q_del,j et Q_del,dh'!$D167,0)","v":0},{"$f":"IF(AZ218=\"Oui\",'Q_del,j et Q_del,dh'!$D167,0)","v":0},{"$f":"IF(BA218=\"Oui\",'Q_del,j et Q_del,dh'!$D167,0)","v":0}]
["Qdel,l,j [MJ]",{"$f":"\"Demandeur de chaleur \"&C474","v":"Demandeur de chaleur 161"},161,{"$f":"IF(D219=\"Oui\",'Q_del,j et Q_del,dh'!$D168,0)","v":0},{"$f":"IF(E219=\"Oui\",'Q_del,j et Q_del,dh'!$D168,0)","v":0},{"$f":"IF(F219=\"Oui\",'Q_del,j et Q_del,dh'!$D168,0)","v":0},{"$f":"IF(G219=\"Oui\",'Q_del,j et Q_del,dh'!$D168,0)","v":0},{"$f":"IF(H219=\"Oui\",'Q_del,j et Q_del,dh'!$D168,0)","v":0},{"$f":"IF(I219=\"Oui\",'Q_del,j et Q_del,dh'!$D168,0)","v":0},{"$f":"IF(J219=\"Oui\",'Q_del,j et Q_del,dh'!$D168,0)","v":0},{"$f":"IF(K219=\"Oui\",'Q_del,j et Q_del,dh'!$D168,0)","v":0},{"$f":"IF(L219=\"Oui\",'Q_del,j et Q_del,dh'!$D168,0)","v":0},{"$f":"IF(M219=\"Oui\",'Q_del,j et Q_del,dh'!$D168,0)","v":0},{"$f":"IF(N219=\"Oui\",'Q_del,j et Q_del,dh'!$D168,0)","v":0},{"$f":"IF(O219=\"Oui\",'Q_del,j et Q_del,dh'!$D168,0)","v":0},{"$f":"IF(P219=\"Oui\",'Q_del,j et Q_del,dh'!$D168,0)","v":0},{"$f":"IF(Q219=\"Oui\",'Q_del,j et Q_del,dh'!$D168,0)","v":0},{"$f":"IF(R219=\"Oui\",'Q_del,j et Q_del,dh'!$D168,0)","v":0},{"$f":"IF(S219=\"Oui\",'Q_del,j et Q_del,dh'!$D168,0)","v":0},{"$f":"IF(T219=\"Oui\",'Q_del,j et Q_del,dh'!$D168,0)","v":0},{"$f":"IF(U219=\"Oui\",'Q_del,j et Q_del,dh'!$D168,0)","v":0},{"$f":"IF(V219=\"Oui\",'Q_del,j et Q_del,dh'!$D168,0)","v":0},{"$f":"IF(W219=\"Oui\",'Q_del,j et Q_del,dh'!$D168,0)","v":0},{"$f":"IF(X219=\"Oui\",'Q_del,j et Q_del,dh'!$D168,0)","v":0},{"$f":"IF(Y219=\"Oui\",'Q_del,j et Q_del,dh'!$D168,0)","v":0},{"$f":"IF(Z219=\"Oui\",'Q_del,j et Q_del,dh'!$D168,0)","v":0},{"$f":"IF(AA219=\"Oui\",'Q_del,j et Q_del,dh'!$D168,0)","v":0},{"$f":"IF(AB219=\"Oui\",'Q_del,j et Q_del,dh'!$D168,0)","v":0},{"$f":"IF(AC219=\"Oui\",'Q_del,j et Q_del,dh'!$D168,0)","v":0},{"$f":"IF(AD219=\"Oui\",'Q_del,j et Q_del,dh'!$D168,0)","v":0},{"$f":"IF(AE219=\"Oui\",'Q_del,j et Q_del,dh'!$D168,0)","v":0},{"$f":"IF(AF219=\"Oui\",'Q_del,j et Q_del,dh'!$D168,0)","v":0},{"$f":"IF(AG219=\"Oui\",'Q_del,j et Q_del,dh'!$D168,0)","v":0},{"$f":"IF(AH219=\"Oui\",'Q_del,j et Q_del,dh'!$D168,0)","v":0},{"$f":"IF(AI219=\"Oui\",'Q_del,j et Q_del,dh'!$D168,0)","v":0},{"$f":"IF(AJ219=\"Oui\",'Q_del,j et Q_del,dh'!$D168,0)","v":0},{"$f":"IF(AK219=\"Oui\",'Q_del,j et Q_del,dh'!$D168,0)","v":0},{"$f":"IF(AL219=\"Oui\",'Q_del,j et Q_del,dh'!$D168,0)","v":0},{"$f":"IF(AM219=\"Oui\",'Q_del,j et Q_del,dh'!$D168,0)","v":0},{"$f":"IF(AN219=\"Oui\",'Q_del,j et Q_del,dh'!$D168,0)","v":0},{"$f":"IF(AO219=\"Oui\",'Q_del,j et Q_del,dh'!$D168,0)","v":0},{"$f":"IF(AP219=\"Oui\",'Q_del,j et Q_del,dh'!$D168,0)","v":0},{"$f":"IF(AQ219=\"Oui\",'Q_del,j et Q_del,dh'!$D168,0)","v":0},{"$f":"IF(AR219=\"Oui\",'Q_del,j et Q_del,dh'!$D168,0)","v":0},{"$f":"IF(AS219=\"Oui\",'Q_del,j et Q_del,dh'!$D168,0)","v":0},{"$f":"IF(AT219=\"Oui\",'Q_del,j et Q_del,dh'!$D168,0)","v":0},{"$f":"IF(AU219=\"Oui\",'Q_del,j et Q_del,dh'!$D168,0)","v":0},{"$f":"IF(AV219=\"Oui\",'Q_del,j et Q_del,dh'!$D168,0)","v":0},{"$f":"IF(AW219=\"Oui\",'Q_del,j et Q_del,dh'!$D168,0)","v":0},{"$f":"IF(AX219=\"Oui\",'Q_del,j et Q_del,dh'!$D168,0)","v":0},{"$f":"IF(AY219=\"Oui\",'Q_del,j et Q_del,dh'!$D168,0)","v":0},{"$f":"IF(AZ219=\"Oui\",'Q_del,j et Q_del,dh'!$D168,0)","v":0},{"$f":"IF(BA219=\"Oui\",'Q_del,j et Q_del,dh'!$D168,0)","v":0}]
["Qdel,l,j [MJ]","Demandeur de chaleur 162",162,{"$f":"IF(D220=\"Oui\",'Q_del,j et Q_del,dh'!$D169,0)","v":0},{"$f":"IF(E220=\"Oui\",'Q_del,j et Q_del,dh'!$D169,0)","v":0},{"$f":"IF(F220=\"Oui\",'Q_del,j et Q_del,dh'!$D169,0)","v":0},{"$f":"IF(G220=\"Oui\",'Q_del,j et Q_del,dh'!$D169,0)","v":0},{"$f":"IF(H220=\"Oui\",'Q_del,j et Q_del,dh'!$D169,0)","v":0},{"$f":"IF(I220=\"Oui\",'Q_del,j et Q_del,dh'!$D169,0)","v":0},{"$f":"IF(J220=\"Oui\",'Q_del,j et Q_del,dh'!$D169,0)","v":0},{"$f":"IF(K220=\"Oui\",'Q_del,j et Q_del,dh'!$D169,0)","v":0},{"$f":"IF(L220=\"Oui\",'Q_del,j et Q_del,dh'!$D169,0)","v":0},{"$f":"IF(M220=\"Oui\",'Q_del,j et Q_del,dh'!$D169,0)","v":0},{"$f":"IF(N220=\"Oui\",'Q_del,j et Q_del,dh'!$D169,0)","v":0},{"$f":"IF(O220=\"Oui\",'Q_del,j et Q_del,dh'!$D169,0)","v":0},{"$f":"IF(P220=\"Oui\",'Q_del,j et Q_del,dh'!$D169,0)","v":0},{"$f":"IF(Q220=\"Oui\",'Q_del,j et Q_del,dh'!$D169,0)","v":0},{"$f":"IF(R220=\"Oui\",'Q_del,j et Q_del,dh'!$D169,0)","v":0},{"$f":"IF(S220=\"Oui\",'Q_del,j et Q_del,dh'!$D169,0)","v":0},{"$f":"IF(T220=\"Oui\",'Q_del,j et Q_del,dh'!$D169,0)","v":0},{"$f":"IF(U220=\"Oui\",'Q_del,j et Q_del,dh'!$D169,0)","v":0},{"$f":"IF(V220=\"Oui\",'Q_del,j et Q_del,dh'!$D169,0)","v":0},{"$f":"IF(W220=\"Oui\",'Q_del,j et Q_del,dh'!$D169,0)","v":0},{"$f":"IF(X220=\"Oui\",'Q_del,j et Q_del,dh'!$D169,0)","v":0},{"$f":"IF(Y220=\"Oui\",'Q_del,j et Q_del,dh'!$D169,0)","v":0},{"$f":"IF(Z220=\"Oui\",'Q_del,j et Q_del,dh'!$D169,0)","v":0},{"$f":"IF(AA220=\"Oui\",'Q_del,j et Q_del,dh'!$D169,0)","v":0},{"$f":"IF(AB220=\"Oui\",'Q_del,j et Q_del,dh'!$D169,0)","v":0},{"$f":"IF(AC220=\"Oui\",'Q_del,j et Q_del,dh'!$D169,0)","v":0},{"$f":"IF(AD220=\"Oui\",'Q_del,j et Q_del,dh'!$D169,0)","v":0},{"$f":"IF(AE220=\"Oui\",'Q_del,j et Q_del,dh'!$D169,0)","v":0},{"$f":"IF(AF220=\"Oui\",'Q_del,j et Q_del,dh'!$D169,0)","v":0},{"$f":"IF(AG220=\"Oui\",'Q_del,j et Q_del,dh'!$D169,0)","v":0},{"$f":"IF(AH220=\"Oui\",'Q_del,j et Q_del,dh'!$D169,0)","v":0},{"$f":"IF(AI220=\"Oui\",'Q_del,j et Q_del,dh'!$D169,0)","v":0},{"$f":"IF(AJ220=\"Oui\",'Q_del,j et Q_del,dh'!$D169,0)","v":0},{"$f":"IF(AK220=\"Oui\",'Q_del,j et Q_del,dh'!$D169,0)","v":0},{"$f":"IF(AL220=\"Oui\",'Q_del,j et Q_del,dh'!$D169,0)","v":0},{"$f":"IF(AM220=\"Oui\",'Q_del,j et Q_del,dh'!$D169,0)","v":0},{"$f":"IF(AN220=\"Oui\",'Q_del,j et Q_del,dh'!$D169,0)","v":0},{"$f":"IF(AO220=\"Oui\",'Q_del,j et Q_del,dh'!$D169,0)","v":0},{"$f":"IF(AP220=\"Oui\",'Q_del,j et Q_del,dh'!$D169,0)","v":0},{"$f":"IF(AQ220=\"Oui\",'Q_del,j et Q_del,dh'!$D169,0)","v":0},{"$f":"IF(AR220=\"Oui\",'Q_del,j et Q_del,dh'!$D169,0)","v":0},{"$f":"IF(AS220=\"Oui\",'Q_del,j et Q_del,dh'!$D169,0)","v":0},{"$f":"IF(AT220=\"Oui\",'Q_del,j et Q_del,dh'!$D169,0)","v":0},{"$f":"IF(AU220=\"Oui\",'Q_del,j et Q_del,dh'!$D169,0)","v":0},{"$f":"IF(AV220=\"Oui\",'Q_del,j et Q_del,dh'!$D169,0)","v":0},{"$f":"IF(AW220=\"Oui\",'Q_del,j et Q_del,dh'!$D169,0)","v":0},{"$f":"IF(AX220=\"Oui\",'Q_del,j et Q_del,dh'!$D169,0)","v":0},{"$f":"IF(AY220=\"Oui\",'Q_del,j et Q_del,dh'!$D169,0)","v":0},{"$f":"IF(AZ220=\"Oui\",'Q_del,j et Q_del,dh'!$D169,0)","v":0},{"$f":"IF(BA220=\"Oui\",'Q_del,j et Q_del,dh'!$D169,0)","v":0}]
["Qdel,l,j [MJ]","Demandeur de chaleur 163",163,{"$f":"IF(D221=\"Oui\",'Q_del,j et Q_del,dh'!$D170,0)","v":0},{"$f":"IF(E221=\"Oui\",'Q_del,j et Q_del,dh'!$D170,0)","v":0},{"$f":"IF(F221=\"Oui\",'Q_del,j et Q_del,dh'!$D170,0)","v":0},{"$f":"IF(G221=\"Oui\",'Q_del,j et Q_del,dh'!$D170,0)","v":0},{"$f":"IF(H221=\"Oui\",'Q_del,j et Q_del,dh'!$D170,0)","v":0},{"$f":"IF(I221=\"Oui\",'Q_del,j et Q_del,dh'!$D170,0)","v":0},{"$f":"IF(J221=\"Oui\",'Q_del,j et Q_del,dh'!$D170,0)","v":0},{"$f":"IF(K221=\"Oui\",'Q_del,j et Q_del,dh'!$D170,0)","v":0},{"$f":"IF(L221=\"Oui\",'Q_del,j et Q_del,dh'!$D170,0)","v":0},{"$f":"IF(M221=\"Oui\",'Q_del,j et Q_del,dh'!$D170,0)","v":0},{"$f":"IF(N221=\"Oui\",'Q_del,j et Q_del,dh'!$D170,0)","v":0},{"$f":"IF(O221=\"Oui\",'Q_del,j et Q_del,dh'!$D170,0)","v":0},{"$f":"IF(P221=\"Oui\",'Q_del,j et Q_del,dh'!$D170,0)","v":0},{"$f":"IF(Q221=\"Oui\",'Q_del,j et Q_del,dh'!$D170,0)","v":0},{"$f":"IF(R221=\"Oui\",'Q_del,j et Q_del,dh'!$D170,0)","v":0},{"$f":"IF(S221=\"Oui\",'Q_del,j et Q_del,dh'!$D170,0)","v":0},{"$f":"IF(T221=\"Oui\",'Q_del,j et Q_del,dh'!$D170,0)","v":0},{"$f":"IF(U221=\"Oui\",'Q_del,j et Q_del,dh'!$D170,0)","v":0},{"$f":"IF(V221=\"Oui\",'Q_del,j et Q_del,dh'!$D170,0)","v":0},{"$f":"IF(W221=\"Oui\",'Q_del,j et Q_del,dh'!$D170,0)","v":0},{"$f":"IF(X221=\"Oui\",'Q_del,j et Q_del,dh'!$D170,0)","v":0},{"$f":"IF(Y221=\"Oui\",'Q_del,j et Q_del,dh'!$D170,0)","v":0},{"$f":"IF(Z221=\"Oui\",'Q_del,j et Q_del,dh'!$D170,0)","v":0},{"$f":"IF(AA221=\"Oui\",'Q_del,j et Q_del,dh'!$D170,0)","v":0},{"$f":"IF(AB221=\"Oui\",'Q_del,j et Q_del,dh'!$D170,0)","v":0},{"$f":"IF(AC221=\"Oui\",'Q_del,j et Q_del,dh'!$D170,0)","v":0},{"$f":"IF(AD221=\"Oui\",'Q_del,j et Q_del,dh'!$D170,0)","v":0},{"$f":"IF(AE221=\"Oui\",'Q_del,j et Q_del,dh'!$D170,0)","v":0},{"$f":"IF(AF221=\"Oui\",'Q_del,j et Q_del,dh'!$D170,0)","v":0},{"$f":"IF(AG221=\"Oui\",'Q_del,j et Q_del,dh'!$D170,0)","v":0},{"$f":"IF(AH221=\"Oui\",'Q_del,j et Q_del,dh'!$D170,0)","v":0},{"$f":"IF(AI221=\"Oui\",'Q_del,j et Q_del,dh'!$D170,0)","v":0},{"$f":"IF(AJ221=\"Oui\",'Q_del,j et Q_del,dh'!$D170,0)","v":0},{"$f":"IF(AK221=\"Oui\",'Q_del,j et Q_del,dh'!$D170,0)","v":0},{"$f":"IF(AL221=\"Oui\",'Q_del,j et Q_del,dh'!$D170,0)","v":0},{"$f":"IF(AM221=\"Oui\",'Q_del,j et Q_del,dh'!$D170,0)","v":0},{"$f":"IF(AN221=\"Oui\",'Q_del,j et Q_del,dh'!$D170,0)","v":0},{"$f":"IF(AO221=\"Oui\",'Q_del,j et Q_del,dh'!$D170,0)","v":0},{"$f":"IF(AP221=\"Oui\",'Q_del,j et Q_del,dh'!$D170,0)","v":0},{"$f":"IF(AQ221=\"Oui\",'Q_del,j et Q_del,dh'!$D170,0)","v":0},{"$f":"IF(AR221=\"Oui\",'Q_del,j et Q_del,dh'!$D170,0)","v":0},{"$f":"IF(AS221=\"Oui\",'Q_del,j et Q_del,dh'!$D170,0)","v":0},{"$f":"IF(AT221=\"Oui\",'Q_del,j et Q_del,dh'!$D170,0)","v":0},{"$f":"IF(AU221=\"Oui\",'Q_del,j et Q_del,dh'!$D170,0)","v":0},{"$f":"IF(AV221=\"Oui\",'Q_del,j et Q_del,dh'!$D170,0)","v":0},{"$f":"IF(AW221=\"Oui\",'Q_del,j et Q_del,dh'!$D170,0)","v":0},{"$f":"IF(AX221=\"Oui\",'Q_del,j et Q_del,dh'!$D170,0)","v":0},{"$f":"IF(AY221=\"Oui\",'Q_del,j et Q_del,dh'!$D170,0)","v":0},{"$f":"IF(AZ221=\"Oui\",'Q_del,j et Q_del,dh'!$D170,0)","v":0},{"$f":"IF(BA221=\"Oui\",'Q_del,j et Q_del,dh'!$D170,0)","v":0}]
["Qdel,l,j [MJ]","Demandeur de chaleur 164",164,{"$f":"IF(D222=\"Oui\",'Q_del,j et Q_del,dh'!$D171,0)","v":0},{"$f":"IF(E222=\"Oui\",'Q_del,j et Q_del,dh'!$D171,0)","v":0},{"$f":"IF(F222=\"Oui\",'Q_del,j et Q_del,dh'!$D171,0)","v":0},{"$f":"IF(G222=\"Oui\",'Q_del,j et Q_del,dh'!$D171,0)","v":0},{"$f":"IF(H222=\"Oui\",'Q_del,j et Q_del,dh'!$D171,0)","v":0},{"$f":"IF(I222=\"Oui\",'Q_del,j et Q_del,dh'!$D171,0)","v":0},{"$f":"IF(J222=\"Oui\",'Q_del,j et Q_del,dh'!$D171,0)","v":0},{"$f":"IF(K222=\"Oui\",'Q_del,j et Q_del,dh'!$D171,0)","v":0},{"$f":"IF(L222=\"Oui\",'Q_del,j et Q_del,dh'!$D171,0)","v":0},{"$f":"IF(M222=\"Oui\",'Q_del,j et Q_del,dh'!$D171,0)","v":0},{"$f":"IF(N222=\"Oui\",'Q_del,j et Q_del,dh'!$D171,0)","v":0},{"$f":"IF(O222=\"Oui\",'Q_del,j et Q_del,dh'!$D171,0)","v":0},{"$f":"IF(P222=\"Oui\",'Q_del,j et Q_del,dh'!$D171,0)","v":0},{"$f":"IF(Q222=\"Oui\",'Q_del,j et Q_del,dh'!$D171,0)","v":0},{"$f":"IF(R222=\"Oui\",'Q_del,j et Q_del,dh'!$D171,0)","v":0},{"$f":"IF(S222=\"Oui\",'Q_del,j et Q_del,dh'!$D171,0)","v":0},{"$f":"IF(T222=\"Oui\",'Q_del,j et Q_del,dh'!$D171,0)","v":0},{"$f":"IF(U222=\"Oui\",'Q_del,j et Q_del,dh'!$D171,0)","v":0},{"$f":"IF(V222=\"Oui\",'Q_del,j et Q_del,dh'!$D171,0)","v":0},{"$f":"IF(W222=\"Oui\",'Q_del,j et Q_del,dh'!$D171,0)","v":0},{"$f":"IF(X222=\"Oui\",'Q_del,j et Q_del,dh'!$D171,0)","v":0},{"$f":"IF(Y222=\"Oui\",'Q_del,j et Q_del,dh'!$D171,0)","v":0},{"$f":"IF(Z222=\"Oui\",'Q_del,j et Q_del,dh'!$D171,0)","v":0},{"$f":"IF(AA222=\"Oui\",'Q_del,j et Q_del,dh'!$D171,0)","v":0},{"$f":"IF(AB222=\"Oui\",'Q_del,j et Q_del,dh'!$D171,0)","v":0},{"$f":"IF(AC222=\"Oui\",'Q_del,j et Q_del,dh'!$D171,0)","v":0},{"$f":"IF(AD222=\"Oui\",'Q_del,j et Q_del,dh'!$D171,0)","v":0},{"$f":"IF(AE222=\"Oui\",'Q_del,j et Q_del,dh'!$D171,0)","v":0},{"$f":"IF(AF222=\"Oui\",'Q_del,j et Q_del,dh'!$D171,0)","v":0},{"$f":"IF(AG222=\"Oui\",'Q_del,j et Q_del,dh'!$D171,0)","v":0},{"$f":"IF(AH222=\"Oui\",'Q_del,j et Q_del,dh'!$D171,0)","v":0},{"$f":"IF(AI222=\"Oui\",'Q_del,j et Q_del,dh'!$D171,0)","v":0},{"$f":"IF(AJ222=\"Oui\",'Q_del,j et Q_del,dh'!$D171,0)","v":0},{"$f":"IF(AK222=\"Oui\",'Q_del,j et Q_del,dh'!$D171,0)","v":0},{"$f":"IF(AL222=\"Oui\",'Q_del,j et Q_del,dh'!$D171,0)","v":0},{"$f":"IF(AM222=\"Oui\",'Q_del,j et Q_del,dh'!$D171,0)","v":0},{"$f":"IF(AN222=\"Oui\",'Q_del,j et Q_del,dh'!$D171,0)","v":0},{"$f":"IF(AO222=\"Oui\",'Q_del,j et Q_del,dh'!$D171,0)","v":0},{"$f":"IF(AP222=\"Oui\",'Q_del,j et Q_del,dh'!$D171,0)","v":0},{"$f":"IF(AQ222=\"Oui\",'Q_del,j et Q_del,dh'!$D171,0)","v":0},{"$f":"IF(AR222=\"Oui\",'Q_del,j et Q_del,dh'!$D171,0)","v":0},{"$f":"IF(AS222=\"Oui\",'Q_del,j et Q_del,dh'!$D171,0)","v":0},{"$f":"IF(AT222=\"Oui\",'Q_del,j et Q_del,dh'!$D171,0)","v":0},{"$f":"IF(AU222=\"Oui\",'Q_del,j et Q_del,dh'!$D171,0)","v":0},{"$f":"IF(AV222=\"Oui\",'Q_del,j et Q_del,dh'!$D171,0)","v":0},{"$f":"IF(AW222=\"Oui\",'Q_del,j et Q_del,dh'!$D171,0)","v":0},{"$f":"IF(AX222=\"Oui\",'Q_del,j et Q_del,dh'!$D171,0)","v":0},{"$f":"IF(AY222=\"Oui\",'Q_del,j et Q_del,dh'!$D171,0)","v":0},{"$f":"IF(AZ222=\"Oui\",'Q_del,j et Q_del,dh'!$D171,0)","v":0},{"$f":"IF(BA222=\"Oui\",'Q_del,j et Q_del,dh'!$D171,0)","v":0}]
["Qdel,l,j [MJ]","Demandeur de chaleur 165",165,{"$f":"IF(D223=\"Oui\",'Q_del,j et Q_del,dh'!$D172,0)","v":0},{"$f":"IF(E223=\"Oui\",'Q_del,j et Q_del,dh'!$D172,0)","v":0},{"$f":"IF(F223=\"Oui\",'Q_del,j et Q_del,dh'!$D172,0)","v":0},{"$f":"IF(G223=\"Oui\",'Q_del,j et Q_del,dh'!$D172,0)","v":0},{"$f":"IF(H223=\"Oui\",'Q_del,j et Q_del,dh'!$D172,0)","v":0},{"$f":"IF(I223=\"Oui\",'Q_del,j et Q_del,dh'!$D172,0)","v":0},{"$f":"IF(J223=\"Oui\",'Q_del,j et Q_del,dh'!$D172,0)","v":0},{"$f":"IF(K223=\"Oui\",'Q_del,j et Q_del,dh'!$D172,0)","v":0},{"$f":"IF(L223=\"Oui\",'Q_del,j et Q_del,dh'!$D172,0)","v":0},{"$f":"IF(M223=\"Oui\",'Q_del,j et Q_del,dh'!$D172,0)","v":0},{"$f":"IF(N223=\"Oui\",'Q_del,j et Q_del,dh'!$D172,0)","v":0},{"$f":"IF(O223=\"Oui\",'Q_del,j et Q_del,dh'!$D172,0)","v":0},{"$f":"IF(P223=\"Oui\",'Q_del,j et Q_del,dh'!$D172,0)","v":0},{"$f":"IF(Q223=\"Oui\",'Q_del,j et Q_del,dh'!$D172,0)","v":0},{"$f":"IF(R223=\"Oui\",'Q_del,j et Q_del,dh'!$D172,0)","v":0},{"$f":"IF(S223=\"Oui\",'Q_del,j et Q_del,dh'!$D172,0)","v":0},{"$f":"IF(T223=\"Oui\",'Q_del,j et Q_del,dh'!$D172,0)","v":0},{"$f":"IF(U223=\"Oui\",'Q_del,j et Q_del,dh'!$D172,0)","v":0},{"$f":"IF(V223=\"Oui\",'Q_del,j et Q_del,dh'!$D172,0)","v":0},{"$f":"IF(W223=\"Oui\",'Q_del,j et Q_del,dh'!$D172,0)","v":0},{"$f":"IF(X223=\"Oui\",'Q_del,j et Q_del,dh'!$D172,0)","v":0},{"$f":"IF(Y223=\"Oui\",'Q_del,j et Q_del,dh'!$D172,0)","v":0},{"$f":"IF(Z223=\"Oui\",'Q_del,j et Q_del,dh'!$D172,0)","v":0},{"$f":"IF(AA223=\"Oui\",'Q_del,j et Q_del,dh'!$D172,0)","v":0},{"$f":"IF(AB223=\"Oui\",'Q_del,j et Q_del,dh'!$D172,0)","v":0},{"$f":"IF(AC223=\"Oui\",'Q_del,j et Q_del,dh'!$D172,0)","v":0},{"$f":"IF(AD223=\"Oui\",'Q_del,j et Q_del,dh'!$D172,0)","v":0},{"$f":"IF(AE223=\"Oui\",'Q_del,j et Q_del,dh'!$D172,0)","v":0},{"$f":"IF(AF223=\"Oui\",'Q_del,j et Q_del,dh'!$D172,0)","v":0},{"$f":"IF(AG223=\"Oui\",'Q_del,j et Q_del,dh'!$D172,0)","v":0},{"$f":"IF(AH223=\"Oui\",'Q_del,j et Q_del,dh'!$D172,0)","v":0},{"$f":"IF(AI223=\"Oui\",'Q_del,j et Q_del,dh'!$D172,0)","v":0},{"$f":"IF(AJ223=\"Oui\",'Q_del,j et Q_del,dh'!$D172,0)","v":0},{"$f":"IF(AK223=\"Oui\",'Q_del,j et Q_del,dh'!$D172,0)","v":0},{"$f":"IF(AL223=\"Oui\",'Q_del,j et Q_del,dh'!$D172,0)","v":0},{"$f":"IF(AM223=\"Oui\",'Q_del,j et Q_del,dh'!$D172,0)","v":0},{"$f":"IF(AN223=\"Oui\",'Q_del,j et Q_del,dh'!$D172,0)","v":0},{"$f":"IF(AO223=\"Oui\",'Q_del,j et Q_del,dh'!$D172,0)","v":0},{"$f":"IF(AP223=\"Oui\",'Q_del,j et Q_del,dh'!$D172,0)","v":0},{"$f":"IF(AQ223=\"Oui\",'Q_del,j et Q_del,dh'!$D172,0)","v":0},{"$f":"IF(AR223=\"Oui\",'Q_del,j et Q_del,dh'!$D172,0)","v":0},{"$f":"IF(AS223=\"Oui\",'Q_del,j et Q_del,dh'!$D172,0)","v":0},{"$f":"IF(AT223=\"Oui\",'Q_del,j et Q_del,dh'!$D172,0)","v":0},{"$f":"IF(AU223=\"Oui\",'Q_del,j et Q_del,dh'!$D172,0)","v":0},{"$f":"IF(AV223=\"Oui\",'Q_del,j et Q_del,dh'!$D172,0)","v":0},{"$f":"IF(AW223=\"Oui\",'Q_del,j et Q_del,dh'!$D172,0)","v":0},{"$f":"IF(AX223=\"Oui\",'Q_del,j et Q_del,dh'!$D172,0)","v":0},{"$f":"IF(AY223=\"Oui\",'Q_del,j et Q_del,dh'!$D172,0)","v":0},{"$f":"IF(AZ223=\"Oui\",'Q_del,j et Q_del,dh'!$D172,0)","v":0},{"$f":"IF(BA223=\"Oui\",'Q_del,j et Q_del,dh'!$D172,0)","v":0}]
["Qdel,l,j [MJ]","Demandeur de chaleur 166",166,{"$f":"IF(D224=\"Oui\",'Q_del,j et Q_del,dh'!$D173,0)","v":0},{"$f":"IF(E224=\"Oui\",'Q_del,j et Q_del,dh'!$D173,0)","v":0},{"$f":"IF(F224=\"Oui\",'Q_del,j et Q_del,dh'!$D173,0)","v":0},{"$f":"IF(G224=\"Oui\",'Q_del,j et Q_del,dh'!$D173,0)","v":0},{"$f":"IF(H224=\"Oui\",'Q_del,j et Q_del,dh'!$D173,0)","v":0},{"$f":"IF(I224=\"Oui\",'Q_del,j et Q_del,dh'!$D173,0)","v":0},{"$f":"IF(J224=\"Oui\",'Q_del,j et Q_del,dh'!$D173,0)","v":0},{"$f":"IF(K224=\"Oui\",'Q_del,j et Q_del,dh'!$D173,0)","v":0},{"$f":"IF(L224=\"Oui\",'Q_del,j et Q_del,dh'!$D173,0)","v":0},{"$f":"IF(M224=\"Oui\",'Q_del,j et Q_del,dh'!$D173,0)","v":0},{"$f":"IF(N224=\"Oui\",'Q_del,j et Q_del,dh'!$D173,0)","v":0},{"$f":"IF(O224=\"Oui\",'Q_del,j et Q_del,dh'!$D173,0)","v":0},{"$f":"IF(P224=\"Oui\",'Q_del,j et Q_del,dh'!$D173,0)","v":0},{"$f":"IF(Q224=\"Oui\",'Q_del,j et Q_del,dh'!$D173,0)","v":0},{"$f":"IF(R224=\"Oui\",'Q_del,j et Q_del,dh'!$D173,0)","v":0},{"$f":"IF(S224=\"Oui\",'Q_del,j et Q_del,dh'!$D173,0)","v":0},{"$f":"IF(T224=\"Oui\",'Q_del,j et Q_del,dh'!$D173,0)","v":0},{"$f":"IF(U224=\"Oui\",'Q_del,j et Q_del,dh'!$D173,0)","v":0},{"$f":"IF(V224=\"Oui\",'Q_del,j et Q_del,dh'!$D173,0)","v":0},{"$f":"IF(W224=\"Oui\",'Q_del,j et Q_del,dh'!$D173,0)","v":0},{"$f":"IF(X224=\"Oui\",'Q_del,j et Q_del,dh'!$D173,0)","v":0},{"$f":"IF(Y224=\"Oui\",'Q_del,j et Q_del,dh'!$D173,0)","v":0},{"$f":"IF(Z224=\"Oui\",'Q_del,j et Q_del,dh'!$D173,0)","v":0},{"$f":"IF(AA224=\"Oui\",'Q_del,j et Q_del,dh'!$D173,0)","v":0},{"$f":"IF(AB224=\"Oui\",'Q_del,j et Q_del,dh'!$D173,0)","v":0},{"$f":"IF(AC224=\"Oui\",'Q_del,j et Q_del,dh'!$D173,0)","v":0},{"$f":"IF(AD224=\"Oui\",'Q_del,j et Q_del,dh'!$D173,0)","v":0},{"$f":"IF(AE224=\"Oui\",'Q_del,j et Q_del,dh'!$D173,0)","v":0},{"$f":"IF(AF224=\"Oui\",'Q_del,j et Q_del,dh'!$D173,0)","v":0},{"$f":"IF(AG224=\"Oui\",'Q_del,j et Q_del,dh'!$D173,0)","v":0},{"$f":"IF(AH224=\"Oui\",'Q_del,j et Q_del,dh'!$D173,0)","v":0},{"$f":"IF(AI224=\"Oui\",'Q_del,j et Q_del,dh'!$D173,0)","v":0},{"$f":"IF(AJ224=\"Oui\",'Q_del,j et Q_del,dh'!$D173,0)","v":0},{"$f":"IF(AK224=\"Oui\",'Q_del,j et Q_del,dh'!$D173,0)","v":0},{"$f":"IF(AL224=\"Oui\",'Q_del,j et Q_del,dh'!$D173,0)","v":0},{"$f":"IF(AM224=\"Oui\",'Q_del,j et Q_del,dh'!$D173,0)","v":0},{"$f":"IF(AN224=\"Oui\",'Q_del,j et Q_del,dh'!$D173,0)","v":0},{"$f":"IF(AO224=\"Oui\",'Q_del,j et Q_del,dh'!$D173,0)","v":0},{"$f":"IF(AP224=\"Oui\",'Q_del,j et Q_del,dh'!$D173,0)","v":0},{"$f":"IF(AQ224=\"Oui\",'Q_del,j et Q_del,dh'!$D173,0)","v":0},{"$f":"IF(AR224=\"Oui\",'Q_del,j et Q_del,dh'!$D173,0)","v":0},{"$f":"IF(AS224=\"Oui\",'Q_del,j et Q_del,dh'!$D173,0)","v":0},{"$f":"IF(AT224=\"Oui\",'Q_del,j et Q_del,dh'!$D173,0)","v":0},{"$f":"IF(AU224=\"Oui\",'Q_del,j et Q_del,dh'!$D173,0)","v":0},{"$f":"IF(AV224=\"Oui\",'Q_del,j et Q_del,dh'!$D173,0)","v":0},{"$f":"IF(AW224=\"Oui\",'Q_del,j et Q_del,dh'!$D173,0)","v":0},{"$f":"IF(AX224=\"Oui\",'Q_del,j et Q_del,dh'!$D173,0)","v":0},{"$f":"IF(AY224=\"Oui\",'Q_del,j et Q_del,dh'!$D173,0)","v":0},{"$f":"IF(AZ224=\"Oui\",'Q_del,j et Q_del,dh'!$D173,0)","v":0},{"$f":"IF(BA224=\"Oui\",'Q_del,j et Q_del,dh'!$D173,0)","v":0}]
["Qdel,l,j [MJ]","Demandeur de chaleur 167",167,{"$f":"IF(D225=\"Oui\",'Q_del,j et Q_del,dh'!$D174,0)","v":0},{"$f":"IF(E225=\"Oui\",'Q_del,j et Q_del,dh'!$D174,0)","v":0},{"$f":"IF(F225=\"Oui\",'Q_del,j et Q_del,dh'!$D174,0)","v":0},{"$f":"IF(G225=\"Oui\",'Q_del,j et Q_del,dh'!$D174,0)","v":0},{"$f":"IF(H225=\"Oui\",'Q_del,j et Q_del,dh'!$D174,0)","v":0},{"$f":"IF(I225=\"Oui\",'Q_del,j et Q_del,dh'!$D174,0)","v":0},{"$f":"IF(J225=\"Oui\",'Q_del,j et Q_del,dh'!$D174,0)","v":0},{"$f":"IF(K225=\"Oui\",'Q_del,j et Q_del,dh'!$D174,0)","v":0},{"$f":"IF(L225=\"Oui\",'Q_del,j et Q_del,dh'!$D174,0)","v":0},{"$f":"IF(M225=\"Oui\",'Q_del,j et Q_del,dh'!$D174,0)","v":0},{"$f":"IF(N225=\"Oui\",'Q_del,j et Q_del,dh'!$D174,0)","v":0},{"$f":"IF(O225=\"Oui\",'Q_del,j et Q_del,dh'!$D174,0)","v":0},{"$f":"IF(P225=\"Oui\",'Q_del,j et Q_del,dh'!$D174,0)","v":0},{"$f":"IF(Q225=\"Oui\",'Q_del,j et Q_del,dh'!$D174,0)","v":0},{"$f":"IF(R225=\"Oui\",'Q_del,j et Q_del,dh'!$D174,0)","v":0},{"$f":"IF(S225=\"Oui\",'Q_del,j et Q_del,dh'!$D174,0)","v":0},{"$f":"IF(T225=\"Oui\",'Q_del,j et Q_del,dh'!$D174,0)","v":0},{"$f":"IF(U225=\"Oui\",'Q_del,j et Q_del,dh'!$D174,0)","v":0},{"$f":"IF(V225=\"Oui\",'Q_del,j et Q_del,dh'!$D174,0)","v":0},{"$f":"IF(W225=\"Oui\",'Q_del,j et Q_del,dh'!$D174,0)","v":0},{"$f":"IF(X225=\"Oui\",'Q_del,j et Q_del,dh'!$D174,0)","v":0},{"$f":"IF(Y225=\"Oui\",'Q_del,j et Q_del,dh'!$D174,0)","v":0},{"$f":"IF(Z225=\"Oui\",'Q_del,j et Q_del,dh'!$D174,0)","v":0},{"$f":"IF(AA225=\"Oui\",'Q_del,j et Q_del,dh'!$D174,0)","v":0},{"$f":"IF(AB225=\"Oui\",'Q_del,j et Q_del,dh'!$D174,0)","v":0},{"$f":"IF(AC225=\"Oui\",'Q_del,j et Q_del,dh'!$D174,0)","v":0},{"$f":"IF(AD225=\"Oui\",'Q_del,j et Q_del,dh'!$D174,0)","v":0},{"$f":"IF(AE225=\"Oui\",'Q_del,j et Q_del,dh'!$D174,0)","v":0},{"$f":"IF(AF225=\"Oui\",'Q_del,j et Q_del,dh'!$D174,0)","v":0},{"$f":"IF(AG225=\"Oui\",'Q_del,j et Q_del,dh'!$D174,0)","v":0},{"$f":"IF(AH225=\"Oui\",'Q_del,j et Q_del,dh'!$D174,0)","v":0},{"$f":"IF(AI225=\"Oui\",'Q_del,j et Q_del,dh'!$D174,0)","v":0},{"$f":"IF(AJ225=\"Oui\",'Q_del,j et Q_del,dh'!$D174,0)","v":0},{"$f":"IF(AK225=\"Oui\",'Q_del,j et Q_del,dh'!$D174,0)","v":0},{"$f":"IF(AL225=\"Oui\",'Q_del,j et Q_del,dh'!$D174,0)","v":0},{"$f":"IF(AM225=\"Oui\",'Q_del,j et Q_del,dh'!$D174,0)","v":0},{"$f":"IF(AN225=\"Oui\",'Q_del,j et Q_del,dh'!$D174,0)","v":0},{"$f":"IF(AO225=\"Oui\",'Q_del,j et Q_del,dh'!$D174,0)","v":0},{"$f":"IF(AP225=\"Oui\",'Q_del,j et Q_del,dh'!$D174,0)","v":0},{"$f":"IF(AQ225=\"Oui\",'Q_del,j et Q_del,dh'!$D174,0)","v":0},{"$f":"IF(AR225=\"Oui\",'Q_del,j et Q_del,dh'!$D174,0)","v":0},{"$f":"IF(AS225=\"Oui\",'Q_del,j et Q_del,dh'!$D174,0)","v":0},{"$f":"IF(AT225=\"Oui\",'Q_del,j et Q_del,dh'!$D174,0)","v":0},{"$f":"IF(AU225=\"Oui\",'Q_del,j et Q_del,dh'!$D174,0)","v":0},{"$f":"IF(AV225=\"Oui\",'Q_del,j et Q_del,dh'!$D174,0)","v":0},{"$f":"IF(AW225=\"Oui\",'Q_del,j et Q_del,dh'!$D174,0)","v":0},{"$f":"IF(AX225=\"Oui\",'Q_del,j et Q_del,dh'!$D174,0)","v":0},{"$f":"IF(AY225=\"Oui\",'Q_del,j et Q_del,dh'!$D174,0)","v":0},{"$f":"IF(AZ225=\"Oui\",'Q_del,j et Q_del,dh'!$D174,0)","v":0},{"$f":"IF(BA225=\"Oui\",'Q_del,j et Q_del,dh'!$D174,0)","v":0}]
["Qdel,l,j [MJ]","Demandeur de chaleur 168",168,{"$f":"IF(D226=\"Oui\",'Q_del,j et Q_del,dh'!$D175,0)","v":0},{"$f":"IF(E226=\"Oui\",'Q_del,j et Q_del,dh'!$D175,0)","v":0},{"$f":"IF(F226=\"Oui\",'Q_del,j et Q_del,dh'!$D175,0)","v":0},{"$f":"IF(G226=\"Oui\",'Q_del,j et Q_del,dh'!$D175,0)","v":0},{"$f":"IF(H226=\"Oui\",'Q_del,j et Q_del,dh'!$D175,0)","v":0},{"$f":"IF(I226=\"Oui\",'Q_del,j et Q_del,dh'!$D175,0)","v":0},{"$f":"IF(J226=\"Oui\",'Q_del,j et Q_del,dh'!$D175,0)","v":0},{"$f":"IF(K226=\"Oui\",'Q_del,j et Q_del,dh'!$D175,0)","v":0},{"$f":"IF(L226=\"Oui\",'Q_del,j et Q_del,dh'!$D175,0)","v":0},{"$f":"IF(M226=\"Oui\",'Q_del,j et Q_del,dh'!$D175,0)","v":0},{"$f":"IF(N226=\"Oui\",'Q_del,j et Q_del,dh'!$D175,0)","v":0},{"$f":"IF(O226=\"Oui\",'Q_del,j et Q_del,dh'!$D175,0)","v":0},{"$f":"IF(P226=\"Oui\",'Q_del,j et Q_del,dh'!$D175,0)","v":0},{"$f":"IF(Q226=\"Oui\",'Q_del,j et Q_del,dh'!$D175,0)","v":0},{"$f":"IF(R226=\"Oui\",'Q_del,j et Q_del,dh'!$D175,0)","v":0},{"$f":"IF(S226=\"Oui\",'Q_del,j et Q_del,dh'!$D175,0)","v":0},{"$f":"IF(T226=\"Oui\",'Q_del,j et Q_del,dh'!$D175,0)","v":0},{"$f":"IF(U226=\"Oui\",'Q_del,j et Q_del,dh'!$D175,0)","v":0},{"$f":"IF(V226=\"Oui\",'Q_del,j et Q_del,dh'!$D175,0)","v":0},{"$f":"IF(W226=\"Oui\",'Q_del,j et Q_del,dh'!$D175,0)","v":0},{"$f":"IF(X226=\"Oui\",'Q_del,j et Q_del,dh'!$D175,0)","v":0},{"$f":"IF(Y226=\"Oui\",'Q_del,j et Q_del,dh'!$D175,0)","v":0},{"$f":"IF(Z226=\"Oui\",'Q_del,j et Q_del,dh'!$D175,0)","v":0},{"$f":"IF(AA226=\"Oui\",'Q_del,j et Q_del,dh'!$D175,0)","v":0},{"$f":"IF(AB226=\"Oui\",'Q_del,j et Q_del,dh'!$D175,0)","v":0},{"$f":"IF(AC226=\"Oui\",'Q_del,j et Q_del,dh'!$D175,0)","v":0},{"$f":"IF(AD226=\"Oui\",'Q_del,j et Q_del,dh'!$D175,0)","v":0},{"$f":"IF(AE226=\"Oui\",'Q_del,j et Q_del,dh'!$D175,0)","v":0},{"$f":"IF(AF226=\"Oui\",'Q_del,j et Q_del,dh'!$D175,0)","v":0},{"$f":"IF(AG226=\"Oui\",'Q_del,j et Q_del,dh'!$D175,0)","v":0},{"$f":"IF(AH226=\"Oui\",'Q_del,j et Q_del,dh'!$D175,0)","v":0},{"$f":"IF(AI226=\"Oui\",'Q_del,j et Q_del,dh'!$D175,0)","v":0},{"$f":"IF(AJ226=\"Oui\",'Q_del,j et Q_del,dh'!$D175,0)","v":0},{"$f":"IF(AK226=\"Oui\",'Q_del,j et Q_del,dh'!$D175,0)","v":0},{"$f":"IF(AL226=\"Oui\",'Q_del,j et Q_del,dh'!$D175,0)","v":0},{"$f":"IF(AM226=\"Oui\",'Q_del,j et Q_del,dh'!$D175,0)","v":0},{"$f":"IF(AN226=\"Oui\",'Q_del,j et Q_del,dh'!$D175,0)","v":0},{"$f":"IF(AO226=\"Oui\",'Q_del,j et Q_del,dh'!$D175,0)","v":0},{"$f":"IF(AP226=\"Oui\",'Q_del,j et Q_del,dh'!$D175,0)","v":0},{"$f":"IF(AQ226=\"Oui\",'Q_del,j et Q_del,dh'!$D175,0)","v":0},{"$f":"IF(AR226=\"Oui\",'Q_del,j et Q_del,dh'!$D175,0)","v":0},{"$f":"IF(AS226=\"Oui\",'Q_del,j et Q_del,dh'!$D175,0)","v":0},{"$f":"IF(AT226=\"Oui\",'Q_del,j et Q_del,dh'!$D175,0)","v":0},{"$f":"IF(AU226=\"Oui\",'Q_del,j et Q_del,dh'!$D175,0)","v":0},{"$f":"IF(AV226=\"Oui\",'Q_del,j et Q_del,dh'!$D175,0)","v":0},{"$f":"IF(AW226=\"Oui\",'Q_del,j et Q_del,dh'!$D175,0)","v":0},{"$f":"IF(AX226=\"Oui\",'Q_del,j et Q_del,dh'!$D175,0)","v":0},{"$f":"IF(AY226=\"Oui\",'Q_del,j et Q_del,dh'!$D175,0)","v":0},{"$f":"IF(AZ226=\"Oui\",'Q_del,j et Q_del,dh'!$D175,0)","v":0},{"$f":"IF(BA226=\"Oui\",'Q_del,j et Q_del,dh'!$D175,0)","v":0}]
["Qdel,l,j [MJ]","Demandeur de chaleur 169",169,{"$f":"IF(D227=\"Oui\",'Q_del,j et Q_del,dh'!$D176,0)","v":0},{"$f":"IF(E227=\"Oui\",'Q_del,j et Q_del,dh'!$D176,0)","v":0},{"$f":"IF(F227=\"Oui\",'Q_del,j et Q_del,dh'!$D176,0)","v":0},{"$f":"IF(G227=\"Oui\",'Q_del,j et Q_del,dh'!$D176,0)","v":0},{"$f":"IF(H227=\"Oui\",'Q_del,j et Q_del,dh'!$D176,0)","v":0},{"$f":"IF(I227=\"Oui\",'Q_del,j et Q_del,dh'!$D176,0)","v":0},{"$f":"IF(J227=\"Oui\",'Q_del,j et Q_del,dh'!$D176,0)","v":0},{"$f":"IF(K227=\"Oui\",'Q_del,j et Q_del,dh'!$D176,0)","v":0},{"$f":"IF(L227=\"Oui\",'Q_del,j et Q_del,dh'!$D176,0)","v":0},{"$f":"IF(M227=\"Oui\",'Q_del,j et Q_del,dh'!$D176,0)","v":0},{"$f":"IF(N227=\"Oui\",'Q_del,j et Q_del,dh'!$D176,0)","v":0},{"$f":"IF(O227=\"Oui\",'Q_del,j et Q_del,dh'!$D176,0)","v":0},{"$f":"IF(P227=\"Oui\",'Q_del,j et Q_del,dh'!$D176,0)","v":0},{"$f":"IF(Q227=\"Oui\",'Q_del,j et Q_del,dh'!$D176,0)","v":0},{"$f":"IF(R227=\"Oui\",'Q_del,j et Q_del,dh'!$D176,0)","v":0},{"$f":"IF(S227=\"Oui\",'Q_del,j et Q_del,dh'!$D176,0)","v":0},{"$f":"IF(T227=\"Oui\",'Q_del,j et Q_del,dh'!$D176,0)","v":0},{"$f":"IF(U227=\"Oui\",'Q_del,j et Q_del,dh'!$D176,0)","v":0},{"$f":"IF(V227=\"Oui\",'Q_del,j et Q_del,dh'!$D176,0)","v":0},{"$f":"IF(W227=\"Oui\",'Q_del,j et Q_del,dh'!$D176,0)","v":0},{"$f":"IF(X227=\"Oui\",'Q_del,j et Q_del,dh'!$D176,0)","v":0},{"$f":"IF(Y227=\"Oui\",'Q_del,j et Q_del,dh'!$D176,0)","v":0},{"$f":"IF(Z227=\"Oui\",'Q_del,j et Q_del,dh'!$D176,0)","v":0},{"$f":"IF(AA227=\"Oui\",'Q_del,j et Q_del,dh'!$D176,0)","v":0},{"$f":"IF(AB227=\"Oui\",'Q_del,j et Q_del,dh'!$D176,0)","v":0},{"$f":"IF(AC227=\"Oui\",'Q_del,j et Q_del,dh'!$D176,0)","v":0},{"$f":"IF(AD227=\"Oui\",'Q_del,j et Q_del,dh'!$D176,0)","v":0},{"$f":"IF(AE227=\"Oui\",'Q_del,j et Q_del,dh'!$D176,0)","v":0},{"$f":"IF(AF227=\"Oui\",'Q_del,j et Q_del,dh'!$D176,0)","v":0},{"$f":"IF(AG227=\"Oui\",'Q_del,j et Q_del,dh'!$D176,0)","v":0},{"$f":"IF(AH227=\"Oui\",'Q_del,j et Q_del,dh'!$D176,0)","v":0},{"$f":"IF(AI227=\"Oui\",'Q_del,j et Q_del,dh'!$D176,0)","v":0},{"$f":"IF(AJ227=\"Oui\",'Q_del,j et Q_del,dh'!$D176,0)","v":0},{"$f":"IF(AK227=\"Oui\",'Q_del,j et Q_del,dh'!$D176,0)","v":0},{"$f":"IF(AL227=\"Oui\",'Q_del,j et Q_del,dh'!$D176,0)","v":0},{"$f":"IF(AM227=\"Oui\",'Q_del,j et Q_del,dh'!$D176,0)","v":0},{"$f":"IF(AN227=\"Oui\",'Q_del,j et Q_del,dh'!$D176,0)","v":0},{"$f":"IF(AO227=\"Oui\",'Q_del,j et Q_del,dh'!$D176,0)","v":0},{"$f":"IF(AP227=\"Oui\",'Q_del,j et Q_del,dh'!$D176,0)","v":0},{"$f":"IF(AQ227=\"Oui\",'Q_del,j et Q_del,dh'!$D176,0)","v":0},{"$f":"IF(AR227=\"Oui\",'Q_del,j et Q_del,dh'!$D176,0)","v":0},{"$f":"IF(AS227=\"Oui\",'Q_del,j et Q_del,dh'!$D176,0)","v":0},{"$f":"IF(AT227=\"Oui\",'Q_del,j et Q_del,dh'!$D176,0)","v":0},{"$f":"IF(AU227=\"Oui\",'Q_del,j et Q_del,dh'!$D176,0)","v":0},{"$f":"IF(AV227=\"Oui\",'Q_del,j et Q_del,dh'!$D176,0)","v":0},{"$f":"IF(AW227=\"Oui\",'Q_del,j et Q_del,dh'!$D176,0)","v":0},{"$f":"IF(AX227=\"Oui\",'Q_del,j et Q_del,dh'!$D176,0)","v":0},{"$f":"IF(AY227=\"Oui\",'Q_del,j et Q_del,dh'!$D176,0)","v":0},{"$f":"IF(AZ227=\"Oui\",'Q_del,j et Q_del,dh'!$D176,0)","v":0},{"$f":"IF(BA227=\"Oui\",'Q_del,j et Q_del,dh'!$D176,0)","v":0}]
["Qdel,l,j [MJ]","Demandeur de chaleur 170",170,{"$f":"IF(D228=\"Oui\",'Q_del,j et Q_del,dh'!$D177,0)","v":0},{"$f":"IF(E228=\"Oui\",'Q_del,j et Q_del,dh'!$D177,0)","v":0},{"$f":"IF(F228=\"Oui\",'Q_del,j et Q_del,dh'!$D177,0)","v":0},{"$f":"IF(G228=\"Oui\",'Q_del,j et Q_del,dh'!$D177,0)","v":0},{"$f":"IF(H228=\"Oui\",'Q_del,j et Q_del,dh'!$D177,0)","v":0},{"$f":"IF(I228=\"Oui\",'Q_del,j et Q_del,dh'!$D177,0)","v":0},{"$f":"IF(J228=\"Oui\",'Q_del,j et Q_del,dh'!$D177,0)","v":0},{"$f":"IF(K228=\"Oui\",'Q_del,j et Q_del,dh'!$D177,0)","v":0},{"$f":"IF(L228=\"Oui\",'Q_del,j et Q_del,dh'!$D177,0)","v":0},{"$f":"IF(M228=\"Oui\",'Q_del,j et Q_del,dh'!$D177,0)","v":0},{"$f":"IF(N228=\"Oui\",'Q_del,j et Q_del,dh'!$D177,0)","v":0},{"$f":"IF(O228=\"Oui\",'Q_del,j et Q_del,dh'!$D177,0)","v":0},{"$f":"IF(P228=\"Oui\",'Q_del,j et Q_del,dh'!$D177,0)","v":0},{"$f":"IF(Q228=\"Oui\",'Q_del,j et Q_del,dh'!$D177,0)","v":0},{"$f":"IF(R228=\"Oui\",'Q_del,j et Q_del,dh'!$D177,0)","v":0},{"$f":"IF(S228=\"Oui\",'Q_del,j et Q_del,dh'!$D177,0)","v":0},{"$f":"IF(T228=\"Oui\",'Q_del,j et Q_del,dh'!$D177,0)","v":0},{"$f":"IF(U228=\"Oui\",'Q_del,j et Q_del,dh'!$D177,0)","v":0},{"$f":"IF(V228=\"Oui\",'Q_del,j et Q_del,dh'!$D177,0)","v":0},{"$f":"IF(W228=\"Oui\",'Q_del,j et Q_del,dh'!$D177,0)","v":0},{"$f":"IF(X228=\"Oui\",'Q_del,j et Q_del,dh'!$D177,0)","v":0},{"$f":"IF(Y228=\"Oui\",'Q_del,j et Q_del,dh'!$D177,0)","v":0},{"$f":"IF(Z228=\"Oui\",'Q_del,j et Q_del,dh'!$D177,0)","v":0},{"$f":"IF(AA228=\"Oui\",'Q_del,j et Q_del,dh'!$D177,0)","v":0},{"$f":"IF(AB228=\"Oui\",'Q_del,j et Q_del,dh'!$D177,0)","v":0},{"$f":"IF(AC228=\"Oui\",'Q_del,j et Q_del,dh'!$D177,0)","v":0},{"$f":"IF(AD228=\"Oui\",'Q_del,j et Q_del,dh'!$D177,0)","v":0},{"$f":"IF(AE228=\"Oui\",'Q_del,j et Q_del,dh'!$D177,0)","v":0},{"$f":"IF(AF228=\"Oui\",'Q_del,j et Q_del,dh'!$D177,0)","v":0},{"$f":"IF(AG228=\"Oui\",'Q_del,j et Q_del,dh'!$D177,0)","v":0},{"$f":"IF(AH228=\"Oui\",'Q_del,j et Q_del,dh'!$D177,0)","v":0},{"$f":"IF(AI228=\"Oui\",'Q_del,j et Q_del,dh'!$D177,0)","v":0},{"$f":"IF(AJ228=\"Oui\",'Q_del,j et Q_del,dh'!$D177,0)","v":0},{"$f":"IF(AK228=\"Oui\",'Q_del,j et Q_del,dh'!$D177,0)","v":0},{"$f":"IF(AL228=\"Oui\",'Q_del,j et Q_del,dh'!$D177,0)","v":0},{"$f":"IF(AM228=\"Oui\",'Q_del,j et Q_del,dh'!$D177,0)","v":0},{"$f":"IF(AN228=\"Oui\",'Q_del,j et Q_del,dh'!$D177,0)","v":0},{"$f":"IF(AO228=\"Oui\",'Q_del,j et Q_del,dh'!$D177,0)","v":0},{"$f":"IF(AP228=\"Oui\",'Q_del,j et Q_del,dh'!$D177,0)","v":0},{"$f":"IF(AQ228=\"Oui\",'Q_del,j et Q_del,dh'!$D177,0)","v":0},{"$f":"IF(AR228=\"Oui\",'Q_del,j et Q_del,dh'!$D177,0)","v":0},{"$f":"IF(AS228=\"Oui\",'Q_del,j et Q_del,dh'!$D177,0)","v":0},{"$f":"IF(AT228=\"Oui\",'Q_del,j et Q_del,dh'!$D177,0)","v":0},{"$f":"IF(AU228=\"Oui\",'Q_del,j et Q_del,dh'!$D177,0)","v":0},{"$f":"IF(AV228=\"Oui\",'Q_del,j et Q_del,dh'!$D177,0)","v":0},{"$f":"IF(AW228=\"Oui\",'Q_del,j et Q_del,dh'!$D177,0)","v":0},{"$f":"IF(AX228=\"Oui\",'Q_del,j et Q_del,dh'!$D177,0)","v":0},{"$f":"IF(AY228=\"Oui\",'Q_del,j et Q_del,dh'!$D177,0)","v":0},{"$f":"IF(AZ228=\"Oui\",'Q_del,j et Q_del,dh'!$D177,0)","v":0},{"$f":"IF(BA228=\"Oui\",'Q_del,j et Q_del,dh'!$D177,0)","v":0}]
["Qdel,l,j [MJ]","Demandeur de chaleur 171",171,{"$f":"IF(D229=\"Oui\",'Q_del,j et Q_del,dh'!$D178,0)","v":0},{"$f":"IF(E229=\"Oui\",'Q_del,j et Q_del,dh'!$D178,0)","v":0},{"$f":"IF(F229=\"Oui\",'Q_del,j et Q_del,dh'!$D178,0)","v":0},{"$f":"IF(G229=\"Oui\",'Q_del,j et Q_del,dh'!$D178,0)","v":0},{"$f":"IF(H229=\"Oui\",'Q_del,j et Q_del,dh'!$D178,0)","v":0},{"$f":"IF(I229=\"Oui\",'Q_del,j et Q_del,dh'!$D178,0)","v":0},{"$f":"IF(J229=\"Oui\",'Q_del,j et Q_del,dh'!$D178,0)","v":0},{"$f":"IF(K229=\"Oui\",'Q_del,j et Q_del,dh'!$D178,0)","v":0},{"$f":"IF(L229=\"Oui\",'Q_del,j et Q_del,dh'!$D178,0)","v":0},{"$f":"IF(M229=\"Oui\",'Q_del,j et Q_del,dh'!$D178,0)","v":0},{"$f":"IF(N229=\"Oui\",'Q_del,j et Q_del,dh'!$D178,0)","v":0},{"$f":"IF(O229=\"Oui\",'Q_del,j et Q_del,dh'!$D178,0)","v":0},{"$f":"IF(P229=\"Oui\",'Q_del,j et Q_del,dh'!$D178,0)","v":0},{"$f":"IF(Q229=\"Oui\",'Q_del,j et Q_del,dh'!$D178,0)","v":0},{"$f":"IF(R229=\"Oui\",'Q_del,j et Q_del,dh'!$D178,0)","v":0},{"$f":"IF(S229=\"Oui\",'Q_del,j et Q_del,dh'!$D178,0)","v":0},{"$f":"IF(T229=\"Oui\",'Q_del,j et Q_del,dh'!$D178,0)","v":0},{"$f":"IF(U229=\"Oui\",'Q_del,j et Q_del,dh'!$D178,0)","v":0},{"$f":"IF(V229=\"Oui\",'Q_del,j et Q_del,dh'!$D178,0)","v":0},{"$f":"IF(W229=\"Oui\",'Q_del,j et Q_del,dh'!$D178,0)","v":0},{"$f":"IF(X229=\"Oui\",'Q_del,j et Q_del,dh'!$D178,0)","v":0},{"$f":"IF(Y229=\"Oui\",'Q_del,j et Q_del,dh'!$D178,0)","v":0},{"$f":"IF(Z229=\"Oui\",'Q_del,j et Q_del,dh'!$D178,0)","v":0},{"$f":"IF(AA229=\"Oui\",'Q_del,j et Q_del,dh'!$D178,0)","v":0},{"$f":"IF(AB229=\"Oui\",'Q_del,j et Q_del,dh'!$D178,0)","v":0},{"$f":"IF(AC229=\"Oui\",'Q_del,j et Q_del,dh'!$D178,0)","v":0},{"$f":"IF(AD229=\"Oui\",'Q_del,j et Q_del,dh'!$D178,0)","v":0},{"$f":"IF(AE229=\"Oui\",'Q_del,j et Q_del,dh'!$D178,0)","v":0},{"$f":"IF(AF229=\"Oui\",'Q_del,j et Q_del,dh'!$D178,0)","v":0},{"$f":"IF(AG229=\"Oui\",'Q_del,j et Q_del,dh'!$D178,0)","v":0},{"$f":"IF(AH229=\"Oui\",'Q_del,j et Q_del,dh'!$D178,0)","v":0},{"$f":"IF(AI229=\"Oui\",'Q_del,j et Q_del,dh'!$D178,0)","v":0},{"$f":"IF(AJ229=\"Oui\",'Q_del,j et Q_del,dh'!$D178,0)","v":0},{"$f":"IF(AK229=\"Oui\",'Q_del,j et Q_del,dh'!$D178,0)","v":0},{"$f":"IF(AL229=\"Oui\",'Q_del,j et Q_del,dh'!$D178,0)","v":0},{"$f":"IF(AM229=\"Oui\",'Q_del,j et Q_del,dh'!$D178,0)","v":0},{"$f":"IF(AN229=\"Oui\",'Q_del,j et Q_del,dh'!$D178,0)","v":0},{"$f":"IF(AO229=\"Oui\",'Q_del,j et Q_del,dh'!$D178,0)","v":0},{"$f":"IF(AP229=\"Oui\",'Q_del,j et Q_del,dh'!$D178,0)","v":0},{"$f":"IF(AQ229=\"Oui\",'Q_del,j et Q_del,dh'!$D178,0)","v":0},{"$f":"IF(AR229=\"Oui\",'Q_del,j et Q_del,dh'!$D178,0)","v":0},{"$f":"IF(AS229=\"Oui\",'Q_del,j et Q_del,dh'!$D178,0)","v":0},{"$f":"IF(AT229=\"Oui\",'Q_del,j et Q_del,dh'!$D178,0)","v":0},{"$f":"IF(AU229=\"Oui\",'Q_del,j et Q_del,dh'!$D178,0)","v":0},{"$f":"IF(AV229=\"Oui\",'Q_del,j et Q_del,dh'!$D178,0)","v":0},{"$f":"IF(AW229=\"Oui\",'Q_del,j et Q_del,dh'!$D178,0)","v":0},{"$f":"IF(AX229=\"Oui\",'Q_del,j et Q_del,dh'!$D178,0)","v":0},{"$f":"IF(AY229=\"Oui\",'Q_del,j et Q_del,dh'!$D178,0)","v":0},{"$f":"IF(AZ229=\"Oui\",'Q_del,j et Q_del,dh'!$D178,0)","v":0},{"$f":"IF(BA229=\"Oui\",'Q_del,j et Q_del,dh'!$D178,0)","v":0}]
["Qdel,l,j [MJ]","Demandeur de chaleur 172",172,{"$f":"IF(D230=\"Oui\",'Q_del,j et Q_del,dh'!$D179,0)","v":0},{"$f":"IF(E230=\"Oui\",'Q_del,j et Q_del,dh'!$D179,0)","v":0},{"$f":"IF(F230=\"Oui\",'Q_del,j et Q_del,dh'!$D179,0)","v":0},{"$f":"IF(G230=\"Oui\",'Q_del,j et Q_del,dh'!$D179,0)","v":0},{"$f":"IF(H230=\"Oui\",'Q_del,j et Q_del,dh'!$D179,0)","v":0},{"$f":"IF(I230=\"Oui\",'Q_del,j et Q_del,dh'!$D179,0)","v":0},{"$f":"IF(J230=\"Oui\",'Q_del,j et Q_del,dh'!$D179,0)","v":0},{"$f":"IF(K230=\"Oui\",'Q_del,j et Q_del,dh'!$D179,0)","v":0},{"$f":"IF(L230=\"Oui\",'Q_del,j et Q_del,dh'!$D179,0)","v":0},{"$f":"IF(M230=\"Oui\",'Q_del,j et Q_del,dh'!$D179,0)","v":0},{"$f":"IF(N230=\"Oui\",'Q_del,j et Q_del,dh'!$D179,0)","v":0},{"$f":"IF(O230=\"Oui\",'Q_del,j et Q_del,dh'!$D179,0)","v":0},{"$f":"IF(P230=\"Oui\",'Q_del,j et Q_del,dh'!$D179,0)","v":0},{"$f":"IF(Q230=\"Oui\",'Q_del,j et Q_del,dh'!$D179,0)","v":0},{"$f":"IF(R230=\"Oui\",'Q_del,j et Q_del,dh'!$D179,0)","v":0},{"$f":"IF(S230=\"Oui\",'Q_del,j et Q_del,dh'!$D179,0)","v":0},{"$f":"IF(T230=\"Oui\",'Q_del,j et Q_del,dh'!$D179,0)","v":0},{"$f":"IF(U230=\"Oui\",'Q_del,j et Q_del,dh'!$D179,0)","v":0},{"$f":"IF(V230=\"Oui\",'Q_del,j et Q_del,dh'!$D179,0)","v":0},{"$f":"IF(W230=\"Oui\",'Q_del,j et Q_del,dh'!$D179,0)","v":0},{"$f":"IF(X230=\"Oui\",'Q_del,j et Q_del,dh'!$D179,0)","v":0},{"$f":"IF(Y230=\"Oui\",'Q_del,j et Q_del,dh'!$D179,0)","v":0},{"$f":"IF(Z230=\"Oui\",'Q_del,j et Q_del,dh'!$D179,0)","v":0},{"$f":"IF(AA230=\"Oui\",'Q_del,j et Q_del,dh'!$D179,0)","v":0},{"$f":"IF(AB230=\"Oui\",'Q_del,j et Q_del,dh'!$D179,0)","v":0},{"$f":"IF(AC230=\"Oui\",'Q_del,j et Q_del,dh'!$D179,0)","v":0},{"$f":"IF(AD230=\"Oui\",'Q_del,j et Q_del,dh'!$D179,0)","v":0},{"$f":"IF(AE230=\"Oui\",'Q_del,j et Q_del,dh'!$D179,0)","v":0},{"$f":"IF(AF230=\"Oui\",'Q_del,j et Q_del,dh'!$D179,0)","v":0},{"$f":"IF(AG230=\"Oui\",'Q_del,j et Q_del,dh'!$D179,0)","v":0},{"$f":"IF(AH230=\"Oui\",'Q_del,j et Q_del,dh'!$D179,0)","v":0},{"$f":"IF(AI230=\"Oui\",'Q_del,j et Q_del,dh'!$D179,0)","v":0},{"$f":"IF(AJ230=\"Oui\",'Q_del,j et Q_del,dh'!$D179,0)","v":0},{"$f":"IF(AK230=\"Oui\",'Q_del,j et Q_del,dh'!$D179,0)","v":0},{"$f":"IF(AL230=\"Oui\",'Q_del,j et Q_del,dh'!$D179,0)","v":0},{"$f":"IF(AM230=\"Oui\",'Q_del,j et Q_del,dh'!$D179,0)","v":0},{"$f":"IF(AN230=\"Oui\",'Q_del,j et Q_del,dh'!$D179,0)","v":0},{"$f":"IF(AO230=\"Oui\",'Q_del,j et Q_del,dh'!$D179,0)","v":0},{"$f":"IF(AP230=\"Oui\",'Q_del,j et Q_del,dh'!$D179,0)","v":0},{"$f":"IF(AQ230=\"Oui\",'Q_del,j et Q_del,dh'!$D179,0)","v":0},{"$f":"IF(AR230=\"Oui\",'Q_del,j et Q_del,dh'!$D179,0)","v":0},{"$f":"IF(AS230=\"Oui\",'Q_del,j et Q_del,dh'!$D179,0)","v":0},{"$f":"IF(AT230=\"Oui\",'Q_del,j et Q_del,dh'!$D179,0)","v":0},{"$f":"IF(AU230=\"Oui\",'Q_del,j et Q_del,dh'!$D179,0)","v":0},{"$f":"IF(AV230=\"Oui\",'Q_del,j et Q_del,dh'!$D179,0)","v":0},{"$f":"IF(AW230=\"Oui\",'Q_del,j et Q_del,dh'!$D179,0)","v":0},{"$f":"IF(AX230=\"Oui\",'Q_del,j et Q_del,dh'!$D179,0)","v":0},{"$f":"IF(AY230=\"Oui\",'Q_del,j et Q_del,dh'!$D179,0)","v":0},{"$f":"IF(AZ230=\"Oui\",'Q_del,j et Q_del,dh'!$D179,0)","v":0},{"$f":"IF(BA230=\"Oui\",'Q_del,j et Q_del,dh'!$D179,0)","v":0}]
["Qdel,l,j [MJ]","Demandeur de chaleur 173",173,{"$f":"IF(D231=\"Oui\",'Q_del,j et Q_del,dh'!$D180,0)","v":0},{"$f":"IF(E231=\"Oui\",'Q_del,j et Q_del,dh'!$D180,0)","v":0},{"$f":"IF(F231=\"Oui\",'Q_del,j et Q_del,dh'!$D180,0)","v":0},{"$f":"IF(G231=\"Oui\",'Q_del,j et Q_del,dh'!$D180,0)","v":0},{"$f":"IF(H231=\"Oui\",'Q_del,j et Q_del,dh'!$D180,0)","v":0},{"$f":"IF(I231=\"Oui\",'Q_del,j et Q_del,dh'!$D180,0)","v":0},{"$f":"IF(J231=\"Oui\",'Q_del,j et Q_del,dh'!$D180,0)","v":0},{"$f":"IF(K231=\"Oui\",'Q_del,j et Q_del,dh'!$D180,0)","v":0},{"$f":"IF(L231=\"Oui\",'Q_del,j et Q_del,dh'!$D180,0)","v":0},{"$f":"IF(M231=\"Oui\",'Q_del,j et Q_del,dh'!$D180,0)","v":0},{"$f":"IF(N231=\"Oui\",'Q_del,j et Q_del,dh'!$D180,0)","v":0},{"$f":"IF(O231=\"Oui\",'Q_del,j et Q_del,dh'!$D180,0)","v":0},{"$f":"IF(P231=\"Oui\",'Q_del,j et Q_del,dh'!$D180,0)","v":0},{"$f":"IF(Q231=\"Oui\",'Q_del,j et Q_del,dh'!$D180,0)","v":0},{"$f":"IF(R231=\"Oui\",'Q_del,j et Q_del,dh'!$D180,0)","v":0},{"$f":"IF(S231=\"Oui\",'Q_del,j et Q_del,dh'!$D180,0)","v":0},{"$f":"IF(T231=\"Oui\",'Q_del,j et Q_del,dh'!$D180,0)","v":0},{"$f":"IF(U231=\"Oui\",'Q_del,j et Q_del,dh'!$D180,0)","v":0},{"$f":"IF(V231=\"Oui\",'Q_del,j et Q_del,dh'!$D180,0)","v":0},{"$f":"IF(W231=\"Oui\",'Q_del,j et Q_del,dh'!$D180,0)","v":0},{"$f":"IF(X231=\"Oui\",'Q_del,j et Q_del,dh'!$D180,0)","v":0},{"$f":"IF(Y231=\"Oui\",'Q_del,j et Q_del,dh'!$D180,0)","v":0},{"$f":"IF(Z231=\"Oui\",'Q_del,j et Q_del,dh'!$D180,0)","v":0},{"$f":"IF(AA231=\"Oui\",'Q_del,j et Q_del,dh'!$D180,0)","v":0},{"$f":"IF(AB231=\"Oui\",'Q_del,j et Q_del,dh'!$D180,0)","v":0},{"$f":"IF(AC231=\"Oui\",'Q_del,j et Q_del,dh'!$D180,0)","v":0},{"$f":"IF(AD231=\"Oui\",'Q_del,j et Q_del,dh'!$D180,0)","v":0},{"$f":"IF(AE231=\"Oui\",'Q_del,j et Q_del,dh'!$D180,0)","v":0},{"$f":"IF(AF231=\"Oui\",'Q_del,j et Q_del,dh'!$D180,0)","v":0},{"$f":"IF(AG231=\"Oui\",'Q_del,j et Q_del,dh'!$D180,0)","v":0},{"$f":"IF(AH231=\"Oui\",'Q_del,j et Q_del,dh'!$D180,0)","v":0},{"$f":"IF(AI231=\"Oui\",'Q_del,j et Q_del,dh'!$D180,0)","v":0},{"$f":"IF(AJ231=\"Oui\",'Q_del,j et Q_del,dh'!$D180,0)","v":0},{"$f":"IF(AK231=\"Oui\",'Q_del,j et Q_del,dh'!$D180,0)","v":0},{"$f":"IF(AL231=\"Oui\",'Q_del,j et Q_del,dh'!$D180,0)","v":0},{"$f":"IF(AM231=\"Oui\",'Q_del,j et Q_del,dh'!$D180,0)","v":0},{"$f":"IF(AN231=\"Oui\",'Q_del,j et Q_del,dh'!$D180,0)","v":0},{"$f":"IF(AO231=\"Oui\",'Q_del,j et Q_del,dh'!$D180,0)","v":0},{"$f":"IF(AP231=\"Oui\",'Q_del,j et Q_del,dh'!$D180,0)","v":0},{"$f":"IF(AQ231=\"Oui\",'Q_del,j et Q_del,dh'!$D180,0)","v":0},{"$f":"IF(AR231=\"Oui\",'Q_del,j et Q_del,dh'!$D180,0)","v":0},{"$f":"IF(AS231=\"Oui\",'Q_del,j et Q_del,dh'!$D180,0)","v":0},{"$f":"IF(AT231=\"Oui\",'Q_del,j et Q_del,dh'!$D180,0)","v":0},{"$f":"IF(AU231=\"Oui\",'Q_del,j et Q_del,dh'!$D180,0)","v":0},{"$f":"IF(AV231=\"Oui\",'Q_del,j et Q_del,dh'!$D180,0)","v":0},{"$f":"IF(AW231=\"Oui\",'Q_del,j et Q_del,dh'!$D180,0)","v":0},{"$f":"IF(AX231=\"Oui\",'Q_del,j et Q_del,dh'!$D180,0)","v":0},{"$f":"IF(AY231=\"Oui\",'Q_del,j et Q_del,dh'!$D180,0)","v":0},{"$f":"IF(AZ231=\"Oui\",'Q_del,j et Q_del,dh'!$D180,0)","v":0},{"$f":"IF(BA231=\"Oui\",'Q_del,j et Q_del,dh'!$D180,0)","v":0}]
["Qdel,l,j [MJ]","Demandeur de chaleur 174",174,{"$f":"IF(D232=\"Oui\",'Q_del,j et Q_del,dh'!$D181,0)","v":0},{"$f":"IF(E232=\"Oui\",'Q_del,j et Q_del,dh'!$D181,0)","v":0},{"$f":"IF(F232=\"Oui\",'Q_del,j et Q_del,dh'!$D181,0)","v":0},{"$f":"IF(G232=\"Oui\",'Q_del,j et Q_del,dh'!$D181,0)","v":0},{"$f":"IF(H232=\"Oui\",'Q_del,j et Q_del,dh'!$D181,0)","v":0},{"$f":"IF(I232=\"Oui\",'Q_del,j et Q_del,dh'!$D181,0)","v":0},{"$f":"IF(J232=\"Oui\",'Q_del,j et Q_del,dh'!$D181,0)","v":0},{"$f":"IF(K232=\"Oui\",'Q_del,j et Q_del,dh'!$D181,0)","v":0},{"$f":"IF(L232=\"Oui\",'Q_del,j et Q_del,dh'!$D181,0)","v":0},{"$f":"IF(M232=\"Oui\",'Q_del,j et Q_del,dh'!$D181,0)","v":0},{"$f":"IF(N232=\"Oui\",'Q_del,j et Q_del,dh'!$D181,0)","v":0},{"$f":"IF(O232=\"Oui\",'Q_del,j et Q_del,dh'!$D181,0)","v":0},{"$f":"IF(P232=\"Oui\",'Q_del,j et Q_del,dh'!$D181,0)","v":0},{"$f":"IF(Q232=\"Oui\",'Q_del,j et Q_del,dh'!$D181,0)","v":0},{"$f":"IF(R232=\"Oui\",'Q_del,j et Q_del,dh'!$D181,0)","v":0},{"$f":"IF(S232=\"Oui\",'Q_del,j et Q_del,dh'!$D181,0)","v":0},{"$f":"IF(T232=\"Oui\",'Q_del,j et Q_del,dh'!$D181,0)","v":0},{"$f":"IF(U232=\"Oui\",'Q_del,j et Q_del,dh'!$D181,0)","v":0},{"$f":"IF(V232=\"Oui\",'Q_del,j et Q_del,dh'!$D181,0)","v":0},{"$f":"IF(W232=\"Oui\",'Q_del,j et Q_del,dh'!$D181,0)","v":0},{"$f":"IF(X232=\"Oui\",'Q_del,j et Q_del,dh'!$D181,0)","v":0},{"$f":"IF(Y232=\"Oui\",'Q_del,j et Q_del,dh'!$D181,0)","v":0},{"$f":"IF(Z232=\"Oui\",'Q_del,j et Q_del,dh'!$D181,0)","v":0},{"$f":"IF(AA232=\"Oui\",'Q_del,j et Q_del,dh'!$D181,0)","v":0},{"$f":"IF(AB232=\"Oui\",'Q_del,j et Q_del,dh'!$D181,0)","v":0},{"$f":"IF(AC232=\"Oui\",'Q_del,j et Q_del,dh'!$D181,0)","v":0},{"$f":"IF(AD232=\"Oui\",'Q_del,j et Q_del,dh'!$D181,0)","v":0},{"$f":"IF(AE232=\"Oui\",'Q_del,j et Q_del,dh'!$D181,0)","v":0},{"$f":"IF(AF232=\"Oui\",'Q_del,j et Q_del,dh'!$D181,0)","v":0},{"$f":"IF(AG232=\"Oui\",'Q_del,j et Q_del,dh'!$D181,0)","v":0},{"$f":"IF(AH232=\"Oui\",'Q_del,j et Q_del,dh'!$D181,0)","v":0},{"$f":"IF(AI232=\"Oui\",'Q_del,j et Q_del,dh'!$D181,0)","v":0},{"$f":"IF(AJ232=\"Oui\",'Q_del,j et Q_del,dh'!$D181,0)","v":0},{"$f":"IF(AK232=\"Oui\",'Q_del,j et Q_del,dh'!$D181,0)","v":0},{"$f":"IF(AL232=\"Oui\",'Q_del,j et Q_del,dh'!$D181,0)","v":0},{"$f":"IF(AM232=\"Oui\",'Q_del,j et Q_del,dh'!$D181,0)","v":0},{"$f":"IF(AN232=\"Oui\",'Q_del,j et Q_del,dh'!$D181,0)","v":0},{"$f":"IF(AO232=\"Oui\",'Q_del,j et Q_del,dh'!$D181,0)","v":0},{"$f":"IF(AP232=\"Oui\",'Q_del,j et Q_del,dh'!$D181,0)","v":0},{"$f":"IF(AQ232=\"Oui\",'Q_del,j et Q_del,dh'!$D181,0)","v":0},{"$f":"IF(AR232=\"Oui\",'Q_del,j et Q_del,dh'!$D181,0)","v":0},{"$f":"IF(AS232=\"Oui\",'Q_del,j et Q_del,dh'!$D181,0)","v":0},{"$f":"IF(AT232=\"Oui\",'Q_del,j et Q_del,dh'!$D181,0)","v":0},{"$f":"IF(AU232=\"Oui\",'Q_del,j et Q_del,dh'!$D181,0)","v":0},{"$f":"IF(AV232=\"Oui\",'Q_del,j et Q_del,dh'!$D181,0)","v":0},{"$f":"IF(AW232=\"Oui\",'Q_del,j et Q_del,dh'!$D181,0)","v":0},{"$f":"IF(AX232=\"Oui\",'Q_del,j et Q_del,dh'!$D181,0)","v":0},{"$f":"IF(AY232=\"Oui\",'Q_del,j et Q_del,dh'!$D181,0)","v":0},{"$f":"IF(AZ232=\"Oui\",'Q_del,j et Q_del,dh'!$D181,0)","v":0},{"$f":"IF(BA232=\"Oui\",'Q_del,j et Q_del,dh'!$D181,0)","v":0}]
["Qdel,l,j [MJ]","Demandeur de chaleur 175",175,{"$f":"IF(D233=\"Oui\",'Q_del,j et Q_del,dh'!$D182,0)","v":0},{"$f":"IF(E233=\"Oui\",'Q_del,j et Q_del,dh'!$D182,0)","v":0},{"$f":"IF(F233=\"Oui\",'Q_del,j et Q_del,dh'!$D182,0)","v":0},{"$f":"IF(G233=\"Oui\",'Q_del,j et Q_del,dh'!$D182,0)","v":0},{"$f":"IF(H233=\"Oui\",'Q_del,j et Q_del,dh'!$D182,0)","v":0},{"$f":"IF(I233=\"Oui\",'Q_del,j et Q_del,dh'!$D182,0)","v":0},{"$f":"IF(J233=\"Oui\",'Q_del,j et Q_del,dh'!$D182,0)","v":0},{"$f":"IF(K233=\"Oui\",'Q_del,j et Q_del,dh'!$D182,0)","v":0},{"$f":"IF(L233=\"Oui\",'Q_del,j et Q_del,dh'!$D182,0)","v":0},{"$f":"IF(M233=\"Oui\",'Q_del,j et Q_del,dh'!$D182,0)","v":0},{"$f":"IF(N233=\"Oui\",'Q_del,j et Q_del,dh'!$D182,0)","v":0},{"$f":"IF(O233=\"Oui\",'Q_del,j et Q_del,dh'!$D182,0)","v":0},{"$f":"IF(P233=\"Oui\",'Q_del,j et Q_del,dh'!$D182,0)","v":0},{"$f":"IF(Q233=\"Oui\",'Q_del,j et Q_del,dh'!$D182,0)","v":0},{"$f":"IF(R233=\"Oui\",'Q_del,j et Q_del,dh'!$D182,0)","v":0},{"$f":"IF(S233=\"Oui\",'Q_del,j et Q_del,dh'!$D182,0)","v":0},{"$f":"IF(T233=\"Oui\",'Q_del,j et Q_del,dh'!$D182,0)","v":0},{"$f":"IF(U233=\"Oui\",'Q_del,j et Q_del,dh'!$D182,0)","v":0},{"$f":"IF(V233=\"Oui\",'Q_del,j et Q_del,dh'!$D182,0)","v":0},{"$f":"IF(W233=\"Oui\",'Q_del,j et Q_del,dh'!$D182,0)","v":0},{"$f":"IF(X233=\"Oui\",'Q_del,j et Q_del,dh'!$D182,0)","v":0},{"$f":"IF(Y233=\"Oui\",'Q_del,j et Q_del,dh'!$D182,0)","v":0},{"$f":"IF(Z233=\"Oui\",'Q_del,j et Q_del,dh'!$D182,0)","v":0},{"$f":"IF(AA233=\"Oui\",'Q_del,j et Q_del,dh'!$D182,0)","v":0},{"$f":"IF(AB233=\"Oui\",'Q_del,j et Q_del,dh'!$D182,0)","v":0},{"$f":"IF(AC233=\"Oui\",'Q_del,j et Q_del,dh'!$D182,0)","v":0},{"$f":"IF(AD233=\"Oui\",'Q_del,j et Q_del,dh'!$D182,0)","v":0},{"$f":"IF(AE233=\"Oui\",'Q_del,j et Q_del,dh'!$D182,0)","v":0},{"$f":"IF(AF233=\"Oui\",'Q_del,j et Q_del,dh'!$D182,0)","v":0},{"$f":"IF(AG233=\"Oui\",'Q_del,j et Q_del,dh'!$D182,0)","v":0},{"$f":"IF(AH233=\"Oui\",'Q_del,j et Q_del,dh'!$D182,0)","v":0},{"$f":"IF(AI233=\"Oui\",'Q_del,j et Q_del,dh'!$D182,0)","v":0},{"$f":"IF(AJ233=\"Oui\",'Q_del,j et Q_del,dh'!$D182,0)","v":0},{"$f":"IF(AK233=\"Oui\",'Q_del,j et Q_del,dh'!$D182,0)","v":0},{"$f":"IF(AL233=\"Oui\",'Q_del,j et Q_del,dh'!$D182,0)","v":0},{"$f":"IF(AM233=\"Oui\",'Q_del,j et Q_del,dh'!$D182,0)","v":0},{"$f":"IF(AN233=\"Oui\",'Q_del,j et Q_del,dh'!$D182,0)","v":0},{"$f":"IF(AO233=\"Oui\",'Q_del,j et Q_del,dh'!$D182,0)","v":0},{"$f":"IF(AP233=\"Oui\",'Q_del,j et Q_del,dh'!$D182,0)","v":0},{"$f":"IF(AQ233=\"Oui\",'Q_del,j et Q_del,dh'!$D182,0)","v":0},{"$f":"IF(AR233=\"Oui\",'Q_del,j et Q_del,dh'!$D182,0)","v":0},{"$f":"IF(AS233=\"Oui\",'Q_del,j et Q_del,dh'!$D182,0)","v":0},{"$f":"IF(AT233=\"Oui\",'Q_del,j et Q_del,dh'!$D182,0)","v":0},{"$f":"IF(AU233=\"Oui\",'Q_del,j et Q_del,dh'!$D182,0)","v":0},{"$f":"IF(AV233=\"Oui\",'Q_del,j et Q_del,dh'!$D182,0)","v":0},{"$f":"IF(AW233=\"Oui\",'Q_del,j et Q_del,dh'!$D182,0)","v":0},{"$f":"IF(AX233=\"Oui\",'Q_del,j et Q_del,dh'!$D182,0)","v":0},{"$f":"IF(AY233=\"Oui\",'Q_del,j et Q_del,dh'!$D182,0)","v":0},{"$f":"IF(AZ233=\"Oui\",'Q_del,j et Q_del,dh'!$D182,0)","v":0},{"$f":"IF(BA233=\"Oui\",'Q_del,j et Q_del,dh'!$D182,0)","v":0}]
["Qdel,l,j [MJ]","Demandeur de chaleur 176",176,{"$f":"IF(D234=\"Oui\",'Q_del,j et Q_del,dh'!$D183,0)","v":0},{"$f":"IF(E234=\"Oui\",'Q_del,j et Q_del,dh'!$D183,0)","v":0},{"$f":"IF(F234=\"Oui\",'Q_del,j et Q_del,dh'!$D183,0)","v":0},{"$f":"IF(G234=\"Oui\",'Q_del,j et Q_del,dh'!$D183,0)","v":0},{"$f":"IF(H234=\"Oui\",'Q_del,j et Q_del,dh'!$D183,0)","v":0},{"$f":"IF(I234=\"Oui\",'Q_del,j et Q_del,dh'!$D183,0)","v":0},{"$f":"IF(J234=\"Oui\",'Q_del,j et Q_del,dh'!$D183,0)","v":0},{"$f":"IF(K234=\"Oui\",'Q_del,j et Q_del,dh'!$D183,0)","v":0},{"$f":"IF(L234=\"Oui\",'Q_del,j et Q_del,dh'!$D183,0)","v":0},{"$f":"IF(M234=\"Oui\",'Q_del,j et Q_del,dh'!$D183,0)","v":0},{"$f":"IF(N234=\"Oui\",'Q_del,j et Q_del,dh'!$D183,0)","v":0},{"$f":"IF(O234=\"Oui\",'Q_del,j et Q_del,dh'!$D183,0)","v":0},{"$f":"IF(P234=\"Oui\",'Q_del,j et Q_del,dh'!$D183,0)","v":0},{"$f":"IF(Q234=\"Oui\",'Q_del,j et Q_del,dh'!$D183,0)","v":0},{"$f":"IF(R234=\"Oui\",'Q_del,j et Q_del,dh'!$D183,0)","v":0},{"$f":"IF(S234=\"Oui\",'Q_del,j et Q_del,dh'!$D183,0)","v":0},{"$f":"IF(T234=\"Oui\",'Q_del,j et Q_del,dh'!$D183,0)","v":0},{"$f":"IF(U234=\"Oui\",'Q_del,j et Q_del,dh'!$D183,0)","v":0},{"$f":"IF(V234=\"Oui\",'Q_del,j et Q_del,dh'!$D183,0)","v":0},{"$f":"IF(W234=\"Oui\",'Q_del,j et Q_del,dh'!$D183,0)","v":0},{"$f":"IF(X234=\"Oui\",'Q_del,j et Q_del,dh'!$D183,0)","v":0},{"$f":"IF(Y234=\"Oui\",'Q_del,j et Q_del,dh'!$D183,0)","v":0},{"$f":"IF(Z234=\"Oui\",'Q_del,j et Q_del,dh'!$D183,0)","v":0},{"$f":"IF(AA234=\"Oui\",'Q_del,j et Q_del,dh'!$D183,0)","v":0},{"$f":"IF(AB234=\"Oui\",'Q_del,j et Q_del,dh'!$D183,0)","v":0},{"$f":"IF(AC234=\"Oui\",'Q_del,j et Q_del,dh'!$D183,0)","v":0},{"$f":"IF(AD234=\"Oui\",'Q_del,j et Q_del,dh'!$D183,0)","v":0},{"$f":"IF(AE234=\"Oui\",'Q_del,j et Q_del,dh'!$D183,0)","v":0},{"$f":"IF(AF234=\"Oui\",'Q_del,j et Q_del,dh'!$D183,0)","v":0},{"$f":"IF(AG234=\"Oui\",'Q_del,j et Q_del,dh'!$D183,0)","v":0},{"$f":"IF(AH234=\"Oui\",'Q_del,j et Q_del,dh'!$D183,0)","v":0},{"$f":"IF(AI234=\"Oui\",'Q_del,j et Q_del,dh'!$D183,0)","v":0},{"$f":"IF(AJ234=\"Oui\",'Q_del,j et Q_del,dh'!$D183,0)","v":0},{"$f":"IF(AK234=\"Oui\",'Q_del,j et Q_del,dh'!$D183,0)","v":0},{"$f":"IF(AL234=\"Oui\",'Q_del,j et Q_del,dh'!$D183,0)","v":0},{"$f":"IF(AM234=\"Oui\",'Q_del,j et Q_del,dh'!$D183,0)","v":0},{"$f":"IF(AN234=\"Oui\",'Q_del,j et Q_del,dh'!$D183,0)","v":0},{"$f":"IF(AO234=\"Oui\",'Q_del,j et Q_del,dh'!$D183,0)","v":0},{"$f":"IF(AP234=\"Oui\",'Q_del,j et Q_del,dh'!$D183,0)","v":0},{"$f":"IF(AQ234=\"Oui\",'Q_del,j et Q_del,dh'!$D183,0)","v":0},{"$f":"IF(AR234=\"Oui\",'Q_del,j et Q_del,dh'!$D183,0)","v":0},{"$f":"IF(AS234=\"Oui\",'Q_del,j et Q_del,dh'!$D183,0)","v":0},{"$f":"IF(AT234=\"Oui\",'Q_del,j et Q_del,dh'!$D183,0)","v":0},{"$f":"IF(AU234=\"Oui\",'Q_del,j et Q_del,dh'!$D183,0)","v":0},{"$f":"IF(AV234=\"Oui\",'Q_del,j et Q_del,dh'!$D183,0)","v":0},{"$f":"IF(AW234=\"Oui\",'Q_del,j et Q_del,dh'!$D183,0)","v":0},{"$f":"IF(AX234=\"Oui\",'Q_del,j et Q_del,dh'!$D183,0)","v":0},{"$f":"IF(AY234=\"Oui\",'Q_del,j et Q_del,dh'!$D183,0)","v":0},{"$f":"IF(AZ234=\"Oui\",'Q_del,j et Q_del,dh'!$D183,0)","v":0},{"$f":"IF(BA234=\"Oui\",'Q_del,j et Q_del,dh'!$D183,0)","v":0}]
["Qdel,l,j [MJ]","Demandeur de chaleur 177",177,{"$f":"IF(D235=\"Oui\",'Q_del,j et Q_del,dh'!$D184,0)","v":0},{"$f":"IF(E235=\"Oui\",'Q_del,j et Q_del,dh'!$D184,0)","v":0},{"$f":"IF(F235=\"Oui\",'Q_del,j et Q_del,dh'!$D184,0)","v":0},{"$f":"IF(G235=\"Oui\",'Q_del,j et Q_del,dh'!$D184,0)","v":0},{"$f":"IF(H235=\"Oui\",'Q_del,j et Q_del,dh'!$D184,0)","v":0},{"$f":"IF(I235=\"Oui\",'Q_del,j et Q_del,dh'!$D184,0)","v":0},{"$f":"IF(J235=\"Oui\",'Q_del,j et Q_del,dh'!$D184,0)","v":0},{"$f":"IF(K235=\"Oui\",'Q_del,j et Q_del,dh'!$D184,0)","v":0},{"$f":"IF(L235=\"Oui\",'Q_del,j et Q_del,dh'!$D184,0)","v":0},{"$f":"IF(M235=\"Oui\",'Q_del,j et Q_del,dh'!$D184,0)","v":0},{"$f":"IF(N235=\"Oui\",'Q_del,j et Q_del,dh'!$D184,0)","v":0},{"$f":"IF(O235=\"Oui\",'Q_del,j et Q_del,dh'!$D184,0)","v":0},{"$f":"IF(P235=\"Oui\",'Q_del,j et Q_del,dh'!$D184,0)","v":0},{"$f":"IF(Q235=\"Oui\",'Q_del,j et Q_del,dh'!$D184,0)","v":0},{"$f":"IF(R235=\"Oui\",'Q_del,j et Q_del,dh'!$D184,0)","v":0},{"$f":"IF(S235=\"Oui\",'Q_del,j et Q_del,dh'!$D184,0)","v":0},{"$f":"IF(T235=\"Oui\",'Q_del,j et Q_del,dh'!$D184,0)","v":0},{"$f":"IF(U235=\"Oui\",'Q_del,j et Q_del,dh'!$D184,0)","v":0},{"$f":"IF(V235=\"Oui\",'Q_del,j et Q_del,dh'!$D184,0)","v":0},{"$f":"IF(W235=\"Oui\",'Q_del,j et Q_del,dh'!$D184,0)","v":0},{"$f":"IF(X235=\"Oui\",'Q_del,j et Q_del,dh'!$D184,0)","v":0},{"$f":"IF(Y235=\"Oui\",'Q_del,j et Q_del,dh'!$D184,0)","v":0},{"$f":"IF(Z235=\"Oui\",'Q_del,j et Q_del,dh'!$D184,0)","v":0},{"$f":"IF(AA235=\"Oui\",'Q_del,j et Q_del,dh'!$D184,0)","v":0},{"$f":"IF(AB235=\"Oui\",'Q_del,j et Q_del,dh'!$D184,0)","v":0},{"$f":"IF(AC235=\"Oui\",'Q_del,j et Q_del,dh'!$D184,0)","v":0},{"$f":"IF(AD235=\"Oui\",'Q_del,j et Q_del,dh'!$D184,0)","v":0},{"$f":"IF(AE235=\"Oui\",'Q_del,j et Q_del,dh'!$D184,0)","v":0},{"$f":"IF(AF235=\"Oui\",'Q_del,j et Q_del,dh'!$D184,0)","v":0},{"$f":"IF(AG235=\"Oui\",'Q_del,j et Q_del,dh'!$D184,0)","v":0},{"$f":"IF(AH235=\"Oui\",'Q_del,j et Q_del,dh'!$D184,0)","v":0},{"$f":"IF(AI235=\"Oui\",'Q_del,j et Q_del,dh'!$D184,0)","v":0},{"$f":"IF(AJ235=\"Oui\",'Q_del,j et Q_del,dh'!$D184,0)","v":0},{"$f":"IF(AK235=\"Oui\",'Q_del,j et Q_del,dh'!$D184,0)","v":0},{"$f":"IF(AL235=\"Oui\",'Q_del,j et Q_del,dh'!$D184,0)","v":0},{"$f":"IF(AM235=\"Oui\",'Q_del,j et Q_del,dh'!$D184,0)","v":0},{"$f":"IF(AN235=\"Oui\",'Q_del,j et Q_del,dh'!$D184,0)","v":0},{"$f":"IF(AO235=\"Oui\",'Q_del,j et Q_del,dh'!$D184,0)","v":0},{"$f":"IF(AP235=\"Oui\",'Q_del,j et Q_del,dh'!$D184,0)","v":0},{"$f":"IF(AQ235=\"Oui\",'Q_del,j et Q_del,dh'!$D184,0)","v":0},{"$f":"IF(AR235=\"Oui\",'Q_del,j et Q_del,dh'!$D184,0)","v":0},{"$f":"IF(AS235=\"Oui\",'Q_del,j et Q_del,dh'!$D184,0)","v":0},{"$f":"IF(AT235=\"Oui\",'Q_del,j et Q_del,dh'!$D184,0)","v":0},{"$f":"IF(AU235=\"Oui\",'Q_del,j et Q_del,dh'!$D184,0)","v":0},{"$f":"IF(AV235=\"Oui\",'Q_del,j et Q_del,dh'!$D184,0)","v":0},{"$f":"IF(AW235=\"Oui\",'Q_del,j et Q_del,dh'!$D184,0)","v":0},{"$f":"IF(AX235=\"Oui\",'Q_del,j et Q_del,dh'!$D184,0)","v":0},{"$f":"IF(AY235=\"Oui\",'Q_del,j et Q_del,dh'!$D184,0)","v":0},{"$f":"IF(AZ235=\"Oui\",'Q_del,j et Q_del,dh'!$D184,0)","v":0},{"$f":"IF(BA235=\"Oui\",'Q_del,j et Q_del,dh'!$D184,0)","v":0}]
["Qdel,l,j [MJ]","Demandeur de chaleur 178",178,{"$f":"IF(D236=\"Oui\",'Q_del,j et Q_del,dh'!$D185,0)","v":0},{"$f":"IF(E236=\"Oui\",'Q_del,j et Q_del,dh'!$D185,0)","v":0},{"$f":"IF(F236=\"Oui\",'Q_del,j et Q_del,dh'!$D185,0)","v":0},{"$f":"IF(G236=\"Oui\",'Q_del,j et Q_del,dh'!$D185,0)","v":0},{"$f":"IF(H236=\"Oui\",'Q_del,j et Q_del,dh'!$D185,0)","v":0},{"$f":"IF(I236=\"Oui\",'Q_del,j et Q_del,dh'!$D185,0)","v":0},{"$f":"IF(J236=\"Oui\",'Q_del,j et Q_del,dh'!$D185,0)","v":0},{"$f":"IF(K236=\"Oui\",'Q_del,j et Q_del,dh'!$D185,0)","v":0},{"$f":"IF(L236=\"Oui\",'Q_del,j et Q_del,dh'!$D185,0)","v":0},{"$f":"IF(M236=\"Oui\",'Q_del,j et Q_del,dh'!$D185,0)","v":0},{"$f":"IF(N236=\"Oui\",'Q_del,j et Q_del,dh'!$D185,0)","v":0},{"$f":"IF(O236=\"Oui\",'Q_del,j et Q_del,dh'!$D185,0)","v":0},{"$f":"IF(P236=\"Oui\",'Q_del,j et Q_del,dh'!$D185,0)","v":0},{"$f":"IF(Q236=\"Oui\",'Q_del,j et Q_del,dh'!$D185,0)","v":0},{"$f":"IF(R236=\"Oui\",'Q_del,j et Q_del,dh'!$D185,0)","v":0},{"$f":"IF(S236=\"Oui\",'Q_del,j et Q_del,dh'!$D185,0)","v":0},{"$f":"IF(T236=\"Oui\",'Q_del,j et Q_del,dh'!$D185,0)","v":0},{"$f":"IF(U236=\"Oui\",'Q_del,j et Q_del,dh'!$D185,0)","v":0},{"$f":"IF(V236=\"Oui\",'Q_del,j et Q_del,dh'!$D185,0)","v":0},{"$f":"IF(W236=\"Oui\",'Q_del,j et Q_del,dh'!$D185,0)","v":0},{"$f":"IF(X236=\"Oui\",'Q_del,j et Q_del,dh'!$D185,0)","v":0},{"$f":"IF(Y236=\"Oui\",'Q_del,j et Q_del,dh'!$D185,0)","v":0},{"$f":"IF(Z236=\"Oui\",'Q_del,j et Q_del,dh'!$D185,0)","v":0},{"$f":"IF(AA236=\"Oui\",'Q_del,j et Q_del,dh'!$D185,0)","v":0},{"$f":"IF(AB236=\"Oui\",'Q_del,j et Q_del,dh'!$D185,0)","v":0},{"$f":"IF(AC236=\"Oui\",'Q_del,j et Q_del,dh'!$D185,0)","v":0},{"$f":"IF(AD236=\"Oui\",'Q_del,j et Q_del,dh'!$D185,0)","v":0},{"$f":"IF(AE236=\"Oui\",'Q_del,j et Q_del,dh'!$D185,0)","v":0},{"$f":"IF(AF236=\"Oui\",'Q_del,j et Q_del,dh'!$D185,0)","v":0},{"$f":"IF(AG236=\"Oui\",'Q_del,j et Q_del,dh'!$D185,0)","v":0},{"$f":"IF(AH236=\"Oui\",'Q_del,j et Q_del,dh'!$D185,0)","v":0},{"$f":"IF(AI236=\"Oui\",'Q_del,j et Q_del,dh'!$D185,0)","v":0},{"$f":"IF(AJ236=\"Oui\",'Q_del,j et Q_del,dh'!$D185,0)","v":0},{"$f":"IF(AK236=\"Oui\",'Q_del,j et Q_del,dh'!$D185,0)","v":0},{"$f":"IF(AL236=\"Oui\",'Q_del,j et Q_del,dh'!$D185,0)","v":0},{"$f":"IF(AM236=\"Oui\",'Q_del,j et Q_del,dh'!$D185,0)","v":0},{"$f":"IF(AN236=\"Oui\",'Q_del,j et Q_del,dh'!$D185,0)","v":0},{"$f":"IF(AO236=\"Oui\",'Q_del,j et Q_del,dh'!$D185,0)","v":0},{"$f":"IF(AP236=\"Oui\",'Q_del,j et Q_del,dh'!$D185,0)","v":0},{"$f":"IF(AQ236=\"Oui\",'Q_del,j et Q_del,dh'!$D185,0)","v":0},{"$f":"IF(AR236=\"Oui\",'Q_del,j et Q_del,dh'!$D185,0)","v":0},{"$f":"IF(AS236=\"Oui\",'Q_del,j et Q_del,dh'!$D185,0)","v":0},{"$f":"IF(AT236=\"Oui\",'Q_del,j et Q_del,dh'!$D185,0)","v":0},{"$f":"IF(AU236=\"Oui\",'Q_del,j et Q_del,dh'!$D185,0)","v":0},{"$f":"IF(AV236=\"Oui\",'Q_del,j et Q_del,dh'!$D185,0)","v":0},{"$f":"IF(AW236=\"Oui\",'Q_del,j et Q_del,dh'!$D185,0)","v":0},{"$f":"IF(AX236=\"Oui\",'Q_del,j et Q_del,dh'!$D185,0)","v":0},{"$f":"IF(AY236=\"Oui\",'Q_del,j et Q_del,dh'!$D185,0)","v":0},{"$f":"IF(AZ236=\"Oui\",'Q_del,j et Q_del,dh'!$D185,0)","v":0},{"$f":"IF(BA236=\"Oui\",'Q_del,j et Q_del,dh'!$D185,0)","v":0}]
["Qdel,l,j [MJ]","Demandeur de chaleur 179",179,{"$f":"IF(D237=\"Oui\",'Q_del,j et Q_del,dh'!$D186,0)","v":0},{"$f":"IF(E237=\"Oui\",'Q_del,j et Q_del,dh'!$D186,0)","v":0},{"$f":"IF(F237=\"Oui\",'Q_del,j et Q_del,dh'!$D186,0)","v":0},{"$f":"IF(G237=\"Oui\",'Q_del,j et Q_del,dh'!$D186,0)","v":0},{"$f":"IF(H237=\"Oui\",'Q_del,j et Q_del,dh'!$D186,0)","v":0},{"$f":"IF(I237=\"Oui\",'Q_del,j et Q_del,dh'!$D186,0)","v":0},{"$f":"IF(J237=\"Oui\",'Q_del,j et Q_del,dh'!$D186,0)","v":0},{"$f":"IF(K237=\"Oui\",'Q_del,j et Q_del,dh'!$D186,0)","v":0},{"$f":"IF(L237=\"Oui\",'Q_del,j et Q_del,dh'!$D186,0)","v":0},{"$f":"IF(M237=\"Oui\",'Q_del,j et Q_del,dh'!$D186,0)","v":0},{"$f":"IF(N237=\"Oui\",'Q_del,j et Q_del,dh'!$D186,0)","v":0},{"$f":"IF(O237=\"Oui\",'Q_del,j et Q_del,dh'!$D186,0)","v":0},{"$f":"IF(P237=\"Oui\",'Q_del,j et Q_del,dh'!$D186,0)","v":0},{"$f":"IF(Q237=\"Oui\",'Q_del,j et Q_del,dh'!$D186,0)","v":0},{"$f":"IF(R237=\"Oui\",'Q_del,j et Q_del,dh'!$D186,0)","v":0},{"$f":"IF(S237=\"Oui\",'Q_del,j et Q_del,dh'!$D186,0)","v":0},{"$f":"IF(T237=\"Oui\",'Q_del,j et Q_del,dh'!$D186,0)","v":0},{"$f":"IF(U237=\"Oui\",'Q_del,j et Q_del,dh'!$D186,0)","v":0},{"$f":"IF(V237=\"Oui\",'Q_del,j et Q_del,dh'!$D186,0)","v":0},{"$f":"IF(W237=\"Oui\",'Q_del,j et Q_del,dh'!$D186,0)","v":0},{"$f":"IF(X237=\"Oui\",'Q_del,j et Q_del,dh'!$D186,0)","v":0},{"$f":"IF(Y237=\"Oui\",'Q_del,j et Q_del,dh'!$D186,0)","v":0},{"$f":"IF(Z237=\"Oui\",'Q_del,j et Q_del,dh'!$D186,0)","v":0},{"$f":"IF(AA237=\"Oui\",'Q_del,j et Q_del,dh'!$D186,0)","v":0},{"$f":"IF(AB237=\"Oui\",'Q_del,j et Q_del,dh'!$D186,0)","v":0},{"$f":"IF(AC237=\"Oui\",'Q_del,j et Q_del,dh'!$D186,0)","v":0},{"$f":"IF(AD237=\"Oui\",'Q_del,j et Q_del,dh'!$D186,0)","v":0},{"$f":"IF(AE237=\"Oui\",'Q_del,j et Q_del,dh'!$D186,0)","v":0},{"$f":"IF(AF237=\"Oui\",'Q_del,j et Q_del,dh'!$D186,0)","v":0},{"$f":"IF(AG237=\"Oui\",'Q_del,j et Q_del,dh'!$D186,0)","v":0},{"$f":"IF(AH237=\"Oui\",'Q_del,j et Q_del,dh'!$D186,0)","v":0},{"$f":"IF(AI237=\"Oui\",'Q_del,j et Q_del,dh'!$D186,0)","v":0},{"$f":"IF(AJ237=\"Oui\",'Q_del,j et Q_del,dh'!$D186,0)","v":0},{"$f":"IF(AK237=\"Oui\",'Q_del,j et Q_del,dh'!$D186,0)","v":0},{"$f":"IF(AL237=\"Oui\",'Q_del,j et Q_del,dh'!$D186,0)","v":0},{"$f":"IF(AM237=\"Oui\",'Q_del,j et Q_del,dh'!$D186,0)","v":0},{"$f":"IF(AN237=\"Oui\",'Q_del,j et Q_del,dh'!$D186,0)","v":0},{"$f":"IF(AO237=\"Oui\",'Q_del,j et Q_del,dh'!$D186,0)","v":0},{"$f":"IF(AP237=\"Oui\",'Q_del,j et Q_del,dh'!$D186,0)","v":0},{"$f":"IF(AQ237=\"Oui\",'Q_del,j et Q_del,dh'!$D186,0)","v":0},{"$f":"IF(AR237=\"Oui\",'Q_del,j et Q_del,dh'!$D186,0)","v":0},{"$f":"IF(AS237=\"Oui\",'Q_del,j et Q_del,dh'!$D186,0)","v":0},{"$f":"IF(AT237=\"Oui\",'Q_del,j et Q_del,dh'!$D186,0)","v":0},{"$f":"IF(AU237=\"Oui\",'Q_del,j et Q_del,dh'!$D186,0)","v":0},{"$f":"IF(AV237=\"Oui\",'Q_del,j et Q_del,dh'!$D186,0)","v":0},{"$f":"IF(AW237=\"Oui\",'Q_del,j et Q_del,dh'!$D186,0)","v":0},{"$f":"IF(AX237=\"Oui\",'Q_del,j et Q_del,dh'!$D186,0)","v":0},{"$f":"IF(AY237=\"Oui\",'Q_del,j et Q_del,dh'!$D186,0)","v":0},{"$f":"IF(AZ237=\"Oui\",'Q_del,j et Q_del,dh'!$D186,0)","v":0},{"$f":"IF(BA237=\"Oui\",'Q_del,j et Q_del,dh'!$D186,0)","v":0}]
["Qdel,l,j [MJ]","Demandeur de chaleur 180",180,{"$f":"IF(D238=\"Oui\",'Q_del,j et Q_del,dh'!$D187,0)","v":0},{"$f":"IF(E238=\"Oui\",'Q_del,j et Q_del,dh'!$D187,0)","v":0},{"$f":"IF(F238=\"Oui\",'Q_del,j et Q_del,dh'!$D187,0)","v":0},{"$f":"IF(G238=\"Oui\",'Q_del,j et Q_del,dh'!$D187,0)","v":0},{"$f":"IF(H238=\"Oui\",'Q_del,j et Q_del,dh'!$D187,0)","v":0},{"$f":"IF(I238=\"Oui\",'Q_del,j et Q_del,dh'!$D187,0)","v":0},{"$f":"IF(J238=\"Oui\",'Q_del,j et Q_del,dh'!$D187,0)","v":0},{"$f":"IF(K238=\"Oui\",'Q_del,j et Q_del,dh'!$D187,0)","v":0},{"$f":"IF(L238=\"Oui\",'Q_del,j et Q_del,dh'!$D187,0)","v":0},{"$f":"IF(M238=\"Oui\",'Q_del,j et Q_del,dh'!$D187,0)","v":0},{"$f":"IF(N238=\"Oui\",'Q_del,j et Q_del,dh'!$D187,0)","v":0},{"$f":"IF(O238=\"Oui\",'Q_del,j et Q_del,dh'!$D187,0)","v":0},{"$f":"IF(P238=\"Oui\",'Q_del,j et Q_del,dh'!$D187,0)","v":0},{"$f":"IF(Q238=\"Oui\",'Q_del,j et Q_del,dh'!$D187,0)","v":0},{"$f":"IF(R238=\"Oui\",'Q_del,j et Q_del,dh'!$D187,0)","v":0},{"$f":"IF(S238=\"Oui\",'Q_del,j et Q_del,dh'!$D187,0)","v":0},{"$f":"IF(T238=\"Oui\",'Q_del,j et Q_del,dh'!$D187,0)","v":0},{"$f":"IF(U238=\"Oui\",'Q_del,j et Q_del,dh'!$D187,0)","v":0},{"$f":"IF(V238=\"Oui\",'Q_del,j et Q_del,dh'!$D187,0)","v":0},{"$f":"IF(W238=\"Oui\",'Q_del,j et Q_del,dh'!$D187,0)","v":0},{"$f":"IF(X238=\"Oui\",'Q_del,j et Q_del,dh'!$D187,0)","v":0},{"$f":"IF(Y238=\"Oui\",'Q_del,j et Q_del,dh'!$D187,0)","v":0},{"$f":"IF(Z238=\"Oui\",'Q_del,j et Q_del,dh'!$D187,0)","v":0},{"$f":"IF(AA238=\"Oui\",'Q_del,j et Q_del,dh'!$D187,0)","v":0},{"$f":"IF(AB238=\"Oui\",'Q_del,j et Q_del,dh'!$D187,0)","v":0},{"$f":"IF(AC238=\"Oui\",'Q_del,j et Q_del,dh'!$D187,0)","v":0},{"$f":"IF(AD238=\"Oui\",'Q_del,j et Q_del,dh'!$D187,0)","v":0},{"$f":"IF(AE238=\"Oui\",'Q_del,j et Q_del,dh'!$D187,0)","v":0},{"$f":"IF(AF238=\"Oui\",'Q_del,j et Q_del,dh'!$D187,0)","v":0},{"$f":"IF(AG238=\"Oui\",'Q_del,j et Q_del,dh'!$D187,0)","v":0},{"$f":"IF(AH238=\"Oui\",'Q_del,j et Q_del,dh'!$D187,0)","v":0},{"$f":"IF(AI238=\"Oui\",'Q_del,j et Q_del,dh'!$D187,0)","v":0},{"$f":"IF(AJ238=\"Oui\",'Q_del,j et Q_del,dh'!$D187,0)","v":0},{"$f":"IF(AK238=\"Oui\",'Q_del,j et Q_del,dh'!$D187,0)","v":0},{"$f":"IF(AL238=\"Oui\",'Q_del,j et Q_del,dh'!$D187,0)","v":0},{"$f":"IF(AM238=\"Oui\",'Q_del,j et Q_del,dh'!$D187,0)","v":0},{"$f":"IF(AN238=\"Oui\",'Q_del,j et Q_del,dh'!$D187,0)","v":0},{"$f":"IF(AO238=\"Oui\",'Q_del,j et Q_del,dh'!$D187,0)","v":0},{"$f":"IF(AP238=\"Oui\",'Q_del,j et Q_del,dh'!$D187,0)","v":0},{"$f":"IF(AQ238=\"Oui\",'Q_del,j et Q_del,dh'!$D187,0)","v":0},{"$f":"IF(AR238=\"Oui\",'Q_del,j et Q_del,dh'!$D187,0)","v":0},{"$f":"IF(AS238=\"Oui\",'Q_del,j et Q_del,dh'!$D187,0)","v":0},{"$f":"IF(AT238=\"Oui\",'Q_del,j et Q_del,dh'!$D187,0)","v":0},{"$f":"IF(AU238=\"Oui\",'Q_del,j et Q_del,dh'!$D187,0)","v":0},{"$f":"IF(AV238=\"Oui\",'Q_del,j et Q_del,dh'!$D187,0)","v":0},{"$f":"IF(AW238=\"Oui\",'Q_del,j et Q_del,dh'!$D187,0)","v":0},{"$f":"IF(AX238=\"Oui\",'Q_del,j et Q_del,dh'!$D187,0)","v":0},{"$f":"IF(AY238=\"Oui\",'Q_del,j et Q_del,dh'!$D187,0)","v":0},{"$f":"IF(AZ238=\"Oui\",'Q_del,j et Q_del,dh'!$D187,0)","v":0},{"$f":"IF(BA238=\"Oui\",'Q_del,j et Q_del,dh'!$D187,0)","v":0}]
["Qdel,l,j [MJ]","Demandeur de chaleur 181",181,{"$f":"IF(D239=\"Oui\",'Q_del,j et Q_del,dh'!$D188,0)","v":0},{"$f":"IF(E239=\"Oui\",'Q_del,j et Q_del,dh'!$D188,0)","v":0},{"$f":"IF(F239=\"Oui\",'Q_del,j et Q_del,dh'!$D188,0)","v":0},{"$f":"IF(G239=\"Oui\",'Q_del,j et Q_del,dh'!$D188,0)","v":0},{"$f":"IF(H239=\"Oui\",'Q_del,j et Q_del,dh'!$D188,0)","v":0},{"$f":"IF(I239=\"Oui\",'Q_del,j et Q_del,dh'!$D188,0)","v":0},{"$f":"IF(J239=\"Oui\",'Q_del,j et Q_del,dh'!$D188,0)","v":0},{"$f":"IF(K239=\"Oui\",'Q_del,j et Q_del,dh'!$D188,0)","v":0},{"$f":"IF(L239=\"Oui\",'Q_del,j et Q_del,dh'!$D188,0)","v":0},{"$f":"IF(M239=\"Oui\",'Q_del,j et Q_del,dh'!$D188,0)","v":0},{"$f":"IF(N239=\"Oui\",'Q_del,j et Q_del,dh'!$D188,0)","v":0},{"$f":"IF(O239=\"Oui\",'Q_del,j et Q_del,dh'!$D188,0)","v":0},{"$f":"IF(P239=\"Oui\",'Q_del,j et Q_del,dh'!$D188,0)","v":0},{"$f":"IF(Q239=\"Oui\",'Q_del,j et Q_del,dh'!$D188,0)","v":0},{"$f":"IF(R239=\"Oui\",'Q_del,j et Q_del,dh'!$D188,0)","v":0},{"$f":"IF(S239=\"Oui\",'Q_del,j et Q_del,dh'!$D188,0)","v":0},{"$f":"IF(T239=\"Oui\",'Q_del,j et Q_del,dh'!$D188,0)","v":0},{"$f":"IF(U239=\"Oui\",'Q_del,j et Q_del,dh'!$D188,0)","v":0},{"$f":"IF(V239=\"Oui\",'Q_del,j et Q_del,dh'!$D188,0)","v":0},{"$f":"IF(W239=\"Oui\",'Q_del,j et Q_del,dh'!$D188,0)","v":0},{"$f":"IF(X239=\"Oui\",'Q_del,j et Q_del,dh'!$D188,0)","v":0},{"$f":"IF(Y239=\"Oui\",'Q_del,j et Q_del,dh'!$D188,0)","v":0},{"$f":"IF(Z239=\"Oui\",'Q_del,j et Q_del,dh'!$D188,0)","v":0},{"$f":"IF(AA239=\"Oui\",'Q_del,j et Q_del,dh'!$D188,0)","v":0},{"$f":"IF(AB239=\"Oui\",'Q_del,j et Q_del,dh'!$D188,0)","v":0},{"$f":"IF(AC239=\"Oui\",'Q_del,j et Q_del,dh'!$D188,0)","v":0},{"$f":"IF(AD239=\"Oui\",'Q_del,j et Q_del,dh'!$D188,0)","v":0},{"$f":"IF(AE239=\"Oui\",'Q_del,j et Q_del,dh'!$D188,0)","v":0},{"$f":"IF(AF239=\"Oui\",'Q_del,j et Q_del,dh'!$D188,0)","v":0},{"$f":"IF(AG239=\"Oui\",'Q_del,j et Q_del,dh'!$D188,0)","v":0},{"$f":"IF(AH239=\"Oui\",'Q_del,j et Q_del,dh'!$D188,0)","v":0},{"$f":"IF(AI239=\"Oui\",'Q_del,j et Q_del,dh'!$D188,0)","v":0},{"$f":"IF(AJ239=\"Oui\",'Q_del,j et Q_del,dh'!$D188,0)","v":0},{"$f":"IF(AK239=\"Oui\",'Q_del,j et Q_del,dh'!$D188,0)","v":0},{"$f":"IF(AL239=\"Oui\",'Q_del,j et Q_del,dh'!$D188,0)","v":0},{"$f":"IF(AM239=\"Oui\",'Q_del,j et Q_del,dh'!$D188,0)","v":0},{"$f":"IF(AN239=\"Oui\",'Q_del,j et Q_del,dh'!$D188,0)","v":0},{"$f":"IF(AO239=\"Oui\",'Q_del,j et Q_del,dh'!$D188,0)","v":0},{"$f":"IF(AP239=\"Oui\",'Q_del,j et Q_del,dh'!$D188,0)","v":0},{"$f":"IF(AQ239=\"Oui\",'Q_del,j et Q_del,dh'!$D188,0)","v":0},{"$f":"IF(AR239=\"Oui\",'Q_del,j et Q_del,dh'!$D188,0)","v":0},{"$f":"IF(AS239=\"Oui\",'Q_del,j et Q_del,dh'!$D188,0)","v":0},{"$f":"IF(AT239=\"Oui\",'Q_del,j et Q_del,dh'!$D188,0)","v":0},{"$f":"IF(AU239=\"Oui\",'Q_del,j et Q_del,dh'!$D188,0)","v":0},{"$f":"IF(AV239=\"Oui\",'Q_del,j et Q_del,dh'!$D188,0)","v":0},{"$f":"IF(AW239=\"Oui\",'Q_del,j et Q_del,dh'!$D188,0)","v":0},{"$f":"IF(AX239=\"Oui\",'Q_del,j et Q_del,dh'!$D188,0)","v":0},{"$f":"IF(AY239=\"Oui\",'Q_del,j et Q_del,dh'!$D188,0)","v":0},{"$f":"IF(AZ239=\"Oui\",'Q_del,j et Q_del,dh'!$D188,0)","v":0},{"$f":"IF(BA239=\"Oui\",'Q_del,j et Q_del,dh'!$D188,0)","v":0}]
["Qdel,l,j [MJ]","Demandeur de chaleur 182",182,{"$f":"IF(D240=\"Oui\",'Q_del,j et Q_del,dh'!$D189,0)","v":0},{"$f":"IF(E240=\"Oui\",'Q_del,j et Q_del,dh'!$D189,0)","v":0},{"$f":"IF(F240=\"Oui\",'Q_del,j et Q_del,dh'!$D189,0)","v":0},{"$f":"IF(G240=\"Oui\",'Q_del,j et Q_del,dh'!$D189,0)","v":0},{"$f":"IF(H240=\"Oui\",'Q_del,j et Q_del,dh'!$D189,0)","v":0},{"$f":"IF(I240=\"Oui\",'Q_del,j et Q_del,dh'!$D189,0)","v":0},{"$f":"IF(J240=\"Oui\",'Q_del,j et Q_del,dh'!$D189,0)","v":0},{"$f":"IF(K240=\"Oui\",'Q_del,j et Q_del,dh'!$D189,0)","v":0},{"$f":"IF(L240=\"Oui\",'Q_del,j et Q_del,dh'!$D189,0)","v":0},{"$f":"IF(M240=\"Oui\",'Q_del,j et Q_del,dh'!$D189,0)","v":0},{"$f":"IF(N240=\"Oui\",'Q_del,j et Q_del,dh'!$D189,0)","v":0},{"$f":"IF(O240=\"Oui\",'Q_del,j et Q_del,dh'!$D189,0)","v":0},{"$f":"IF(P240=\"Oui\",'Q_del,j et Q_del,dh'!$D189,0)","v":0},{"$f":"IF(Q240=\"Oui\",'Q_del,j et Q_del,dh'!$D189,0)","v":0},{"$f":"IF(R240=\"Oui\",'Q_del,j et Q_del,dh'!$D189,0)","v":0},{"$f":"IF(S240=\"Oui\",'Q_del,j et Q_del,dh'!$D189,0)","v":0},{"$f":"IF(T240=\"Oui\",'Q_del,j et Q_del,dh'!$D189,0)","v":0},{"$f":"IF(U240=\"Oui\",'Q_del,j et Q_del,dh'!$D189,0)","v":0},{"$f":"IF(V240=\"Oui\",'Q_del,j et Q_del,dh'!$D189,0)","v":0},{"$f":"IF(W240=\"Oui\",'Q_del,j et Q_del,dh'!$D189,0)","v":0},{"$f":"IF(X240=\"Oui\",'Q_del,j et Q_del,dh'!$D189,0)","v":0},{"$f":"IF(Y240=\"Oui\",'Q_del,j et Q_del,dh'!$D189,0)","v":0},{"$f":"IF(Z240=\"Oui\",'Q_del,j et Q_del,dh'!$D189,0)","v":0},{"$f":"IF(AA240=\"Oui\",'Q_del,j et Q_del,dh'!$D189,0)","v":0},{"$f":"IF(AB240=\"Oui\",'Q_del,j et Q_del,dh'!$D189,0)","v":0},{"$f":"IF(AC240=\"Oui\",'Q_del,j et Q_del,dh'!$D189,0)","v":0},{"$f":"IF(AD240=\"Oui\",'Q_del,j et Q_del,dh'!$D189,0)","v":0},{"$f":"IF(AE240=\"Oui\",'Q_del,j et Q_del,dh'!$D189,0)","v":0},{"$f":"IF(AF240=\"Oui\",'Q_del,j et Q_del,dh'!$D189,0)","v":0},{"$f":"IF(AG240=\"Oui\",'Q_del,j et Q_del,dh'!$D189,0)","v":0},{"$f":"IF(AH240=\"Oui\",'Q_del,j et Q_del,dh'!$D189,0)","v":0},{"$f":"IF(AI240=\"Oui\",'Q_del,j et Q_del,dh'!$D189,0)","v":0},{"$f":"IF(AJ240=\"Oui\",'Q_del,j et Q_del,dh'!$D189,0)","v":0},{"$f":"IF(AK240=\"Oui\",'Q_del,j et Q_del,dh'!$D189,0)","v":0},{"$f":"IF(AL240=\"Oui\",'Q_del,j et Q_del,dh'!$D189,0)","v":0},{"$f":"IF(AM240=\"Oui\",'Q_del,j et Q_del,dh'!$D189,0)","v":0},{"$f":"IF(AN240=\"Oui\",'Q_del,j et Q_del,dh'!$D189,0)","v":0},{"$f":"IF(AO240=\"Oui\",'Q_del,j et Q_del,dh'!$D189,0)","v":0},{"$f":"IF(AP240=\"Oui\",'Q_del,j et Q_del,dh'!$D189,0)","v":0},{"$f":"IF(AQ240=\"Oui\",'Q_del,j et Q_del,dh'!$D189,0)","v":0},{"$f":"IF(AR240=\"Oui\",'Q_del,j et Q_del,dh'!$D189,0)","v":0},{"$f":"IF(AS240=\"Oui\",'Q_del,j et Q_del,dh'!$D189,0)","v":0},{"$f":"IF(AT240=\"Oui\",'Q_del,j et Q_del,dh'!$D189,0)","v":0},{"$f":"IF(AU240=\"Oui\",'Q_del,j et Q_del,dh'!$D189,0)","v":0},{"$f":"IF(AV240=\"Oui\",'Q_del,j et Q_del,dh'!$D189,0)","v":0},{"$f":"IF(AW240=\"Oui\",'Q_del,j et Q_del,dh'!$D189,0)","v":0},{"$f":"IF(AX240=\"Oui\",'Q_del,j et Q_del,dh'!$D189,0)","v":0},{"$f":"IF(AY240=\"Oui\",'Q_del,j et Q_del,dh'!$D189,0)","v":0},{"$f":"IF(AZ240=\"Oui\",'Q_del,j et Q_del,dh'!$D189,0)","v":0},{"$f":"IF(BA240=\"Oui\",'Q_del,j et Q_del,dh'!$D189,0)","v":0}]
["Qdel,l,j [MJ]","Demandeur de chaleur 183",183,{"$f":"IF(D241=\"Oui\",'Q_del,j et Q_del,dh'!$D190,0)","v":0},{"$f":"IF(E241=\"Oui\",'Q_del,j et Q_del,dh'!$D190,0)","v":0},{"$f":"IF(F241=\"Oui\",'Q_del,j et Q_del,dh'!$D190,0)","v":0},{"$f":"IF(G241=\"Oui\",'Q_del,j et Q_del,dh'!$D190,0)","v":0},{"$f":"IF(H241=\"Oui\",'Q_del,j et Q_del,dh'!$D190,0)","v":0},{"$f":"IF(I241=\"Oui\",'Q_del,j et Q_del,dh'!$D190,0)","v":0},{"$f":"IF(J241=\"Oui\",'Q_del,j et Q_del,dh'!$D190,0)","v":0},{"$f":"IF(K241=\"Oui\",'Q_del,j et Q_del,dh'!$D190,0)","v":0},{"$f":"IF(L241=\"Oui\",'Q_del,j et Q_del,dh'!$D190,0)","v":0},{"$f":"IF(M241=\"Oui\",'Q_del,j et Q_del,dh'!$D190,0)","v":0},{"$f":"IF(N241=\"Oui\",'Q_del,j et Q_del,dh'!$D190,0)","v":0},{"$f":"IF(O241=\"Oui\",'Q_del,j et Q_del,dh'!$D190,0)","v":0},{"$f":"IF(P241=\"Oui\",'Q_del,j et Q_del,dh'!$D190,0)","v":0},{"$f":"IF(Q241=\"Oui\",'Q_del,j et Q_del,dh'!$D190,0)","v":0},{"$f":"IF(R241=\"Oui\",'Q_del,j et Q_del,dh'!$D190,0)","v":0},{"$f":"IF(S241=\"Oui\",'Q_del,j et Q_del,dh'!$D190,0)","v":0},{"$f":"IF(T241=\"Oui\",'Q_del,j et Q_del,dh'!$D190,0)","v":0},{"$f":"IF(U241=\"Oui\",'Q_del,j et Q_del,dh'!$D190,0)","v":0},{"$f":"IF(V241=\"Oui\",'Q_del,j et Q_del,dh'!$D190,0)","v":0},{"$f":"IF(W241=\"Oui\",'Q_del,j et Q_del,dh'!$D190,0)","v":0},{"$f":"IF(X241=\"Oui\",'Q_del,j et Q_del,dh'!$D190,0)","v":0},{"$f":"IF(Y241=\"Oui\",'Q_del,j et Q_del,dh'!$D190,0)","v":0},{"$f":"IF(Z241=\"Oui\",'Q_del,j et Q_del,dh'!$D190,0)","v":0},{"$f":"IF(AA241=\"Oui\",'Q_del,j et Q_del,dh'!$D190,0)","v":0},{"$f":"IF(AB241=\"Oui\",'Q_del,j et Q_del,dh'!$D190,0)","v":0},{"$f":"IF(AC241=\"Oui\",'Q_del,j et Q_del,dh'!$D190,0)","v":0},{"$f":"IF(AD241=\"Oui\",'Q_del,j et Q_del,dh'!$D190,0)","v":0},{"$f":"IF(AE241=\"Oui\",'Q_del,j et Q_del,dh'!$D190,0)","v":0},{"$f":"IF(AF241=\"Oui\",'Q_del,j et Q_del,dh'!$D190,0)","v":0},{"$f":"IF(AG241=\"Oui\",'Q_del,j et Q_del,dh'!$D190,0)","v":0},{"$f":"IF(AH241=\"Oui\",'Q_del,j et Q_del,dh'!$D190,0)","v":0},{"$f":"IF(AI241=\"Oui\",'Q_del,j et Q_del,dh'!$D190,0)","v":0},{"$f":"IF(AJ241=\"Oui\",'Q_del,j et Q_del,dh'!$D190,0)","v":0},{"$f":"IF(AK241=\"Oui\",'Q_del,j et Q_del,dh'!$D190,0)","v":0},{"$f":"IF(AL241=\"Oui\",'Q_del,j et Q_del,dh'!$D190,0)","v":0},{"$f":"IF(AM241=\"Oui\",'Q_del,j et Q_del,dh'!$D190,0)","v":0},{"$f":"IF(AN241=\"Oui\",'Q_del,j et Q_del,dh'!$D190,0)","v":0},{"$f":"IF(AO241=\"Oui\",'Q_del,j et Q_del,dh'!$D190,0)","v":0},{"$f":"IF(AP241=\"Oui\",'Q_del,j et Q_del,dh'!$D190,0)","v":0},{"$f":"IF(AQ241=\"Oui\",'Q_del,j et Q_del,dh'!$D190,0)","v":0},{"$f":"IF(AR241=\"Oui\",'Q_del,j et Q_del,dh'!$D190,0)","v":0},{"$f":"IF(AS241=\"Oui\",'Q_del,j et Q_del,dh'!$D190,0)","v":0},{"$f":"IF(AT241=\"Oui\",'Q_del,j et Q_del,dh'!$D190,0)","v":0},{"$f":"IF(AU241=\"Oui\",'Q_del,j et Q_del,dh'!$D190,0)","v":0},{"$f":"IF(AV241=\"Oui\",'Q_del,j et Q_del,dh'!$D190,0)","v":0},{"$f":"IF(AW241=\"Oui\",'Q_del,j et Q_del,dh'!$D190,0)","v":0},{"$f":"IF(AX241=\"Oui\",'Q_del,j et Q_del,dh'!$D190,0)","v":0},{"$f":"IF(AY241=\"Oui\",'Q_del,j et Q_del,dh'!$D190,0)","v":0},{"$f":"IF(AZ241=\"Oui\",'Q_del,j et Q_del,dh'!$D190,0)","v":0},{"$f":"IF(BA241=\"Oui\",'Q_del,j et Q_del,dh'!$D190,0)","v":0}]
["Qdel,l,j [MJ]","Demandeur de chaleur 184",184,{"$f":"IF(D242=\"Oui\",'Q_del,j et Q_del,dh'!$D191,0)","v":0},{"$f":"IF(E242=\"Oui\",'Q_del,j et Q_del,dh'!$D191,0)","v":0},{"$f":"IF(F242=\"Oui\",'Q_del,j et Q_del,dh'!$D191,0)","v":0},{"$f":"IF(G242=\"Oui\",'Q_del,j et Q_del,dh'!$D191,0)","v":0},{"$f":"IF(H242=\"Oui\",'Q_del,j et Q_del,dh'!$D191,0)","v":0},{"$f":"IF(I242=\"Oui\",'Q_del,j et Q_del,dh'!$D191,0)","v":0},{"$f":"IF(J242=\"Oui\",'Q_del,j et Q_del,dh'!$D191,0)","v":0},{"$f":"IF(K242=\"Oui\",'Q_del,j et Q_del,dh'!$D191,0)","v":0},{"$f":"IF(L242=\"Oui\",'Q_del,j et Q_del,dh'!$D191,0)","v":0},{"$f":"IF(M242=\"Oui\",'Q_del,j et Q_del,dh'!$D191,0)","v":0},{"$f":"IF(N242=\"Oui\",'Q_del,j et Q_del,dh'!$D191,0)","v":0},{"$f":"IF(O242=\"Oui\",'Q_del,j et Q_del,dh'!$D191,0)","v":0},{"$f":"IF(P242=\"Oui\",'Q_del,j et Q_del,dh'!$D191,0)","v":0},{"$f":"IF(Q242=\"Oui\",'Q_del,j et Q_del,dh'!$D191,0)","v":0},{"$f":"IF(R242=\"Oui\",'Q_del,j et Q_del,dh'!$D191,0)","v":0},{"$f":"IF(S242=\"Oui\",'Q_del,j et Q_del,dh'!$D191,0)","v":0},{"$f":"IF(T242=\"Oui\",'Q_del,j et Q_del,dh'!$D191,0)","v":0},{"$f":"IF(U242=\"Oui\",'Q_del,j et Q_del,dh'!$D191,0)","v":0},{"$f":"IF(V242=\"Oui\",'Q_del,j et Q_del,dh'!$D191,0)","v":0},{"$f":"IF(W242=\"Oui\",'Q_del,j et Q_del,dh'!$D191,0)","v":0},{"$f":"IF(X242=\"Oui\",'Q_del,j et Q_del,dh'!$D191,0)","v":0},{"$f":"IF(Y242=\"Oui\",'Q_del,j et Q_del,dh'!$D191,0)","v":0},{"$f":"IF(Z242=\"Oui\",'Q_del,j et Q_del,dh'!$D191,0)","v":0},{"$f":"IF(AA242=\"Oui\",'Q_del,j et Q_del,dh'!$D191,0)","v":0},{"$f":"IF(AB242=\"Oui\",'Q_del,j et Q_del,dh'!$D191,0)","v":0},{"$f":"IF(AC242=\"Oui\",'Q_del,j et Q_del,dh'!$D191,0)","v":0},{"$f":"IF(AD242=\"Oui\",'Q_del,j et Q_del,dh'!$D191,0)","v":0},{"$f":"IF(AE242=\"Oui\",'Q_del,j et Q_del,dh'!$D191,0)","v":0},{"$f":"IF(AF242=\"Oui\",'Q_del,j et Q_del,dh'!$D191,0)","v":0},{"$f":"IF(AG242=\"Oui\",'Q_del,j et Q_del,dh'!$D191,0)","v":0},{"$f":"IF(AH242=\"Oui\",'Q_del,j et Q_del,dh'!$D191,0)","v":0},{"$f":"IF(AI242=\"Oui\",'Q_del,j et Q_del,dh'!$D191,0)","v":0},{"$f":"IF(AJ242=\"Oui\",'Q_del,j et Q_del,dh'!$D191,0)","v":0},{"$f":"IF(AK242=\"Oui\",'Q_del,j et Q_del,dh'!$D191,0)","v":0},{"$f":"IF(AL242=\"Oui\",'Q_del,j et Q_del,dh'!$D191,0)","v":0},{"$f":"IF(AM242=\"Oui\",'Q_del,j et Q_del,dh'!$D191,0)","v":0},{"$f":"IF(AN242=\"Oui\",'Q_del,j et Q_del,dh'!$D191,0)","v":0},{"$f":"IF(AO242=\"Oui\",'Q_del,j et Q_del,dh'!$D191,0)","v":0},{"$f":"IF(AP242=\"Oui\",'Q_del,j et Q_del,dh'!$D191,0)","v":0},{"$f":"IF(AQ242=\"Oui\",'Q_del,j et Q_del,dh'!$D191,0)","v":0},{"$f":"IF(AR242=\"Oui\",'Q_del,j et Q_del,dh'!$D191,0)","v":0},{"$f":"IF(AS242=\"Oui\",'Q_del,j et Q_del,dh'!$D191,0)","v":0},{"$f":"IF(AT242=\"Oui\",'Q_del,j et Q_del,dh'!$D191,0)","v":0},{"$f":"IF(AU242=\"Oui\",'Q_del,j et Q_del,dh'!$D191,0)","v":0},{"$f":"IF(AV242=\"Oui\",'Q_del,j et Q_del,dh'!$D191,0)","v":0},{"$f":"IF(AW242=\"Oui\",'Q_del,j et Q_del,dh'!$D191,0)","v":0},{"$f":"IF(AX242=\"Oui\",'Q_del,j et Q_del,dh'!$D191,0)","v":0},{"$f":"IF(AY242=\"Oui\",'Q_del,j et Q_del,dh'!$D191,0)","v":0},{"$f":"IF(AZ242=\"Oui\",'Q_del,j et Q_del,dh'!$D191,0)","v":0},{"$f":"IF(BA242=\"Oui\",'Q_del,j et Q_del,dh'!$D191,0)","v":0}]
["Qdel,l,j [MJ]","Demandeur de chaleur 185",185,{"$f":"IF(D243=\"Oui\",'Q_del,j et Q_del,dh'!$D192,0)","v":0},{"$f":"IF(E243=\"Oui\",'Q_del,j et Q_del,dh'!$D192,0)","v":0},{"$f":"IF(F243=\"Oui\",'Q_del,j et Q_del,dh'!$D192,0)","v":0},{"$f":"IF(G243=\"Oui\",'Q_del,j et Q_del,dh'!$D192,0)","v":0},{"$f":"IF(H243=\"Oui\",'Q_del,j et Q_del,dh'!$D192,0)","v":0},{"$f":"IF(I243=\"Oui\",'Q_del,j et Q_del,dh'!$D192,0)","v":0},{"$f":"IF(J243=\"Oui\",'Q_del,j et Q_del,dh'!$D192,0)","v":0},{"$f":"IF(K243=\"Oui\",'Q_del,j et Q_del,dh'!$D192,0)","v":0},{"$f":"IF(L243=\"Oui\",'Q_del,j et Q_del,dh'!$D192,0)","v":0},{"$f":"IF(M243=\"Oui\",'Q_del,j et Q_del,dh'!$D192,0)","v":0},{"$f":"IF(N243=\"Oui\",'Q_del,j et Q_del,dh'!$D192,0)","v":0},{"$f":"IF(O243=\"Oui\",'Q_del,j et Q_del,dh'!$D192,0)","v":0},{"$f":"IF(P243=\"Oui\",'Q_del,j et Q_del,dh'!$D192,0)","v":0},{"$f":"IF(Q243=\"Oui\",'Q_del,j et Q_del,dh'!$D192,0)","v":0},{"$f":"IF(R243=\"Oui\",'Q_del,j et Q_del,dh'!$D192,0)","v":0},{"$f":"IF(S243=\"Oui\",'Q_del,j et Q_del,dh'!$D192,0)","v":0},{"$f":"IF(T243=\"Oui\",'Q_del,j et Q_del,dh'!$D192,0)","v":0},{"$f":"IF(U243=\"Oui\",'Q_del,j et Q_del,dh'!$D192,0)","v":0},{"$f":"IF(V243=\"Oui\",'Q_del,j et Q_del,dh'!$D192,0)","v":0},{"$f":"IF(W243=\"Oui\",'Q_del,j et Q_del,dh'!$D192,0)","v":0},{"$f":"IF(X243=\"Oui\",'Q_del,j et Q_del,dh'!$D192,0)","v":0},{"$f":"IF(Y243=\"Oui\",'Q_del,j et Q_del,dh'!$D192,0)","v":0},{"$f":"IF(Z243=\"Oui\",'Q_del,j et Q_del,dh'!$D192,0)","v":0},{"$f":"IF(AA243=\"Oui\",'Q_del,j et Q_del,dh'!$D192,0)","v":0},{"$f":"IF(AB243=\"Oui\",'Q_del,j et Q_del,dh'!$D192,0)","v":0},{"$f":"IF(AC243=\"Oui\",'Q_del,j et Q_del,dh'!$D192,0)","v":0},{"$f":"IF(AD243=\"Oui\",'Q_del,j et Q_del,dh'!$D192,0)","v":0},{"$f":"IF(AE243=\"Oui\",'Q_del,j et Q_del,dh'!$D192,0)","v":0},{"$f":"IF(AF243=\"Oui\",'Q_del,j et Q_del,dh'!$D192,0)","v":0},{"$f":"IF(AG243=\"Oui\",'Q_del,j et Q_del,dh'!$D192,0)","v":0},{"$f":"IF(AH243=\"Oui\",'Q_del,j et Q_del,dh'!$D192,0)","v":0},{"$f":"IF(AI243=\"Oui\",'Q_del,j et Q_del,dh'!$D192,0)","v":0},{"$f":"IF(AJ243=\"Oui\",'Q_del,j et Q_del,dh'!$D192,0)","v":0},{"$f":"IF(AK243=\"Oui\",'Q_del,j et Q_del,dh'!$D192,0)","v":0},{"$f":"IF(AL243=\"Oui\",'Q_del,j et Q_del,dh'!$D192,0)","v":0},{"$f":"IF(AM243=\"Oui\",'Q_del,j et Q_del,dh'!$D192,0)","v":0},{"$f":"IF(AN243=\"Oui\",'Q_del,j et Q_del,dh'!$D192,0)","v":0},{"$f":"IF(AO243=\"Oui\",'Q_del,j et Q_del,dh'!$D192,0)","v":0},{"$f":"IF(AP243=\"Oui\",'Q_del,j et Q_del,dh'!$D192,0)","v":0},{"$f":"IF(AQ243=\"Oui\",'Q_del,j et Q_del,dh'!$D192,0)","v":0},{"$f":"IF(AR243=\"Oui\",'Q_del,j et Q_del,dh'!$D192,0)","v":0},{"$f":"IF(AS243=\"Oui\",'Q_del,j et Q_del,dh'!$D192,0)","v":0},{"$f":"IF(AT243=\"Oui\",'Q_del,j et Q_del,dh'!$D192,0)","v":0},{"$f":"IF(AU243=\"Oui\",'Q_del,j et Q_del,dh'!$D192,0)","v":0},{"$f":"IF(AV243=\"Oui\",'Q_del,j et Q_del,dh'!$D192,0)","v":0},{"$f":"IF(AW243=\"Oui\",'Q_del,j et Q_del,dh'!$D192,0)","v":0},{"$f":"IF(AX243=\"Oui\",'Q_del,j et Q_del,dh'!$D192,0)","v":0},{"$f":"IF(AY243=\"Oui\",'Q_del,j et Q_del,dh'!$D192,0)","v":0},{"$f":"IF(AZ243=\"Oui\",'Q_del,j et Q_del,dh'!$D192,0)","v":0},{"$f":"IF(BA243=\"Oui\",'Q_del,j et Q_del,dh'!$D192,0)","v":0}]
["Qdel,l,j [MJ]","Demandeur de chaleur 186",186,{"$f":"IF(D244=\"Oui\",'Q_del,j et Q_del,dh'!$D193,0)","v":0},{"$f":"IF(E244=\"Oui\",'Q_del,j et Q_del,dh'!$D193,0)","v":0},{"$f":"IF(F244=\"Oui\",'Q_del,j et Q_del,dh'!$D193,0)","v":0},{"$f":"IF(G244=\"Oui\",'Q_del,j et Q_del,dh'!$D193,0)","v":0},{"$f":"IF(H244=\"Oui\",'Q_del,j et Q_del,dh'!$D193,0)","v":0},{"$f":"IF(I244=\"Oui\",'Q_del,j et Q_del,dh'!$D193,0)","v":0},{"$f":"IF(J244=\"Oui\",'Q_del,j et Q_del,dh'!$D193,0)","v":0},{"$f":"IF(K244=\"Oui\",'Q_del,j et Q_del,dh'!$D193,0)","v":0},{"$f":"IF(L244=\"Oui\",'Q_del,j et Q_del,dh'!$D193,0)","v":0},{"$f":"IF(M244=\"Oui\",'Q_del,j et Q_del,dh'!$D193,0)","v":0},{"$f":"IF(N244=\"Oui\",'Q_del,j et Q_del,dh'!$D193,0)","v":0},{"$f":"IF(O244=\"Oui\",'Q_del,j et Q_del,dh'!$D193,0)","v":0},{"$f":"IF(P244=\"Oui\",'Q_del,j et Q_del,dh'!$D193,0)","v":0},{"$f":"IF(Q244=\"Oui\",'Q_del,j et Q_del,dh'!$D193,0)","v":0},{"$f":"IF(R244=\"Oui\",'Q_del,j et Q_del,dh'!$D193,0)","v":0},{"$f":"IF(S244=\"Oui\",'Q_del,j et Q_del,dh'!$D193,0)","v":0},{"$f":"IF(T244=\"Oui\",'Q_del,j et Q_del,dh'!$D193,0)","v":0},{"$f":"IF(U244=\"Oui\",'Q_del,j et Q_del,dh'!$D193,0)","v":0},{"$f":"IF(V244=\"Oui\",'Q_del,j et Q_del,dh'!$D193,0)","v":0},{"$f":"IF(W244=\"Oui\",'Q_del,j et Q_del,dh'!$D193,0)","v":0},{"$f":"IF(X244=\"Oui\",'Q_del,j et Q_del,dh'!$D193,0)","v":0},{"$f":"IF(Y244=\"Oui\",'Q_del,j et Q_del,dh'!$D193,0)","v":0},{"$f":"IF(Z244=\"Oui\",'Q_del,j et Q_del,dh'!$D193,0)","v":0},{"$f":"IF(AA244=\"Oui\",'Q_del,j et Q_del,dh'!$D193,0)","v":0},{"$f":"IF(AB244=\"Oui\",'Q_del,j et Q_del,dh'!$D193,0)","v":0},{"$f":"IF(AC244=\"Oui\",'Q_del,j et Q_del,dh'!$D193,0)","v":0},{"$f":"IF(AD244=\"Oui\",'Q_del,j et Q_del,dh'!$D193,0)","v":0},{"$f":"IF(AE244=\"Oui\",'Q_del,j et Q_del,dh'!$D193,0)","v":0},{"$f":"IF(AF244=\"Oui\",'Q_del,j et Q_del,dh'!$D193,0)","v":0},{"$f":"IF(AG244=\"Oui\",'Q_del,j et Q_del,dh'!$D193,0)","v":0},{"$f":"IF(AH244=\"Oui\",'Q_del,j et Q_del,dh'!$D193,0)","v":0},{"$f":"IF(AI244=\"Oui\",'Q_del,j et Q_del,dh'!$D193,0)","v":0},{"$f":"IF(AJ244=\"Oui\",'Q_del,j et Q_del,dh'!$D193,0)","v":0},{"$f":"IF(AK244=\"Oui\",'Q_del,j et Q_del,dh'!$D193,0)","v":0},{"$f":"IF(AL244=\"Oui\",'Q_del,j et Q_del,dh'!$D193,0)","v":0},{"$f":"IF(AM244=\"Oui\",'Q_del,j et Q_del,dh'!$D193,0)","v":0},{"$f":"IF(AN244=\"Oui\",'Q_del,j et Q_del,dh'!$D193,0)","v":0},{"$f":"IF(AO244=\"Oui\",'Q_del,j et Q_del,dh'!$D193,0)","v":0},{"$f":"IF(AP244=\"Oui\",'Q_del,j et Q_del,dh'!$D193,0)","v":0},{"$f":"IF(AQ244=\"Oui\",'Q_del,j et Q_del,dh'!$D193,0)","v":0},{"$f":"IF(AR244=\"Oui\",'Q_del,j et Q_del,dh'!$D193,0)","v":0},{"$f":"IF(AS244=\"Oui\",'Q_del,j et Q_del,dh'!$D193,0)","v":0},{"$f":"IF(AT244=\"Oui\",'Q_del,j et Q_del,dh'!$D193,0)","v":0},{"$f":"IF(AU244=\"Oui\",'Q_del,j et Q_del,dh'!$D193,0)","v":0},{"$f":"IF(AV244=\"Oui\",'Q_del,j et Q_del,dh'!$D193,0)","v":0},{"$f":"IF(AW244=\"Oui\",'Q_del,j et Q_del,dh'!$D193,0)","v":0},{"$f":"IF(AX244=\"Oui\",'Q_del,j et Q_del,dh'!$D193,0)","v":0},{"$f":"IF(AY244=\"Oui\",'Q_del,j et Q_del,dh'!$D193,0)","v":0},{"$f":"IF(AZ244=\"Oui\",'Q_del,j et Q_del,dh'!$D193,0)","v":0},{"$f":"IF(BA244=\"Oui\",'Q_del,j et Q_del,dh'!$D193,0)","v":0}]
["Qdel,l,j [MJ]","Demandeur de chaleur 187",187,{"$f":"IF(D245=\"Oui\",'Q_del,j et Q_del,dh'!$D194,0)","v":0},{"$f":"IF(E245=\"Oui\",'Q_del,j et Q_del,dh'!$D194,0)","v":0},{"$f":"IF(F245=\"Oui\",'Q_del,j et Q_del,dh'!$D194,0)","v":0},{"$f":"IF(G245=\"Oui\",'Q_del,j et Q_del,dh'!$D194,0)","v":0},{"$f":"IF(H245=\"Oui\",'Q_del,j et Q_del,dh'!$D194,0)","v":0},{"$f":"IF(I245=\"Oui\",'Q_del,j et Q_del,dh'!$D194,0)","v":0},{"$f":"IF(J245=\"Oui\",'Q_del,j et Q_del,dh'!$D194,0)","v":0},{"$f":"IF(K245=\"Oui\",'Q_del,j et Q_del,dh'!$D194,0)","v":0},{"$f":"IF(L245=\"Oui\",'Q_del,j et Q_del,dh'!$D194,0)","v":0},{"$f":"IF(M245=\"Oui\",'Q_del,j et Q_del,dh'!$D194,0)","v":0},{"$f":"IF(N245=\"Oui\",'Q_del,j et Q_del,dh'!$D194,0)","v":0},{"$f":"IF(O245=\"Oui\",'Q_del,j et Q_del,dh'!$D194,0)","v":0},{"$f":"IF(P245=\"Oui\",'Q_del,j et Q_del,dh'!$D194,0)","v":0},{"$f":"IF(Q245=\"Oui\",'Q_del,j et Q_del,dh'!$D194,0)","v":0},{"$f":"IF(R245=\"Oui\",'Q_del,j et Q_del,dh'!$D194,0)","v":0},{"$f":"IF(S245=\"Oui\",'Q_del,j et Q_del,dh'!$D194,0)","v":0},{"$f":"IF(T245=\"Oui\",'Q_del,j et Q_del,dh'!$D194,0)","v":0},{"$f":"IF(U245=\"Oui\",'Q_del,j et Q_del,dh'!$D194,0)","v":0},{"$f":"IF(V245=\"Oui\",'Q_del,j et Q_del,dh'!$D194,0)","v":0},{"$f":"IF(W245=\"Oui\",'Q_del,j et Q_del,dh'!$D194,0)","v":0},{"$f":"IF(X245=\"Oui\",'Q_del,j et Q_del,dh'!$D194,0)","v":0},{"$f":"IF(Y245=\"Oui\",'Q_del,j et Q_del,dh'!$D194,0)","v":0},{"$f":"IF(Z245=\"Oui\",'Q_del,j et Q_del,dh'!$D194,0)","v":0},{"$f":"IF(AA245=\"Oui\",'Q_del,j et Q_del,dh'!$D194,0)","v":0},{"$f":"IF(AB245=\"Oui\",'Q_del,j et Q_del,dh'!$D194,0)","v":0},{"$f":"IF(AC245=\"Oui\",'Q_del,j et Q_del,dh'!$D194,0)","v":0},{"$f":"IF(AD245=\"Oui\",'Q_del,j et Q_del,dh'!$D194,0)","v":0},{"$f":"IF(AE245=\"Oui\",'Q_del,j et Q_del,dh'!$D194,0)","v":0},{"$f":"IF(AF245=\"Oui\",'Q_del,j et Q_del,dh'!$D194,0)","v":0},{"$f":"IF(AG245=\"Oui\",'Q_del,j et Q_del,dh'!$D194,0)","v":0},{"$f":"IF(AH245=\"Oui\",'Q_del,j et Q_del,dh'!$D194,0)","v":0},{"$f":"IF(AI245=\"Oui\",'Q_del,j et Q_del,dh'!$D194,0)","v":0},{"$f":"IF(AJ245=\"Oui\",'Q_del,j et Q_del,dh'!$D194,0)","v":0},{"$f":"IF(AK245=\"Oui\",'Q_del,j et Q_del,dh'!$D194,0)","v":0},{"$f":"IF(AL245=\"Oui\",'Q_del,j et Q_del,dh'!$D194,0)","v":0},{"$f":"IF(AM245=\"Oui\",'Q_del,j et Q_del,dh'!$D194,0)","v":0},{"$f":"IF(AN245=\"Oui\",'Q_del,j et Q_del,dh'!$D194,0)","v":0},{"$f":"IF(AO245=\"Oui\",'Q_del,j et Q_del,dh'!$D194,0)","v":0},{"$f":"IF(AP245=\"Oui\",'Q_del,j et Q_del,dh'!$D194,0)","v":0},{"$f":"IF(AQ245=\"Oui\",'Q_del,j et Q_del,dh'!$D194,0)","v":0},{"$f":"IF(AR245=\"Oui\",'Q_del,j et Q_del,dh'!$D194,0)","v":0},{"$f":"IF(AS245=\"Oui\",'Q_del,j et Q_del,dh'!$D194,0)","v":0},{"$f":"IF(AT245=\"Oui\",'Q_del,j et Q_del,dh'!$D194,0)","v":0},{"$f":"IF(AU245=\"Oui\",'Q_del,j et Q_del,dh'!$D194,0)","v":0},{"$f":"IF(AV245=\"Oui\",'Q_del,j et Q_del,dh'!$D194,0)","v":0},{"$f":"IF(AW245=\"Oui\",'Q_del,j et Q_del,dh'!$D194,0)","v":0},{"$f":"IF(AX245=\"Oui\",'Q_del,j et Q_del,dh'!$D194,0)","v":0},{"$f":"IF(AY245=\"Oui\",'Q_del,j et Q_del,dh'!$D194,0)","v":0},{"$f":"IF(AZ245=\"Oui\",'Q_del,j et Q_del,dh'!$D194,0)","v":0},{"$f":"IF(BA245=\"Oui\",'Q_del,j et Q_del,dh'!$D194,0)","v":0}]
["Qdel,l,j [MJ]","Demandeur de chaleur 188",188,{"$f":"IF(D246=\"Oui\",'Q_del,j et Q_del,dh'!$D195,0)","v":0},{"$f":"IF(E246=\"Oui\",'Q_del,j et Q_del,dh'!$D195,0)","v":0},{"$f":"IF(F246=\"Oui\",'Q_del,j et Q_del,dh'!$D195,0)","v":0},{"$f":"IF(G246=\"Oui\",'Q_del,j et Q_del,dh'!$D195,0)","v":0},{"$f":"IF(H246=\"Oui\",'Q_del,j et Q_del,dh'!$D195,0)","v":0},{"$f":"IF(I246=\"Oui\",'Q_del,j et Q_del,dh'!$D195,0)","v":0},{"$f":"IF(J246=\"Oui\",'Q_del,j et Q_del,dh'!$D195,0)","v":0},{"$f":"IF(K246=\"Oui\",'Q_del,j et Q_del,dh'!$D195,0)","v":0},{"$f":"IF(L246=\"Oui\",'Q_del,j et Q_del,dh'!$D195,0)","v":0},{"$f":"IF(M246=\"Oui\",'Q_del,j et Q_del,dh'!$D195,0)","v":0},{"$f":"IF(N246=\"Oui\",'Q_del,j et Q_del,dh'!$D195,0)","v":0},{"$f":"IF(O246=\"Oui\",'Q_del,j et Q_del,dh'!$D195,0)","v":0},{"$f":"IF(P246=\"Oui\",'Q_del,j et Q_del,dh'!$D195,0)","v":0},{"$f":"IF(Q246=\"Oui\",'Q_del,j et Q_del,dh'!$D195,0)","v":0},{"$f":"IF(R246=\"Oui\",'Q_del,j et Q_del,dh'!$D195,0)","v":0},{"$f":"IF(S246=\"Oui\",'Q_del,j et Q_del,dh'!$D195,0)","v":0},{"$f":"IF(T246=\"Oui\",'Q_del,j et Q_del,dh'!$D195,0)","v":0},{"$f":"IF(U246=\"Oui\",'Q_del,j et Q_del,dh'!$D195,0)","v":0},{"$f":"IF(V246=\"Oui\",'Q_del,j et Q_del,dh'!$D195,0)","v":0},{"$f":"IF(W246=\"Oui\",'Q_del,j et Q_del,dh'!$D195,0)","v":0},{"$f":"IF(X246=\"Oui\",'Q_del,j et Q_del,dh'!$D195,0)","v":0},{"$f":"IF(Y246=\"Oui\",'Q_del,j et Q_del,dh'!$D195,0)","v":0},{"$f":"IF(Z246=\"Oui\",'Q_del,j et Q_del,dh'!$D195,0)","v":0},{"$f":"IF(AA246=\"Oui\",'Q_del,j et Q_del,dh'!$D195,0)","v":0},{"$f":"IF(AB246=\"Oui\",'Q_del,j et Q_del,dh'!$D195,0)","v":0},{"$f":"IF(AC246=\"Oui\",'Q_del,j et Q_del,dh'!$D195,0)","v":0},{"$f":"IF(AD246=\"Oui\",'Q_del,j et Q_del,dh'!$D195,0)","v":0},{"$f":"IF(AE246=\"Oui\",'Q_del,j et Q_del,dh'!$D195,0)","v":0},{"$f":"IF(AF246=\"Oui\",'Q_del,j et Q_del,dh'!$D195,0)","v":0},{"$f":"IF(AG246=\"Oui\",'Q_del,j et Q_del,dh'!$D195,0)","v":0},{"$f":"IF(AH246=\"Oui\",'Q_del,j et Q_del,dh'!$D195,0)","v":0},{"$f":"IF(AI246=\"Oui\",'Q_del,j et Q_del,dh'!$D195,0)","v":0},{"$f":"IF(AJ246=\"Oui\",'Q_del,j et Q_del,dh'!$D195,0)","v":0},{"$f":"IF(AK246=\"Oui\",'Q_del,j et Q_del,dh'!$D195,0)","v":0},{"$f":"IF(AL246=\"Oui\",'Q_del,j et Q_del,dh'!$D195,0)","v":0},{"$f":"IF(AM246=\"Oui\",'Q_del,j et Q_del,dh'!$D195,0)","v":0},{"$f":"IF(AN246=\"Oui\",'Q_del,j et Q_del,dh'!$D195,0)","v":0},{"$f":"IF(AO246=\"Oui\",'Q_del,j et Q_del,dh'!$D195,0)","v":0},{"$f":"IF(AP246=\"Oui\",'Q_del,j et Q_del,dh'!$D195,0)","v":0},{"$f":"IF(AQ246=\"Oui\",'Q_del,j et Q_del,dh'!$D195,0)","v":0},{"$f":"IF(AR246=\"Oui\",'Q_del,j et Q_del,dh'!$D195,0)","v":0},{"$f":"IF(AS246=\"Oui\",'Q_del,j et Q_del,dh'!$D195,0)","v":0},{"$f":"IF(AT246=\"Oui\",'Q_del,j et Q_del,dh'!$D195,0)","v":0},{"$f":"IF(AU246=\"Oui\",'Q_del,j et Q_del,dh'!$D195,0)","v":0},{"$f":"IF(AV246=\"Oui\",'Q_del,j et Q_del,dh'!$D195,0)","v":0},{"$f":"IF(AW246=\"Oui\",'Q_del,j et Q_del,dh'!$D195,0)","v":0},{"$f":"IF(AX246=\"Oui\",'Q_del,j et Q_del,dh'!$D195,0)","v":0},{"$f":"IF(AY246=\"Oui\",'Q_del,j et Q_del,dh'!$D195,0)","v":0},{"$f":"IF(AZ246=\"Oui\",'Q_del,j et Q_del,dh'!$D195,0)","v":0},{"$f":"IF(BA246=\"Oui\",'Q_del,j et Q_del,dh'!$D195,0)","v":0}]
["Qdel,l,j [MJ]","Demandeur de chaleur 189",189,{"$f":"IF(D247=\"Oui\",'Q_del,j et Q_del,dh'!$D196,0)","v":0},{"$f":"IF(E247=\"Oui\",'Q_del,j et Q_del,dh'!$D196,0)","v":0},{"$f":"IF(F247=\"Oui\",'Q_del,j et Q_del,dh'!$D196,0)","v":0},{"$f":"IF(G247=\"Oui\",'Q_del,j et Q_del,dh'!$D196,0)","v":0},{"$f":"IF(H247=\"Oui\",'Q_del,j et Q_del,dh'!$D196,0)","v":0},{"$f":"IF(I247=\"Oui\",'Q_del,j et Q_del,dh'!$D196,0)","v":0},{"$f":"IF(J247=\"Oui\",'Q_del,j et Q_del,dh'!$D196,0)","v":0},{"$f":"IF(K247=\"Oui\",'Q_del,j et Q_del,dh'!$D196,0)","v":0},{"$f":"IF(L247=\"Oui\",'Q_del,j et Q_del,dh'!$D196,0)","v":0},{"$f":"IF(M247=\"Oui\",'Q_del,j et Q_del,dh'!$D196,0)","v":0},{"$f":"IF(N247=\"Oui\",'Q_del,j et Q_del,dh'!$D196,0)","v":0},{"$f":"IF(O247=\"Oui\",'Q_del,j et Q_del,dh'!$D196,0)","v":0},{"$f":"IF(P247=\"Oui\",'Q_del,j et Q_del,dh'!$D196,0)","v":0},{"$f":"IF(Q247=\"Oui\",'Q_del,j et Q_del,dh'!$D196,0)","v":0},{"$f":"IF(R247=\"Oui\",'Q_del,j et Q_del,dh'!$D196,0)","v":0},{"$f":"IF(S247=\"Oui\",'Q_del,j et Q_del,dh'!$D196,0)","v":0},{"$f":"IF(T247=\"Oui\",'Q_del,j et Q_del,dh'!$D196,0)","v":0},{"$f":"IF(U247=\"Oui\",'Q_del,j et Q_del,dh'!$D196,0)","v":0},{"$f":"IF(V247=\"Oui\",'Q_del,j et Q_del,dh'!$D196,0)","v":0},{"$f":"IF(W247=\"Oui\",'Q_del,j et Q_del,dh'!$D196,0)","v":0},{"$f":"IF(X247=\"Oui\",'Q_del,j et Q_del,dh'!$D196,0)","v":0},{"$f":"IF(Y247=\"Oui\",'Q_del,j et Q_del,dh'!$D196,0)","v":0},{"$f":"IF(Z247=\"Oui\",'Q_del,j et Q_del,dh'!$D196,0)","v":0},{"$f":"IF(AA247=\"Oui\",'Q_del,j et Q_del,dh'!$D196,0)","v":0},{"$f":"IF(AB247=\"Oui\",'Q_del,j et Q_del,dh'!$D196,0)","v":0},{"$f":"IF(AC247=\"Oui\",'Q_del,j et Q_del,dh'!$D196,0)","v":0},{"$f":"IF(AD247=\"Oui\",'Q_del,j et Q_del,dh'!$D196,0)","v":0},{"$f":"IF(AE247=\"Oui\",'Q_del,j et Q_del,dh'!$D196,0)","v":0},{"$f":"IF(AF247=\"Oui\",'Q_del,j et Q_del,dh'!$D196,0)","v":0},{"$f":"IF(AG247=\"Oui\",'Q_del,j et Q_del,dh'!$D196,0)","v":0},{"$f":"IF(AH247=\"Oui\",'Q_del,j et Q_del,dh'!$D196,0)","v":0},{"$f":"IF(AI247=\"Oui\",'Q_del,j et Q_del,dh'!$D196,0)","v":0},{"$f":"IF(AJ247=\"Oui\",'Q_del,j et Q_del,dh'!$D196,0)","v":0},{"$f":"IF(AK247=\"Oui\",'Q_del,j et Q_del,dh'!$D196,0)","v":0},{"$f":"IF(AL247=\"Oui\",'Q_del,j et Q_del,dh'!$D196,0)","v":0},{"$f":"IF(AM247=\"Oui\",'Q_del,j et Q_del,dh'!$D196,0)","v":0},{"$f":"IF(AN247=\"Oui\",'Q_del,j et Q_del,dh'!$D196,0)","v":0},{"$f":"IF(AO247=\"Oui\",'Q_del,j et Q_del,dh'!$D196,0)","v":0},{"$f":"IF(AP247=\"Oui\",'Q_del,j et Q_del,dh'!$D196,0)","v":0},{"$f":"IF(AQ247=\"Oui\",'Q_del,j et Q_del,dh'!$D196,0)","v":0},{"$f":"IF(AR247=\"Oui\",'Q_del,j et Q_del,dh'!$D196,0)","v":0},{"$f":"IF(AS247=\"Oui\",'Q_del,j et Q_del,dh'!$D196,0)","v":0},{"$f":"IF(AT247=\"Oui\",'Q_del,j et Q_del,dh'!$D196,0)","v":0},{"$f":"IF(AU247=\"Oui\",'Q_del,j et Q_del,dh'!$D196,0)","v":0},{"$f":"IF(AV247=\"Oui\",'Q_del,j et Q_del,dh'!$D196,0)","v":0},{"$f":"IF(AW247=\"Oui\",'Q_del,j et Q_del,dh'!$D196,0)","v":0},{"$f":"IF(AX247=\"Oui\",'Q_del,j et Q_del,dh'!$D196,0)","v":0},{"$f":"IF(AY247=\"Oui\",'Q_del,j et Q_del,dh'!$D196,0)","v":0},{"$f":"IF(AZ247=\"Oui\",'Q_del,j et Q_del,dh'!$D196,0)","v":0},{"$f":"IF(BA247=\"Oui\",'Q_del,j et Q_del,dh'!$D196,0)","v":0}]
["Qdel,l,j [MJ]","Demandeur de chaleur 190",190,{"$f":"IF(D248=\"Oui\",'Q_del,j et Q_del,dh'!$D197,0)","v":0},{"$f":"IF(E248=\"Oui\",'Q_del,j et Q_del,dh'!$D197,0)","v":0},{"$f":"IF(F248=\"Oui\",'Q_del,j et Q_del,dh'!$D197,0)","v":0},{"$f":"IF(G248=\"Oui\",'Q_del,j et Q_del,dh'!$D197,0)","v":0},{"$f":"IF(H248=\"Oui\",'Q_del,j et Q_del,dh'!$D197,0)","v":0},{"$f":"IF(I248=\"Oui\",'Q_del,j et Q_del,dh'!$D197,0)","v":0},{"$f":"IF(J248=\"Oui\",'Q_del,j et Q_del,dh'!$D197,0)","v":0},{"$f":"IF(K248=\"Oui\",'Q_del,j et Q_del,dh'!$D197,0)","v":0},{"$f":"IF(L248=\"Oui\",'Q_del,j et Q_del,dh'!$D197,0)","v":0},{"$f":"IF(M248=\"Oui\",'Q_del,j et Q_del,dh'!$D197,0)","v":0},{"$f":"IF(N248=\"Oui\",'Q_del,j et Q_del,dh'!$D197,0)","v":0},{"$f":"IF(O248=\"Oui\",'Q_del,j et Q_del,dh'!$D197,0)","v":0},{"$f":"IF(P248=\"Oui\",'Q_del,j et Q_del,dh'!$D197,0)","v":0},{"$f":"IF(Q248=\"Oui\",'Q_del,j et Q_del,dh'!$D197,0)","v":0},{"$f":"IF(R248=\"Oui\",'Q_del,j et Q_del,dh'!$D197,0)","v":0},{"$f":"IF(S248=\"Oui\",'Q_del,j et Q_del,dh'!$D197,0)","v":0},{"$f":"IF(T248=\"Oui\",'Q_del,j et Q_del,dh'!$D197,0)","v":0},{"$f":"IF(U248=\"Oui\",'Q_del,j et Q_del,dh'!$D197,0)","v":0},{"$f":"IF(V248=\"Oui\",'Q_del,j et Q_del,dh'!$D197,0)","v":0},{"$f":"IF(W248=\"Oui\",'Q_del,j et Q_del,dh'!$D197,0)","v":0},{"$f":"IF(X248=\"Oui\",'Q_del,j et Q_del,dh'!$D197,0)","v":0},{"$f":"IF(Y248=\"Oui\",'Q_del,j et Q_del,dh'!$D197,0)","v":0},{"$f":"IF(Z248=\"Oui\",'Q_del,j et Q_del,dh'!$D197,0)","v":0},{"$f":"IF(AA248=\"Oui\",'Q_del,j et Q_del,dh'!$D197,0)","v":0},{"$f":"IF(AB248=\"Oui\",'Q_del,j et Q_del,dh'!$D197,0)","v":0},{"$f":"IF(AC248=\"Oui\",'Q_del,j et Q_del,dh'!$D197,0)","v":0},{"$f":"IF(AD248=\"Oui\",'Q_del,j et Q_del,dh'!$D197,0)","v":0},{"$f":"IF(AE248=\"Oui\",'Q_del,j et Q_del,dh'!$D197,0)","v":0},{"$f":"IF(AF248=\"Oui\",'Q_del,j et Q_del,dh'!$D197,0)","v":0},{"$f":"IF(AG248=\"Oui\",'Q_del,j et Q_del,dh'!$D197,0)","v":0},{"$f":"IF(AH248=\"Oui\",'Q_del,j et Q_del,dh'!$D197,0)","v":0},{"$f":"IF(AI248=\"Oui\",'Q_del,j et Q_del,dh'!$D197,0)","v":0},{"$f":"IF(AJ248=\"Oui\",'Q_del,j et Q_del,dh'!$D197,0)","v":0},{"$f":"IF(AK248=\"Oui\",'Q_del,j et Q_del,dh'!$D197,0)","v":0},{"$f":"IF(AL248=\"Oui\",'Q_del,j et Q_del,dh'!$D197,0)","v":0},{"$f":"IF(AM248=\"Oui\",'Q_del,j et Q_del,dh'!$D197,0)","v":0},{"$f":"IF(AN248=\"Oui\",'Q_del,j et Q_del,dh'!$D197,0)","v":0},{"$f":"IF(AO248=\"Oui\",'Q_del,j et Q_del,dh'!$D197,0)","v":0},{"$f":"IF(AP248=\"Oui\",'Q_del,j et Q_del,dh'!$D197,0)","v":0},{"$f":"IF(AQ248=\"Oui\",'Q_del,j et Q_del,dh'!$D197,0)","v":0},{"$f":"IF(AR248=\"Oui\",'Q_del,j et Q_del,dh'!$D197,0)","v":0},{"$f":"IF(AS248=\"Oui\",'Q_del,j et Q_del,dh'!$D197,0)","v":0},{"$f":"IF(AT248=\"Oui\",'Q_del,j et Q_del,dh'!$D197,0)","v":0},{"$f":"IF(AU248=\"Oui\",'Q_del,j et Q_del,dh'!$D197,0)","v":0},{"$f":"IF(AV248=\"Oui\",'Q_del,j et Q_del,dh'!$D197,0)","v":0},{"$f":"IF(AW248=\"Oui\",'Q_del,j et Q_del,dh'!$D197,0)","v":0},{"$f":"IF(AX248=\"Oui\",'Q_del,j et Q_del,dh'!$D197,0)","v":0},{"$f":"IF(AY248=\"Oui\",'Q_del,j et Q_del,dh'!$D197,0)","v":0},{"$f":"IF(AZ248=\"Oui\",'Q_del,j et Q_del,dh'!$D197,0)","v":0},{"$f":"IF(BA248=\"Oui\",'Q_del,j et Q_del,dh'!$D197,0)","v":0}]
["Qdel,l,j [MJ]","Demandeur de chaleur 191",191,{"$f":"IF(D249=\"Oui\",'Q_del,j et Q_del,dh'!$D198,0)","v":0},{"$f":"IF(E249=\"Oui\",'Q_del,j et Q_del,dh'!$D198,0)","v":0},{"$f":"IF(F249=\"Oui\",'Q_del,j et Q_del,dh'!$D198,0)","v":0},{"$f":"IF(G249=\"Oui\",'Q_del,j et Q_del,dh'!$D198,0)","v":0},{"$f":"IF(H249=\"Oui\",'Q_del,j et Q_del,dh'!$D198,0)","v":0},{"$f":"IF(I249=\"Oui\",'Q_del,j et Q_del,dh'!$D198,0)","v":0},{"$f":"IF(J249=\"Oui\",'Q_del,j et Q_del,dh'!$D198,0)","v":0},{"$f":"IF(K249=\"Oui\",'Q_del,j et Q_del,dh'!$D198,0)","v":0},{"$f":"IF(L249=\"Oui\",'Q_del,j et Q_del,dh'!$D198,0)","v":0},{"$f":"IF(M249=\"Oui\",'Q_del,j et Q_del,dh'!$D198,0)","v":0},{"$f":"IF(N249=\"Oui\",'Q_del,j et Q_del,dh'!$D198,0)","v":0},{"$f":"IF(O249=\"Oui\",'Q_del,j et Q_del,dh'!$D198,0)","v":0},{"$f":"IF(P249=\"Oui\",'Q_del,j et Q_del,dh'!$D198,0)","v":0},{"$f":"IF(Q249=\"Oui\",'Q_del,j et Q_del,dh'!$D198,0)","v":0},{"$f":"IF(R249=\"Oui\",'Q_del,j et Q_del,dh'!$D198,0)","v":0},{"$f":"IF(S249=\"Oui\",'Q_del,j et Q_del,dh'!$D198,0)","v":0},{"$f":"IF(T249=\"Oui\",'Q_del,j et Q_del,dh'!$D198,0)","v":0},{"$f":"IF(U249=\"Oui\",'Q_del,j et Q_del,dh'!$D198,0)","v":0},{"$f":"IF(V249=\"Oui\",'Q_del,j et Q_del,dh'!$D198,0)","v":0},{"$f":"IF(W249=\"Oui\",'Q_del,j et Q_del,dh'!$D198,0)","v":0},{"$f":"IF(X249=\"Oui\",'Q_del,j et Q_del,dh'!$D198,0)","v":0},{"$f":"IF(Y249=\"Oui\",'Q_del,j et Q_del,dh'!$D198,0)","v":0},{"$f":"IF(Z249=\"Oui\",'Q_del,j et Q_del,dh'!$D198,0)","v":0},{"$f":"IF(AA249=\"Oui\",'Q_del,j et Q_del,dh'!$D198,0)","v":0},{"$f":"IF(AB249=\"Oui\",'Q_del,j et Q_del,dh'!$D198,0)","v":0},{"$f":"IF(AC249=\"Oui\",'Q_del,j et Q_del,dh'!$D198,0)","v":0},{"$f":"IF(AD249=\"Oui\",'Q_del,j et Q_del,dh'!$D198,0)","v":0},{"$f":"IF(AE249=\"Oui\",'Q_del,j et Q_del,dh'!$D198,0)","v":0},{"$f":"IF(AF249=\"Oui\",'Q_del,j et Q_del,dh'!$D198,0)","v":0},{"$f":"IF(AG249=\"Oui\",'Q_del,j et Q_del,dh'!$D198,0)","v":0},{"$f":"IF(AH249=\"Oui\",'Q_del,j et Q_del,dh'!$D198,0)","v":0},{"$f":"IF(AI249=\"Oui\",'Q_del,j et Q_del,dh'!$D198,0)","v":0},{"$f":"IF(AJ249=\"Oui\",'Q_del,j et Q_del,dh'!$D198,0)","v":0},{"$f":"IF(AK249=\"Oui\",'Q_del,j et Q_del,dh'!$D198,0)","v":0},{"$f":"IF(AL249=\"Oui\",'Q_del,j et Q_del,dh'!$D198,0)","v":0},{"$f":"IF(AM249=\"Oui\",'Q_del,j et Q_del,dh'!$D198,0)","v":0},{"$f":"IF(AN249=\"Oui\",'Q_del,j et Q_del,dh'!$D198,0)","v":0},{"$f":"IF(AO249=\"Oui\",'Q_del,j et Q_del,dh'!$D198,0)","v":0},{"$f":"IF(AP249=\"Oui\",'Q_del,j et Q_del,dh'!$D198,0)","v":0},{"$f":"IF(AQ249=\"Oui\",'Q_del,j et Q_del,dh'!$D198,0)","v":0},{"$f":"IF(AR249=\"Oui\",'Q_del,j et Q_del,dh'!$D198,0)","v":0},{"$f":"IF(AS249=\"Oui\",'Q_del,j et Q_del,dh'!$D198,0)","v":0},{"$f":"IF(AT249=\"Oui\",'Q_del,j et Q_del,dh'!$D198,0)","v":0},{"$f":"IF(AU249=\"Oui\",'Q_del,j et Q_del,dh'!$D198,0)","v":0},{"$f":"IF(AV249=\"Oui\",'Q_del,j et Q_del,dh'!$D198,0)","v":0},{"$f":"IF(AW249=\"Oui\",'Q_del,j et Q_del,dh'!$D198,0)","v":0},{"$f":"IF(AX249=\"Oui\",'Q_del,j et Q_del,dh'!$D198,0)","v":0},{"$f":"IF(AY249=\"Oui\",'Q_del,j et Q_del,dh'!$D198,0)","v":0},{"$f":"IF(AZ249=\"Oui\",'Q_del,j et Q_del,dh'!$D198,0)","v":0},{"$f":"IF(BA249=\"Oui\",'Q_del,j et Q_del,dh'!$D198,0)","v":0}]
["Qdel,l,j [MJ]","Demandeur de chaleur 192",192,{"$f":"IF(D250=\"Oui\",'Q_del,j et Q_del,dh'!$D199,0)","v":0},{"$f":"IF(E250=\"Oui\",'Q_del,j et Q_del,dh'!$D199,0)","v":0},{"$f":"IF(F250=\"Oui\",'Q_del,j et Q_del,dh'!$D199,0)","v":0},{"$f":"IF(G250=\"Oui\",'Q_del,j et Q_del,dh'!$D199,0)","v":0},{"$f":"IF(H250=\"Oui\",'Q_del,j et Q_del,dh'!$D199,0)","v":0},{"$f":"IF(I250=\"Oui\",'Q_del,j et Q_del,dh'!$D199,0)","v":0},{"$f":"IF(J250=\"Oui\",'Q_del,j et Q_del,dh'!$D199,0)","v":0},{"$f":"IF(K250=\"Oui\",'Q_del,j et Q_del,dh'!$D199,0)","v":0},{"$f":"IF(L250=\"Oui\",'Q_del,j et Q_del,dh'!$D199,0)","v":0},{"$f":"IF(M250=\"Oui\",'Q_del,j et Q_del,dh'!$D199,0)","v":0},{"$f":"IF(N250=\"Oui\",'Q_del,j et Q_del,dh'!$D199,0)","v":0},{"$f":"IF(O250=\"Oui\",'Q_del,j et Q_del,dh'!$D199,0)","v":0},{"$f":"IF(P250=\"Oui\",'Q_del,j et Q_del,dh'!$D199,0)","v":0},{"$f":"IF(Q250=\"Oui\",'Q_del,j et Q_del,dh'!$D199,0)","v":0},{"$f":"IF(R250=\"Oui\",'Q_del,j et Q_del,dh'!$D199,0)","v":0},{"$f":"IF(S250=\"Oui\",'Q_del,j et Q_del,dh'!$D199,0)","v":0},{"$f":"IF(T250=\"Oui\",'Q_del,j et Q_del,dh'!$D199,0)","v":0},{"$f":"IF(U250=\"Oui\",'Q_del,j et Q_del,dh'!$D199,0)","v":0},{"$f":"IF(V250=\"Oui\",'Q_del,j et Q_del,dh'!$D199,0)","v":0},{"$f":"IF(W250=\"Oui\",'Q_del,j et Q_del,dh'!$D199,0)","v":0},{"$f":"IF(X250=\"Oui\",'Q_del,j et Q_del,dh'!$D199,0)","v":0},{"$f":"IF(Y250=\"Oui\",'Q_del,j et Q_del,dh'!$D199,0)","v":0},{"$f":"IF(Z250=\"Oui\",'Q_del,j et Q_del,dh'!$D199,0)","v":0},{"$f":"IF(AA250=\"Oui\",'Q_del,j et Q_del,dh'!$D199,0)","v":0},{"$f":"IF(AB250=\"Oui\",'Q_del,j et Q_del,dh'!$D199,0)","v":0},{"$f":"IF(AC250=\"Oui\",'Q_del,j et Q_del,dh'!$D199,0)","v":0},{"$f":"IF(AD250=\"Oui\",'Q_del,j et Q_del,dh'!$D199,0)","v":0},{"$f":"IF(AE250=\"Oui\",'Q_del,j et Q_del,dh'!$D199,0)","v":0},{"$f":"IF(AF250=\"Oui\",'Q_del,j et Q_del,dh'!$D199,0)","v":0},{"$f":"IF(AG250=\"Oui\",'Q_del,j et Q_del,dh'!$D199,0)","v":0},{"$f":"IF(AH250=\"Oui\",'Q_del,j et Q_del,dh'!$D199,0)","v":0},{"$f":"IF(AI250=\"Oui\",'Q_del,j et Q_del,dh'!$D199,0)","v":0},{"$f":"IF(AJ250=\"Oui\",'Q_del,j et Q_del,dh'!$D199,0)","v":0},{"$f":"IF(AK250=\"Oui\",'Q_del,j et Q_del,dh'!$D199,0)","v":0},{"$f":"IF(AL250=\"Oui\",'Q_del,j et Q_del,dh'!$D199,0)","v":0},{"$f":"IF(AM250=\"Oui\",'Q_del,j et Q_del,dh'!$D199,0)","v":0},{"$f":"IF(AN250=\"Oui\",'Q_del,j et Q_del,dh'!$D199,0)","v":0},{"$f":"IF(AO250=\"Oui\",'Q_del,j et Q_del,dh'!$D199,0)","v":0},{"$f":"IF(AP250=\"Oui\",'Q_del,j et Q_del,dh'!$D199,0)","v":0},{"$f":"IF(AQ250=\"Oui\",'Q_del,j et Q_del,dh'!$D199,0)","v":0},{"$f":"IF(AR250=\"Oui\",'Q_del,j et Q_del,dh'!$D199,0)","v":0},{"$f":"IF(AS250=\"Oui\",'Q_del,j et Q_del,dh'!$D199,0)","v":0},{"$f":"IF(AT250=\"Oui\",'Q_del,j et Q_del,dh'!$D199,0)","v":0},{"$f":"IF(AU250=\"Oui\",'Q_del,j et Q_del,dh'!$D199,0)","v":0},{"$f":"IF(AV250=\"Oui\",'Q_del,j et Q_del,dh'!$D199,0)","v":0},{"$f":"IF(AW250=\"Oui\",'Q_del,j et Q_del,dh'!$D199,0)","v":0},{"$f":"IF(AX250=\"Oui\",'Q_del,j et Q_del,dh'!$D199,0)","v":0},{"$f":"IF(AY250=\"Oui\",'Q_del,j et Q_del,dh'!$D199,0)","v":0},{"$f":"IF(AZ250=\"Oui\",'Q_del,j et Q_del,dh'!$D199,0)","v":0},{"$f":"IF(BA250=\"Oui\",'Q_del,j et Q_del,dh'!$D199,0)","v":0}]
["Qdel,l,j [MJ]",{"$f":"\"Demandeur de chaleur \"&C506","v":"Demandeur de chaleur 193"},193,{"$f":"IF(D251=\"Oui\",'Q_del,j et Q_del,dh'!$D200,0)","v":0},{"$f":"IF(E251=\"Oui\",'Q_del,j et Q_del,dh'!$D200,0)","v":0},{"$f":"IF(F251=\"Oui\",'Q_del,j et Q_del,dh'!$D200,0)","v":0},{"$f":"IF(G251=\"Oui\",'Q_del,j et Q_del,dh'!$D200,0)","v":0},{"$f":"IF(H251=\"Oui\",'Q_del,j et Q_del,dh'!$D200,0)","v":0},{"$f":"IF(I251=\"Oui\",'Q_del,j et Q_del,dh'!$D200,0)","v":0},{"$f":"IF(J251=\"Oui\",'Q_del,j et Q_del,dh'!$D200,0)","v":0},{"$f":"IF(K251=\"Oui\",'Q_del,j et Q_del,dh'!$D200,0)","v":0},{"$f":"IF(L251=\"Oui\",'Q_del,j et Q_del,dh'!$D200,0)","v":0},{"$f":"IF(M251=\"Oui\",'Q_del,j et Q_del,dh'!$D200,0)","v":0},{"$f":"IF(N251=\"Oui\",'Q_del,j et Q_del,dh'!$D200,0)","v":0},{"$f":"IF(O251=\"Oui\",'Q_del,j et Q_del,dh'!$D200,0)","v":0},{"$f":"IF(P251=\"Oui\",'Q_del,j et Q_del,dh'!$D200,0)","v":0},{"$f":"IF(Q251=\"Oui\",'Q_del,j et Q_del,dh'!$D200,0)","v":0},{"$f":"IF(R251=\"Oui\",'Q_del,j et Q_del,dh'!$D200,0)","v":0},{"$f":"IF(S251=\"Oui\",'Q_del,j et Q_del,dh'!$D200,0)","v":0},{"$f":"IF(T251=\"Oui\",'Q_del,j et Q_del,dh'!$D200,0)","v":0},{"$f":"IF(U251=\"Oui\",'Q_del,j et Q_del,dh'!$D200,0)","v":0},{"$f":"IF(V251=\"Oui\",'Q_del,j et Q_del,dh'!$D200,0)","v":0},{"$f":"IF(W251=\"Oui\",'Q_del,j et Q_del,dh'!$D200,0)","v":0},{"$f":"IF(X251=\"Oui\",'Q_del,j et Q_del,dh'!$D200,0)","v":0},{"$f":"IF(Y251=\"Oui\",'Q_del,j et Q_del,dh'!$D200,0)","v":0},{"$f":"IF(Z251=\"Oui\",'Q_del,j et Q_del,dh'!$D200,0)","v":0},{"$f":"IF(AA251=\"Oui\",'Q_del,j et Q_del,dh'!$D200,0)","v":0},{"$f":"IF(AB251=\"Oui\",'Q_del,j et Q_del,dh'!$D200,0)","v":0},{"$f":"IF(AC251=\"Oui\",'Q_del,j et Q_del,dh'!$D200,0)","v":0},{"$f":"IF(AD251=\"Oui\",'Q_del,j et Q_del,dh'!$D200,0)","v":0},{"$f":"IF(AE251=\"Oui\",'Q_del,j et Q_del,dh'!$D200,0)","v":0},{"$f":"IF(AF251=\"Oui\",'Q_del,j et Q_del,dh'!$D200,0)","v":0},{"$f":"IF(AG251=\"Oui\",'Q_del,j et Q_del,dh'!$D200,0)","v":0},{"$f":"IF(AH251=\"Oui\",'Q_del,j et Q_del,dh'!$D200,0)","v":0},{"$f":"IF(AI251=\"Oui\",'Q_del,j et Q_del,dh'!$D200,0)","v":0},{"$f":"IF(AJ251=\"Oui\",'Q_del,j et Q_del,dh'!$D200,0)","v":0},{"$f":"IF(AK251=\"Oui\",'Q_del,j et Q_del,dh'!$D200,0)","v":0},{"$f":"IF(AL251=\"Oui\",'Q_del,j et Q_del,dh'!$D200,0)","v":0},{"$f":"IF(AM251=\"Oui\",'Q_del,j et Q_del,dh'!$D200,0)","v":0},{"$f":"IF(AN251=\"Oui\",'Q_del,j et Q_del,dh'!$D200,0)","v":0},{"$f":"IF(AO251=\"Oui\",'Q_del,j et Q_del,dh'!$D200,0)","v":0},{"$f":"IF(AP251=\"Oui\",'Q_del,j et Q_del,dh'!$D200,0)","v":0},{"$f":"IF(AQ251=\"Oui\",'Q_del,j et Q_del,dh'!$D200,0)","v":0},{"$f":"IF(AR251=\"Oui\",'Q_del,j et Q_del,dh'!$D200,0)","v":0},{"$f":"IF(AS251=\"Oui\",'Q_del,j et Q_del,dh'!$D200,0)","v":0},{"$f":"IF(AT251=\"Oui\",'Q_del,j et Q_del,dh'!$D200,0)","v":0},{"$f":"IF(AU251=\"Oui\",'Q_del,j et Q_del,dh'!$D200,0)","v":0},{"$f":"IF(AV251=\"Oui\",'Q_del,j et Q_del,dh'!$D200,0)","v":0},{"$f":"IF(AW251=\"Oui\",'Q_del,j et Q_del,dh'!$D200,0)","v":0},{"$f":"IF(AX251=\"Oui\",'Q_del,j et Q_del,dh'!$D200,0)","v":0},{"$f":"IF(AY251=\"Oui\",'Q_del,j et Q_del,dh'!$D200,0)","v":0},{"$f":"IF(AZ251=\"Oui\",'Q_del,j et Q_del,dh'!$D200,0)","v":0},{"$f":"IF(BA251=\"Oui\",'Q_del,j et Q_del,dh'!$D200,0)","v":0}]
["Qdel,l,j [MJ]","Demandeur de chaleur 194",194,{"$f":"IF(D252=\"Oui\",'Q_del,j et Q_del,dh'!$D201,0)","v":0},{"$f":"IF(E252=\"Oui\",'Q_del,j et Q_del,dh'!$D201,0)","v":0},{"$f":"IF(F252=\"Oui\",'Q_del,j et Q_del,dh'!$D201,0)","v":0},{"$f":"IF(G252=\"Oui\",'Q_del,j et Q_del,dh'!$D201,0)","v":0},{"$f":"IF(H252=\"Oui\",'Q_del,j et Q_del,dh'!$D201,0)","v":0},{"$f":"IF(I252=\"Oui\",'Q_del,j et Q_del,dh'!$D201,0)","v":0},{"$f":"IF(J252=\"Oui\",'Q_del,j et Q_del,dh'!$D201,0)","v":0},{"$f":"IF(K252=\"Oui\",'Q_del,j et Q_del,dh'!$D201,0)","v":0},{"$f":"IF(L252=\"Oui\",'Q_del,j et Q_del,dh'!$D201,0)","v":0},{"$f":"IF(M252=\"Oui\",'Q_del,j et Q_del,dh'!$D201,0)","v":0},{"$f":"IF(N252=\"Oui\",'Q_del,j et Q_del,dh'!$D201,0)","v":0},{"$f":"IF(O252=\"Oui\",'Q_del,j et Q_del,dh'!$D201,0)","v":0},{"$f":"IF(P252=\"Oui\",'Q_del,j et Q_del,dh'!$D201,0)","v":0},{"$f":"IF(Q252=\"Oui\",'Q_del,j et Q_del,dh'!$D201,0)","v":0},{"$f":"IF(R252=\"Oui\",'Q_del,j et Q_del,dh'!$D201,0)","v":0},{"$f":"IF(S252=\"Oui\",'Q_del,j et Q_del,dh'!$D201,0)","v":0},{"$f":"IF(T252=\"Oui\",'Q_del,j et Q_del,dh'!$D201,0)","v":0},{"$f":"IF(U252=\"Oui\",'Q_del,j et Q_del,dh'!$D201,0)","v":0},{"$f":"IF(V252=\"Oui\",'Q_del,j et Q_del,dh'!$D201,0)","v":0},{"$f":"IF(W252=\"Oui\",'Q_del,j et Q_del,dh'!$D201,0)","v":0},{"$f":"IF(X252=\"Oui\",'Q_del,j et Q_del,dh'!$D201,0)","v":0},{"$f":"IF(Y252=\"Oui\",'Q_del,j et Q_del,dh'!$D201,0)","v":0},{"$f":"IF(Z252=\"Oui\",'Q_del,j et Q_del,dh'!$D201,0)","v":0},{"$f":"IF(AA252=\"Oui\",'Q_del,j et Q_del,dh'!$D201,0)","v":0},{"$f":"IF(AB252=\"Oui\",'Q_del,j et Q_del,dh'!$D201,0)","v":0},{"$f":"IF(AC252=\"Oui\",'Q_del,j et Q_del,dh'!$D201,0)","v":0},{"$f":"IF(AD252=\"Oui\",'Q_del,j et Q_del,dh'!$D201,0)","v":0},{"$f":"IF(AE252=\"Oui\",'Q_del,j et Q_del,dh'!$D201,0)","v":0},{"$f":"IF(AF252=\"Oui\",'Q_del,j et Q_del,dh'!$D201,0)","v":0},{"$f":"IF(AG252=\"Oui\",'Q_del,j et Q_del,dh'!$D201,0)","v":0},{"$f":"IF(AH252=\"Oui\",'Q_del,j et Q_del,dh'!$D201,0)","v":0},{"$f":"IF(AI252=\"Oui\",'Q_del,j et Q_del,dh'!$D201,0)","v":0},{"$f":"IF(AJ252=\"Oui\",'Q_del,j et Q_del,dh'!$D201,0)","v":0},{"$f":"IF(AK252=\"Oui\",'Q_del,j et Q_del,dh'!$D201,0)","v":0},{"$f":"IF(AL252=\"Oui\",'Q_del,j et Q_del,dh'!$D201,0)","v":0},{"$f":"IF(AM252=\"Oui\",'Q_del,j et Q_del,dh'!$D201,0)","v":0},{"$f":"IF(AN252=\"Oui\",'Q_del,j et Q_del,dh'!$D201,0)","v":0},{"$f":"IF(AO252=\"Oui\",'Q_del,j et Q_del,dh'!$D201,0)","v":0},{"$f":"IF(AP252=\"Oui\",'Q_del,j et Q_del,dh'!$D201,0)","v":0},{"$f":"IF(AQ252=\"Oui\",'Q_del,j et Q_del,dh'!$D201,0)","v":0},{"$f":"IF(AR252=\"Oui\",'Q_del,j et Q_del,dh'!$D201,0)","v":0},{"$f":"IF(AS252=\"Oui\",'Q_del,j et Q_del,dh'!$D201,0)","v":0},{"$f":"IF(AT252=\"Oui\",'Q_del,j et Q_del,dh'!$D201,0)","v":0},{"$f":"IF(AU252=\"Oui\",'Q_del,j et Q_del,dh'!$D201,0)","v":0},{"$f":"IF(AV252=\"Oui\",'Q_del,j et Q_del,dh'!$D201,0)","v":0},{"$f":"IF(AW252=\"Oui\",'Q_del,j et Q_del,dh'!$D201,0)","v":0},{"$f":"IF(AX252=\"Oui\",'Q_del,j et Q_del,dh'!$D201,0)","v":0},{"$f":"IF(AY252=\"Oui\",'Q_del,j et Q_del,dh'!$D201,0)","v":0},{"$f":"IF(AZ252=\"Oui\",'Q_del,j et Q_del,dh'!$D201,0)","v":0},{"$f":"IF(BA252=\"Oui\",'Q_del,j et Q_del,dh'!$D201,0)","v":0}]
["Qdel,l,j [MJ]","Demandeur de chaleur 195",{"$f":"C507+1","v":195},{"$f":"IF(D253=\"Oui\",'Q_del,j et Q_del,dh'!$D202,0)","v":0},{"$f":"IF(E253=\"Oui\",'Q_del,j et Q_del,dh'!$D202,0)","v":0},{"$f":"IF(F253=\"Oui\",'Q_del,j et Q_del,dh'!$D202,0)","v":0},{"$f":"IF(G253=\"Oui\",'Q_del,j et Q_del,dh'!$D202,0)","v":0},{"$f":"IF(H253=\"Oui\",'Q_del,j et Q_del,dh'!$D202,0)","v":0},{"$f":"IF(I253=\"Oui\",'Q_del,j et Q_del,dh'!$D202,0)","v":0},{"$f":"IF(J253=\"Oui\",'Q_del,j et Q_del,dh'!$D202,0)","v":0},{"$f":"IF(K253=\"Oui\",'Q_del,j et Q_del,dh'!$D202,0)","v":0},{"$f":"IF(L253=\"Oui\",'Q_del,j et Q_del,dh'!$D202,0)","v":0},{"$f":"IF(M253=\"Oui\",'Q_del,j et Q_del,dh'!$D202,0)","v":0},{"$f":"IF(N253=\"Oui\",'Q_del,j et Q_del,dh'!$D202,0)","v":0},{"$f":"IF(O253=\"Oui\",'Q_del,j et Q_del,dh'!$D202,0)","v":0},{"$f":"IF(P253=\"Oui\",'Q_del,j et Q_del,dh'!$D202,0)","v":0},{"$f":"IF(Q253=\"Oui\",'Q_del,j et Q_del,dh'!$D202,0)","v":0},{"$f":"IF(R253=\"Oui\",'Q_del,j et Q_del,dh'!$D202,0)","v":0},{"$f":"IF(S253=\"Oui\",'Q_del,j et Q_del,dh'!$D202,0)","v":0},{"$f":"IF(T253=\"Oui\",'Q_del,j et Q_del,dh'!$D202,0)","v":0},{"$f":"IF(U253=\"Oui\",'Q_del,j et Q_del,dh'!$D202,0)","v":0},{"$f":"IF(V253=\"Oui\",'Q_del,j et Q_del,dh'!$D202,0)","v":0},{"$f":"IF(W253=\"Oui\",'Q_del,j et Q_del,dh'!$D202,0)","v":0},{"$f":"IF(X253=\"Oui\",'Q_del,j et Q_del,dh'!$D202,0)","v":0},{"$f":"IF(Y253=\"Oui\",'Q_del,j et Q_del,dh'!$D202,0)","v":0},{"$f":"IF(Z253=\"Oui\",'Q_del,j et Q_del,dh'!$D202,0)","v":0},{"$f":"IF(AA253=\"Oui\",'Q_del,j et Q_del,dh'!$D202,0)","v":0},{"$f":"IF(AB253=\"Oui\",'Q_del,j et Q_del,dh'!$D202,0)","v":0},{"$f":"IF(AC253=\"Oui\",'Q_del,j et Q_del,dh'!$D202,0)","v":0},{"$f":"IF(AD253=\"Oui\",'Q_del,j et Q_del,dh'!$D202,0)","v":0},{"$f":"IF(AE253=\"Oui\",'Q_del,j et Q_del,dh'!$D202,0)","v":0},{"$f":"IF(AF253=\"Oui\",'Q_del,j et Q_del,dh'!$D202,0)","v":0},{"$f":"IF(AG253=\"Oui\",'Q_del,j et Q_del,dh'!$D202,0)","v":0},{"$f":"IF(AH253=\"Oui\",'Q_del,j et Q_del,dh'!$D202,0)","v":0},{"$f":"IF(AI253=\"Oui\",'Q_del,j et Q_del,dh'!$D202,0)","v":0},{"$f":"IF(AJ253=\"Oui\",'Q_del,j et Q_del,dh'!$D202,0)","v":0},{"$f":"IF(AK253=\"Oui\",'Q_del,j et Q_del,dh'!$D202,0)","v":0},{"$f":"IF(AL253=\"Oui\",'Q_del,j et Q_del,dh'!$D202,0)","v":0},{"$f":"IF(AM253=\"Oui\",'Q_del,j et Q_del,dh'!$D202,0)","v":0},{"$f":"IF(AN253=\"Oui\",'Q_del,j et Q_del,dh'!$D202,0)","v":0},{"$f":"IF(AO253=\"Oui\",'Q_del,j et Q_del,dh'!$D202,0)","v":0},{"$f":"IF(AP253=\"Oui\",'Q_del,j et Q_del,dh'!$D202,0)","v":0},{"$f":"IF(AQ253=\"Oui\",'Q_del,j et Q_del,dh'!$D202,0)","v":0},{"$f":"IF(AR253=\"Oui\",'Q_del,j et Q_del,dh'!$D202,0)","v":0},{"$f":"IF(AS253=\"Oui\",'Q_del,j et Q_del,dh'!$D202,0)","v":0},{"$f":"IF(AT253=\"Oui\",'Q_del,j et Q_del,dh'!$D202,0)","v":0},{"$f":"IF(AU253=\"Oui\",'Q_del,j et Q_del,dh'!$D202,0)","v":0},{"$f":"IF(AV253=\"Oui\",'Q_del,j et Q_del,dh'!$D202,0)","v":0},{"$f":"IF(AW253=\"Oui\",'Q_del,j et Q_del,dh'!$D202,0)","v":0},{"$f":"IF(AX253=\"Oui\",'Q_del,j et Q_del,dh'!$D202,0)","v":0},{"$f":"IF(AY253=\"Oui\",'Q_del,j et Q_del,dh'!$D202,0)","v":0},{"$f":"IF(AZ253=\"Oui\",'Q_del,j et Q_del,dh'!$D202,0)","v":0},{"$f":"IF(BA253=\"Oui\",'Q_del,j et Q_del,dh'!$D202,0)","v":0}]
["Qdel,l,j [MJ]","Demandeur de chaleur 196",196,{"$f":"IF(D254=\"Oui\",'Q_del,j et Q_del,dh'!$D203,0)","v":0},{"$f":"IF(E254=\"Oui\",'Q_del,j et Q_del,dh'!$D203,0)","v":0},{"$f":"IF(F254=\"Oui\",'Q_del,j et Q_del,dh'!$D203,0)","v":0},{"$f":"IF(G254=\"Oui\",'Q_del,j et Q_del,dh'!$D203,0)","v":0},{"$f":"IF(H254=\"Oui\",'Q_del,j et Q_del,dh'!$D203,0)","v":0},{"$f":"IF(I254=\"Oui\",'Q_del,j et Q_del,dh'!$D203,0)","v":0},{"$f":"IF(J254=\"Oui\",'Q_del,j et Q_del,dh'!$D203,0)","v":0},{"$f":"IF(K254=\"Oui\",'Q_del,j et Q_del,dh'!$D203,0)","v":0},{"$f":"IF(L254=\"Oui\",'Q_del,j et Q_del,dh'!$D203,0)","v":0},{"$f":"IF(M254=\"Oui\",'Q_del,j et Q_del,dh'!$D203,0)","v":0},{"$f":"IF(N254=\"Oui\",'Q_del,j et Q_del,dh'!$D203,0)","v":0},{"$f":"IF(O254=\"Oui\",'Q_del,j et Q_del,dh'!$D203,0)","v":0},{"$f":"IF(P254=\"Oui\",'Q_del,j et Q_del,dh'!$D203,0)","v":0},{"$f":"IF(Q254=\"Oui\",'Q_del,j et Q_del,dh'!$D203,0)","v":0},{"$f":"IF(R254=\"Oui\",'Q_del,j et Q_del,dh'!$D203,0)","v":0},{"$f":"IF(S254=\"Oui\",'Q_del,j et Q_del,dh'!$D203,0)","v":0},{"$f":"IF(T254=\"Oui\",'Q_del,j et Q_del,dh'!$D203,0)","v":0},{"$f":"IF(U254=\"Oui\",'Q_del,j et Q_del,dh'!$D203,0)","v":0},{"$f":"IF(V254=\"Oui\",'Q_del,j et Q_del,dh'!$D203,0)","v":0},{"$f":"IF(W254=\"Oui\",'Q_del,j et Q_del,dh'!$D203,0)","v":0},{"$f":"IF(X254=\"Oui\",'Q_del,j et Q_del,dh'!$D203,0)","v":0},{"$f":"IF(Y254=\"Oui\",'Q_del,j et Q_del,dh'!$D203,0)","v":0},{"$f":"IF(Z254=\"Oui\",'Q_del,j et Q_del,dh'!$D203,0)","v":0},{"$f":"IF(AA254=\"Oui\",'Q_del,j et Q_del,dh'!$D203,0)","v":0},{"$f":"IF(AB254=\"Oui\",'Q_del,j et Q_del,dh'!$D203,0)","v":0},{"$f":"IF(AC254=\"Oui\",'Q_del,j et Q_del,dh'!$D203,0)","v":0},{"$f":"IF(AD254=\"Oui\",'Q_del,j et Q_del,dh'!$D203,0)","v":0},{"$f":"IF(AE254=\"Oui\",'Q_del,j et Q_del,dh'!$D203,0)","v":0},{"$f":"IF(AF254=\"Oui\",'Q_del,j et Q_del,dh'!$D203,0)","v":0},{"$f":"IF(AG254=\"Oui\",'Q_del,j et Q_del,dh'!$D203,0)","v":0},{"$f":"IF(AH254=\"Oui\",'Q_del,j et Q_del,dh'!$D203,0)","v":0},{"$f":"IF(AI254=\"Oui\",'Q_del,j et Q_del,dh'!$D203,0)","v":0},{"$f":"IF(AJ254=\"Oui\",'Q_del,j et Q_del,dh'!$D203,0)","v":0},{"$f":"IF(AK254=\"Oui\",'Q_del,j et Q_del,dh'!$D203,0)","v":0},{"$f":"IF(AL254=\"Oui\",'Q_del,j et Q_del,dh'!$D203,0)","v":0},{"$f":"IF(AM254=\"Oui\",'Q_del,j et Q_del,dh'!$D203,0)","v":0},{"$f":"IF(AN254=\"Oui\",'Q_del,j et Q_del,dh'!$D203,0)","v":0},{"$f":"IF(AO254=\"Oui\",'Q_del,j et Q_del,dh'!$D203,0)","v":0},{"$f":"IF(AP254=\"Oui\",'Q_del,j et Q_del,dh'!$D203,0)","v":0},{"$f":"IF(AQ254=\"Oui\",'Q_del,j et Q_del,dh'!$D203,0)","v":0},{"$f":"IF(AR254=\"Oui\",'Q_del,j et Q_del,dh'!$D203,0)","v":0},{"$f":"IF(AS254=\"Oui\",'Q_del,j et Q_del,dh'!$D203,0)","v":0},{"$f":"IF(AT254=\"Oui\",'Q_del,j et Q_del,dh'!$D203,0)","v":0},{"$f":"IF(AU254=\"Oui\",'Q_del,j et Q_del,dh'!$D203,0)","v":0},{"$f":"IF(AV254=\"Oui\",'Q_del,j et Q_del,dh'!$D203,0)","v":0},{"$f":"IF(AW254=\"Oui\",'Q_del,j et Q_del,dh'!$D203,0)","v":0},{"$f":"IF(AX254=\"Oui\",'Q_del,j et Q_del,dh'!$D203,0)","v":0},{"$f":"IF(AY254=\"Oui\",'Q_del,j et Q_del,dh'!$D203,0)","v":0},{"$f":"IF(AZ254=\"Oui\",'Q_del,j et Q_del,dh'!$D203,0)","v":0},{"$f":"IF(BA254=\"Oui\",'Q_del,j et Q_del,dh'!$D203,0)","v":0}]
["Qdel,l,j [MJ]","Demandeur de chaleur 197",197,{"$f":"IF(D255=\"Oui\",'Q_del,j et Q_del,dh'!$D204,0)","v":0},{"$f":"IF(E255=\"Oui\",'Q_del,j et Q_del,dh'!$D204,0)","v":0},{"$f":"IF(F255=\"Oui\",'Q_del,j et Q_del,dh'!$D204,0)","v":0},{"$f":"IF(G255=\"Oui\",'Q_del,j et Q_del,dh'!$D204,0)","v":0},{"$f":"IF(H255=\"Oui\",'Q_del,j et Q_del,dh'!$D204,0)","v":0},{"$f":"IF(I255=\"Oui\",'Q_del,j et Q_del,dh'!$D204,0)","v":0},{"$f":"IF(J255=\"Oui\",'Q_del,j et Q_del,dh'!$D204,0)","v":0},{"$f":"IF(K255=\"Oui\",'Q_del,j et Q_del,dh'!$D204,0)","v":0},{"$f":"IF(L255=\"Oui\",'Q_del,j et Q_del,dh'!$D204,0)","v":0},{"$f":"IF(M255=\"Oui\",'Q_del,j et Q_del,dh'!$D204,0)","v":0},{"$f":"IF(N255=\"Oui\",'Q_del,j et Q_del,dh'!$D204,0)","v":0},{"$f":"IF(O255=\"Oui\",'Q_del,j et Q_del,dh'!$D204,0)","v":0},{"$f":"IF(P255=\"Oui\",'Q_del,j et Q_del,dh'!$D204,0)","v":0},{"$f":"IF(Q255=\"Oui\",'Q_del,j et Q_del,dh'!$D204,0)","v":0},{"$f":"IF(R255=\"Oui\",'Q_del,j et Q_del,dh'!$D204,0)","v":0},{"$f":"IF(S255=\"Oui\",'Q_del,j et Q_del,dh'!$D204,0)","v":0},{"$f":"IF(T255=\"Oui\",'Q_del,j et Q_del,dh'!$D204,0)","v":0},{"$f":"IF(U255=\"Oui\",'Q_del,j et Q_del,dh'!$D204,0)","v":0},{"$f":"IF(V255=\"Oui\",'Q_del,j et Q_del,dh'!$D204,0)","v":0},{"$f":"IF(W255=\"Oui\",'Q_del,j et Q_del,dh'!$D204,0)","v":0},{"$f":"IF(X255=\"Oui\",'Q_del,j et Q_del,dh'!$D204,0)","v":0},{"$f":"IF(Y255=\"Oui\",'Q_del,j et Q_del,dh'!$D204,0)","v":0},{"$f":"IF(Z255=\"Oui\",'Q_del,j et Q_del,dh'!$D204,0)","v":0},{"$f":"IF(AA255=\"Oui\",'Q_del,j et Q_del,dh'!$D204,0)","v":0},{"$f":"IF(AB255=\"Oui\",'Q_del,j et Q_del,dh'!$D204,0)","v":0},{"$f":"IF(AC255=\"Oui\",'Q_del,j et Q_del,dh'!$D204,0)","v":0},{"$f":"IF(AD255=\"Oui\",'Q_del,j et Q_del,dh'!$D204,0)","v":0},{"$f":"IF(AE255=\"Oui\",'Q_del,j et Q_del,dh'!$D204,0)","v":0},{"$f":"IF(AF255=\"Oui\",'Q_del,j et Q_del,dh'!$D204,0)","v":0},{"$f":"IF(AG255=\"Oui\",'Q_del,j et Q_del,dh'!$D204,0)","v":0},{"$f":"IF(AH255=\"Oui\",'Q_del,j et Q_del,dh'!$D204,0)","v":0},{"$f":"IF(AI255=\"Oui\",'Q_del,j et Q_del,dh'!$D204,0)","v":0},{"$f":"IF(AJ255=\"Oui\",'Q_del,j et Q_del,dh'!$D204,0)","v":0},{"$f":"IF(AK255=\"Oui\",'Q_del,j et Q_del,dh'!$D204,0)","v":0},{"$f":"IF(AL255=\"Oui\",'Q_del,j et Q_del,dh'!$D204,0)","v":0},{"$f":"IF(AM255=\"Oui\",'Q_del,j et Q_del,dh'!$D204,0)","v":0},{"$f":"IF(AN255=\"Oui\",'Q_del,j et Q_del,dh'!$D204,0)","v":0},{"$f":"IF(AO255=\"Oui\",'Q_del,j et Q_del,dh'!$D204,0)","v":0},{"$f":"IF(AP255=\"Oui\",'Q_del,j et Q_del,dh'!$D204,0)","v":0},{"$f":"IF(AQ255=\"Oui\",'Q_del,j et Q_del,dh'!$D204,0)","v":0},{"$f":"IF(AR255=\"Oui\",'Q_del,j et Q_del,dh'!$D204,0)","v":0},{"$f":"IF(AS255=\"Oui\",'Q_del,j et Q_del,dh'!$D204,0)","v":0},{"$f":"IF(AT255=\"Oui\",'Q_del,j et Q_del,dh'!$D204,0)","v":0},{"$f":"IF(AU255=\"Oui\",'Q_del,j et Q_del,dh'!$D204,0)","v":0},{"$f":"IF(AV255=\"Oui\",'Q_del,j et Q_del,dh'!$D204,0)","v":0},{"$f":"IF(AW255=\"Oui\",'Q_del,j et Q_del,dh'!$D204,0)","v":0},{"$f":"IF(AX255=\"Oui\",'Q_del,j et Q_del,dh'!$D204,0)","v":0},{"$f":"IF(AY255=\"Oui\",'Q_del,j et Q_del,dh'!$D204,0)","v":0},{"$f":"IF(AZ255=\"Oui\",'Q_del,j et Q_del,dh'!$D204,0)","v":0},{"$f":"IF(BA255=\"Oui\",'Q_del,j et Q_del,dh'!$D204,0)","v":0}]
["Qdel,l,j [MJ]","Demandeur de chaleur 198",198,{"$f":"IF(D256=\"Oui\",'Q_del,j et Q_del,dh'!$D205,0)","v":0},{"$f":"IF(E256=\"Oui\",'Q_del,j et Q_del,dh'!$D205,0)","v":0},{"$f":"IF(F256=\"Oui\",'Q_del,j et Q_del,dh'!$D205,0)","v":0},{"$f":"IF(G256=\"Oui\",'Q_del,j et Q_del,dh'!$D205,0)","v":0},{"$f":"IF(H256=\"Oui\",'Q_del,j et Q_del,dh'!$D205,0)","v":0},{"$f":"IF(I256=\"Oui\",'Q_del,j et Q_del,dh'!$D205,0)","v":0},{"$f":"IF(J256=\"Oui\",'Q_del,j et Q_del,dh'!$D205,0)","v":0},{"$f":"IF(K256=\"Oui\",'Q_del,j et Q_del,dh'!$D205,0)","v":0},{"$f":"IF(L256=\"Oui\",'Q_del,j et Q_del,dh'!$D205,0)","v":0},{"$f":"IF(M256=\"Oui\",'Q_del,j et Q_del,dh'!$D205,0)","v":0},{"$f":"IF(N256=\"Oui\",'Q_del,j et Q_del,dh'!$D205,0)","v":0},{"$f":"IF(O256=\"Oui\",'Q_del,j et Q_del,dh'!$D205,0)","v":0},{"$f":"IF(P256=\"Oui\",'Q_del,j et Q_del,dh'!$D205,0)","v":0},{"$f":"IF(Q256=\"Oui\",'Q_del,j et Q_del,dh'!$D205,0)","v":0},{"$f":"IF(R256=\"Oui\",'Q_del,j et Q_del,dh'!$D205,0)","v":0},{"$f":"IF(S256=\"Oui\",'Q_del,j et Q_del,dh'!$D205,0)","v":0},{"$f":"IF(T256=\"Oui\",'Q_del,j et Q_del,dh'!$D205,0)","v":0},{"$f":"IF(U256=\"Oui\",'Q_del,j et Q_del,dh'!$D205,0)","v":0},{"$f":"IF(V256=\"Oui\",'Q_del,j et Q_del,dh'!$D205,0)","v":0},{"$f":"IF(W256=\"Oui\",'Q_del,j et Q_del,dh'!$D205,0)","v":0},{"$f":"IF(X256=\"Oui\",'Q_del,j et Q_del,dh'!$D205,0)","v":0},{"$f":"IF(Y256=\"Oui\",'Q_del,j et Q_del,dh'!$D205,0)","v":0},{"$f":"IF(Z256=\"Oui\",'Q_del,j et Q_del,dh'!$D205,0)","v":0},{"$f":"IF(AA256=\"Oui\",'Q_del,j et Q_del,dh'!$D205,0)","v":0},{"$f":"IF(AB256=\"Oui\",'Q_del,j et Q_del,dh'!$D205,0)","v":0},{"$f":"IF(AC256=\"Oui\",'Q_del,j et Q_del,dh'!$D205,0)","v":0},{"$f":"IF(AD256=\"Oui\",'Q_del,j et Q_del,dh'!$D205,0)","v":0},{"$f":"IF(AE256=\"Oui\",'Q_del,j et Q_del,dh'!$D205,0)","v":0},{"$f":"IF(AF256=\"Oui\",'Q_del,j et Q_del,dh'!$D205,0)","v":0},{"$f":"IF(AG256=\"Oui\",'Q_del,j et Q_del,dh'!$D205,0)","v":0},{"$f":"IF(AH256=\"Oui\",'Q_del,j et Q_del,dh'!$D205,0)","v":0},{"$f":"IF(AI256=\"Oui\",'Q_del,j et Q_del,dh'!$D205,0)","v":0},{"$f":"IF(AJ256=\"Oui\",'Q_del,j et Q_del,dh'!$D205,0)","v":0},{"$f":"IF(AK256=\"Oui\",'Q_del,j et Q_del,dh'!$D205,0)","v":0},{"$f":"IF(AL256=\"Oui\",'Q_del,j et Q_del,dh'!$D205,0)","v":0},{"$f":"IF(AM256=\"Oui\",'Q_del,j et Q_del,dh'!$D205,0)","v":0},{"$f":"IF(AN256=\"Oui\",'Q_del,j et Q_del,dh'!$D205,0)","v":0},{"$f":"IF(AO256=\"Oui\",'Q_del,j et Q_del,dh'!$D205,0)","v":0},{"$f":"IF(AP256=\"Oui\",'Q_del,j et Q_del,dh'!$D205,0)","v":0},{"$f":"IF(AQ256=\"Oui\",'Q_del,j et Q_del,dh'!$D205,0)","v":0},{"$f":"IF(AR256=\"Oui\",'Q_del,j et Q_del,dh'!$D205,0)","v":0},{"$f":"IF(AS256=\"Oui\",'Q_del,j et Q_del,dh'!$D205,0)","v":0},{"$f":"IF(AT256=\"Oui\",'Q_del,j et Q_del,dh'!$D205,0)","v":0},{"$f":"IF(AU256=\"Oui\",'Q_del,j et Q_del,dh'!$D205,0)","v":0},{"$f":"IF(AV256=\"Oui\",'Q_del,j et Q_del,dh'!$D205,0)","v":0},{"$f":"IF(AW256=\"Oui\",'Q_del,j et Q_del,dh'!$D205,0)","v":0},{"$f":"IF(AX256=\"Oui\",'Q_del,j et Q_del,dh'!$D205,0)","v":0},{"$f":"IF(AY256=\"Oui\",'Q_del,j et Q_del,dh'!$D205,0)","v":0},{"$f":"IF(AZ256=\"Oui\",'Q_del,j et Q_del,dh'!$D205,0)","v":0},{"$f":"IF(BA256=\"Oui\",'Q_del,j et Q_del,dh'!$D205,0)","v":0}]
["Qdel,l,j [MJ]","Demandeur de chaleur 199",199,{"$f":"IF(D257=\"Oui\",'Q_del,j et Q_del,dh'!$D206,0)","v":0},{"$f":"IF(E257=\"Oui\",'Q_del,j et Q_del,dh'!$D206,0)","v":0},{"$f":"IF(F257=\"Oui\",'Q_del,j et Q_del,dh'!$D206,0)","v":0},{"$f":"IF(G257=\"Oui\",'Q_del,j et Q_del,dh'!$D206,0)","v":0},{"$f":"IF(H257=\"Oui\",'Q_del,j et Q_del,dh'!$D206,0)","v":0},{"$f":"IF(I257=\"Oui\",'Q_del,j et Q_del,dh'!$D206,0)","v":0},{"$f":"IF(J257=\"Oui\",'Q_del,j et Q_del,dh'!$D206,0)","v":0},{"$f":"IF(K257=\"Oui\",'Q_del,j et Q_del,dh'!$D206,0)","v":0},{"$f":"IF(L257=\"Oui\",'Q_del,j et Q_del,dh'!$D206,0)","v":0},{"$f":"IF(M257=\"Oui\",'Q_del,j et Q_del,dh'!$D206,0)","v":0},{"$f":"IF(N257=\"Oui\",'Q_del,j et Q_del,dh'!$D206,0)","v":0},{"$f":"IF(O257=\"Oui\",'Q_del,j et Q_del,dh'!$D206,0)","v":0},{"$f":"IF(P257=\"Oui\",'Q_del,j et Q_del,dh'!$D206,0)","v":0},{"$f":"IF(Q257=\"Oui\",'Q_del,j et Q_del,dh'!$D206,0)","v":0},{"$f":"IF(R257=\"Oui\",'Q_del,j et Q_del,dh'!$D206,0)","v":0},{"$f":"IF(S257=\"Oui\",'Q_del,j et Q_del,dh'!$D206,0)","v":0},{"$f":"IF(T257=\"Oui\",'Q_del,j et Q_del,dh'!$D206,0)","v":0},{"$f":"IF(U257=\"Oui\",'Q_del,j et Q_del,dh'!$D206,0)","v":0},{"$f":"IF(V257=\"Oui\",'Q_del,j et Q_del,dh'!$D206,0)","v":0},{"$f":"IF(W257=\"Oui\",'Q_del,j et Q_del,dh'!$D206,0)","v":0},{"$f":"IF(X257=\"Oui\",'Q_del,j et Q_del,dh'!$D206,0)","v":0},{"$f":"IF(Y257=\"Oui\",'Q_del,j et Q_del,dh'!$D206,0)","v":0},{"$f":"IF(Z257=\"Oui\",'Q_del,j et Q_del,dh'!$D206,0)","v":0},{"$f":"IF(AA257=\"Oui\",'Q_del,j et Q_del,dh'!$D206,0)","v":0},{"$f":"IF(AB257=\"Oui\",'Q_del,j et Q_del,dh'!$D206,0)","v":0},{"$f":"IF(AC257=\"Oui\",'Q_del,j et Q_del,dh'!$D206,0)","v":0},{"$f":"IF(AD257=\"Oui\",'Q_del,j et Q_del,dh'!$D206,0)","v":0},{"$f":"IF(AE257=\"Oui\",'Q_del,j et Q_del,dh'!$D206,0)","v":0},{"$f":"IF(AF257=\"Oui\",'Q_del,j et Q_del,dh'!$D206,0)","v":0},{"$f":"IF(AG257=\"Oui\",'Q_del,j et Q_del,dh'!$D206,0)","v":0},{"$f":"IF(AH257=\"Oui\",'Q_del,j et Q_del,dh'!$D206,0)","v":0},{"$f":"IF(AI257=\"Oui\",'Q_del,j et Q_del,dh'!$D206,0)","v":0},{"$f":"IF(AJ257=\"Oui\",'Q_del,j et Q_del,dh'!$D206,0)","v":0},{"$f":"IF(AK257=\"Oui\",'Q_del,j et Q_del,dh'!$D206,0)","v":0},{"$f":"IF(AL257=\"Oui\",'Q_del,j et Q_del,dh'!$D206,0)","v":0},{"$f":"IF(AM257=\"Oui\",'Q_del,j et Q_del,dh'!$D206,0)","v":0},{"$f":"IF(AN257=\"Oui\",'Q_del,j et Q_del,dh'!$D206,0)","v":0},{"$f":"IF(AO257=\"Oui\",'Q_del,j et Q_del,dh'!$D206,0)","v":0},{"$f":"IF(AP257=\"Oui\",'Q_del,j et Q_del,dh'!$D206,0)","v":0},{"$f":"IF(AQ257=\"Oui\",'Q_del,j et Q_del,dh'!$D206,0)","v":0},{"$f":"IF(AR257=\"Oui\",'Q_del,j et Q_del,dh'!$D206,0)","v":0},{"$f":"IF(AS257=\"Oui\",'Q_del,j et Q_del,dh'!$D206,0)","v":0},{"$f":"IF(AT257=\"Oui\",'Q_del,j et Q_del,dh'!$D206,0)","v":0},{"$f":"IF(AU257=\"Oui\",'Q_del,j et Q_del,dh'!$D206,0)","v":0},{"$f":"IF(AV257=\"Oui\",'Q_del,j et Q_del,dh'!$D206,0)","v":0},{"$f":"IF(AW257=\"Oui\",'Q_del,j et Q_del,dh'!$D206,0)","v":0},{"$f":"IF(AX257=\"Oui\",'Q_del,j et Q_del,dh'!$D206,0)","v":0},{"$f":"IF(AY257=\"Oui\",'Q_del,j et Q_del,dh'!$D206,0)","v":0},{"$f":"IF(AZ257=\"Oui\",'Q_del,j et Q_del,dh'!$D206,0)","v":0},{"$f":"IF(BA257=\"Oui\",'Q_del,j et Q_del,dh'!$D206,0)","v":0}]
["Qdel,l,j [MJ]","Demandeur de chaleur 200",200,{"$f":"IF(D258=\"Oui\",'Q_del,j et Q_del,dh'!$D207,0)","v":0},{"$f":"IF(E258=\"Oui\",'Q_del,j et Q_del,dh'!$D207,0)","v":0},{"$f":"IF(F258=\"Oui\",'Q_del,j et Q_del,dh'!$D207,0)","v":0},{"$f":"IF(G258=\"Oui\",'Q_del,j et Q_del,dh'!$D207,0)","v":0},{"$f":"IF(H258=\"Oui\",'Q_del,j et Q_del,dh'!$D207,0)","v":0},{"$f":"IF(I258=\"Oui\",'Q_del,j et Q_del,dh'!$D207,0)","v":0},{"$f":"IF(J258=\"Oui\",'Q_del,j et Q_del,dh'!$D207,0)","v":0},{"$f":"IF(K258=\"Oui\",'Q_del,j et Q_del,dh'!$D207,0)","v":0},{"$f":"IF(L258=\"Oui\",'Q_del,j et Q_del,dh'!$D207,0)","v":0},{"$f":"IF(M258=\"Oui\",'Q_del,j et Q_del,dh'!$D207,0)","v":0},{"$f":"IF(N258=\"Oui\",'Q_del,j et Q_del,dh'!$D207,0)","v":0},{"$f":"IF(O258=\"Oui\",'Q_del,j et Q_del,dh'!$D207,0)","v":0},{"$f":"IF(P258=\"Oui\",'Q_del,j et Q_del,dh'!$D207,0)","v":0},{"$f":"IF(Q258=\"Oui\",'Q_del,j et Q_del,dh'!$D207,0)","v":0},{"$f":"IF(R258=\"Oui\",'Q_del,j et Q_del,dh'!$D207,0)","v":0},{"$f":"IF(S258=\"Oui\",'Q_del,j et Q_del,dh'!$D207,0)","v":0},{"$f":"IF(T258=\"Oui\",'Q_del,j et Q_del,dh'!$D207,0)","v":0},{"$f":"IF(U258=\"Oui\",'Q_del,j et Q_del,dh'!$D207,0)","v":0},{"$f":"IF(V258=\"Oui\",'Q_del,j et Q_del,dh'!$D207,0)","v":0},{"$f":"IF(W258=\"Oui\",'Q_del,j et Q_del,dh'!$D207,0)","v":0},{"$f":"IF(X258=\"Oui\",'Q_del,j et Q_del,dh'!$D207,0)","v":0},{"$f":"IF(Y258=\"Oui\",'Q_del,j et Q_del,dh'!$D207,0)","v":0},{"$f":"IF(Z258=\"Oui\",'Q_del,j et Q_del,dh'!$D207,0)","v":0},{"$f":"IF(AA258=\"Oui\",'Q_del,j et Q_del,dh'!$D207,0)","v":0},{"$f":"IF(AB258=\"Oui\",'Q_del,j et Q_del,dh'!$D207,0)","v":0},{"$f":"IF(AC258=\"Oui\",'Q_del,j et Q_del,dh'!$D207,0)","v":0},{"$f":"IF(AD258=\"Oui\",'Q_del,j et Q_del,dh'!$D207,0)","v":0},{"$f":"IF(AE258=\"Oui\",'Q_del,j et Q_del,dh'!$D207,0)","v":0},{"$f":"IF(AF258=\"Oui\",'Q_del,j et Q_del,dh'!$D207,0)","v":0},{"$f":"IF(AG258=\"Oui\",'Q_del,j et Q_del,dh'!$D207,0)","v":0},{"$f":"IF(AH258=\"Oui\",'Q_del,j et Q_del,dh'!$D207,0)","v":0},{"$f":"IF(AI258=\"Oui\",'Q_del,j et Q_del,dh'!$D207,0)","v":0},{"$f":"IF(AJ258=\"Oui\",'Q_del,j et Q_del,dh'!$D207,0)","v":0},{"$f":"IF(AK258=\"Oui\",'Q_del,j et Q_del,dh'!$D207,0)","v":0},{"$f":"IF(AL258=\"Oui\",'Q_del,j et Q_del,dh'!$D207,0)","v":0},{"$f":"IF(AM258=\"Oui\",'Q_del,j et Q_del,dh'!$D207,0)","v":0},{"$f":"IF(AN258=\"Oui\",'Q_del,j et Q_del,dh'!$D207,0)","v":0},{"$f":"IF(AO258=\"Oui\",'Q_del,j et Q_del,dh'!$D207,0)","v":0},{"$f":"IF(AP258=\"Oui\",'Q_del,j et Q_del,dh'!$D207,0)","v":0},{"$f":"IF(AQ258=\"Oui\",'Q_del,j et Q_del,dh'!$D207,0)","v":0},{"$f":"IF(AR258=\"Oui\",'Q_del,j et Q_del,dh'!$D207,0)","v":0},{"$f":"IF(AS258=\"Oui\",'Q_del,j et Q_del,dh'!$D207,0)","v":0},{"$f":"IF(AT258=\"Oui\",'Q_del,j et Q_del,dh'!$D207,0)","v":0},{"$f":"IF(AU258=\"Oui\",'Q_del,j et Q_del,dh'!$D207,0)","v":0},{"$f":"IF(AV258=\"Oui\",'Q_del,j et Q_del,dh'!$D207,0)","v":0},{"$f":"IF(AW258=\"Oui\",'Q_del,j et Q_del,dh'!$D207,0)","v":0},{"$f":"IF(AX258=\"Oui\",'Q_del,j et Q_del,dh'!$D207,0)","v":0},{"$f":"IF(AY258=\"Oui\",'Q_del,j et Q_del,dh'!$D207,0)","v":0},{"$f":"IF(AZ258=\"Oui\",'Q_del,j et Q_del,dh'!$D207,0)","v":0},{"$f":"IF(BA258=\"Oui\",'Q_del,j et Q_del,dh'!$D207,0)","v":0}]
[]
["Identifiant du ballon de stockage / de l'échangeur de chaleur",null,null,1,{"$f":"D515+1","v":2},{"$f":"E515+1","v":3},{"$f":"F515+1","v":4},5,6,7,8,9,10,11,12,13,14,15,16,17,18,19,20,21,22,23,24,25,26,27,28,29,30,31,32,33,34,35,36,37,38,39,40,41,42,43,44,45,46,47,48,49,{"$f":"AZ515+1","v":50}]

{"sheet":"Aux Circulateurs","index":8,"n_rows":17,"n_cols":12,"rows_kept":17,"cut":false,"hidden":true,"merged":[[32,0,32,1],[33,0,33,1],[26,0,26,1],[27,0,27,1],[28,0,28,1],[29,0,29,1],[30,0,30,1],[31,0,31,1],[0,0,0,2],[25,0,25,1],[14,0,14,1],[15,0,15,1],[16,0,16,1],[17,0,17,1],[18,0,18,1],[19,0,19,1],[20,0,20,1],[21,0,21,1],[22,0,22,1],[23,0,23,1],[24,0,24,1],[13,0,13,1],[1,0,1,1],[2,0,2,1],[10,0,10,1],[12,0,12,1],[5,0,5,1],[11,0,11,1],[4,0,4,1],[6,0,6,1],[7,0,7,1],[8,0,8,1],[9,0,9,1]]}
["Énergie auxiliaire des circulateurs"]
[]
["1. Consommation finale électrique annuelle due à l'énergie auxiliaire de tous les circulateurs"]
["Eauxdist,el [MJ]",{"$f":"SUM(C12:L12 )","v":0}]
[]
["2. Consommation finale électrique annuelle due à l'énergie auxiliaire du circulateur j"]
["Caractéristiques",null,{"$f":"\"Circulateur \"&C$17","v":"Circulateur 1"},"Circulateur 2","Circulateur 3","Circulateur 4","Circulateur 5","Circulateur 6","Circulateur 7","Circulateur 8","Circulateur 9","Circulateur 10"]
["Détermination de la consommation en énergie auxiliaire sur base de :"]
["Énergie auxiliaire du circulateur sur base de valeurs issues de mesures [MJ]"]
["Énergie auxiliaire du circulateur sur base de valeurs issues de factures [MJ]"]
["Puissance électrique du circulateur [W]"]
["Résultat partiel : Eauxdist,el,j [MJ]",null,{"$f":"C$16","v":0},{"$f":"D$16","v":0},{"$f":"E$16","v":0},0,0,0,0,0,0,0]
[]
["3. Calculs - Masquer à partir d'ici",null,{"$f":"\"Circulateur \"&C$17","v":"Circulateur 1"},"Circulateur 2","Circulateur 3","Circulateur 4","Circulateur 5","Circulateur 6","Circulateur 7","Circulateur 8","Circulateur 9","Circulateur 10"]
["Index - Consommation énergie auxiliaire",null,{"$f":"IF(C8=\"\",0,VLOOKUP(C$8,T_Hulpenergie,2,FALSE))","v":0},0,0,0,0,0,0,0,0,0]
["Consommation énergie auxiliaire circulateur [MJ]",null,{"$f":"IF(C$15=1,C$9,IF(C$15=2,C$10,IF(C$15=3,C$11*1.5*4.4,0)))","v":0},{"$f":"IF(D$15=1,D$9,IF(D$15=2,D$10,IF(D$15=3,D$11*1.5*4.4,0)))","v":0},{"$f":"IF(E$15=1,E$9,IF(E$15=2,E$10,IF(E$15=3,E$11*1.5*4.4,0)))","v":0},0,0,0,0,0,0,0]
["Identifiant du circulateur",null,1,{"$f":"C17+1","v":2},{"$f":"D17+1","v":3},4,5,6,7,8,9,10]

{"sheet":"Aux Générateurs","index":9,"n_rows":22,"n_cols":12,"rows_kept":22,"cut":false,"hidden":true,"merged":[[34,0,34,1],[35,0,35,1],[28,0,28,1],[29,0,29,1],[30,0,30,1],[31,0,31,1],[32,0,32,1],[33,0,33,1],[0,0,0,3],[27,0,27,1],[16,0,16,1],[17,0,17,1],[19,0,19,1],[20,0,20,1],[21,0,21,1],[22,0,22,1],[23,0,23,1],[24,0,24,1],[25,0,25,1],[26,0,26,1],[15,0,15,1],[1,0,1,1],[4,0,4,1],[6,0,6,1],[12,0,12,1],[14,0,14,1],[2,0,2,1],[5,0,5,1],[13,0,13,1],[7,0,7,1],[8,0,8,1],[9,0,9,1],[10,0,10,1],[11,0,11,1]]}
["Énergie auxiliaires des générateurs"]
[]
["1. Consommation finale électrique annuelle due à l'énergie auxiliaire de tous les générateurs"]
["Eauxprod,el [MJ]",{"$f":"SUM(C14:L14 )","v":0}]
[]
["2. Consommation finale électrique annuelle due à l'énergie auxiliaire du générateur k"]
["Caractéristiques",null,{"$f":"\"Générateur \"&C$22","v":"Générateur 1"},"Générateur 2","Générateur 3","Générateur 4","Générateur 5","Générateur 6","Générateur 7","Générateur 8","Générateur 9","Générateur 10"]
["Détermination de la consommation en énergie auxiliaire sur base de :"]
["Énergie auxiliaire du générateur sur base de valeurs issues de mesures [MJ]"]
["Énergie auxiliaire du générateur sur base de valeurs issues de factures [MJ]"]
["Puissance électrique totale des circulateurs, moteurs et fonctions auxiliaires du générateur [W]"]
["Détermination du temps de fonctionnement annuel équivalent"]
["Temps de fonctionnement annuel équivalent sur base de valeurs issues de mesures [Ms]"]
["Résultat partiel : Eauxprod,el,k [MJ]",null,{"$f":"C18","v":0},{"$f":"D18","v":0},{"$f":"E18","v":0},{"$f":"F18","v":0},0,0,0,0,0,0]
[]
["3. Calculs - Masquer à partir d'ici",null,{"$f":"\"Générateur \"&C$22","v":"Générateur 1"},"Générateur 2","Générateur 3","Générateur 4","Générateur 5","Générateur 6","Générateur 7","Générateur 8","Générateur 9","Générateur 10"]
["Index - Consommation énergie auxiliaire",null,{"$f":"VLOOKUP(C$8,T_Hulpenergie,2,FALSE)","v":{"$error":"#N/A"}},{"$error":"#N/A"},{"$error":"#N/A"},{"$error":"#N/A"},{"$error":"#N/A"},{"$error":"#N/A"},{"$error":"#N/A"},{"$error":"#N/A"},{"$error":"#N/A"},{"$error":"#N/A"}]
["Consommation énergie auxiliaire générateur [MJ]",null,{"$f":"IF(C8=\"\",0,IF('Générateurs de chaleur'!C$7='Listes de sélection'!$A$24,0,IF(C$17=1,C$9,IF(C$17=2,C$10,IF(C$17=3,C$11*C$20,0)))))","v":0},{"$f":"IF(D8=\"\",0,IF('Générateurs de chaleur'!D$7='Listes de sélection'!$A$24,0,IF(D$17=1,D$9,IF(D$17=2,D$10,IF(D$17=3,D$11*D$20,0)))))","v":0},{"$f":"IF(E8=\"\",0,IF('Générateurs de chaleur'!E$7='Listes de sélection'!$A$24,0,IF(E$17=1,E$9,IF(E$17=2,E$10,IF(E$17=3,E$11*E$20,0)))))","v":0},{"$f":"IF(F8=\"\",0,IF('Générateurs de chaleur'!F$7='Listes de sélection'!$A$24,0,IF(F$17=1,F$9,IF(F$17=2,F$10,IF(F$17=3,F$11*F$20,0)))))","v":0},{"$f":"IF(G8=\"\",0,IF('Générateurs de chaleur'!G$7='Listes de sélection'!$A$24,0,IF(G$17=1,G$9,IF(G$17=2,G$10,IF(G$17=3,G$11*G$20,0)))))","v":0},{"$f":"IF(H8=\"\",0,IF('Générateurs de chaleur'!H$7='Listes de sélection'!$A$24,0,IF(H$17=1,H$9,IF(H$17=2,H$10,IF(H$17=3,H$11*H$20,0)))))","v":0},{"$f":"IF(I8=\"\",0,IF('Générateurs de chaleur'!I$7='Listes de sélection'!$A$24,0,IF(I$17=1,I$9,IF(I$17=2,I$10,IF(I$17=3,I$11*I$20,0)))))","v":0},{"$f":"IF(J8=\"\",0,IF('Générateurs de chaleur'!J$7='Listes de sélection'!$A$24,0,IF(J$17=1,J$9,IF(J$17=2,J$10,IF(J$17=3,J$11*J$20,0)))))","v":0},{"$f":"IF(K8=\"\",0,IF('Générateurs de chaleur'!K$7='Listes de sélection'!$A$24,0,IF(K$17=1,K$9,IF(K$17=2,K$10,IF(K$17=3,K$11*K$20,0)))))","v":0},{"$f":"IF(L8=\"\",0,IF('Générateurs de chaleur'!L$7='Listes de sélection'!$A$24,0,IF(L$17=1,L$9,IF(L$17=2,L$10,IF(L$17=3,L$11*L$20,0)))))","v":0}]
["Index - ton,k",null,{"$f":"IF(OR(C8='Listes de sélection'!$A$146,C8='Listes de sélection'!$A$147),\"nvt\",VLOOKUP(C$12,T_tonk,2,FALSE))","v":{"$error":"#N/A"}},{"$f":"IF(OR(D8='Listes de sélection'!$A$146,D8='Listes de sélection'!$A$147),\"nvt\",VLOOKUP(D$12,T_tonk,2,FALSE))","v":{"$error":"#N/A"}},{"$f":"IF(OR(E8='Listes de sélection'!$A$146,E8='Listes de sélection'!$A$147),\"nvt\",VLOOKUP(E$12,T_tonk,2,FALSE))","v":{"$error":"#N/A"}},{"$f":"IF(OR(F8='Listes de sélection'!$A$146,F8='Listes de sélection'!$A$147),\"nvt\",VLOOKUP(F$12,T_tonk,2,FALSE))","v":{"$error":"#N/A"}},{"$f":"IF(OR(G8='Listes de sélection'!$A$146,G8='Listes de sélection'!$A$147),\"nvt\",VLOOKUP(G$12,T_tonk,2,FALSE))","v":{"$error":"#N/A"}},{"$f":"IF(OR(H8='Listes de sélection'!$A$146,H8='Listes de sélection'!$A$147),\"nvt\",VLOOKUP(H$12,T_tonk,2,FALSE))","v":{"$error":"#N/A"}},{"$f":"IF(OR(I8='Listes de sélection'!$A$146,I8='Listes de sélection'!$A$147),\"nvt\",VLOOKUP(I$12,T_tonk,2,FALSE))","v":{"$error":"#N/A"}},{"$f":"IF(OR(J8='Listes de sélection'!$A$146,J8='Listes de sélection'!$A$147),\"nvt\",VLOOKUP(J$12,T_tonk,2,FALSE))","v":{"$error":"#N/A"}},{"$f":"IF(OR(K8='Listes de sélection'!$A$146,K8='Listes de sélection'!$A$147),\"nvt\",VLOOKUP(K$12,T_tonk,2,FALSE))","v":{"$error":"#N/A"}},{"$f":"IF(OR(L8='Listes de sélection'!$A$146,L8='Listes de sélection'!$A$147),\"nvt\",VLOOKUP(L$12,T_tonk,2,FALSE))","v":{"$error":"#N/A"}}]
["ton,k [Ms]",null,{"$f":"IF(OR(C8='Listes de sélection'!$A$146,C8='Listes de sélection'!$A$147),\"nvt\",IF(C$19=1,C$13,C$21))","v":{"$error":"#N/A"}},{"$f":"IF(OR(D8='Listes de sélection'!$A$146,D8='Listes de sélection'!$A$147),\"nvt\",IF(D$19=1,D$13,D$21))","v":{"$error":"#N/A"}},{"$f":"IF(OR(E8='Listes de sélection'!$A$146,E8='Listes de sélection'!$A$147),\"nvt\",IF(E$19=1,E$13,E$21))","v":{"$error":"#N/A"}},{"$f":"IF(OR(F8='Listes de sélection'!$A$146,F8='Listes de sélection'!$A$147),\"nvt\",IF(F$19=1,F$13,F$21))","v":{"$error":"#N/A"}},{"$f":"IF(OR(G8='Listes de sélection'!$A$146,G8='Listes de sélection'!$A$147),\"nvt\",IF(G$19=1,G$13,G$21))","v":{"$error":"#N/A"}},{"$f":"IF(OR(H8='Listes de sélection'!$A$146,H8='Listes de sélection'!$A$147),\"nvt\",IF(H$19=1,H$13,H$21))","v":{"$error":"#N/A"}},{"$f":"IF(OR(I8='Listes de sélection'!$A$146,I8='Listes de sélection'!$A$147),\"nvt\",IF(I$19=1,I$13,I$21))","v":{"$error":"#N/A"}},{"$f":"IF(OR(J8='Listes de sélection'!$A$146,J8='Listes de sélection'!$A$147),\"nvt\",IF(J$19=1,J$13,J$21))","v":{"$error":"#N/A"}},{"$f":"IF(OR(K8='Listes de sélection'!$A$146,K8='Listes de sélection'!$A$147),\"nvt\",IF(K$19=1,K$13,K$21))","v":{"$error":"#N/A"}},{"$f":"IF(OR(L8='Listes de sélection'!$A$146,L8='Listes de sélection'!$A$147),\"nvt\",IF(L$19=1,L$13,L$21))","v":{"$error":"#N/A"}}]
["Valeur de claul ton,k",null,{"$f":"IF(C12='Listes de sélection'!$A$153,\"nvt\",IF(OR(C8='Listes de sélection'!$A$146,C8='Listes de sélection'!$A$147),\"nvt\",1.5*1.1*'Générateurs de chaleur'!C$42*'fp,dh et balance énergétique'!$B$6/(1000*'Générateurs de chaleur'!C$41)))","v":{"$error":"#VALUE!"}},{"$f":"IF(D12='Listes de sélection'!$A$153,\"nvt\",IF(OR(D8='Listes de sélection'!$A$146,D8='Listes de sélection'!$A$147),\"nvt\",1.5*1.1*'Générateurs de chaleur'!D$42*'fp,dh et balance énergétique'!$B$6/(1000*'Générateurs de chaleur'!D$41)))","v":{"$error":"#VALUE!"}},{"$f":"IF(E12='Listes de sélection'!$A$153,\"nvt\",IF(OR(E8='Listes de sélection'!$A$146,E8='Listes de sélection'!$A$147),\"nvt\",1.5*1.1*'Générateurs de chaleur'!E$42*'fp,dh et balance énergétique'!$B$6/(1000*'Générateurs de chaleur'!E$41)))","v":{"$error":"#VALUE!"}},{"$f":"IF(F12='Listes de sélection'!$A$153,\"nvt\",IF(OR(F8='Listes de sélection'!$A$146,F8='Listes de sélection'!$A$147),\"nvt\",1.5*1.1*'Générateurs de chaleur'!F$42*'fp,dh et balance énergétique'!$B$6/(1000*'Générateurs de chaleur'!F$41)))","v":{"$error":"#VALUE!"}},{"$f":"IF(G12='Listes de sélection'!$A$153,\"nvt\",IF(OR(G8='Listes de sélection'!$A$146,G8='Listes de sélection'!$A$147),\"nvt\",1.5*1.1*'Générateurs de chaleur'!G$42*'fp,dh et balance énergétique'!$B$6/(1000*'Générateurs de chaleur'!G$41)))","v":{"$error":"#VALUE!"}},{"$f":"IF(H12='Listes de sélection'!$A$153,\"nvt\",IF(OR(H8='Listes de sélection'!$A$146,H8='Listes de sélection'!$A$147),\"nvt\",1.5*1.1*'Générateurs de chaleur'!H$42*'fp,dh et balance énergétique'!$B$6/(1000*'Générateurs de chaleur'!H$41)))","v":{"$error":"#VALUE!"}},{"$f":"IF(I12='Listes de sélection'!$A$153,\"nvt\",IF(OR(I8='Listes de sélection'!$A$146,I8='Listes de sélection'!$A$147),\"nvt\",1.5*1.1*'Générateurs de chaleur'!I$42*'fp,dh et balance énergétique'!$B$6/(1000*'Générateurs de chaleur'!I$41)))","v":{"$error":"#VALUE!"}},{"$f":"IF(J12='Listes de sélection'!$A$153,\"nvt\",IF(OR(J8='Listes de sélection'!$A$146,J8='Listes de sélection'!$A$147),\"nvt\",1.5*1.1*'Générateurs de chaleur'!J$42*'fp,dh et balance énergétique'!$B$6/(1000*'Générateurs de chaleur'!J$41)))","v":{"$error":"#VALUE!"}},{"$f":"IF(K12='Listes de sélection'!$A$153,\"nvt\",IF(OR(K8='Listes de sélection'!$A$146,K8='Listes de sélection'!$A$147),\"nvt\",1.5*1.1*'Générateurs de chaleur'!K$42*'fp,dh et balance énergétique'!$B$6/(1000*'Générateurs de chaleur'!K$41)))","v":{"$error":"#VALUE!"}},{"$f":"IF(L12='Listes de sélection'!$A$153,\"nvt\",IF(OR(L8='Listes de sélection'!$A$146,L8='Listes de sélection'!$A$147),\"nvt\",1.5*1.1*'Générateurs de chaleur'!L$42*'fp,dh et balance énergétique'!$B$6/(1000*'Générateurs de chaleur'!L$41)))","v":{"$error":"#VALUE!"}}]
["Identifiant du générateur",null,1,{"$f":"C22+1","v":2},{"$f":"D22+1","v":3},{"$f":"E22+1","v":4},5,6,7,8,9,10]

{"sheet":"Listes de sélection","index":10,"n_rows":209,"n_cols":17,"rows_kept":209,"cut":false,"hidden":true,"merged":[[32,2,32,4],[32,5,32,7],[32,8,32,10],[32,11,32,13]]}
["Cet onglet contient des données nécessaires à la programmation et qui ne doivent surtout pas être modifiées !!"]
[]
["Tableau 1 : Vecteurs énergétiques"]
["Vecteur énergétique","Index","fp","fl/h","fCO2"]
["Gaz naturel",1,1,0.9,5.6000000000000001E-2]
["Propane",2,1,0.92,6.3E-2]
["Butane",3,1,0.92,6.3E-2]
["GPL",4,1,0.92,6.3E-2]
["Mazout",5,1,0.94,7.3999999999999996E-2]
["Charbon",6,1,0.96,9.5000000000000001E-2]
["Biomasse",7,1,0.93,0.1]
["Électricité",8,2.5,1,0.11]
["Électricité (production d'une cogénération)",9,2.5,1,0.11]
[]
[]
["Tableau 2 : Oui/Non"]
["Oui",1]
["Non",2]
[]
[]
["Tableau 3 : Type de générateur"]
["Type de générateur","Index"]
["Réseau de chaleur pré-existant",1]
["Générateur de chaleur résiduelle",2]
["Chaudière à condensation",3]
["Chaudière non à condensation",4]
["Cogénération",5]
["Chauffage par résistance électrique",6]
["Géothermie profonde",8]
["Pompe à chaleur électrique",7]
[]
[]
["Tableau 4 : Types de cogénération",null,"a elec",null,null,"b elec",null,null,"a th",null,null,"b th"]
["Type de cogénération","Index","x < 5 kW","5 kW < x < 5 MW","5 MW < x","x < 5 kW","5 kW < x < 5 MW","5 MW < x","x < 5 kW","5 kW < x < 5 MW","5 MW < x","x < 5 kW","5 kW < x < 5 MW","5 MW < x","a","b","fp"]
["Moteur à combustion interne au gaz naturel",1,0.251,0.22800000000000001,0.38400000000000001,0,6.0999999999999999E-2,0,0.57299999999999995,0.623,0.39600000000000002,0,-5.2999999999999999E-2,0,0.33229999999999998,1.123,1]
["Moteur à combustion interne au gaz provenant de la biomasse",2,0.248,0.222,0.4,0,6.9000000000000006E-2,0,0.54200000000000004,0.60099999999999998,0.34499999999999997,0,-6.5000000000000002E-2,0,0.33050000000000002,1.147,1]
["Moteur à combustion interne au mazout",3,0.27900000000000003,0.253,0.433,0,6.3E-2,0,0.53600000000000003,0.58699999999999997,0.36099999999999999,0,-5.7000000000000002E-2,0,0.3947,1.131,1]
["Moteur à combustion interne à l'huile végétale",4,0.26800000000000002,0.24,0.436,0,7.0000000000000007E-2,0,0.57299999999999995,0.63700000000000001,0.36299999999999999,0,-6.6000000000000003E-2,0,0.3306,1.1519999999999999,1]
["Autre",5]
[]
[]
["Tableau 5 : Liste de sélection pour la détermination de la demande de chaleur"]
["Détermination de la chaleur délivrée sur base de :","Index"]
["Valeur(s) issue(s) de mesure(s) ",1]
["Valeur(s) issue(s) de facture(s) ",2]
["Valeur(s) PEB",3]
["Surface totale de plancher chauffée (Ach)",4]
["Valeur(s) par défaut",5]
[]
[]
["Tableau 6 : Liste de sélection des types de demandeur de chaleur"]
["Type de demandeur de chaleur","Index","Q_del,j,f_Heat","Qdel,j,f_Water","Heat + Water","Heat","Hum","Cool","Heat + Hum","Heat + Cool","Hum + Cool","Heat + Hum + Cool","A_ch,j,f"]
[null,"Index",1,2,3,1,2,3,4,5,6,7]
["Appartement",1,177,34,{"$f":"C54+D54","v":211},0,0,0,0,0,0,0,98]
["Maison mitoyenne",2,177,32,{"$f":"C55+D55","v":209},0,0,0,0,0,0,0,181]
["Maison 3 façades",3,195,32,{"$f":"C56+D56","v":227},0,0,0,0,0,0,0,189]
["Maison 4 façades",4,198,31,{"$f":"C57+D57","v":229},0,0,0,0,0,0,0,227]
["Autres unités",5,145,20,{"$f":"C58+D58","v":165},0,{"$f":"F58","v":0},{"$f":"F58","v":0},{"$f":"F58","v":0},{"$f":"F58","v":0},{"$f":"F58","v":0},{"$f":"F58","v":0}]
[]
[]
[]
[]
["Tableau 8 : Type d'unité PEB"]
["Type d'unité PEB","Index"]
["Unité PER",1]
["Unité PEN",3]
[]
[]
["Tableau 9 : Mise en œuvre des conduites souterraines"]
["Mise en œuvre des conduites souterraines","Index","fx,j"]
["2 ou plusieurs conduites parallèles en pleine terre",1,1.05]
["1 seule conduite placée en pleine terre",2,1]
["2 conduites, placées dans un tubage de conduite souterrain commun",3,0.8]
["Autre mode de placement",4,0.6]
[]
[]
[]
["Tableau 10 : Temps de fonctionnement mensuel conventionnel du réseau de distribution de chaleur n, la valeur par défaut étant la durée du mois considéré telle que reprise au Tableau [1] de l'Annexe  PER  "]
["Mois","Index","theat,netw n,m [Ms]","θe,m [°C]","11+0,4*θe,m [°C]","18 [°C]"]
["Janv.",1,2.6783999999999999,3.2,{"$f":"11+0.4*D80","v":12.280000000000001},18]
["Févr.",2,2.4192,3.9,{"$f":"11+0.4*D81","v":12.56},18]
["Mars",3,2.6783999999999999,5.9,{"$f":"11+0.4*D82","v":13.36},18]
["Avr.",4,2.5920000000000001,9.1999999999999993,14.68,18]
["Mai",5,2.6783999999999999,13.3,16.32,18]
["Juin",6,2.5920000000000001,16.2,17.48,18]
["Juil.",7,2.6783999999999999,17.600000000000001,18.04,18]
["Août",8,2.6783999999999999,17.600000000000001,18.04,18]
["Sept.",9,2.5920000000000001,15.2,17.079999999999998,18]
["Oct.",10,2.6783999999999999,11.2,15.48,18]
["Nov.",11,2.5920000000000001,6.3,13.52,18]
["Déc.",12,2.6783999999999999,3.5,{"$f":"11+0.4*D91","v":12.4},18]
[]
[]
["Tableau 11 : θamb,m,n [°C] / environnement du segment"]
["Environnement du segment n","Index","hse,j [W/m²K]"]
["A l'intérieur du volume protégé",1,8]
["Dans un EANC du demandeur de chaleur",2,10]
["A l'extérieur",3,25]
[]
[]
["Tableau 12 : Liste de sélection pour la détermination des déperditions"]
["Détermination des déperditions de chaleur sur base de :","Index "]
["Valeur(s) par défaut",1]
["Calcul détaillé",2]
[]
[]
["Tableau 13 : Limites du réseau de chaleur"]
["Situation","Index","Limites du réseau"]
["Il y a un compteur de chaleur",1,"Au compteur de chaleur"]
["Il y a plusieurs compteurs de chaleur",2]
["Il n'y a pas de compteur de chaleur, mais il y a bien une sous-station près du demandeur de chaleur",3,"Á la sous-station"]
["Il n'y a ni compteur de chaleur, ni sous-station au demandeur de chaleur",4,"Á l'entrée du bâtiment"]
[]
[]
["Tableau 14 : Application de la chaleur fournie à l'unité PER"]
["Possibilités","Index"]
["Pour le chauffage des locaux",1]
["Pour l'eau chaude sanitaire",2]
["Pour le chauffage des locaux et l'eau chaude sanitaire",3]
[]
[]
["Tableau 14 : Application de la chaleur fournie à l'unité PEN"]
["Possibilités","Index"]
["Pour le chauffage des locaux",1]
["Pour l'humidification",2]
["Pour le refroidissement",3]
["Pour le chauffage des locaux et l'humidification",4]
["Pour le chauffage des locaux et le refroidissement",5]
["Pour l'humidification et le refroidissement",6]
["Pour le chauffage, l'humidification et le refroidissement",7]
[]
[]
["Tableau 15 : Source de chaleur de la PAC"]
["Source de chaleur","Index"]
["Sol",1]
["Sol (évaporation directe)",2]
["Eau souterraine",3]
["Eau de surface",4]
["Air neuf (extérieur) uniquement",5]
["Air rejeté uniquement",6]
["Air rejeté mélangé avec de l'air neuf",7]
[]
[]
["Tableau 16 : Calcul de l'énergie auxiliaire"]
["Détermination de la consommation en énergie auxiliaire","Index"]
["Valeur(s) issue(s) de mesure(s) ",1]
["Valeur(s) issue(s) de facture(s) ",2]
["Valeur(s) de calcul",3]
[]
[]
["Tableau 17 : Détermination de t_on,k"]
["Détermination de t_on,k","Index"]
["Valeur(s) issue(s) de mesure(s) ",1]
["Valeur(s) de calcul",2]
[]
[]
["Tableau 18 : Variable auxiliaire adimensionnelle pour la détermination de la fraction d'énergie pour les générateurs indépendants de l'environnement"]
["βgen,k","f'heat,k"]
[0,0]
[0.1,0.45]
[0.2,0.7]
[0.3,0.84]
[0.4,0.92]
[0.5,0.96]
[0.6,0.98]
[0.7,1]
[0.8,1]
[0.9,1]
[1,1]
[]
[]
["Tableau 19 : Valeurs issues de lesure ou facture vs. Calcul de la consommation d'énergie des générateurs de chaleur"]
["Détermination de Egen,i","Index"]
["Valeur(s) issue(s) de mesure(s) ou de facture(s)",1]
["Valeur(s) de calcul",2]
[]
[]
["Tableau 20 : Relation du demandeur vis-à-vis du système de fourniture de chaleur externe"]
["Relation du demandeur","Index"]
["Déclarant PEB",1]
["Opérateur du réseau de chaleur",2]
["Promoteur",3]
["Autre",4]
[]
[]
["Tableau 21 : Existant ou nouveau"]
[null,"Index"]
["Existant",1]
["Neuf",2]
[]
[]
["Tableau 22 : Systèmes de fourniture de chaleur externe"]
["Type de système","Index"]
["Un système situé uniquement à l'intérieur du site et qui alimente plusieurs bâtiments",1]
["Un système qui se déploit en dehors du site et qui alimente plusieurs bâtiments",2]
["Un système qui alimente au moins un bâtiment situé en dehors du site",3]
[]
[]
["Tableau 23 : Facteur de correction pour tenir compte de l'impact des ponts thermiques"]
[null,"Index","finsul, netw n"]
["Cas 1",1,1.1000000000000001]
["Cas 2",2,1.3]
["Cas 3",3,2]
[]
[]
["Tableau 24 : Forme des conduites"]
[null,"Index"]
["Conduite / Gaine circulaire",1]
["Gaine rectangulaire",2]

{"sheet":"fp,dh et balance énergétique","index":11,"n_rows":22,"n_cols":4,"rows_kept":22,"cut":false,"hidden":true,"merged":[]}
["Résultats intermédiaires niveau dh"]
[]
["Qdel,dh",{"$f":"'Q_del,j et Q_del,dh'!C4","v":0}]
["Qlossdist,dh",{"$f":"IF(DÉMARRER!$C$6='Listes de sélection'!$A$153,\"nvt\",IF(DÉMARRER!$C$7='Listes de sélection'!$A$104,'Déperditions linéaires'!$B$4,\"nvt\"))","v":"nvt"}]
["Qlossloc,dh",{"$f":"IF(DÉMARRER!$C$6='Listes de sélection'!$A$153,\"nvt\",IF(DÉMARRER!$C$7='Listes de sélection'!$A$104,'Déperditions locales'!$B$4,\"nvt\"))","v":"nvt"}]
["Qgen,dh",{"$f":"IF(DÉMARRER!$C$6='Listes de sélection'!$A$153,'Générateurs de chaleur'!$B$106,IF(DÉMARRER!$C$7='Listes de sélection'!$A$103,'fp,dh et balance énergétique'!$B$3*1.4,'fp,dh et balance énergétique'!$B$3+'fp,dh et balance énergétique'!$B$4+'fp,dh et balance énergétique'!$B$5))","v":{"$error":"#VALUE!"}}]
["Pgen,dh",{"$f":"$B$6/4000","v":{"$error":"#VALUE!"}}]
["Ep,dh",{"$f":"SUM($D$15:$D$19)-$B$22","v":0}]
["fp,dh",{"$f":"MAX($B$8/$B$3,0.7)","v":{"$error":"#DIV/0!"}}]
["fp,dh*",{"$f":"$B$8/$B$3","v":{"$error":"#DIV/0!"}}]
["fRE,dh",{"$f":"'Générateurs de chaleur'!$B$101","v":0}]
[]
["Résultats intermédiaires niveau i"]
["i","Egen,i [MJ]*fp,i","Eaux,i [MJ]*fp,i","Ein,i [MJ]*fp,i"]
["Fossile",{"$f":"'Générateurs de chaleur'!B89","v":0},0,{"$f":"B15+C15","v":0}]
["Électrique",{"$f":"'Générateurs de chaleur'!B90","v":0},{"$f":" IF(DÉMARRER!$C$8='Listes de sélection'!$A$103,0.02*'fp,dh et balance énergétique'!$B$6,'Aux Circulateurs'!$B$4+'Aux Générateurs'!$B$4)*2.5","v":0},{"$f":"B16+C16","v":0}]
["Biomasse",{"$f":"'Générateurs de chaleur'!B91","v":0},0,{"$f":"B17+C17","v":0}]
["Chaleur résiduelle",{"$f":"'Générateurs de chaleur'!B92","v":0},0,{"$f":"B18+C18","v":0}]
["Réseau de chaleur en amont",{"$f":"'Générateurs de chaleur'!B93","v":0},0,0]
[]
["i","Eout,i [MJ]*fp,i"]
["Électricité issue d'une cogen",{"$f":"'Générateurs de chaleur'!B97*2.5","v":0}]

{"sheet":"Q_del,j et Q_del,dh","index":12,"n_rows":207,"n_cols":12,"rows_kept":207,"cut":false,"hidden":true,"merged":[]}
[null,"Quantité de chaleur qui est délivrée aux demandeurs de chaleur"]
[]
[null,"1. La quantité de chaleur qui est délivrée annuellement aux demandeurs de chaleur du système de fourniture de chaleur externe"]
[null,"Qdel,dh [MJ]",{"$f":"'Demandeurs de chaleur'!B4","v":0}]
[]
["Masquer","2. La quantité de chaleur qui est délivrée annuellement au demandeur de chaleur j"]
[null,"Demandeur de chaleur","Nom","Qdel,j [MJ]","Soumis à la PEB ?","Type unité PEB","Utilisation chaleur pour chauffage","Utilisation chaleur pour eau chaude sanitaire","Utilisation chaleur pour refroidissement","Utilisation chaleur pour humidification","Rend.","Limite du réseau de chaleur"]
[0,{"$f":"\"Demandeur de chaleur \"&A8+1","v":"Demandeur de chaleur 1"},{"$f":"IF(A8=\"\",\"\",OFFSET('Demandeurs de chaleur'!$C$7,2,A8,1,1))","v":0},{"$f":"IF(A8=\"\",\"\",OFFSET('Demandeurs de chaleur'!$C$7,30,A8,1,1))","v":0},{"$f":"IF(A8=\"\",\"\",OFFSET('Demandeurs de chaleur'!$C$7,5,A8,1,1))","v":0},{"$f":"IF(A8=\"\",\"\",OFFSET('Demandeurs de chaleur'!$C$7,6,A8,1,1))","v":0},{"$f":"IF(OR(F8='Listes de sélection'!$A$65,F8='Listes de sélection'!$A$66),(IF(A8=\"\",\"\",OFFSET('Demandeurs de chaleur'!$C$7,8,A8,1,1))),\"Non\")","v":"Non"},{"$f":"IF(OR(F8='Listes de sélection'!$A$65,F8='Listes de sélection'!$A$66),(IF(A8=\"\",\"\",OFFSET('Demandeurs de chaleur'!$C$7,9,A8,1,1))),\"Non\")","v":"Non"},{"$f":"IF(OR(F8='Listes de sélection'!$A$66),(IF(A8=\"\",\"\",OFFSET('Demandeurs de chaleur'!$C$7,10,A8,1,1))),\"Non\")","v":"Non"},{"$f":"IF(OR(F8='Listes de sélection'!$A$66),(IF(A8=\"\",\"\",OFFSET('Demandeurs de chaleur'!$C$7,11,A8,1,1))),\"Non\")","v":"Non"},{"$f":"IF(A8=\"\",\"\",IF(OFFSET('Demandeurs de chaleur'!$C$7,7,A8,1,1)=\"Oui\",0.97,1))","v":1},{"$f":"IF(A8=\"\",\"\",IF(OFFSET('Demandeurs de chaleur'!$C$7,12,A8,1,1)=\"Er zijn meerdere warmtemeters\",CONCATENATE(OFFSET('Demandeurs de chaleur'!$C$7,12,A8,1,1),\": \",OFFSET('Demandeurs de chaleur'!$C$7,13,A8,1,1)),OFFSET('Demandeurs de chaleur'!$C$7,12,A8,1,1)))","v":0}]
[{"$f":"A8+1","v":1},"Demandeur de chaleur 2",{"$f":"IF(A9=\"\",\"\",OFFSET('Demandeurs de chaleur'!$C$7,2,A9,1,1))","v":0},{"$f":"IF(A9=\"\",\"\",OFFSET('Demandeurs de chaleur'!$C$7,30,A9,1,1))","v":0},{"$f":"IF(A9=\"\",\"\",OFFSET('Demandeurs de chaleur'!$C$7,5,A9,1,1))","v":0},{"$f":"IF(A9=\"\",\"\",OFFSET('Demandeurs de chaleur'!$C$7,6,A9,1,1))","v":0},{"$f":"IF(OR(F9='Listes de sélection'!$A$65,F9='Listes de sélection'!$A$66),(IF(A9=\"\",\"\",OFFSET('Demandeurs de chaleur'!$C$7,8,A9,1,1))),\"Non\")","v":"Non"},{"$f":"IF(OR(F9='Listes de sélection'!$A$65,F9='Listes de sélection'!$A$66),(IF(A9=\"\",\"\",OFFSET('Demandeurs de chaleur'!$C$7,9,A9,1,1))),\"Non\")","v":"Non"},{"$f":"IF(OR(F9='Listes de sélection'!$A$66),(IF(A9=\"\",\"\",OFFSET('Demandeurs de chaleur'!$C$7,10,A9,1,1))),\"Non\")","v":"Non"},{"$f":"IF(OR(F9='Listes de sélection'!$A$66),(IF(A9=\"\",\"\",OFFSET('Demandeurs de chaleur'!$C$7,11,A9,1,1))),\"Non\")","v":"Non"},{"$f":"IF(A9=\"\",\"\",IF(OFFSET('Demandeurs de chaleur'!$C$7,7,A9,1,1)=\"Oui\",0.97,1))","v":1},{"$f":"IF(A9=\"\",\"\",IF(OFFSET('Demandeurs de chaleur'!$C$7,12,A9,1,1)=\"Er zijn meerdere warmtemeters\",CONCATENATE(OFFSET('Demandeurs de chaleur'!$C$7,12,A9,1,1),\": \",OFFSET('Demandeurs de chaleur'!$C$7,13,A9,1,1)),OFFSET('Demandeurs de chaleur'!$C$7,12,A9,1,1)))","v":0}]
[{"$f":"A9+1","v":2},"Demandeur de chaleur 3",{"$f":"IF(A10=\"\",\"\",OFFSET('Demandeurs de chaleur'!$C$7,2,A10,1,1))","v":0},{"$f":"IF(A10=\"\",\"\",OFFSET('Demandeurs de chaleur'!$C$7,30,A10,1,1))","v":0},{"$f":"IF(A10=\"\",\"\",OFFSET('Demandeurs de chaleur'!$C$7,5,A10,1,1))","v":0},{"$f":"IF(A10=\"\",\"\",OFFSET('Demandeurs de chaleur'!$C$7,6,A10,1,1))","v":0},{"$f":"IF(OR(F10='Listes de sélection'!$A$65,F10='Listes de sélection'!$A$66),(IF(A10=\"\",\"\",OFFSET('Demandeurs de chaleur'!$C$7,8,A10,1,1))),\"Non\")","v":"Non"},{"$f":"IF(OR(F10='Listes de sélection'!$A$65,F10='Listes de sélection'!$A$66),(IF(A10=\"\",\"\",OFFSET('Demandeurs de chaleur'!$C$7,9,A10,1,1))),\"Non\")","v":"Non"},{"$f":"IF(OR(F10='Listes de sélection'!$A$66),(IF(A10=\"\",\"\",OFFSET('Demandeurs de chaleur'!$C$7,10,A10,1,1))),\"Non\")","v":"Non"},{"$f":"IF(OR(F10='Listes de sélection'!$A$66),(IF(A10=\"\",\"\",OFFSET('Demandeurs de chaleur'!$C$7,11,A10,1,1))),\"Non\")","v":"Non"},{"$f":"IF(A10=\"\",\"\",IF(OFFSET('Demandeurs de chaleur'!$C$7,7,A10,1,1)=\"Oui\",0.97,1))","v":1},{"$f":"IF(A10=\"\",\"\",IF(OFFSET('Demandeurs de chaleur'!$C$7,12,A10,1,1)=\"Er zijn meerdere warmtemeters\",CONCATENATE(OFFSET('Demandeurs de chaleur'!$C$7,12,A10,1,1),\": \",OFFSET('Demandeurs de chaleur'!$C$7,13,A10,1,1)),OFFSET('Demandeurs de chaleur'!$C$7,12,A10,1,1)))","v":0}]
[{"$f":"A10+1","v":3},"Demandeur de chaleur 4",{"$f":"IF(A11=\"\",\"\",OFFSET('Demandeurs de chaleur'!$C$7,2,A11,1,1))","v":0},{"$f":"IF(A11=\"\",\"\",OFFSET('Demandeurs de chaleur'!$C$7,30,A11,1,1))","v":0},{"$f":"IF(A11=\"\",\"\",OFFSET('Demandeurs de chaleur'!$C$7,5,A11,1,1))","v":0},{"$f":"IF(A11=\"\",\"\",OFFSET('Demandeurs de chaleur'!$C$7,6,A11,1,1))","v":0},{"$f":"IF(OR(F11='Listes de sélection'!$A$65,F11='Listes de sélection'!$A$66),(IF(A11=\"\",\"\",OFFSET('Demandeurs de chaleur'!$C$7,8,A11,1,1))),\"Non\")","v":"Non"},{"$f":"IF(OR(F11='Listes de sélection'!$A$65,F11='Listes de sélection'!$A$66),(IF(A11=\"\",\"\",OFFSET('Demandeurs de chaleur'!$C$7,9,A11,1,1))),\"Non\")","v":"Non"},{"$f":"IF(OR(F11='Listes de sélection'!$A$66),(IF(A11=\"\",\"\",OFFSET('Demandeurs de chaleur'!$C$7,10,A11,1,1))),\"Non\")","v":"Non"},{"$f":"IF(OR(F11='Listes de sélection'!$A$66),(IF(A11=\"\",\"\",OFFSET('Demandeurs de chaleur'!$C$7,11,A11,1,1))),\"Non\")","v":"Non"},{"$f":"IF(A11=\"\",\"\",IF(OFFSET('Demandeurs de chaleur'!$C$7,7,A11,1,1)=\"Oui\",0.97,1))","v":1},{"$f":"IF(A11=\"\",\"\",IF(OFFSET('Demandeurs de chaleur'!$C$7,12,A11,1,1)=\"Er zijn meerdere warmtemeters\",CONCATENATE(OFFSET('Demandeurs de chaleur'!$C$7,12,A11,1,1),\": \",OFFSET('Demandeurs de chaleur'!$C$7,13,A11,1,1)),OFFSET('Demandeurs de chaleur'!$C$7,12,A11,1,1)))","v":0}]
[4,"Demandeur de chaleur 5",{"$f":"IF(A12=\"\",\"\",OFFSET('Demandeurs de chaleur'!$C$7,2,A12,1,1))","v":0},{"$f":"IF(A12=\"\",\"\",OFFSET('Demandeurs de chaleur'!$C$7,30,A12,1,1))","v":0},{"$f":"IF(A12=\"\",\"\",OFFSET('Demandeurs de chaleur'!$C$7,5,A12,1,1))","v":0},{"$f":"IF(A12=\"\",\"\",OFFSET('Demandeurs de chaleur'!$C$7,6,A12,1,1))","v":0},{"$f":"IF(OR(F12='Listes de sélection'!$A$65,F12='Listes de sélection'!$A$66),(IF(A12=\"\",\"\",OFFSET('Demandeurs de chaleur'!$C$7,8,A12,1,1))),\"Non\")","v":"Non"},{"$f":"IF(OR(F12='Listes de sélection'!$A$65,F12='Listes de sélection'!$A$66),(IF(A12=\"\",\"\",OFFSET('Demandeurs de chaleur'!$C$7,9,A12,1,1))),\"Non\")","v":"Non"},{"$f":"IF(OR(F12='Listes de sélection'!$A$66),(IF(A12=\"\",\"\",OFFSET('Demandeurs de chaleur'!$C$7,10,A12,1,1))),\"Non\")","v":"Non"},{"$f":"IF(OR(F12='Listes de sélection'!$A$66),(IF(A12=\"\",\"\",OFFSET('Demandeurs de chaleur'!$C$7,11,A12,1,1))),\"Non\")","v":"Non"},{"$f":"IF(A12=\"\",\"\",IF(OFFSET('Demandeurs de chaleur'!$C$7,7,A12,1,1)=\"Oui\",0.97,1))","v":1},{"$f":"IF(A12=\"\",\"\",IF(OFFSET('Demandeurs de chaleur'!$C$7,10,A12,1,1)=\"Er zijn meerdere warmtemeters\",CONCATENATE(OFFSET('Demandeurs de chaleur'!$C$7,10,A12,1,1),\": \",OFFSET('Demandeurs de chaleur'!$C$7,11,A12,1,1)),OFFSET('Demandeurs de chaleur'!$C$7,10,A12,1,1)))","v":0}]
[5,"Demandeur de chaleur 6",{"$f":"IF(A13=\"\",\"\",OFFSET('Demandeurs de chaleur'!$C$7,2,A13,1,1))","v":0},{"$f":"IF(A13=\"\",\"\",OFFSET('Demandeurs de chaleur'!$C$7,30,A13,1,1))","v":0},{"$f":"IF(A13=\"\",\"\",OFFSET('Demandeurs de chaleur'!$C$7,5,A13,1,1))","v":0},{"$f":"IF(A13=\"\",\"\",OFFSET('Demandeurs de chaleur'!$C$7,6,A13,1,1))","v":0},{"$f":"IF(OR(F13='Listes de sélection'!$A$65,F13='Listes de sélection'!$A$66),(IF(A13=\"\",\"\",OFFSET('Demandeurs de chaleur'!$C$7,8,A13,1,1))),\"Non\")","v":"Non"},{"$f":"IF(OR(F13='Listes de sélection'!$A$65,F13='Listes de sélection'!$A$66),(IF(A13=\"\",\"\",OFFSET('Demandeurs de chaleur'!$C$7,9,A13,1,1))),\"Non\")","v":"Non"},{"$f":"IF(OR(F13='Listes de sélection'!$A$66),(IF(A13=\"\",\"\",OFFSET('Demandeurs de chaleur'!$C$7,10,A13,1,1))),\"Non\")","v":"Non"},{"$f":"IF(OR(F13='Listes de sélection'!$A$66),(IF(A13=\"\",\"\",OFFSET('Demandeurs de chaleur'!$C$7,11,A13,1,1))),\"Non\")","v":"Non"},{"$f":"IF(A13=\"\",\"\",IF(OFFSET('Demandeurs de chaleur'!$C$7,7,A13,1,1)=\"Oui\",0.97,1))","v":1},{"$f":"IF(A13=\"\",\"\",IF(OFFSET('Demandeurs de chaleur'!$C$7,10,A13,1,1)=\"Er zijn meerdere warmtemeters\",CONCATENATE(OFFSET('Demandeurs de chaleur'!$C$7,10,A13,1,1),\": \",OFFSET('Demandeurs de chaleur'!$C$7,11,A13,1,1)),OFFSET('Demandeurs de chaleur'!$C$7,10,A13,1,1)))","v":0}]
[6,"Demandeur de chaleur 7",{"$f":"IF(A14=\"\",\"\",OFFSET('Demandeurs de chaleur'!$C$7,2,A14,1,1))","v":0},{"$f":"IF(A14=\"\",\"\",OFFSET('Demandeurs de chaleur'!$C$7,30,A14,1,1))","v":0},{"$f":"IF(A14=\"\",\"\",OFFSET('Demandeurs de chaleur'!$C$7,5,A14,1,1))","v":0},{"$f":"IF(A14=\"\",\"\",OFFSET('Demandeurs de chaleur'!$C$7,6,A14,1,1))","v":0},{"$f":"IF(OR(F14='Listes de sélection'!$A$65,F14='Listes de sélection'!$A$66),(IF(A14=\"\",\"\",OFFSET('Demandeurs de chaleur'!$C$7,8,A14,1,1))),\"Non\")","v":"Non"},{"$f":"IF(OR(F14='Listes de sélection'!$A$65,F14='Listes de sélection'!$A$66),(IF(A14=\"\",\"\",OFFSET('Demandeurs de chaleur'!$C$7,9,A14,1,1))),\"Non\")","v":"Non"},{"$f":"IF(OR(F14='Listes de sélection'!$A$66),(IF(A14=\"\",\"\",OFFSET('Demandeurs de chaleur'!$C$7,10,A14,1,1))),\"Non\")","v":"Non"},{"$f":"IF(OR(F14='Listes de sélection'!$A$66),(IF(A14=\"\",\"\",OFFSET('Demandeurs de chaleur'!$C$7,11,A14,1,1))),\"Non\")","v":"Non"},{"$f":"IF(A14=\"\",\"\",IF(OFFSET('Demandeurs de chaleur'!$C$7,7,A14,1,1)=\"Oui\",0.97,1))","v":1},{"$f":"IF(A14=\"\",\"\",OFFSET('Demandeurs de chaleur'!$C$7,10,A14,1,1))","v":0}]
[7,"Demandeur de chaleur 8",{"$f":"IF(A15=\"\",\"\",OFFSET('Demandeurs de chaleur'!$C$7,2,A15,1,1))","v":0},{"$f":"IF(A15=\"\",\"\",OFFSET('Demandeurs de chaleur'!$C$7,30,A15,1,1))","v":0},{"$f":"IF(A15=\"\",\"\",OFFSET('Demandeurs de chaleur'!$C$7,5,A15,1,1))","v":0},{"$f":"IF(A15=\"\",\"\",OFFSET('Demandeurs de chaleur'!$C$7,6,A15,1,1))","v":0},{"$f":"IF(OR(F15='Listes de sélection'!$A$65,F15='Listes de sélection'!$A$66),(IF(A15=\"\",\"\",OFFSET('Demandeurs de chaleur'!$C$7,8,A15,1,1))),\"Non\")","v":"Non"},{"$f":"IF(OR(F15='Listes de sélection'!$A$65,F15='Listes de sélection'!$A$66),(IF(A15=\"\",\"\",OFFSET('Demandeurs de chaleur'!$C$7,9,A15,1,1))),\"Non\")","v":"Non"},{"$f":"IF(OR(F15='Listes de sélection'!$A$66),(IF(A15=\"\",\"\",OFFSET('Demandeurs de chaleur'!$C$7,10,A15,1,1))),\"Non\")","v":"Non"},{"$f":"IF(OR(F15='Listes de sélection'!$A$66),(IF(A15=\"\",\"\",OFFSET('Demandeurs de chaleur'!$C$7,11,A15,1,1))),\"Non\")","v":"Non"},{"$f":"IF(A15=\"\",\"\",IF(OFFSET('Demandeurs de chaleur'!$C$7,7,A15,1,1)=\"Oui\",0.97,1))","v":1},{"$f":"IF(A15=\"\",\"\",OFFSET('Demandeurs de chaleur'!$C$7,10,A15,1,1))","v":0}]
[8,"Demandeur de chaleur 9",{"$f":"IF(A16=\"\",\"\",OFFSET('Demandeurs de chaleur'!$C$7,2,A16,1,1))","v":0},{"$f":"IF(A16=\"\",\"\",OFFSET('Demandeurs de chaleur'!$C$7,30,A16,1,1))","v":0},{"$f":"IF(A16=\"\",\"\",OFFSET('Demandeurs de chaleur'!$C$7,5,A16,1,1))","v":0},{"$f":"IF(A16=\"\",\"\",OFFSET('Demandeurs de chaleur'!$C$7,6,A16,1,1))","v":0},{"$f":"IF(OR(F16='Listes de sélection'!$A$65,F16='Listes de sélection'!$A$66),(IF(A16=\"\",\"\",OFFSET('Demandeurs de chaleur'!$C$7,8,A16,1,1))),\"Non\")","v":"Non"},{"$f":"IF(OR(F16='Listes de sélection'!$A$65,F16='Listes de sélection'!$A$66),(IF(A16=\"\",\"\",OFFSET('Demandeurs de chaleur'!$C$7,9,A16,1,1))),\"Non\")","v":"Non"},{"$f":"IF(OR(F16='Listes de sélection'!$A$66),(IF(A16=\"\",\"\",OFFSET('Demandeurs de chaleur'!$C$7,10,A16,1,1))),\"Non\")","v":"Non"},{"$f":"IF(OR(F16='Listes de sélection'!$A$66),(IF(A16=\"\",\"\",OFFSET('Demandeurs de chaleur'!$C$7,11,A16,1,1))),\"Non\")","v":"Non"},{"$f":"IF(A16=\"\",\"\",IF(OFFSET('Demandeurs de chaleur'!$C$7,7,A16,1,1)=\"Oui\",0.97,1))","v":1},{"$f":"IF(A16=\"\",\"\",OFFSET('Demandeurs de chaleur'!$C$7,10,A16,1,1))","v":0}]
[9,"Demandeur de chaleur 10",{"$f":"IF(A17=\"\",\"\",OFFSET('Demandeurs de chaleur'!$C$7,2,A17,1,1))","v":0},{"$f":"IF(A17=\"\",\"\",OFFSET('Demandeurs de chaleur'!$C$7,30,A17,1,1))","v":0},{"$f":"IF(A17=\"\",\"\",OFFSET('Demandeurs de chaleur'!$C$7,5,A17,1,1))","v":0},{"$f":"IF(A17=\"\",\"\",OFFSET('Demandeurs de chaleur'!$C$7,6,A17,1,1))","v":0},{"$f":"IF(OR(F17='Listes de sélection'!$A$65,F17='Listes de sélection'!$A$66),(IF(A17=\"\",\"\",OFFSET('Demandeurs de chaleur'!$C$7,8,A17,1,1))),\"Non\")","v":"Non"},{"$f":"IF(OR(F17='Listes de sélection'!$A$65,F17='Listes de sélection'!$A$66),(IF(A17=\"\",\"\",OFFSET('Demandeurs de chaleur'!$C$7,9,A17,1,1))),\"Non\")","v":"Non"},{"$f":"IF(OR(F17='Listes de sélection'!$A$66),(IF(A17=\"\",\"\",OFFSET('Demandeurs de chaleur'!$C$7,10,A17,1,1))),\"Non\")","v":"Non"},{"$f":"IF(OR(F17='Listes de sélection'!$A$66),(IF(A17=\"\",\"\",OFFSET('Demandeurs de chaleur'!$C$7,11,A17,1,1))),\"Non\")","v":"Non"},{"$f":"IF(A17=\"\",\"\",IF(OFFSET('Demandeurs de chaleur'!$C$7,7,A17,1,1)=\"Oui\",0.97,1))","v":1},{"$f":"IF(A17=\"\",\"\",OFFSET('Demandeurs de chaleur'!$C$7,10,A17,1,1))","v":0}]
[10,"Demandeur de chaleur 11",{"$f":"IF(A18=\"\",\"\",OFFSET('Demandeurs de chaleur'!$C$7,2,A18,1,1))","v":0},{"$f":"IF(A18=\"\",\"\",OFFSET('Demandeurs de chaleur'!$C$7,30,A18,1,1))","v":0},{"$f":"IF(A18=\"\",\"\",OFFSET('Demandeurs de chaleur'!$C$7,5,A18,1,1))","v":0},{"$f":"IF(A18=\"\",\"\",OFFSET('Demandeurs de chaleur'!$C$7,6,A18,1,1))","v":0},{"$f":"IF(OR(F18='Listes de sélection'!$A$65,F18='Listes de sélection'!$A$66),(IF(A18=\"\",\"\",OFFSET('Demandeurs de chaleur'!$C$7,8,A18,1,1))),\"Non\")","v":"Non"},{"$f":"IF(OR(F18='Listes de sélection'!$A$65,F18='Listes de sélection'!$A$66),(IF(A18=\"\",\"\",OFFSET('Demandeurs de chaleur'!$C$7,9,A18,1,1))),\"Non\")","v":"Non"},{"$f":"IF(OR(F18='Listes de sélection'!$A$66),(IF(A18=\"\",\"\",OFFSET('Demandeurs de chaleur'!$C$7,10,A18,1,1))),\"Non\")","v":"Non"},{"$f":"IF(OR(F18='Listes de sélection'!$A$66),(IF(A18=\"\",\"\",OFFSET('Demandeurs de chaleur'!$C$7,11,A18,1,1))),\"Non\")","v":"Non"},{"$f":"IF(A18=\"\",\"\",IF(OFFSET('Demandeurs de chaleur'!$C$7,7,A18,1,1)=\"Oui\",0.97,1))","v":1},{"$f":"IF(A18=\"\",\"\",OFFSET('Demandeurs de chaleur'!$C$7,10,A18,1,1))","v":0}]
[11,"Demandeur de chaleur 12",{"$f":"IF(A19=\"\",\"\",OFFSET('Demandeurs de chaleur'!$C$7,2,A19,1,1))","v":0},{"$f":"IF(A19=\"\",\"\",OFFSET('Demandeurs de chaleur'!$C$7,30,A19,1,1))","v":0},{"$f":"IF(A19=\"\",\"\",OFFSET('Demandeurs de chaleur'!$C$7,5,A19,1,1))","v":0},{"$f":"IF(A19=\"\",\"\",OFFSET('Demandeurs de chaleur'!$C$7,6,A19,1,1))","v":0},{"$f":"IF(OR(F19='Listes de sélection'!$A$65,F19='Listes de sélection'!$A$66),(IF(A19=\"\",\"\",OFFSET('Demandeurs de chaleur'!$C$7,8,A19,1,1))),\"Non\")","v":"Non"},{"$f":"IF(OR(F19='Listes de sélection'!$A$65,F19='Listes de sélection'!$A$66),(IF(A19=\"\",\"\",OFFSET('Demandeurs de chaleur'!$C$7,9,A19,1,1))),\"Non\")","v":"Non"},{"$f":"IF(OR(F19='Listes de sélection'!$A$66),(IF(A19=\"\",\"\",OFFSET('Demandeurs de chaleur'!$C$7,10,A19,1,1))),\"Non\")","v":"Non"},{"$f":"IF(OR(F19='Listes de sélection'!$A$66),(IF(A19=\"\",\"\",OFFSET('Demandeurs de chaleur'!$C$7,11,A19,1,1))),\"Non\")","v":"Non"},{"$f":"IF(A19=\"\",\"\",IF(OFFSET('Demandeurs de chaleur'!$C$7,7,A19,1,1)=\"Oui\",0.97,1))","v":1},{"$f":"IF(A19=\"\",\"\",OFFSET('Demandeurs de chaleur'!$C$7,10,A19,1,1))","v":0}]
[12,"Demandeur de chaleur 13",{"$f":"IF(A20=\"\",\"\",OFFSET('Demandeurs de chaleur'!$C$7,2,A20,1,1))","v":0},{"$f":"IF(A20=\"\",\"\",OFFSET('Demandeurs de chaleur'!$C$7,30,A20,1,1))","v":0},{"$f":"IF(A20=\"\",\"\",OFFSET('Demandeurs de chaleur'!$C$7,5,A20,1,1))","v":0},{"$f":"IF(A20=\"\",\"\",OFFSET('Demandeurs de chaleur'!$C$7,6,A20,1,1))","v":0},{"$f":"IF(OR(F20='Listes de sélection'!$A$65,F20='Listes de sélection'!$A$66),(IF(A20=\"\",\"\",OFFSET('Demandeurs de chaleur'!$C$7,8,A20,1,1))),\"Non\")","v":"Non"},{"$f":"IF(OR(F20='Listes de sélection'!$A$65,F20='Listes de sélection'!$A$66),(IF(A20=\"\",\"\",OFFSET('Demandeurs de chaleur'!$C$7,9,A20,1,1))),\"Non\")","v":"Non"},{"$f":"IF(OR(F20='Listes de sélection'!$A$66),(IF(A20=\"\",\"\",OFFSET('Demandeurs de chaleur'!$C$7,10,A20,1,1))),\"Non\")","v":"Non"},{"$f":"IF(OR(F20='Listes de sélection'!$A$66),(IF(A20=\"\",\"\",OFFSET('Demandeurs de chaleur'!$C$7,11,A20,1,1))),\"Non\")","v":"Non"},{"$f":"IF(A20=\"\",\"\",IF(OFFSET('Demandeurs de chaleur'!$C$7,7,A20,1,1)=\"Oui\",0.97,1))","v":1},{"$f":"IF(A20=\"\",\"\",OFFSET('Demandeurs de chaleur'!$C$7,10,A20,1,1))","v":0}]
[13,"Demandeur de chaleur 14",{"$f":"IF(A21=\"\",\"\",OFFSET('Demandeurs de chaleur'!$C$7,2,A21,1,1))","v":0},{"$f":"IF(A21=\"\",\"\",OFFSET('Demandeurs de chaleur'!$C$7,30,A21,1,1))","v":0},{"$f":"IF(A21=\"\",\"\",OFFSET('Demandeurs de chaleur'!$C$7,5,A21,1,1))","v":0},{"$f":"IF(A21=\"\",\"\",OFFSET('Demandeurs de chaleur'!$C$7,6,A21,1,1))","v":0},{"$f":"IF(OR(F21='Listes de sélection'!$A$65,F21='Listes de sélection'!$A$66),(IF(A21=\"\",\"\",OFFSET('Demandeurs de chaleur'!$C$7,8,A21,1,1))),\"Non\")","v":"Non"},{"$f":"IF(OR(F21='Listes de sélection'!$A$65,F21='Listes de sélection'!$A$66),(IF(A21=\"\",\"\",OFFSET('Demandeurs de chaleur'!$C$7,9,A21,1,1))),\"Non\")","v":"Non"},{"$f":"IF(OR(F21='Listes de sélection'!$A$66),(IF(A21=\"\",\"\",OFFSET('Demandeurs de chaleur'!$C$7,10,A21,1,1))),\"Non\")","v":"Non"},{"$f":"IF(OR(F21='Listes de sélection'!$A$66),(IF(A21=\"\",\"\",OFFSET('Demandeurs de chaleur'!$C$7,11,A21,1,1))),\"Non\")","v":"Non"},{"$f":"IF(A21=\"\",\"\",IF(OFFSET('Demandeurs de chaleur'!$C$7,7,A21,1,1)=\"Oui\",0.97,1))","v":1},{"$f":"IF(A21=\"\",\"\",OFFSET('Demandeurs de chaleur'!$C$7,10,A21,1,1))","v":0}]
[14,"Demandeur de chaleur 15",{"$f":"IF(A22=\"\",\"\",OFFSET('Demandeurs de chaleur'!$C$7,2,A22,1,1))","v":0},{"$f":"IF(A22=\"\",\"\",OFFSET('Demandeurs de chaleur'!$C$7,30,A22,1,1))","v":0},{"$f":"IF(A22=\"\",\"\",OFFSET('Demandeurs de chaleur'!$C$7,5,A22,1,1))","v":0},{"$f":"IF(A22=\"\",\"\",OFFSET('Demandeurs de chaleur'!$C$7,6,A22,1,1))","v":0},{"$f":"IF(OR(F22='Listes de sélection'!$A$65,F22='Listes de sélection'!$A$66),(IF(A22=\"\",\"\",OFFSET('Demandeurs de chaleur'!$C$7,8,A22,1,1))),\"Non\")","v":"Non"},{"$f":"IF(OR(F22='Listes de sélection'!$A$65,F22='Listes de sélection'!$A$66),(IF(A22=\"\",\"\",OFFSET('Demandeurs de chaleur'!$C$7,9,A22,1,1))),\"Non\")","v":"Non"},{"$f":"IF(OR(F22='Listes de sélection'!$A$66),(IF(A22=\"\",\"\",OFFSET('Demandeurs de chaleur'!$C$7,10,A22,1,1))),\"Non\")","v":"Non"},{"$f":"IF(OR(F22='Listes de sélection'!$A$66),(IF(A22=\"\",\"\",OFFSET('Demandeurs de chaleur'!$C$7,11,A22,1,1))),\"Non\")","v":"Non"},{"$f":"IF(A22=\"\",\"\",IF(OFFSET('Demandeurs de chaleur'!$C$7,7,A22,1,1)=\"Oui\",0.97,1))","v":1},{"$f":"IF(A22=\"\",\"\",OFFSET('Demandeurs de chaleur'!$C$7,10,A22,1,1))","v":0}]
[15,"Demandeur de chaleur 16",{"$f":"IF(A23=\"\",\"\",OFFSET('Demandeurs de chaleur'!$C$7,2,A23,1,1))","v":0},{"$f":"IF(A23=\"\",\"\",OFFSET('Demandeurs de chaleur'!$C$7,30,A23,1,1))","v":0},{"$f":"IF(A23=\"\",\"\",OFFSET('Demandeurs de chaleur'!$C$7,5,A23,1,1))","v":0},{"$f":"IF(A23=\"\",\"\",OFFSET('Demandeurs de chaleur'!$C$7,6,A23,1,1))","v":0},{"$f":"IF(OR(F23='Listes de sélection'!$A$65,F23='Listes de sélection'!$A$66),(IF(A23=\"\",\"\",OFFSET('Demandeurs de chaleur'!$C$7,8,A23,1,1))),\"Non\")","v":"Non"},{"$f":"IF(OR(F23='Listes de sélection'!$A$65,F23='Listes de sélection'!$A$66),(IF(A23=\"\",\"\",OFFSET('Demandeurs de chaleur'!$C$7,9,A23,1,1))),\"Non\")","v":"Non"},{"$f":"IF(OR(F23='Listes de sélection'!$A$66),(IF(A23=\"\",\"\",OFFSET('Demandeurs de chaleur'!$C$7,10,A23,1,1))),\"Non\")","v":"Non"},{"$f":"IF(OR(F23='Listes de sélection'!$A$66),(IF(A23=\"\",\"\",OFFSET('Demandeurs de chaleur'!$C$7,11,A23,1,1))),\"Non\")","v":"Non"},{"$f":"IF(A23=\"\",\"\",IF(OFFSET('Demandeurs de chaleur'!$C$7,7,A23,1,1)=\"Oui\",0.97,1))","v":1},{"$f":"IF(A23=\"\",\"\",OFFSET('Demandeurs de chaleur'!$C$7,10,A23,1,1))","v":0}]
[16,"Demandeur de chaleur 17",{"$f":"IF(A24=\"\",\"\",OFFSET('Demandeurs de chaleur'!$C$7,2,A24,1,1))","v":0},{"$f":"IF(A24=\"\",\"\",OFFSET('Demandeurs de chaleur'!$C$7,30,A24,1,1))","v":0},{"$f":"IF(A24=\"\",\"\",OFFSET('Demandeurs de chaleur'!$C$7,5,A24,1,1))","v":0},{"$f":"IF(A24=\"\",\"\",OFFSET('Demandeurs de chaleur'!$C$7,6,A24,1,1))","v":0},{"$f":"IF(OR(F24='Listes de sélection'!$A$65,F24='Listes de sélection'!$A$66),(IF(A24=\"\",\"\",OFFSET('Demandeurs de chaleur'!$C$7,8,A24,1,1))),\"Non\")","v":"Non"},{"$f":"IF(OR(F24='Listes de sélection'!$A$65,F24='Listes de sélection'!$A$66),(IF(A24=\"\",\"\",OFFSET('Demandeurs de chaleur'!$C$7,9,A24,1,1))),\"Non\")","v":"Non"},{"$f":"IF(OR(F24='Listes de sélection'!$A$66),(IF(A24=\"\",\"\",OFFSET('Demandeurs de chaleur'!$C$7,10,A24,1,1))),\"Non\")","v":"Non"},{"$f":"IF(OR(F24='Listes de sélection'!$A$66),(IF(A24=\"\",\"\",OFFSET('Demandeurs de chaleur'!$C$7,11,A24,1,1))),\"Non\")","v":"Non"},{"$f":"IF(A24=\"\",\"\",IF(OFFSET('Demandeurs de chaleur'!$C$7,7,A24,1,1)=\"Oui\",0.97,1))","v":1},{"$f":"IF(A24=\"\",\"\",OFFSET('Demandeurs de chaleur'!$C$7,10,A24,1,1))","v":0}]
[17,"Demandeur de chaleur 18",{"$f":"IF(A25=\"\",\"\",OFFSET('Demandeurs de chaleur'!$C$7,2,A25,1,1))","v":0},{"$f":"IF(A25=\"\",\"\",OFFSET('Demandeurs de chaleur'!$C$7,30,A25,1,1))","v":0},{"$f":"IF(A25=\"\",\"\",OFFSET('Demandeurs de chaleur'!$C$7,5,A25,1,1))","v":0},{"$f":"IF(A25=\"\",\"\",OFFSET('Demandeurs de chaleur'!$C$7,6,A25,1,1))","v":0},{"$f":"IF(OR(F25='Listes de sélection'!$A$65,F25='Listes de sélection'!$A$66),(IF(A25=\"\",\"\",OFFSET('Demandeurs de chaleur'!$C$7,8,A25,1,1))),\"Non\")","v":"Non"},{"$f":"IF(OR(F25='Listes de sélection'!$A$65,F25='Listes de sélection'!$A$66),(IF(A25=\"\",\"\",OFFSET('Demandeurs de chaleur'!$C$7,9,A25,1,1))),\"Non\")","v":"Non"},{"$f":"IF(OR(F25='Listes de sélection'!$A$66),(IF(A25=\"\",\"\",OFFSET('Demandeurs de chaleur'!$C$7,10,A25,1,1))),\"Non\")","v":"Non"},{"$f":"IF(OR(F25='Listes de sélection'!$A$66),(IF(A25=\"\",\"\",OFFSET('Demandeurs de chaleur'!$C$7,11,A25,1,1))),\"Non\")","v":"Non"},{"$f":"IF(A25=\"\",\"\",IF(OFFSET('Demandeurs de chaleur'!$C$7,7,A25,1,1)=\"Oui\",0.97,1))","v":1},{"$f":"IF(A25=\"\",\"\",OFFSET('Demandeurs de chaleur'!$C$7,10,A25,1,1))","v":0}]
[18,"Demandeur de chaleur 19",{"$f":"IF(A26=\"\",\"\",OFFSET('Demandeurs de chaleur'!$C$7,2,A26,1,1))","v":0},{"$f":"IF(A26=\"\",\"\",OFFSET('Demandeurs de chaleur'!$C$7,30,A26,1,1))","v":0},{"$f":"IF(A26=\"\",\"\",OFFSET('Demandeurs de chaleur'!$C$7,5,A26,1,1))","v":0},{"$f":"IF(A26=\"\",\"\",OFFSET('Demandeurs de chaleur'!$C$7,6,A26,1,1))","v":0},{"$f":"IF(OR(F26='Listes de sélection'!$A$65,F26='Listes de sélection'!$A$66),(IF(A26=\"\",\"\",OFFSET('Demandeurs de chaleur'!$C$7,8,A26,1,1))),\"Non\")","v":"Non"},{"$f":"IF(OR(F26='Listes de sélection'!$A$65,F26='Listes de sélection'!$A$66),(IF(A26=\"\",\"\",OFFSET('Demandeurs de chaleur'!$C$7,9,A26,1,1))),\"Non\")","v":"Non"},{"$f":"IF(OR(F26='Listes de sélection'!$A$66),(IF(A26=\"\",\"\",OFFSET('Demandeurs de chaleur'!$C$7,10,A26,1,1))),\"Non\")","v":"Non"},{"$f":"IF(OR(F26='Listes de sélection'!$A$66),(IF(A26=\"\",\"\",OFFSET('Demandeurs de chaleur'!$C$7,11,A26,1,1))),\"Non\")","v":"Non"},{"$f":"IF(A26=\"\",\"\",IF(OFFSET('Demandeurs de chaleur'!$C$7,7,A26,1,1)=\"Oui\",0.97,1))","v":1},{"$f":"IF(A26=\"\",\"\",OFFSET('Demandeurs de chaleur'!$C$7,10,A26,1,1))","v":0}]
[19,"Demandeur de chaleur 20",{"$f":"IF(A27=\"\",\"\",OFFSET('Demandeurs de chaleur'!$C$7,2,A27,1,1))","v":0},{"$f":"IF(A27=\"\",\"\",OFFSET('Demandeurs de chaleur'!$C$7,30,A27,1,1))","v":0},{"$f":"IF(A27=\"\",\"\",OFFSET('Demandeurs de chaleur'!$C$7,5,A27,1,1))","v":0},{"$f":"IF(A27=\"\",\"\",OFFSET('Demandeurs de chaleur'!$C$7,6,A27,1,1))","v":0},{"$f":"IF(OR(F27='Listes de sélection'!$A$65,F27='Listes de sélection'!$A$66),(IF(A27=\"\",\"\",OFFSET('Demandeurs de chaleur'!$C$7,8,A27,1,1))),\"Non\")","v":"Non"},{"$f":"IF(OR(F27='Listes de sélection'!$A$65,F27='Listes de sélection'!$A$66),(IF(A27=\"\",\"\",OFFSET('Demandeurs de chaleur'!$C$7,9,A27,1,1))),\"Non\")","v":"Non"},{"$f":"IF(OR(F27='Listes de sélection'!$A$66),(IF(A27=\"\",\"\",OFFSET('Demandeurs de chaleur'!$C$7,10,A27,1,1))),\"Non\")","v":"Non"},{"$f":"IF(OR(F27='Listes de sélection'!$A$66),(IF(A27=\"\",\"\",OFFSET('Demandeurs de chaleur'!$C$7,11,A27,1,1))),\"Non\")","v":"Non"},{"$f":"IF(A27=\"\",\"\",IF(OFFSET('Demandeurs de chaleur'!$C$7,7,A27,1,1)=\"Oui\",0.97,1))","v":1},{"$f":"IF(A27=\"\",\"\",OFFSET('Demandeurs de chaleur'!$C$7,10,A27,1,1))","v":0}]
[20,"Demandeur de chaleur 21",{"$f":"IF(A28=\"\",\"\",OFFSET('Demandeurs de chaleur'!$C$7,2,A28,1,1))","v":0},{"$f":"IF(A28=\"\",\"\",OFFSET('Demandeurs de chaleur'!$C$7,30,A28,1,1))","v":0},{"$f":"IF(A28=\"\",\"\",OFFSET('Demandeurs de chaleur'!$C$7,5,A28,1,1))","v":0},{"$f":"IF(A28=\"\",\"\",OFFSET('Demandeurs de chaleur'!$C$7,6,A28,1,1))","v":0},{"$f":"IF(OR(F28='Listes de sélection'!$A$65,F28='Listes de sélection'!$A$66),(IF(A28=\"\",\"\",OFFSET('Demandeurs de chaleur'!$C$7,8,A28,1,1))),\"Non\")","v":"Non"},{"$f":"IF(OR(F28='Listes de sélection'!$A$65,F28='Listes de sélection'!$A$66),(IF(A28=\"\",\"\",OFFSET('Demandeurs de chaleur'!$C$7,9,A28,1,1))),\"Non\")","v":"Non"},{"$f":"IF(OR(F28='Listes de sélection'!$A$66),(IF(A28=\"\",\"\",OFFSET('Demandeurs de chaleur'!$C$7,10,A28,1,1))),\"Non\")","v":"Non"},{"$f":"IF(OR(F28='Listes de sélection'!$A$66),(IF(A28=\"\",\"\",OFFSET('Demandeurs de chaleur'!$C$7,11,A28,1,1))),\"Non\")","v":"Non"},{"$f":"IF(A28=\"\",\"\",IF(OFFSET('Demandeurs de chaleur'!$C$7,7,A28,1,1)=\"Oui\",0.97,1))","v":1},{"$f":"IF(A28=\"\",\"\",OFFSET('Demandeurs de chaleur'!$C$7,10,A28,1,1))","v":0}]
[21,"Demandeur de chaleur 22",{"$f":"IF(A29=\"\",\"\",OFFSET('Demandeurs de chaleur'!$C$7,2,A29,1,1))","v":0},{"$f":"IF(A29=\"\",\"\",OFFSET('Demandeurs de chaleur'!$C$7,30,A29,1,1))","v":0},{"$f":"IF(A29=\"\",\"\",OFFSET('Demandeurs de chaleur'!$C$7,5,A29,1,1))","v":0},{"$f":"IF(A29=\"\",\"\",OFFSET('Demandeurs de chaleur'!$C$7,6,A29,1,1))","v":0},{"$f":"IF(OR(F29='Listes de sélection'!$A$65,F29='Listes de sélection'!$A$66),(IF(A29=\"\",\"\",OFFSET('Demandeurs de chaleur'!$C$7,8,A29,1,1))),\"Non\")","v":"Non"},{"$f":"IF(OR(F29='Listes de sélection'!$A$65,F29='Listes de sélection'!$A$66),(IF(A29=\"\",\"\",OFFSET('Demandeurs de chaleur'!$C$7,9,A29,1,1))),\"Non\")","v":"Non"},{"$f":"IF(OR(F29='Listes de sélection'!$A$66),(IF(A29=\"\",\"\",OFFSET('Demandeurs de chaleur'!$C$7,10,A29,1,1))),\"Non\")","v":"Non"},{"$f":"IF(OR(F29='Listes de sélection'!$A$66),(IF(A29=\"\",\"\",OFFSET('Demandeurs de chaleur'!$C$7,11,A29,1,1))),\"Non\")","v":"Non"},{"$f":"IF(A29=\"\",\"\",IF(OFFSET('Demandeurs de chaleur'!$C$7,7,A29,1,1)=\"Oui\",0.97,1))","v":1},{"$f":"IF(A29=\"\",\"\",OFFSET('Demandeurs de chaleur'!$C$7,10,A29,1,1))","v":0}]
[22,"Demandeur de chaleur 23",{"$f":"IF(A30=\"\",\"\",OFFSET('Demandeurs de chaleur'!$C$7,2,A30,1,1))","v":0},{"$f":"IF(A30=\"\",\"\",OFFSET('Demandeurs de chaleur'!$C$7,30,A30,1,1))","v":0},{"$f":"IF(A30=\"\",\"\",OFFSET('Demandeurs de chaleur'!$C$7,5,A30,1,1))","v":0},{"$f":"IF(A30=\"\",\"\",OFFSET('Demandeurs de chaleur'!$C$7,6,A30,1,1))","v":0},{"$f":"IF(OR(F30='Listes de sélection'!$A$65,F30='Listes de sélection'!$A$66),(IF(A30=\"\",\"\",OFFSET('Demandeurs de chaleur'!$C$7,8,A30,1,1))),\"Non\")","v":"Non"},{"$f":"IF(OR(F30='Listes de sélection'!$A$65,F30='Listes de sélection'!$A$66),(IF(A30=\"\",\"\",OFFSET('Demandeurs de chaleur'!$C$7,9,A30,1,1))),\"Non\")","v":"Non"},{"$f":"IF(OR(F30='Listes de sélection'!$A$66),(IF(A30=\"\",\"\",OFFSET('Demandeurs de chaleur'!$C$7,10,A30,1,1))),\"Non\")","v":"Non"},{"$f":"IF(OR(F30='Listes de sélection'!$A$66),(IF(A30=\"\",\"\",OFFSET('Demandeurs de chaleur'!$C$7,11,A30,1,1))),\"Non\")","v":"Non"},{"$f":"IF(A30=\"\",\"\",IF(OFFSET('Demandeurs de chaleur'!$C$7,7,A30,1,1)=\"Oui\",0.97,1))","v":1},{"$f":"IF(A30=\"\",\"\",OFFSET('Demandeurs de chaleur'!$C$7,10,A30,1,1))","v":0}]
[23,"Demandeur de chaleur 24",{"$f":"IF(A31=\"\",\"\",OFFSET('Demandeurs de chaleur'!$C$7,2,A31,1,1))","v":0},{"$f":"IF(A31=\"\",\"\",OFFSET('Demandeurs de chaleur'!$C$7,30,A31,1,1))","v":0},{"$f":"IF(A31=\"\",\"\",OFFSET('Demandeurs de chaleur'!$C$7,5,A31,1,1))","v":0},{"$f":"IF(A31=\"\",\"\",OFFSET('Demandeurs de chaleur'!$C$7,6,A31,1,1))","v":0},{"$f":"IF(OR(F31='Listes de sélection'!$A$65,F31='Listes de sélection'!$A$66),(IF(A31=\"\",\"\",OFFSET('Demandeurs de chaleur'!$C$7,8,A31,1,1))),\"Non\")","v":"Non"},{"$f":"IF(OR(F31='Listes de sélection'!$A$65,F31='Listes de sélection'!$A$66),(IF(A31=\"\",\"\",OFFSET('Demandeurs de chaleur'!$C$7,9,A31,1,1))),\"Non\")","v":"Non"},{"$f":"IF(OR(F31='Listes de sélection'!$A$66),(IF(A31=\"\",\"\",OFFSET('Demandeurs de chaleur'!$C$7,10,A31,1,1))),\"Non\")","v":"Non"},{"$f":"IF(OR(F31='Listes de sélection'!$A$66),(IF(A31=\"\",\"\",OFFSET('Demandeurs de chaleur'!$C$7,11,A31,1,1))),\"Non\")","v":"Non"},{"$f":"IF(A31=\"\",\"\",IF(OFFSET('Demandeurs de chaleur'!$C$7,7,A31,1,1)=\"Oui\",0.97,1))","v":1},{"$f":"IF(A31=\"\",\"\",OFFSET('Demandeurs de chaleur'!$C$7,10,A31,1,1))","v":0}]
[24,"Demandeur de chaleur 25",{"$f":"IF(A32=\"\",\"\",OFFSET('Demandeurs de chaleur'!$C$7,2,A32,1,1))","v":0},{"$f":"IF(A32=\"\",\"\",OFFSET('Demandeurs de chaleur'!$C$7,30,A32,1,1))","v":0},{"$f":"IF(A32=\"\",\"\",OFFSET('Demandeurs de chaleur'!$C$7,5,A32,1,1))","v":0},{"$f":"IF(A32=\"\",\"\",OFFSET('Demandeurs de chaleur'!$C$7,6,A32,1,1))","v":0},{"$f":"IF(OR(F32='Listes de sélection'!$A$65,F32='Listes de sélection'!$A$66),(IF(A32=\"\",\"\",OFFSET('Demandeurs de chaleur'!$C$7,8,A32,1,1))),\"Non\")","v":"Non"},{"$f":"IF(OR(F32='Listes de sélection'!$A$65,F32='Listes de sélection'!$A$66),(IF(A32=\"\",\"\",OFFSET('Demandeurs de chaleur'!$C$7,9,A32,1,1))),\"Non\")","v":"Non"},{"$f":"IF(OR(F32='Listes de sélection'!$A$66),(IF(A32=\"\",\"\",OFFSET('Demandeurs de chaleur'!$C$7,10,A32,1,1))),\"Non\")","v":"Non"},{"$f":"IF(OR(F32='Listes de sélection'!$A$66),(IF(A32=\"\",\"\",OFFSET('Demandeurs de chaleur'!$C$7,11,A32,1,1))),\"Non\")","v":"Non"},{"$f":"IF(A32=\"\",\"\",IF(OFFSET('Demandeurs de chaleur'!$C$7,7,A32,1,1)=\"Oui\",0.97,1))","v":1},{"$f":"IF(A32=\"\",\"\",OFFSET('Demandeurs de chaleur'!$C$7,10,A32,1,1))","v":0}]
[25,"Demandeur de chaleur 26",{"$f":"IF(A33=\"\",\"\",OFFSET('Demandeurs de chaleur'!$C$7,2,A33,1,1))","v":0},{"$f":"IF(A33=\"\",\"\",OFFSET('Demandeurs de chaleur'!$C$7,30,A33,1,1))","v":0},{"$f":"IF(A33=\"\",\"\",OFFSET('Demandeurs de chaleur'!$C$7,5,A33,1,1))","v":0},{"$f":"IF(A33=\"\",\"\",OFFSET('Demandeurs de chaleur'!$C$7,6,A33,1,1))","v":0},{"$f":"IF(OR(F33='Listes de sélection'!$A$65,F33='Listes de sélection'!$A$66),(IF(A33=\"\",\"\",OFFSET('Demandeurs de chaleur'!$C$7,8,A33,1,1))),\"Non\")","v":"Non"},{"$f":"IF(OR(F33='Listes de sélection'!$A$65,F33='Listes de sélection'!$A$66),(IF(A33=\"\",\"\",OFFSET('Demandeurs de chaleur'!$C$7,9,A33,1,1))),\"Non\")","v":"Non"},{"$f":"IF(OR(F33='Listes de sélection'!$A$66),(IF(A33=\"\",\"\",OFFSET('Demandeurs de chaleur'!$C$7,10,A33,1,1))),\"Non\")","v":"Non"},{"$f":"IF(OR(F33='Listes de sélection'!$A$66),(IF(A33=\"\",\"\",OFFSET('Demandeurs de chaleur'!$C$7,11,A33,1,1))),\"Non\")","v":"Non"},{"$f":"IF(A33=\"\",\"\",IF(OFFSET('Demandeurs de chaleur'!$C$7,7,A33,1,1)=\"Oui\",0.97,1))","v":1},{"$f":"IF(A33=\"\",\"\",OFFSET('Demandeurs de chaleur'!$C$7,10,A33,1,1))","v":0}]
[26,"Demandeur de chaleur 27",{"$f":"IF(A34=\"\",\"\",OFFSET('Demandeurs de chaleur'!$C$7,2,A34,1,1))","v":0},{"$f":"IF(A34=\"\",\"\",OFFSET('Demandeurs de chaleur'!$C$7,30,A34,1,1))","v":0},{"$f":"IF(A34=\"\",\"\",OFFSET('Demandeurs de chaleur'!$C$7,5,A34,1,1))","v":0},{"$f":"IF(A34=\"\",\"\",OFFSET('Demandeurs de chaleur'!$C$7,6,A34,1,1))","v":0},{"$f":"IF(OR(F34='Listes de sélection'!$A$65,F34='Listes de sélection'!$A$66),(IF(A34=\"\",\"\",OFFSET('Demandeurs de chaleur'!$C$7,8,A34,1,1))),\"Non\")","v":"Non"},{"$f":"IF(OR(F34='Listes de sélection'!$A$65,F34='Listes de sélection'!$A$66),(IF(A34=\"\",\"\",OFFSET('Demandeurs de chaleur'!$C$7,9,A34,1,1))),\"Non\")","v":"Non"},{"$f":"IF(OR(F34='Listes de sélection'!$A$66),(IF(A34=\"\",\"\",OFFSET('Demandeurs de chaleur'!$C$7,10,A34,1,1))),\"Non\")","v":"Non"},{"$f":"IF(OR(F34='Listes de sélection'!$A$66),(IF(A34=\"\",\"\",OFFSET('Demandeurs de chaleur'!$C$7,11,A34,1,1))),\"Non\")","v":"Non"},{"$f":"IF(A34=\"\",\"\",IF(OFFSET('Demandeurs de chaleur'!$C$7,7,A34,1,1)=\"Oui\",0.97,1))","v":1},{"$f":"IF(A34=\"\",\"\",OFFSET('Demandeurs de chaleur'!$C$7,10,A34,1,1))","v":0}]
[27,"Demandeur de chaleur 28",{"$f":"IF(A35=\"\",\"\",OFFSET('Demandeurs de chaleur'!$C$7,2,A35,1,1))","v":0},{"$f":"IF(A35=\"\",\"\",OFFSET('Demandeurs de chaleur'!$C$7,30,A35,1,1))","v":0},{"$f":"IF(A35=\"\",\"\",OFFSET('Demandeurs de chaleur'!$C$7,5,A35,1,1))","v":0},{"$f":"IF(A35=\"\",\"\",OFFSET('Demandeurs de chaleur'!$C$7,6,A35,1,1))","v":0},{"$f":"IF(OR(F35='Listes de sélection'!$A$65,F35='Listes de sélection'!$A$66),(IF(A35=\"\",\"\",OFFSET('Demandeurs de chaleur'!$C$7,8,A35,1,1))),\"Non\")","v":"Non"},{"$f":"IF(OR(F35='Listes de sélection'!$A$65,F35='Listes de sélection'!$A$66),(IF(A35=\"\",\"\",OFFSET('Demandeurs de chaleur'!$C$7,9,A35,1,1))),\"Non\")","v":"Non"},{"$f":"IF(OR(F35='Listes de sélection'!$A$66),(IF(A35=\"\",\"\",OFFSET('Demandeurs de chaleur'!$C$7,10,A35,1,1))),\"Non\")","v":"Non"},{"$f":"IF(OR(F35='Listes de sélection'!$A$66),(IF(A35=\"\",\"\",OFFSET('Demandeurs de chaleur'!$C$7,11,A35,1,1))),\"Non\")","v":"Non"},{"$f":"IF(A35=\"\",\"\",IF(OFFSET('Demandeurs de chaleur'!$C$7,7,A35,1,1)=\"Oui\",0.97,1))","v":1},{"$f":"IF(A35=\"\",\"\",OFFSET('Demandeurs de chaleur'!$C$7,10,A35,1,1))","v":0}]
[28,"Demandeur de chaleur 29",{"$f":"IF(A36=\"\",\"\",OFFSET('Demandeurs de chaleur'!$C$7,2,A36,1,1))","v":0},{"$f":"IF(A36=\"\",\"\",OFFSET('Demandeurs de chaleur'!$C$7,30,A36,1,1))","v":0},{"$f":"IF(A36=\"\",\"\",OFFSET('Demandeurs de chaleur'!$C$7,5,A36,1,1))","v":0},{"$f":"IF(A36=\"\",\"\",OFFSET('Demandeurs de chaleur'!$C$7,6,A36,1,1))","v":0},{"$f":"IF(OR(F36='Listes de sélection'!$A$65,F36='Listes de sélection'!$A$66),(IF(A36=\"\",\"\",OFFSET('Demandeurs de chaleur'!$C$7,8,A36,1,1))),\"Non\")","v":"Non"},{"$f":"IF(OR(F36='Listes de sélection'!$A$65,F36='Listes de sélection'!$A$66),(IF(A36=\"\",\"\",OFFSET('Demandeurs de chaleur'!$C$7,9,A36,1,1))),\"Non\")","v":"Non"},{"$f":"IF(OR(F36='Listes de sélection'!$A$66),(IF(A36=\"\",\"\",OFFSET('Demandeurs de chaleur'!$C$7,10,A36,1,1))),\"Non\")","v":"Non"},{"$f":"IF(OR(F36='Listes de sélection'!$A$66),(IF(A36=\"\",\"\",OFFSET('Demandeurs de chaleur'!$C$7,11,A36,1,1))),\"Non\")","v":"Non"},{"$f":"IF(A36=\"\",\"\",IF(OFFSET('Demandeurs de chaleur'!$C$7,7,A36,1,1)=\"Oui\",0.97,1))","v":1},{"$f":"IF(A36=\"\",\"\",OFFSET('Demandeurs de chaleur'!$C$7,10,A36,1,1))","v":0}]
[29,"Demandeur de chaleur 30",{"$f":"IF(A37=\"\",\"\",OFFSET('Demandeurs de chaleur'!$C$7,2,A37,1,1))","v":0},{"$f":"IF(A37=\"\",\"\",OFFSET('Demandeurs de chaleur'!$C$7,30,A37,1,1))","v":0},{"$f":"IF(A37=\"\",\"\",OFFSET('Demandeurs de chaleur'!$C$7,5,A37,1,1))","v":0},{"$f":"IF(A37=\"\",\"\",OFFSET('Demandeurs de chaleur'!$C$7,6,A37,1,1))","v":0},{"$f":"IF(OR(F37='Listes de sélection'!$A$65,F37='Listes de sélection'!$A$66),(IF(A37=\"\",\"\",OFFSET('Demandeurs de chaleur'!$C$7,8,A37,1,1))),\"Non\")","v":"Non"},{"$f":"IF(OR(F37='Listes de sélection'!$A$65,F37='Listes de sélection'!$A$66),(IF(A37=\"\",\"\",OFFSET('Demandeurs de chaleur'!$C$7,9,A37,1,1))),\"Non\")","v":"Non"},{"$f":"IF(OR(F37='Listes de sélection'!$A$66),(IF(A37=\"\",\"\",OFFSET('Demandeurs de chaleur'!$C$7,10,A37,1,1))),\"Non\")","v":"Non"},{"$f":"IF(OR(F37='Listes de sélection'!$A$66),(IF(A37=\"\",\"\",OFFSET('Demandeurs de chaleur'!$C$7,11,A37,1,1))),\"Non\")","v":"Non"},{"$f":"IF(A37=\"\",\"\",IF(OFFSET('Demandeurs de chaleur'!$C$7,7,A37,1,1)=\"Oui\",0.97,1))","v":1},{"$f":"IF(A37=\"\",\"\",OFFSET('Demandeurs de chaleur'!$C$7,10,A37,1,1))","v":0}]
[30,"Demandeur de chaleur 31",{"$f":"IF(A38=\"\",\"\",OFFSET('Demandeurs de chaleur'!$C$7,2,A38,1,1))","v":0},{"$f":"IF(A38=\"\",\"\",OFFSET('Demandeurs de chaleur'!$C$7,30,A38,1,1))","v":0},{"$f":"IF(A38=\"\",\"\",OFFSET('Demandeurs de chaleur'!$C$7,5,A38,1,1))","v":0},{"$f":"IF(A38=\"\",\"\",OFFSET('Demandeurs de chaleur'!$C$7,6,A38,1,1))","v":0},{"$f":"IF(OR(F38='Listes de sélection'!$A$65,F38='Listes de sélection'!$A$66),(IF(A38=\"\",\"\",OFFSET('Demandeurs de chaleur'!$C$7,8,A38,1,1))),\"Non\")","v":"Non"},{"$f":"IF(OR(F38='Listes de sélection'!$A$65,F38='Listes de sélection'!$A$66),(IF(A38=\"\",\"\",OFFSET('Demandeurs de chaleur'!$C$7,9,A38,1,1))),\"Non\")","v":"Non"},{"$f":"IF(OR(F38='Listes de sélection'!$A$66),(IF(A38=\"\",\"\",OFFSET('Demandeurs de chaleur'!$C$7,10,A38,1,1))),\"Non\")","v":"Non"},{"$f":"IF(OR(F38='Listes de sélection'!$A$66),(IF(A38=\"\",\"\",OFFSET('Demandeurs de chaleur'!$C$7,11,A38,1,1))),\"Non\")","v":"Non"},{"$f":"IF(A38=\"\",\"\",IF(OFFSET('Demandeurs de chaleur'!$C$7,7,A38,1,1)=\"Oui\",0.97,1))","v":1},{"$f":"IF(A38=\"\",\"\",OFFSET('Demandeurs de chaleur'!$C$7,10,A38,1,1))","v":0}]
[31,"Demandeur de chaleur 32",{"$f":"IF(A39=\"\",\"\",OFFSET('Demandeurs de chaleur'!$C$7,2,A39,1,1))","v":0},{"$f":"IF(A39=\"\",\"\",OFFSET('Demandeurs de chaleur'!$C$7,30,A39,1,1))","v":0},{"$f":"IF(A39=\"\",\"\",OFFSET('Demandeurs de chaleur'!$C$7,5,A39,1,1))","v":0},{"$f":"IF(A39=\"\",\"\",OFFSET('Demandeurs de chaleur'!$C$7,6,A39,1,1))","v":0},{"$f":"IF(OR(F39='Listes de sélection'!$A$65,F39='Listes de sélection'!$A$66),(IF(A39=\"\",\"\",OFFSET('Demandeurs de chaleur'!$C$7,8,A39,1,1))),\"Non\")","v":"Non"},{"$f":"IF(OR(F39='Listes de sélection'!$A$65,F39='Listes de sélection'!$A$66),(IF(A39=\"\",\"\",OFFSET('Demandeurs de chaleur'!$C$7,9,A39,1,1))),\"Non\")","v":"Non"},{"$f":"IF(OR(F39='Listes de sélection'!$A$66),(IF(A39=\"\",\"\",OFFSET('Demandeurs de chaleur'!$C$7,10,A39,1,1))),\"Non\")","v":"Non"},{"$f":"IF(OR(F39='Listes de sélection'!$A$66),(IF(A39=\"\",\"\",OFFSET('Demandeurs de chaleur'!$C$7,11,A39,1,1))),\"Non\")","v":"Non"},{"$f":"IF(A39=\"\",\"\",IF(OFFSET('Demandeurs de chaleur'!$C$7,7,A39,1,1)=\"Oui\",0.97,1))","v":1},{"$f":"IF(A39=\"\",\"\",OFFSET('Demandeurs de chaleur'!$C$7,10,A39,1,1))","v":0}]
[32,{"$f":"\"Demandeur de chaleur \"&A40+1","v":"Demandeur de chaleur 33"},{"$f":"IF(A40=\"\",\"\",OFFSET('Demandeurs de chaleur'!$C$7,2,A40,1,1))","v":0},{"$f":"IF(A40=\"\",\"\",OFFSET('Demandeurs de chaleur'!$C$7,30,A40,1,1))","v":0},{"$f":"IF(A40=\"\",\"\",OFFSET('Demandeurs de chaleur'!$C$7,5,A40,1,1))","v":0},{"$f":"IF(A40=\"\",\"\",OFFSET('Demandeurs de chaleur'!$C$7,6,A40,1,1))","v":0},{"$f":"IF(OR(F40='Listes de sélection'!$A$65,F40='Listes de sélection'!$A$66),(IF(A40=\"\",\"\",OFFSET('Demandeurs de chaleur'!$C$7,8,A40,1,1))),\"Non\")","v":"Non"},{"$f":"IF(OR(F40='Listes de sélection'!$A$65,F40='Listes de sélection'!$A$66),(IF(A40=\"\",\"\",OFFSET('Demandeurs de chaleur'!$C$7,9,A40,1,1))),\"Non\")","v":"Non"},{"$f":"IF(OR(F40='Listes de sélection'!$A$66),(IF(A40=\"\",\"\",OFFSET('Demandeurs de chaleur'!$C$7,10,A40,1,1))),\"Non\")","v":"Non"},{"$f":"IF(OR(F40='Listes de sélection'!$A$66),(IF(A40=\"\",\"\",OFFSET('Demandeurs de chaleur'!$C$7,11,A40,1,1))),\"Non\")","v":"Non"},{"$f":"IF(A40=\"\",\"\",IF(OFFSET('Demandeurs de chaleur'!$C$7,7,A40,1,1)=\"Oui\",0.97,1))","v":1},{"$f":"IF(A40=\"\",\"\",OFFSET('Demandeurs de chaleur'!$C$7,10,A40,1,1))","v":0}]
[33,"Demandeur de chaleur 34",{"$f":"IF(A41=\"\",\"\",OFFSET('Demandeurs de chaleur'!$C$7,2,A41,1,1))","v":0},{"$f":"IF(A41=\"\",\"\",OFFSET('Demandeurs de chaleur'!$C$7,30,A41,1,1))","v":0},{"$f":"IF(A41=\"\",\"\",OFFSET('Demandeurs de chaleur'!$C$7,5,A41,1,1))","v":0},{"$f":"IF(A41=\"\",\"\",OFFSET('Demandeurs de chaleur'!$C$7,6,A41,1,1))","v":0},{"$f":"IF(OR(F41='Listes de sélection'!$A$65,F41='Listes de sélection'!$A$66),(IF(A41=\"\",\"\",OFFSET('Demandeurs de chaleur'!$C$7,8,A41,1,1))),\"Non\")","v":"Non"},{"$f":"IF(OR(F41='Listes de sélection'!$A$65,F41='Listes de sélection'!$A$66),(IF(A41=\"\",\"\",OFFSET('Demandeurs de chaleur'!$C$7,9,A41,1,1))),\"Non\")","v":"Non"},{"$f":"IF(OR(F41='Listes de sélection'!$A$66),(IF(A41=\"\",\"\",OFFSET('Demandeurs de chaleur'!$C$7,10,A41,1,1))),\"Non\")","v":"Non"},{"$f":"IF(OR(F41='Listes de sélection'!$A$66),(IF(A41=\"\",\"\",OFFSET('Demandeurs de chaleur'!$C$7,11,A41,1,1))),\"Non\")","v":"Non"},{"$f":"IF(A41=\"\",\"\",IF(OFFSET('Demandeurs de chaleur'!$C$7,7,A41,1,1)=\"Oui\",0.97,1))","v":1},{"$f":"IF(A41=\"\",\"\",OFFSET('Demandeurs de chaleur'!$C$7,10,A41,1,1))","v":0}]
[34,"Demandeur de chaleur 35",{"$f":"IF(A42=\"\",\"\",OFFSET('Demandeurs de chaleur'!$C$7,2,A42,1,1))","v":0},{"$f":"IF(A42=\"\",\"\",OFFSET('Demandeurs de chaleur'!$C$7,30,A42,1,1))","v":0},{"$f":"IF(A42=\"\",\"\",OFFSET('Demandeurs de chaleur'!$C$7,5,A42,1,1))","v":0},{"$f":"IF(A42=\"\",\"\",OFFSET('Demandeurs de chaleur'!$C$7,6,A42,1,1))","v":0},{"$f":"IF(OR(F42='Listes de sélection'!$A$65,F42='Listes de sélection'!$A$66),(IF(A42=\"\",\"\",OFFSET('Demandeurs de chaleur'!$C$7,8,A42,1,1))),\"Non\")","v":"Non"},{"$f":"IF(OR(F42='Listes de sélection'!$A$65,F42='Listes de sélection'!$A$66),(IF(A42=\"\",\"\",OFFSET('Demandeurs de chaleur'!$C$7,9,A42,1,1))),\"Non\")","v":"Non"},{"$f":"IF(OR(F42='Listes de sélection'!$A$66),(IF(A42=\"\",\"\",OFFSET('Demandeurs de chaleur'!$C$7,10,A42,1,1))),\"Non\")","v":"Non"},{"$f":"IF(OR(F42='Listes de sélection'!$A$66),(IF(A42=\"\",\"\",OFFSET('Demandeurs de chaleur'!$C$7,11,A42,1,1))),\"Non\")","v":"Non"},{"$f":"IF(A42=\"\",\"\",IF(OFFSET('Demandeurs de chaleur'!$C$7,7,A42,1,1)=\"Oui\",0.97,1))","v":1},{"$f":"IF(A42=\"\",\"\",OFFSET('Demandeurs de chaleur'!$C$7,10,A42,1,1))","v":0}]
[35,"Demandeur de chaleur 36",{"$f":"IF(A43=\"\",\"\",OFFSET('Demandeurs de chaleur'!$C$7,2,A43,1,1))","v":0},{"$f":"IF(A43=\"\",\"\",OFFSET('Demandeurs de chaleur'!$C$7,30,A43,1,1))","v":0},{"$f":"IF(A43=\"\",\"\",OFFSET('Demandeurs de chaleur'!$C$7,5,A43,1,1))","v":0},{"$f":"IF(A43=\"\",\"\",OFFSET('Demandeurs de chaleur'!$C$7,6,A43,1,1))","v":0},{"$f":"IF(OR(F43='Listes de sélection'!$A$65,F43='Listes de sélection'!$A$66),(IF(A43=\"\",\"\",OFFSET('Demandeurs de chaleur'!$C$7,8,A43,1,1))),\"Non\")","v":"Non"},{"$f":"IF(OR(F43='Listes de sélection'!$A$65,F43='Listes de sélection'!$A$66),(IF(A43=\"\",\"\",OFFSET('Demandeurs de chaleur'!$C$7,9,A43,1,1))),\"Non\")","v":"Non"},{"$f":"IF(OR(F43='Listes de sélection'!$A$66),(IF(A43=\"\",\"\",OFFSET('Demandeurs de chaleur'!$C$7,10,A43,1,1))),\"Non\")","v":"Non"},{"$f":"IF(OR(F43='Listes de sélection'!$A$66),(IF(A43=\"\",\"\",OFFSET('Demandeurs de chaleur'!$C$7,11,A43,1,1))),\"Non\")","v":"Non"},{"$f":"IF(A43=\"\",\"\",IF(OFFSET('Demandeurs de chaleur'!$C$7,7,A43,1,1)=\"Oui\",0.97,1))","v":1},{"$f":"IF(A43=\"\",\"\",OFFSET('Demandeurs de chaleur'!$C$7,10,A43,1,1))","v":0}]
[36,"Demandeur de chaleur 37",{"$f":"IF(A44=\"\",\"\",OFFSET('Demandeurs de chaleur'!$C$7,2,A44,1,1))","v":0},{"$f":"IF(A44=\"\",\"\",OFFSET('Demandeurs de chaleur'!$C$7,30,A44,1,1))","v":0},{"$f":"IF(A44=\"\",\"\",OFFSET('Demandeurs de chaleur'!$C$7,5,A44,1,1))","v":0},{"$f":"IF(A44=\"\",\"\",OFFSET('Demandeurs de chaleur'!$C$7,6,A44,1,1))","v":0},{"$f":"IF(OR(F44='Listes de sélection'!$A$65,F44='Listes de sélection'!$A$66),(IF(A44=\"\",\"\",OFFSET('Demandeurs de chaleur'!$C$7,8,A44,1,1))),\"Non\")","v":"Non"},{"$f":"IF(OR(F44='Listes de sélection'!$A$65,F44='Listes de sélection'!$A$66),(IF(A44=\"\",\"\",OFFSET('Demandeurs de chaleur'!$C$7,9,A44,1,1))),\"Non\")","v":"Non"},{"$f":"IF(OR(F44='Listes de sélection'!$A$66),(IF(A44=\"\",\"\",OFFSET('Demandeurs de chaleur'!$C$7,10,A44,1,1))),\"Non\")","v":"Non"},{"$f":"IF(OR(F44='Listes de sélection'!$A$66),(IF(A44=\"\",\"\",OFFSET('Demandeurs de chaleur'!$C$7,11,A44,1,1))),\"Non\")","v":"Non"},{"$f":"IF(A44=\"\",\"\",IF(OFFSET('Demandeurs de chaleur'!$C$7,7,A44,1,1)=\"Oui\",0.97,1))","v":1},{"$f":"IF(A44=\"\",\"\",OFFSET('Demandeurs de chaleur'!$C$7,10,A44,1,1))","v":0}]
[37,"Demandeur de chaleur 38",{"$f":"IF(A45=\"\",\"\",OFFSET('Demandeurs de chaleur'!$C$7,2,A45,1,1))","v":0},{"$f":"IF(A45=\"\",\"\",OFFSET('Demandeurs de chaleur'!$C$7,30,A45,1,1))","v":0},{"$f":"IF(A45=\"\",\"\",OFFSET('Demandeurs de chaleur'!$C$7,5,A45,1,1))","v":0},{"$f":"IF(A45=\"\",\"\",OFFSET('Demandeurs de chaleur'!$C$7,6,A45,1,1))","v":0},{"$f":"IF(OR(F45='Listes de sélection'!$A$65,F45='Listes de sélection'!$A$66),(IF(A45=\"\",\"\",OFFSET('Demandeurs de chaleur'!$C$7,8,A45,1,1))),\"Non\")","v":"Non"},{"$f":"IF(OR(F45='Listes de sélection'!$A$65,F45='Listes de sélection'!$A$66),(IF(A45=\"\",\"\",OFFSET('Demandeurs de chaleur'!$C$7,9,A45,1,1))),\"Non\")","v":"Non"},{"$f":"IF(OR(F45='Listes de sélection'!$A$66),(IF(A45=\"\",\"\",OFFSET('Demandeurs de chaleur'!$C$7,10,A45,1,1))),\"Non\")","v":"Non"},{"$f":"IF(OR(F45='Listes de sélection'!$A$66),(IF(A45=\"\",\"\",OFFSET('Demandeurs de chaleur'!$C$7,11,A45,1,1))),\"Non\")","v":"Non"},{"$f":"IF(A45=\"\",\"\",IF(OFFSET('Demandeurs de chaleur'!$C$7,7,A45,1,1)=\"Oui\",0.97,1))","v":1},{"$f":"IF(A45=\"\",\"\",OFFSET('Demandeurs de chaleur'!$C$7,10,A45,1,1))","v":0}]
[38,"Demandeur de chaleur 39",{"$f":"IF(A46=\"\",\"\",OFFSET('Demandeurs de chaleur'!$C$7,2,A46,1,1))","v":0},{"$f":"IF(A46=\"\",\"\",OFFSET('Demandeurs de chaleur'!$C$7,30,A46,1,1))","v":0},{"$f":"IF(A46=\"\",\"\",OFFSET('Demandeurs de chaleur'!$C$7,5,A46,1,1))","v":0},{"$f":"IF(A46=\"\",\"\",OFFSET('Demandeurs de chaleur'!$C$7,6,A46,1,1))","v":0},{"$f":"IF(OR(F46='Listes de sélection'!$A$65,F46='Listes de sélection'!$A$66),(IF(A46=\"\",\"\",OFFSET('Demandeurs de chaleur'!$C$7,8,A46,1,1))),\"Non\")","v":"Non"},{"$f":"IF(OR(F46='Listes de sélection'!$A$65,F46='Listes de sélection'!$A$66),(IF(A46=\"\",\"\",OFFSET('Demandeurs de chaleur'!$C$7,9,A46,1,1))),\"Non\")","v":"Non"},{"$f":"IF(OR(F46='Listes de sélection'!$A$66),(IF(A46=\"\",\"\",OFFSET('Demandeurs de chaleur'!$C$7,10,A46,1,1))),\"Non\")","v":"Non"},{"$f":"IF(OR(F46='Listes de sélection'!$A$66),(IF(A46=\"\",\"\",OFFSET('Demandeurs de chaleur'!$C$7,11,A46,1,1))),\"Non\")","v":"Non"},{"$f":"IF(A46=\"\",\"\",IF(OFFSET('Demandeurs de chaleur'!$C$7,7,A46,1,1)=\"Oui\",0.97,1))","v":1},{"$f":"IF(A46=\"\",\"\",OFFSET('Demandeurs de chaleur'!$C$7,10,A46,1,1))","v":0}]
[39,"Demandeur de chaleur 40",{"$f":"IF(A47=\"\",\"\",OFFSET('Demandeurs de chaleur'!$C$7,2,A47,1,1))","v":0},{"$f":"IF(A47=\"\",\"\",OFFSET('Demandeurs de chaleur'!$C$7,30,A47,1,1))","v":0},{"$f":"IF(A47=\"\",\"\",OFFSET('Demandeurs de chaleur'!$C$7,5,A47,1,1))","v":0},{"$f":"IF(A47=\"\",\"\",OFFSET('Demandeurs de chaleur'!$C$7,6,A47,1,1))","v":0},{"$f":"IF(OR(F47='Listes de sélection'!$A$65,F47='Listes de sélection'!$A$66),(IF(A47=\"\",\"\",OFFSET('Demandeurs de chaleur'!$C$7,8,A47,1,1))),\"Non\")","v":"Non"},{"$f":"IF(OR(F47='Listes de sélection'!$A$65,F47='Listes de sélection'!$A$66),(IF(A47=\"\",\"\",OFFSET('Demandeurs de chaleur'!$C$7,9,A47,1,1))),\"Non\")","v":"Non"},{"$f":"IF(OR(F47='Listes de sélection'!$A$66),(IF(A47=\"\",\"\",OFFSET('Demandeurs de chaleur'!$C$7,10,A47,1,1))),\"Non\")","v":"Non"},{"$f":"IF(OR(F47='Listes de sélection'!$A$66),(IF(A47=\"\",\"\",OFFSET('Demandeurs de chaleur'!$C$7,11,A47,1,1))),\"Non\")","v":"Non"},{"$f":"IF(A47=\"\",\"\",IF(OFFSET('Demandeurs de chaleur'!$C$7,7,A47,1,1)=\"Oui\",0.97,1))","v":1},{"$f":"IF(A47=\"\",\"\",OFFSET('Demandeurs de chaleur'!$C$7,10,A47,1,1))","v":0}]
[40,"Demandeur de chaleur 41",{"$f":"IF(A48=\"\",\"\",OFFSET('Demandeurs de chaleur'!$C$7,2,A48,1,1))","v":0},{"$f":"IF(A48=\"\",\"\",OFFSET('Demandeurs de chaleur'!$C$7,30,A48,1,1))","v":0},{"$f":"IF(A48=\"\",\"\",OFFSET('Demandeurs de chaleur'!$C$7,5,A48,1,1))","v":0},{"$f":"IF(A48=\"\",\"\",OFFSET('Demandeurs de chaleur'!$C$7,6,A48,1,1))","v":0},{"$f":"IF(OR(F48='Listes de sélection'!$A$65,F48='Listes de sélection'!$A$66),(IF(A48=\"\",\"\",OFFSET('Demandeurs de chaleur'!$C$7,8,A48,1,1))),\"Non\")","v":"Non"},{"$f":"IF(OR(F48='Listes de sélection'!$A$65,F48='Listes de sélection'!$A$66),(IF(A48=\"\",\"\",OFFSET('Demandeurs de chaleur'!$C$7,9,A48,1,1))),\"Non\")","v":"Non"},{"$f":"IF(OR(F48='Listes de sélection'!$A$66),(IF(A48=\"\",\"\",OFFSET('Demandeurs de chaleur'!$C$7,10,A48,1,1))),\"Non\")","v":"Non"},{"$f":"IF(OR(F48='Listes de sélection'!$A$66),(IF(A48=\"\",\"\",OFFSET('Demandeurs de chaleur'!$C$7,11,A48,1,1))),\"Non\")","v":"Non"},{"$f":"IF(A48=\"\",\"\",IF(OFFSET('Demandeurs de chaleur'!$C$7,7,A48,1,1)=\"Oui\",0.97,1))","v":1},{"$f":"IF(A48=\"\",\"\",OFFSET('Demandeurs de chaleur'!$C$7,10,A48,1,1))","v":0}]
[41,"Demandeur de chaleur 42",{"$f":"IF(A49=\"\",\"\",OFFSET('Demandeurs de chaleur'!$C$7,2,A49,1,1))","v":0},{"$f":"IF(A49=\"\",\"\",OFFSET('Demandeurs de chaleur'!$C$7,30,A49,1,1))","v":0},{"$f":"IF(A49=\"\",\"\",OFFSET('Demandeurs de chaleur'!$C$7,5,A49,1,1))","v":0},{"$f":"IF(A49=\"\",\"\",OFFSET('Demandeurs de chaleur'!$C$7,6,A49,1,1))","v":0},{"$f":"IF(OR(F49='Listes de sélection'!$A$65,F49='Listes de sélection'!$A$66),(IF(A49=\"\",\"\",OFFSET('Demandeurs de chaleur'!$C$7,8,A49,1,1))),\"Non\")","v":"Non"},{"$f":"IF(OR(F49='Listes de sélection'!$A$65,F49='Listes de sélection'!$A$66),(IF(A49=\"\",\"\",OFFSET('Demandeurs de chaleur'!$C$7,9,A49,1,1))),\"Non\")","v":"Non"},{"$f":"IF(OR(F49='Listes de sélection'!$A$66),(IF(A49=\"\",\"\",OFFSET('Demandeurs de chaleur'!$C$7,10,A49,1,1))),\"Non\")","v":"Non"},{"$f":"IF(OR(F49='Listes de sélection'!$A$66),(IF(A49=\"\",\"\",OFFSET('Demandeurs de chaleur'!$C$7,11,A49,1,1))),\"Non\")","v":"Non"},{"$f":"IF(A49=\"\",\"\",IF(OFFSET('Demandeurs de chaleur'!$C$7,7,A49,1,1)=\"Oui\",0.97,1))","v":1},{"$f":"IF(A49=\"\",\"\",OFFSET('Demandeurs de chaleur'!$C$7,10,A49,1,1))","v":0}]
[42,"Demandeur de chaleur 43",{"$f":"IF(A50=\"\",\"\",OFFSET('Demandeurs de chaleur'!$C$7,2,A50,1,1))","v":0},{"$f":"IF(A50=\"\",\"\",OFFSET('Demandeurs de chaleur'!$C$7,30,A50,1,1))","v":0},{"$f":"IF(A50=\"\",\"\",OFFSET('Demandeurs de chaleur'!$C$7,5,A50,1,1))","v":0},{"$f":"IF(A50=\"\",\"\",OFFSET('Demandeurs de chaleur'!$C$7,6,A50,1,1))","v":0},{"$f":"IF(OR(F50='Listes de sélection'!$A$65,F50='Listes de sélection'!$A$66),(IF(A50=\"\",\"\",OFFSET('Demandeurs de chaleur'!$C$7,8,A50,1,1))),\"Non\")","v":"Non"},{"$f":"IF(OR(F50='Listes de sélection'!$A$65,F50='Listes de sélection'!$A$66),(IF(A50=\"\",\"\",OFFSET('Demandeurs de chaleur'!$C$7,9,A50,1,1))),\"Non\")","v":"Non"},{"$f":"IF(OR(F50='Listes de sélection'!$A$66),(IF(A50=\"\",\"\",OFFSET('Demandeurs de chaleur'!$C$7,10,A50,1,1))),\"Non\")","v":"Non"},{"$f":"IF(OR(F50='Listes de sélection'!$A$66),(IF(A50=\"\",\"\",OFFSET('Demandeurs de chaleur'!$C$7,11,A50,1,1))),\"Non\")","v":"Non"},{"$f":"IF(A50=\"\",\"\",IF(OFFSET('Demandeurs de chaleur'!$C$7,7,A50,1,1)=\"Oui\",0.97,1))","v":1},{"$f":"IF(A50=\"\",\"\",OFFSET('Demandeurs de chaleur'!$C$7,10,A50,1,1))","v":0}]
[43,"Demandeur de chaleur 44",{"$f":"IF(A51=\"\",\"\",OFFSET('Demandeurs de chaleur'!$C$7,2,A51,1,1))","v":0},{"$f":"IF(A51=\"\",\"\",OFFSET('Demandeurs de chaleur'!$C$7,30,A51,1,1))","v":0},{"$f":"IF(A51=\"\",\"\",OFFSET('Demandeurs de chaleur'!$C$7,5,A51,1,1))","v":0},{"$f":"IF(A51=\"\",\"\",OFFSET('Demandeurs de chaleur'!$C$7,6,A51,1,1))","v":0},{"$f":"IF(OR(F51='Listes de sélection'!$A$65,F51='Listes de sélection'!$A$66),(IF(A51=\"\",\"\",OFFSET('Demandeurs de chaleur'!$C$7,8,A51,1,1))),\"Non\")","v":"Non"},{"$f":"IF(OR(F51='Listes de sélection'!$A$65,F51='Listes de sélection'!$A$66),(IF(A51=\"\",\"\",OFFSET('Demandeurs de chaleur'!$C$7,9,A51,1,1))),\"Non\")","v":"Non"},{"$f":"IF(OR(F51='Listes de sélection'!$A$66),(IF(A51=\"\",\"\",OFFSET('Demandeurs de chaleur'!$C$7,10,A51,1,1))),\"Non\")","v":"Non"},{"$f":"IF(OR(F51='Listes de sélection'!$A$66),(IF(A51=\"\",\"\",OFFSET('Demandeurs de chaleur'!$C$7,11,A51,1,1))),\"Non\")","v":"Non"},{"$f":"IF(A51=\"\",\"\",IF(OFFSET('Demandeurs de chaleur'!$C$7,7,A51,1,1)=\"Oui\",0.97,1))","v":1},{"$f":"IF(A51=\"\",\"\",OFFSET('Demandeurs de chaleur'!$C$7,10,A51,1,1))","v":0}]
[44,"Demandeur de chaleur 45",{"$f":"IF(A52=\"\",\"\",OFFSET('Demandeurs de chaleur'!$C$7,2,A52,1,1))","v":0},{"$f":"IF(A52=\"\",\"\",OFFSET('Demandeurs de chaleur'!$C$7,30,A52,1,1))","v":0},{"$f":"IF(A52=\"\",\"\",OFFSET('Demandeurs de chaleur'!$C$7,5,A52,1,1))","v":0},{"$f":"IF(A52=\"\",\"\",OFFSET('Demandeurs de chaleur'!$C$7,6,A52,1,1))","v":0},{"$f":"IF(OR(F52='Listes de sélection'!$A$65,F52='Listes de sélection'!$A$66),(IF(A52=\"\",\"\",OFFSET('Demandeurs de chaleur'!$C$7,8,A52,1,1))),\"Non\")","v":"Non"},{"$f":"IF(OR(F52='Listes de sélection'!$A$65,F52='Listes de sélection'!$A$66),(IF(A52=\"\",\"\",OFFSET('Demandeurs de chaleur'!$C$7,9,A52,1,1))),\"Non\")","v":"Non"},{"$f":"IF(OR(F52='Listes de sélection'!$A$66),(IF(A52=\"\",\"\",OFFSET('Demandeurs de chaleur'!$C$7,10,A52,1,1))),\"Non\")","v":"Non"},{"$f":"IF(OR(F52='Listes de sélection'!$A$66),(IF(A52=\"\",\"\",OFFSET('Demandeurs de chaleur'!$C$7,11,A52,1,1))),\"Non\")","v":"Non"},{"$f":"IF(A52=\"\",\"\",IF(OFFSET('Demandeurs de chaleur'!$C$7,7,A52,1,1)=\"Oui\",0.97,1))","v":1},{"$f":"IF(A52=\"\",\"\",OFFSET('Demandeurs de chaleur'!$C$7,10,A52,1,1))","v":0}]
[45,"Demandeur de chaleur 46",{"$f":"IF(A53=\"\",\"\",OFFSET('Demandeurs de chaleur'!$C$7,2,A53,1,1))","v":0},{"$f":"IF(A53=\"\",\"\",OFFSET('Demandeurs de chaleur'!$C$7,30,A53,1,1))","v":0},{"$f":"IF(A53=\"\",\"\",OFFSET('Demandeurs de chaleur'!$C$7,5,A53,1,1))","v":0},{"$f":"IF(A53=\"\",\"\",OFFSET('Demandeurs de chaleur'!$C$7,6,A53,1,1))","v":0},{"$f":"IF(OR(F53='Listes de sélection'!$A$65,F53='Listes de sélection'!$A$66),(IF(A53=\"\",\"\",OFFSET('Demandeurs de chaleur'!$C$7,8,A53,1,1))),\"Non\")","v":"Non"},{"$f":"IF(OR(F53='Listes de sélection'!$A$65,F53='Listes de sélection'!$A$66),(IF(A53=\"\",\"\",OFFSET('Demandeurs de chaleur'!$C$7,9,A53,1,1))),\"Non\")","v":"Non"},{"$f":"IF(OR(F53='Listes de sélection'!$A$66),(IF(A53=\"\",\"\",OFFSET('Demandeurs de chaleur'!$C$7,10,A53,1,1))),\"Non\")","v":"Non"},{"$f":"IF(OR(F53='Listes de sélection'!$A$66),(IF(A53=\"\",\"\",OFFSET('Demandeurs de chaleur'!$C$7,11,A53,1,1))),\"Non\")","v":"Non"},{"$f":"IF(A53=\"\",\"\",IF(OFFSET('Demandeurs de chaleur'!$C$7,7,A53,1,1)=\"Oui\",0.97,1))","v":1},{"$f":"IF(A53=\"\",\"\",OFFSET('Demandeurs de chaleur'!$C$7,10,A53,1,1))","v":0}]
[46,"Demandeur de chaleur 47",{"$f":"IF(A54=\"\",\"\",OFFSET('Demandeurs de chaleur'!$C$7,2,A54,1,1))","v":0},{"$f":"IF(A54=\"\",\"\",OFFSET('Demandeurs de chaleur'!$C$7,30,A54,1,1))","v":0},{"$f":"IF(A54=\"\",\"\",OFFSET('Demandeurs de chaleur'!$C$7,5,A54,1,1))","v":0},{"$f":"IF(A54=\"\",\"\",OFFSET('Demandeurs de chaleur'!$C$7,6,A54,1,1))","v":0},{"$f":"IF(OR(F54='Listes de sélection'!$A$65,F54='Listes de sélection'!$A$66),(IF(A54=\"\",\"\",OFFSET('Demandeurs de chaleur'!$C$7,8,A54,1,1))),\"Non\")","v":"Non"},{"$f":"IF(OR(F54='Listes de sélection'!$A$65,F54='Listes de sélection'!$A$66),(IF(A54=\"\",\"\",OFFSET('Demandeurs de chaleur'!$C$7,9,A54,1,1))),\"Non\")","v":"Non"},{"$f":"IF(OR(F54='Listes de sélection'!$A$66),(IF(A54=\"\",\"\",OFFSET('Demandeurs de chaleur'!$C$7,10,A54,1,1))),\"Non\")","v":"Non"},{"$f":"IF(OR(F54='Listes de sélection'!$A$66),(IF(A54=\"\",\"\",OFFSET('Demandeurs de chaleur'!$C$7,11,A54,1,1))),\"Non\")","v":"Non"},{"$f":"IF(A54=\"\",\"\",IF(OFFSET('Demandeurs de chaleur'!$C$7,7,A54,1,1)=\"Oui\",0.97,1))","v":1},{"$f":"IF(A54=\"\",\"\",OFFSET('Demandeurs de chaleur'!$C$7,10,A54,1,1))","v":0}]
[47,"Demandeur de chaleur 48",{"$f":"IF(A55=\"\",\"\",OFFSET('Demandeurs de chaleur'!$C$7,2,A55,1,1))","v":0},{"$f":"IF(A55=\"\",\"\",OFFSET('Demandeurs de chaleur'!$C$7,30,A55,1,1))","v":0},{"$f":"IF(A55=\"\",\"\",OFFSET('Demandeurs de chaleur'!$C$7,5,A55,1,1))","v":0},{"$f":"IF(A55=\"\",\"\",OFFSET('Demandeurs de chaleur'!$C$7,6,A55,1,1))","v":0},{"$f":"IF(OR(F55='Listes de sélection'!$A$65,F55='Listes de sélection'!$A$66),(IF(A55=\"\",\"\",OFFSET('Demandeurs de chaleur'!$C$7,8,A55,1,1))),\"Non\")","v":"Non"},{"$f":"IF(OR(F55='Listes de sélection'!$A$65,F55='Listes de sélection'!$A$66),(IF(A55=\"\",\"\",OFFSET('Demandeurs de chaleur'!$C$7,9,A55,1,1))),\"Non\")","v":"Non"},{"$f":"IF(OR(F55='Listes de sélection'!$A$66),(IF(A55=\"\",\"\",OFFSET('Demandeurs de chaleur'!$C$7,10,A55,1,1))),\"Non\")","v":"Non"},{"$f":"IF(OR(F55='Listes de sélection'!$A$66),(IF(A55=\"\",\"\",OFFSET('Demandeurs de chaleur'!$C$7,11,A55,1,1))),\"Non\")","v":"Non"},{"$f":"IF(A55=\"\",\"\",IF(OFFSET('Demandeurs de chaleur'!$C$7,7,A55,1,1)=\"Oui\",0.97,1))","v":1},{"$f":"IF(A55=\"\",\"\",OFFSET('Demandeurs de chaleur'!$C$7,10,A55,1,1))","v":0}]
[48,"Demandeur de chaleur 49",{"$f":"IF(A56=\"\",\"\",OFFSET('Demandeurs de chaleur'!$C$7,2,A56,1,1))","v":0},{"$f":"IF(A56=\"\",\"\",OFFSET('Demandeurs de chaleur'!$C$7,30,A56,1,1))","v":0},{"$f":"IF(A56=\"\",\"\",OFFSET('Demandeurs de chaleur'!$C$7,5,A56,1,1))","v":0},{"$f":"IF(A56=\"\",\"\",OFFSET('Demandeurs de chaleur'!$C$7,6,A56,1,1))","v":0},{"$f":"IF(OR(F56='Listes de sélection'!$A$65,F56='Listes de sélection'!$A$66),(IF(A56=\"\",\"\",OFFSET('Demandeurs de chaleur'!$C$7,8,A56,1,1))),\"Non\")","v":"Non"},{"$f":"IF(OR(F56='Listes de sélection'!$A$65,F56='Listes de sélection'!$A$66),(IF(A56=\"\",\"\",OFFSET('Demandeurs de chaleur'!$C$7,9,A56,1,1))),\"Non\")","v":"Non"},{"$f":"IF(OR(F56='Listes de sélection'!$A$66),(IF(A56=\"\",\"\",OFFSET('Demandeurs de chaleur'!$C$7,10,A56,1,1))),\"Non\")","v":"Non"},{"$f":"IF(OR(F56='Listes de sélection'!$A$66),(IF(A56=\"\",\"\",OFFSET('Demandeurs de chaleur'!$C$7,11,A56,1,1))),\"Non\")","v":"Non"},{"$f":"IF(A56=\"\",\"\",IF(OFFSET('Demandeurs de chaleur'!$C$7,7,A56,1,1)=\"Oui\",0.97,1))","v":1},{"$f":"IF(A56=\"\",\"\",OFFSET('Demandeurs de chaleur'!$C$7,10,A56,1,1))","v":0}]
[49,"Demandeur de chaleur 50",{"$f":"IF(A57=\"\",\"\",OFFSET('Demandeurs de chaleur'!$C$7,2,A57,1,1))","v":0},{"$f":"IF(A57=\"\",\"\",OFFSET('Demandeurs de chaleur'!$C$7,30,A57,1,1))","v":0},{"$f":"IF(A57=\"\",\"\",OFFSET('Demandeurs de chaleur'!$C$7,5,A57,1,1))","v":0},{"$f":"IF(A57=\"\",\"\",OFFSET('Demandeurs de chaleur'!$C$7,6,A57,1,1))","v":0},{"$f":"IF(OR(F57='Listes de sélection'!$A$65,F57='Listes de sélection'!$A$66),(IF(A57=\"\",\"\",OFFSET('Demandeurs de chaleur'!$C$7,8,A57,1,1))),\"Non\")","v":"Non"},{"$f":"IF(OR(F57='Listes de sélection'!$A$65,F57='Listes de sélection'!$A$66),(IF(A57=\"\",\"\",OFFSET('Demandeurs de chaleur'!$C$7,9,A57,1,1))),\"Non\")","v":"Non"},{"$f":"IF(OR(F57='Listes de sélection'!$A$66),(IF(A57=\"\",\"\",OFFSET('Demandeurs de chaleur'!$C$7,10,A57,1,1))),\"Non\")","v":"Non"},{"$f":"IF(OR(F57='Listes de sélection'!$A$66),(IF(A57=\"\",\"\",OFFSET('Demandeurs de chaleur'!$C$7,11,A57,1,1))),\"Non\")","v":"Non"},{"$f":"IF(A57=\"\",\"\",IF(OFFSET('Demandeurs de chaleur'!$C$7,7,A57,1,1)=\"Oui\",0.97,1))","v":1},{"$f":"IF(A57=\"\",\"\",OFFSET('Demandeurs de chaleur'!$C$7,10,A57,1,1))","v":0}]
[50,"Demandeur de chaleur 51",{"$f":"IF(A58=\"\",\"\",OFFSET('Demandeurs de chaleur'!$C$7,2,A58,1,1))","v":0},{"$f":"IF(A58=\"\",\"\",OFFSET('Demandeurs de chaleur'!$C$7,30,A58,1,1))","v":0},{"$f":"IF(A58=\"\",\"\",OFFSET('Demandeurs de chaleur'!$C$7,5,A58,1,1))","v":0},{"$f":"IF(A58=\"\",\"\",OFFSET('Demandeurs de chaleur'!$C$7,6,A58,1,1))","v":0},{"$f":"IF(OR(F58='Listes de sélection'!$A$65,F58='Listes de sélection'!$A$66),(IF(A58=\"\",\"\",OFFSET('Demandeurs de chaleur'!$C$7,8,A58,1,1))),\"Non\")","v":"Non"},{"$f":"IF(OR(F58='Listes de sélection'!$A$65,F58='Listes de sélection'!$A$66),(IF(A58=\"\",\"\",OFFSET('Demandeurs de chaleur'!$C$7,9,A58,1,1))),\"Non\")","v":"Non"},{"$f":"IF(OR(F58='Listes de sélection'!$A$66),(IF(A58=\"\",\"\",OFFSET('Demandeurs de chaleur'!$C$7,10,A58,1,1))),\"Non\")","v":"Non"},{"$f":"IF(OR(F58='Listes de sélection'!$A$66),(IF(A58=\"\",\"\",OFFSET('Demandeurs de chaleur'!$C$7,11,A58,1,1))),\"Non\")","v":"Non"},{"$f":"IF(A58=\"\",\"\",IF(OFFSET('Demandeurs de chaleur'!$C$7,7,A58,1,1)=\"Oui\",0.97,1))","v":1},{"$f":"IF(A58=\"\",\"\",OFFSET('Demandeurs de chaleur'!$C$7,10,A58,1,1))","v":0}]
[51,"Demandeur de chaleur 52",{"$f":"IF(A59=\"\",\"\",OFFSET('Demandeurs de chaleur'!$C$7,2,A59,1,1))","v":0},{"$f":"IF(A59=\"\",\"\",OFFSET('Demandeurs de chaleur'!$C$7,30,A59,1,1))","v":0},{"$f":"IF(A59=\"\",\"\",OFFSET('Demandeurs de chaleur'!$C$7,5,A59,1,1))","v":0},{"$f":"IF(A59=\"\",\"\",OFFSET('Demandeurs de chaleur'!$C$7,6,A59,1,1))","v":0},{"$f":"IF(OR(F59='Listes de sélection'!$A$65,F59='Listes de sélection'!$A$66),(IF(A59=\"\",\"\",OFFSET('Demandeurs de chaleur'!$C$7,8,A59,1,1))),\"Non\")","v":"Non"},{"$f":"IF(OR(F59='Listes de sélection'!$A$65,F59='Listes de sélection'!$A$66),(IF(A59=\"\",\"\",OFFSET('Demandeurs de chaleur'!$C$7,9,A59,1,1))),\"Non\")","v":"Non"},{"$f":"IF(OR(F59='Listes de sélection'!$A$66),(IF(A59=\"\",\"\",OFFSET('Demandeurs de chaleur'!$C$7,10,A59,1,1))),\"Non\")","v":"Non"},{"$f":"IF(OR(F59='Listes de sélection'!$A$66),(IF(A59=\"\",\"\",OFFSET('Demandeurs de chaleur'!$C$7,11,A59,1,1))),\"Non\")","v":"Non"},{"$f":"IF(A59=\"\",\"\",IF(OFFSET('Demandeurs de chaleur'!$C$7,7,A59,1,1)=\"Oui\",0.97,1))","v":1},{"$f":"IF(A59=\"\",\"\",OFFSET('Demandeurs de chaleur'!$C$7,10,A59,1,1))","v":0}]
[52,"Demandeur de chaleur 53",{"$f":"IF(A60=\"\",\"\",OFFSET('Demandeurs de chaleur'!$C$7,2,A60,1,1))","v":0},{"$f":"IF(A60=\"\",\"\",OFFSET('Demandeurs de chaleur'!$C$7,30,A60,1,1))","v":0},{"$f":"IF(A60=\"\",\"\",OFFSET('Demandeurs de chaleur'!$C$7,5,A60,1,1))","v":0},{"$f":"IF(A60=\"\",\"\",OFFSET('Demandeurs de chaleur'!$C$7,6,A60,1,1))","v":0},{"$f":"IF(OR(F60='Listes de sélection'!$A$65,F60='Listes de sélection'!$A$66),(IF(A60=\"\",\"\",OFFSET('Demandeurs de chaleur'!$C$7,8,A60,1,1))),\"Non\")","v":"Non"},{"$f":"IF(OR(F60='Listes de sélection'!$A$65,F60='Listes de sélection'!$A$66),(IF(A60=\"\",\"\",OFFSET('Demandeurs de chaleur'!$C$7,9,A60,1,1))),\"Non\")","v":"Non"},{"$f":"IF(OR(F60='Listes de sélection'!$A$66),(IF(A60=\"\",\"\",OFFSET('Demandeurs de chaleur'!$C$7,10,A60,1,1))),\"Non\")","v":"Non"},{"$f":"IF(OR(F60='Listes de sélection'!$A$66),(IF(A60=\"\",\"\",OFFSET('Demandeurs de chaleur'!$C$7,11,A60,1,1))),\"Non\")","v":"Non"},{"$f":"IF(A60=\"\",\"\",IF(OFFSET('Demandeurs de chaleur'!$C$7,7,A60,1,1)=\"Oui\",0.97,1))","v":1},{"$f":"IF(A60=\"\",\"\",OFFSET('Demandeurs de chaleur'!$C$7,10,A60,1,1))","v":0}]
[53,"Demandeur de chaleur 54",{"$f":"IF(A61=\"\",\"\",OFFSET('Demandeurs de chaleur'!$C$7,2,A61,1,1))","v":0},{"$f":"IF(A61=\"\",\"\",OFFSET('Demandeurs de chaleur'!$C$7,30,A61,1,1))","v":0},{"$f":"IF(A61=\"\",\"\",OFFSET('Demandeurs de chaleur'!$C$7,5,A61,1,1))","v":0},{"$f":"IF(A61=\"\",\"\",OFFSET('Demandeurs de chaleur'!$C$7,6,A61,1,1))","v":0},{"$f":"IF(OR(F61='Listes de sélection'!$A$65,F61='Listes de sélection'!$A$66),(IF(A61=\"\",\"\",OFFSET('Demandeurs de chaleur'!$C$7,8,A61,1,1))),\"Non\")","v":"Non"},{"$f":"IF(OR(F61='Listes de sélection'!$A$65,F61='Listes de sélection'!$A$66),(IF(A61=\"\",\"\",OFFSET('Demandeurs de chaleur'!$C$7,9,A61,1,1))),\"Non\")","v":"Non"},{"$f":"IF(OR(F61='Listes de sélection'!$A$66),(IF(A61=\"\",\"\",OFFSET('Demandeurs de chaleur'!$C$7,10,A61,1,1))),\"Non\")","v":"Non"},{"$f":"IF(OR(F61='Listes de sélection'!$A$66),(IF(A61=\"\",\"\",OFFSET('Demandeurs de chaleur'!$C$7,11,A61,1,1))),\"Non\")","v":"Non"},{"$f":"IF(A61=\"\",\"\",IF(OFFSET('Demandeurs de chaleur'!$C$7,7,A61,1,1)=\"Oui\",0.97,1))","v":1},{"$f":"IF(A61=\"\",\"\",OFFSET('Demandeurs de chaleur'!$C$7,10,A61,1,1))","v":0}]
[54,"Demandeur de chaleur 55",{"$f":"IF(A62=\"\",\"\",OFFSET('Demandeurs de chaleur'!$C$7,2,A62,1,1))","v":0},{"$f":"IF(A62=\"\",\"\",OFFSET('Demandeurs de chaleur'!$C$7,30,A62,1,1))","v":0},{"$f":"IF(A62=\"\",\"\",OFFSET('Demandeurs de chaleur'!$C$7,5,A62,1,1))","v":0},{"$f":"IF(A62=\"\",\"\",OFFSET('Demandeurs de chaleur'!$C$7,6,A62,1,1))","v":0},{"$f":"IF(OR(F62='Listes de sélection'!$A$65,F62='Listes de sélection'!$A$66),(IF(A62=\"\",\"\",OFFSET('Demandeurs de chaleur'!$C$7,8,A62,1,1))),\"Non\")","v":"Non"},{"$f":"IF(OR(F62='Listes de sélection'!$A$65,F62='Listes de sélection'!$A$66),(IF(A62=\"\",\"\",OFFSET('Demandeurs de chaleur'!$C$7,9,A62,1,1))),\"Non\")","v":"Non"},{"$f":"IF(OR(F62='Listes de sélection'!$A$66),(IF(A62=\"\",\"\",OFFSET('Demandeurs de chaleur'!$C$7,10,A62,1,1))),\"Non\")","v":"Non"},{"$f":"IF(OR(F62='Listes de sélection'!$A$66),(IF(A62=\"\",\"\",OFFSET('Demandeurs de chaleur'!$C$7,11,A62,1,1))),\"Non\")","v":"Non"},{"$f":"IF(A62=\"\",\"\",IF(OFFSET('Demandeurs de chaleur'!$C$7,7,A62,1,1)=\"Oui\",0.97,1))","v":1},{"$f":"IF(A62=\"\",\"\",OFFSET('Demandeurs de chaleur'!$C$7,10,A62,1,1))","v":0}]
[55,"Demandeur de chaleur 56",{"$f":"IF(A63=\"\",\"\",OFFSET('Demandeurs de chaleur'!$C$7,2,A63,1,1))","v":0},{"$f":"IF(A63=\"\",\"\",OFFSET('Demandeurs de chaleur'!$C$7,30,A63,1,1))","v":0},{"$f":"IF(A63=\"\",\"\",OFFSET('Demandeurs de chaleur'!$C$7,5,A63,1,1))","v":0},{"$f":"IF(A63=\"\",\"\",OFFSET('Demandeurs de chaleur'!$C$7,6,A63,1,1))","v":0},{"$f":"IF(OR(F63='Listes de sélection'!$A$65,F63='Listes de sélection'!$A$66),(IF(A63=\"\",\"\",OFFSET('Demandeurs de chaleur'!$C$7,8,A63,1,1))),\"Non\")","v":"Non"},{"$f":"IF(OR(F63='Listes de sélection'!$A$65,F63='Listes de sélection'!$A$66),(IF(A63=\"\",\"\",OFFSET('Demandeurs de chaleur'!$C$7,9,A63,1,1))),\"Non\")","v":"Non"},{"$f":"IF(OR(F63='Listes de sélection'!$A$66),(IF(A63=\"\",\"\",OFFSET('Demandeurs de chaleur'!$C$7,10,A63,1,1))),\"Non\")","v":"Non"},{"$f":"IF(OR(F63='Listes de sélection'!$A$66),(IF(A63=\"\",\"\",OFFSET('Demandeurs de chaleur'!$C$7,11,A63,1,1))),\"Non\")","v":"Non"},{"$f":"IF(A63=\"\",\"\",IF(OFFSET('Demandeurs de chaleur'!$C$7,7,A63,1,1)=\"Oui\",0.97,1))","v":1},{"$f":"IF(A63=\"\",\"\",OFFSET('Demandeurs de chaleur'!$C$7,10,A63,1,1))","v":0}]
[56,"Demandeur de chaleur 57",{"$f":"IF(A64=\"\",\"\",OFFSET('Demandeurs de chaleur'!$C$7,2,A64,1,1))","v":0},{"$f":"IF(A64=\"\",\"\",OFFSET('Demandeurs de chaleur'!$C$7,30,A64,1,1))","v":0},{"$f":"IF(A64=\"\",\"\",OFFSET('Demandeurs de chaleur'!$C$7,5,A64,1,1))","v":0},{"$f":"IF(A64=\"\",\"\",OFFSET('Demandeurs de chaleur'!$C$7,6,A64,1,1))","v":0},{"$f":"IF(OR(F64='Listes de sélection'!$A$65,F64='Listes de sélection'!$A$66),(IF(A64=\"\",\"\",OFFSET('Demandeurs de chaleur'!$C$7,8,A64,1,1))),\"Non\")","v":"Non"},{"$f":"IF(OR(F64='Listes de sélection'!$A$65,F64='Listes de sélection'!$A$66),(IF(A64=\"\",\"\",OFFSET('Demandeurs de chaleur'!$C$7,9,A64,1,1))),\"Non\")","v":"Non"},{"$f":"IF(OR(F64='Listes de sélection'!$A$66),(IF(A64=\"\",\"\",OFFSET('Demandeurs de chaleur'!$C$7,10,A64,1,1))),\"Non\")","v":"Non"},{"$f":"IF(OR(F64='Listes de sélection'!$A$66),(IF(A64=\"\",\"\",OFFSET('Demandeurs de chaleur'!$C$7,11,A64,1,1))),\"Non\")","v":"Non"},{"$f":"IF(A64=\"\",\"\",IF(OFFSET('Demandeurs de chaleur'!$C$7,7,A64,1,1)=\"Oui\",0.97,1))","v":1},{"$f":"IF(A64=\"\",\"\",OFFSET('Demandeurs de chaleur'!$C$7,10,A64,1,1))","v":0}]
[57,"Demandeur de chaleur 58",{"$f":"IF(A65=\"\",\"\",OFFSET('Demandeurs de chaleur'!$C$7,2,A65,1,1))","v":0},{"$f":"IF(A65=\"\",\"\",OFFSET('Demandeurs de chaleur'!$C$7,30,A65,1,1))","v":0},{"$f":"IF(A65=\"\",\"\",OFFSET('Demandeurs de chaleur'!$C$7,5,A65,1,1))","v":0},{"$f":"IF(A65=\"\",\"\",OFFSET('Demandeurs de chaleur'!$C$7,6,A65,1,1))","v":0},{"$f":"IF(OR(F65='Listes de sélection'!$A$65,F65='Listes de sélection'!$A$66),(IF(A65=\"\",\"\",OFFSET('Demandeurs de chaleur'!$C$7,8,A65,1,1))),\"Non\")","v":"Non"},{"$f":"IF(OR(F65='Listes de sélection'!$A$65,F65='Listes de sélection'!$A$66),(IF(A65=\"\",\"\",OFFSET('Demandeurs de chaleur'!$C$7,9,A65,1,1))),\"Non\")","v":"Non"},{"$f":"IF(OR(F65='Listes de sélection'!$A$66),(IF(A65=\"\",\"\",OFFSET('Demandeurs de chaleur'!$C$7,10,A65,1,1))),\"Non\")","v":"Non"},{"$f":"IF(OR(F65='Listes de sélection'!$A$66),(IF(A65=\"\",\"\",OFFSET('Demandeurs de chaleur'!$C$7,11,A65,1,1))),\"Non\")","v":"Non"},{"$f":"IF(A65=\"\",\"\",IF(OFFSET('Demandeurs de chaleur'!$C$7,7,A65,1,1)=\"Oui\",0.97,1))","v":1},{"$f":"IF(A65=\"\",\"\",OFFSET('Demandeurs de chaleur'!$C$7,10,A65,1,1))","v":0}]
[58,"Demandeur de chaleur 59",{"$f":"IF(A66=\"\",\"\",OFFSET('Demandeurs de chaleur'!$C$7,2,A66,1,1))","v":0},{"$f":"IF(A66=\"\",\"\",OFFSET('Demandeurs de chaleur'!$C$7,30,A66,1,1))","v":0},{"$f":"IF(A66=\"\",\"\",OFFSET('Demandeurs de chaleur'!$C$7,5,A66,1,1))","v":0},{"$f":"IF(A66=\"\",\"\",OFFSET('Demandeurs de chaleur'!$C$7,6,A66,1,1))","v":0},{"$f":"IF(OR(F66='Listes de sélection'!$A$65,F66='Listes de sélection'!$A$66),(IF(A66=\"\",\"\",OFFSET('Demandeurs de chaleur'!$C$7,8,A66,1,1))),\"Non\")","v":"Non"},{"$f":"IF(OR(F66='Listes de sélection'!$A$65,F66='Listes de sélection'!$A$66),(IF(A66=\"\",\"\",OFFSET('Demandeurs de chaleur'!$C$7,9,A66,1,1))),\"Non\")","v":"Non"},{"$f":"IF(OR(F66='Listes de sélection'!$A$66),(IF(A66=\"\",\"\",OFFSET('Demandeurs de chaleur'!$C$7,10,A66,1,1))),\"Non\")","v":"Non"},{"$f":"IF(OR(F66='Listes de sélection'!$A$66),(IF(A66=\"\",\"\",OFFSET('Demandeurs de chaleur'!$C$7,11,A66,1,1))),\"Non\")","v":"Non"},{"$f":"IF(A66=\"\",\"\",IF(OFFSET('Demandeurs de chaleur'!$C$7,7,A66,1,1)=\"Oui\",0.97,1))","v":1},{"$f":"IF(A66=\"\",\"\",OFFSET('Demandeurs de chaleur'!$C$7,10,A66,1,1))","v":0}]
[59,"Demandeur de chaleur 60",{"$f":"IF(A67=\"\",\"\",OFFSET('Demandeurs de chaleur'!$C$7,2,A67,1,1))","v":0},{"$f":"IF(A67=\"\",\"\",OFFSET('Demandeurs de chaleur'!$C$7,30,A67,1,1))","v":0},{"$f":"IF(A67=\"\",\"\",OFFSET('Demandeurs de chaleur'!$C$7,5,A67,1,1))","v":0},{"$f":"IF(A67=\"\",\"\",OFFSET('Demandeurs de chaleur'!$C$7,6,A67,1,1))","v":0},{"$f":"IF(OR(F67='Listes de sélection'!$A$65,F67='Listes de sélection'!$A$66),(IF(A67=\"\",\"\",OFFSET('Demandeurs de chaleur'!$C$7,8,A67,1,1))),\"Non\")","v":"Non"},{"$f":"IF(OR(F67='Listes de sélection'!$A$65,F67='Listes de sélection'!$A$66),(IF(A67=\"\",\"\",OFFSET('Demandeurs de chaleur'!$C$7,9,A67,1,1))),\"Non\")","v":"Non"},{"$f":"IF(OR(F67='Listes de sélection'!$A$66),(IF(A67=\"\",\"\",OFFSET('Demandeurs de chaleur'!$C$7,10,A67,1,1))),\"Non\")","v":"Non"},{"$f":"IF(OR(F67='Listes de sélection'!$A$66),(IF(A67=\"\",\"\",OFFSET('Demandeurs de chaleur'!$C$7,11,A67,1,1))),\"Non\")","v":"Non"},{"$f":"IF(A67=\"\",\"\",IF(OFFSET('Demandeurs de chaleur'!$C$7,7,A67,1,1)=\"Oui\",0.97,1))","v":1},{"$f":"IF(A67=\"\",\"\",OFFSET('Demandeurs de chaleur'!$C$7,10,A67,1,1))","v":0}]
[60,"Demandeur de chaleur 61",{"$f":"IF(A68=\"\",\"\",OFFSET('Demandeurs de chaleur'!$C$7,2,A68,1,1))","v":0},{"$f":"IF(A68=\"\",\"\",OFFSET('Demandeurs de chaleur'!$C$7,30,A68,1,1))","v":0},{"$f":"IF(A68=\"\",\"\",OFFSET('Demandeurs de chaleur'!$C$7,5,A68,1,1))","v":0},{"$f":"IF(A68=\"\",\"\",OFFSET('Demandeurs de chaleur'!$C$7,6,A68,1,1))","v":0},{"$f":"IF(OR(F68='Listes de sélection'!$A$65,F68='Listes de sélection'!$A$66),(IF(A68=\"\",\"\",OFFSET('Demandeurs de chaleur'!$C$7,8,A68,1,1))),\"Non\")","v":"Non"},{"$f":"IF(OR(F68='Listes de sélection'!$A$65,F68='Listes de sélection'!$A$66),(IF(A68=\"\",\"\",OFFSET('Demandeurs de chaleur'!$C$7,9,A68,1,1))),\"Non\")","v":"Non"},{"$f":"IF(OR(F68='Listes de sélection'!$A$66),(IF(A68=\"\",\"\",OFFSET('Demandeurs de chaleur'!$C$7,10,A68,1,1))),\"Non\")","v":"Non"},{"$f":"IF(OR(F68='Listes de sélection'!$A$66),(IF(A68=\"\",\"\",OFFSET('Demandeurs de chaleur'!$C$7,11,A68,1,1))),\"Non\")","v":"Non"},{"$f":"IF(A68=\"\",\"\",IF(OFFSET('Demandeurs de chaleur'!$C$7,7,A68,1,1)=\"Oui\",0.97,1))","v":1},{"$f":"IF(A68=\"\",\"\",OFFSET('Demandeurs de chaleur'!$C$7,10,A68,1,1))","v":0}]
[61,"Demandeur de chaleur 62",{"$f":"IF(A69=\"\",\"\",OFFSET('Demandeurs de chaleur'!$C$7,2,A69,1,1))","v":0},{"$f":"IF(A69=\"\",\"\",OFFSET('Demandeurs de chaleur'!$C$7,30,A69,1,1))","v":0},{"$f":"IF(A69=\"\",\"\",OFFSET('Demandeurs de chaleur'!$C$7,5,A69,1,1))","v":0},{"$f":"IF(A69=\"\",\"\",OFFSET('Demandeurs de chaleur'!$C$7,6,A69,1,1))","v":0},{"$f":"IF(OR(F69='Listes de sélection'!$A$65,F69='Listes de sélection'!$A$66),(IF(A69=\"\",\"\",OFFSET('Demandeurs de chaleur'!$C$7,8,A69,1,1))),\"Non\")","v":"Non"},{"$f":"IF(OR(F69='Listes de sélection'!$A$65,F69='Listes de sélection'!$A$66),(IF(A69=\"\",\"\",OFFSET('Demandeurs de chaleur'!$C$7,9,A69,1,1))),\"Non\")","v":"Non"},{"$f":"IF(OR(F69='Listes de sélection'!$A$66),(IF(A69=\"\",\"\",OFFSET('Demandeurs de chaleur'!$C$7,10,A69,1,1))),\"Non\")","v":"Non"},{"$f":"IF(OR(F69='Listes de sélection'!$A$66),(IF(A69=\"\",\"\",OFFSET('Demandeurs de chaleur'!$C$7,11,A69,1,1))),\"Non\")","v":"Non"},{"$f":"IF(A69=\"\",\"\",IF(OFFSET('Demandeurs de chaleur'!$C$7,7,A69,1,1)=\"Oui\",0.97,1))","v":1},{"$f":"IF(A69=\"\",\"\",OFFSET('Demandeurs de chaleur'!$C$7,10,A69,1,1))","v":0}]
[62,"Demandeur de chaleur 63",{"$f":"IF(A70=\"\",\"\",OFFSET('Demandeurs de chaleur'!$C$7,2,A70,1,1))","v":0},{"$f":"IF(A70=\"\",\"\",OFFSET('Demandeurs de chaleur'!$C$7,30,A70,1,1))","v":0},{"$f":"IF(A70=\"\",\"\",OFFSET('Demandeurs de chaleur'!$C$7,5,A70,1,1))","v":0},{"$f":"IF(A70=\"\",\"\",OFFSET('Demandeurs de chaleur'!$C$7,6,A70,1,1))","v":0},{"$f":"IF(OR(F70='Listes de sélection'!$A$65,F70='Listes de sélection'!$A$66),(IF(A70=\"\",\"\",OFFSET('Demandeurs de chaleur'!$C$7,8,A70,1,1))),\"Non\")","v":"Non"},{"$f":"IF(OR(F70='Listes de sélection'!$A$65,F70='Listes de sélection'!$A$66),(IF(A70=\"\",\"\",OFFSET('Demandeurs de chaleur'!$C$7,9,A70,1,1))),\"Non\")","v":"Non"},{"$f":"IF(OR(F70='Listes de sélection'!$A$66),(IF(A70=\"\",\"\",OFFSET('Demandeurs de chaleur'!$C$7,10,A70,1,1))),\"Non\")","v":"Non"},{"$f":"IF(OR(F70='Listes de sélection'!$A$66),(IF(A70=\"\",\"\",OFFSET('Demandeurs de chaleur'!$C$7,11,A70,1,1))),\"Non\")","v":"Non"},{"$f":"IF(A70=\"\",\"\",IF(OFFSET('Demandeurs de chaleur'!$C$7,7,A70,1,1)=\"Oui\",0.97,1))","v":1},{"$f":"IF(A70=\"\",\"\",OFFSET('Demandeurs de chaleur'!$C$7,10,A70,1,1))","v":0}]
[63,"Demandeur de chaleur 64",{"$f":"IF(A71=\"\",\"\",OFFSET('Demandeurs de chaleur'!$C$7,2,A71,1,1))","v":0},{"$f":"IF(A71=\"\",\"\",OFFSET('Demandeurs de chaleur'!$C$7,30,A71,1,1))","v":0},{"$f":"IF(A71=\"\",\"\",OFFSET('Demandeurs de chaleur'!$C$7,5,A71,1,1))","v":0},{"$f":"IF(A71=\"\",\"\",OFFSET('Demandeurs de chaleur'!$C$7,6,A71,1,1))","v":0},{"$f":"IF(OR(F71='Listes de sélection'!$A$65,F71='Listes de sélection'!$A$66),(IF(A71=\"\",\"\",OFFSET('Demandeurs de chaleur'!$C$7,8,A71,1,1))),\"Non\")","v":"Non"},{"$f":"IF(OR(F71='Listes de sélection'!$A$65,F71='Listes de sélection'!$A$66),(IF(A71=\"\",\"\",OFFSET('Demandeurs de chaleur'!$C$7,9,A71,1,1))),\"Non\")","v":"Non"},{"$f":"IF(OR(F71='Listes de sélection'!$A$66),(IF(A71=\"\",\"\",OFFSET('Demandeurs de chaleur'!$C$7,10,A71,1,1))),\"Non\")","v":"Non"},{"$f":"IF(OR(F71='Listes de sélection'!$A$66),(IF(A71=\"\",\"\",OFFSET('Demandeurs de chaleur'!$C$7,11,A71,1,1))),\"Non\")","v":"Non"},{"$f":"IF(A71=\"\",\"\",IF(OFFSET('Demandeurs de chaleur'!$C$7,7,A71,1,1)=\"Oui\",0.97,1))","v":1},{"$f":"IF(A71=\"\",\"\",OFFSET('Demandeurs de chaleur'!$C$7,10,A71,1,1))","v":0}]
[64,{"$f":"\"Demandeur de chaleur \"&A72+1","v":"Demandeur de chaleur 65"},{"$f":"IF(A72=\"\",\"\",OFFSET('Demandeurs de chaleur'!$C$7,2,A72,1,1))","v":0},{"$f":"IF(A72=\"\",\"\",OFFSET('Demandeurs de chaleur'!$C$7,30,A72,1,1))","v":0},{"$f":"IF(A72=\"\",\"\",OFFSET('Demandeurs de chaleur'!$C$7,5,A72,1,1))","v":0},{"$f":"IF(A72=\"\",\"\",OFFSET('Demandeurs de chaleur'!$C$7,6,A72,1,1))","v":0},{"$f":"IF(OR(F72='Listes de sélection'!$A$65,F72='Listes de sélection'!$A$66),(IF(A72=\"\",\"\",OFFSET('Demandeurs de chaleur'!$C$7,8,A72,1,1))),\"Non\")","v":"Non"},{"$f":"IF(OR(F72='Listes de sélection'!$A$65,F72='Listes de sélection'!$A$66),(IF(A72=\"\",\"\",OFFSET('Demandeurs de chaleur'!$C$7,9,A72,1,1))),\"Non\")","v":"Non"},{"$f":"IF(OR(F72='Listes de sélection'!$A$66),(IF(A72=\"\",\"\",OFFSET('Demandeurs de chaleur'!$C$7,10,A72,1,1))),\"Non\")","v":"Non"},{"$f":"IF(OR(F72='Listes de sélection'!$A$66),(IF(A72=\"\",\"\",OFFSET('Demandeurs de chaleur'!$C$7,11,A72,1,1))),\"Non\")","v":"Non"},{"$f":"IF(A72=\"\",\"\",IF(OFFSET('Demandeurs de chaleur'!$C$7,7,A72,1,1)=\"Oui\",0.97,1))","v":1},{"$f":"IF(A72=\"\",\"\",OFFSET('Demandeurs de chaleur'!$C$7,10,A72,1,1))","v":0}]
[65,"Demandeur de chaleur 66",{"$f":"IF(A73=\"\",\"\",OFFSET('Demandeurs de chaleur'!$C$7,2,A73,1,1))","v":0},{"$f":"IF(A73=\"\",\"\",OFFSET('Demandeurs de chaleur'!$C$7,30,A73,1,1))","v":0},{"$f":"IF(A73=\"\",\"\",OFFSET('Demandeurs de chaleur'!$C$7,5,A73,1,1))","v":0},{"$f":"IF(A73=\"\",\"\",OFFSET('Demandeurs de chaleur'!$C$7,6,A73,1,1))","v":0},{"$f":"IF(OR(F73='Listes de sélection'!$A$65,F73='Listes de sélection'!$A$66),(IF(A73=\"\",\"\",OFFSET('Demandeurs de chaleur'!$C$7,8,A73,1,1))),\"Non\")","v":"Non"},{"$f":"IF(OR(F73='Listes de sélection'!$A$65,F73='Listes de sélection'!$A$66),(IF(A73=\"\",\"\",OFFSET('Demandeurs de chaleur'!$C$7,9,A73,1,1))),\"Non\")","v":"Non"},{"$f":"IF(OR(F73='Listes de sélection'!$A$66),(IF(A73=\"\",\"\",OFFSET('Demandeurs de chaleur'!$C$7,10,A73,1,1))),\"Non\")","v":"Non"},{"$f":"IF(OR(F73='Listes de sélection'!$A$66),(IF(A73=\"\",\"\",OFFSET('Demandeurs de chaleur'!$C$7,11,A73,1,1))),\"Non\")","v":"Non"},{"$f":"IF(A73=\"\",\"\",IF(OFFSET('Demandeurs de chaleur'!$C$7,7,A73,1,1)=\"Oui\",0.97,1))","v":1},{"$f":"IF(A73=\"\",\"\",OFFSET('Demandeurs de chaleur'!$C$7,10,A73,1,1))","v":0}]
[66,"Demandeur de chaleur 67",{"$f":"IF(A74=\"\",\"\",OFFSET('Demandeurs de chaleur'!$C$7,2,A74,1,1))","v":0},{"$f":"IF(A74=\"\",\"\",OFFSET('Demandeurs de chaleur'!$C$7,30,A74,1,1))","v":0},{"$f":"IF(A74=\"\",\"\",OFFSET('Demandeurs de chaleur'!$C$7,5,A74,1,1))","v":0},{"$f":"IF(A74=\"\",\"\",OFFSET('Demandeurs de chaleur'!$C$7,6,A74,1,1))","v":0},{"$f":"IF(OR(F74='Listes de sélection'!$A$65,F74='Listes de sélection'!$A$66),(IF(A74=\"\",\"\",OFFSET('Demandeurs de chaleur'!$C$7,8,A74,1,1))),\"Non\")","v":"Non"},{"$f":"IF(OR(F74='Listes de sélection'!$A$65,F74='Listes de sélection'!$A$66),(IF(A74=\"\",\"\",OFFSET('Demandeurs de chaleur'!$C$7,9,A74,1,1))),\"Non\")","v":"Non"},{"$f":"IF(OR(F74='Listes de sélection'!$A$66),(IF(A74=\"\",\"\",OFFSET('Demandeurs de chaleur'!$C$7,10,A74,1,1))),\"Non\")","v":"Non"},{"$f":"IF(OR(F74='Listes de sélection'!$A$66),(IF(A74=\"\",\"\",OFFSET('Demandeurs de chaleur'!$C$7,11,A74,1,1))),\"Non\")","v":"Non"},{"$f":"IF(A74=\"\",\"\",IF(OFFSET('Demandeurs de chaleur'!$C$7,7,A74,1,1)=\"Oui\",0.97,1))","v":1},{"$f":"IF(A74=\"\",\"\",OFFSET('Demandeurs de chaleur'!$C$7,10,A74,1,1))","v":0}]
[{"$f":"A74+1","v":67},"Demandeur de chaleur 68",{"$f":"IF(A75=\"\",\"\",OFFSET('Demandeurs de chaleur'!$C$7,2,A75,1,1))","v":0},{"$f":"IF(A75=\"\",\"\",OFFSET('Demandeurs de chaleur'!$C$7,30,A75,1,1))","v":0},{"$f":"IF(A75=\"\",\"\",OFFSET('Demandeurs de chaleur'!$C$7,5,A75,1,1))","v":0},{"$f":"IF(A75=\"\",\"\",OFFSET('Demandeurs de chaleur'!$C$7,6,A75,1,1))","v":0},{"$f":"IF(OR(F75='Listes de sélection'!$A$65,F75='Listes de sélection'!$A$66),(IF(A75=\"\",\"\",OFFSET('Demandeurs de chaleur'!$C$7,8,A75,1,1))),\"Non\")","v":"Non"},{"$f":"IF(OR(F75='Listes de sélection'!$A$65,F75='Listes de sélection'!$A$66),(IF(A75=\"\",\"\",OFFSET('Demandeurs de chaleur'!$C$7,9,A75,1,1))),\"Non\")","v":"Non"},{"$f":"IF(OR(F75='Listes de sélection'!$A$66),(IF(A75=\"\",\"\",OFFSET('Demandeurs de chaleur'!$C$7,10,A75,1,1))),\"Non\")","v":"Non"},{"$f":"IF(OR(F75='Listes de sélection'!$A$66),(IF(A75=\"\",\"\",OFFSET('Demandeurs de chaleur'!$C$7,11,A75,1,1))),\"Non\")","v":"Non"},{"$f":"IF(A75=\"\",\"\",IF(OFFSET('Demandeurs de chaleur'!$C$7,7,A75,1,1)=\"Oui\",0.97,1))","v":1},{"$f":"IF(A75=\"\",\"\",OFFSET('Demandeurs de chaleur'!$C$7,10,A75,1,1))","v":0}]
[68,"Demandeur de chaleur 69",{"$f":"IF(A76=\"\",\"\",OFFSET('Demandeurs de chaleur'!$C$7,2,A76,1,1))","v":0},{"$f":"IF(A76=\"\",\"\",OFFSET('Demandeurs de chaleur'!$C$7,30,A76,1,1))","v":0},{"$f":"IF(A76=\"\",\"\",OFFSET('Demandeurs de chaleur'!$C$7,5,A76,1,1))","v":0},{"$f":"IF(A76=\"\",\"\",OFFSET('Demandeurs de chaleur'!$C$7,6,A76,1,1))","v":0},{"$f":"IF(OR(F76='Listes de sélection'!$A$65,F76='Listes de sélection'!$A$66),(IF(A76=\"\",\"\",OFFSET('Demandeurs de chaleur'!$C$7,8,A76,1,1))),\"Non\")","v":"Non"},{"$f":"IF(OR(F76='Listes de sélection'!$A$65,F76='Listes de sélection'!$A$66),(IF(A76=\"\",\"\",OFFSET('Demandeurs de chaleur'!$C$7,9,A76,1,1))),\"Non\")","v":"Non"},{"$f":"IF(OR(F76='Listes de sélection'!$A$66),(IF(A76=\"\",\"\",OFFSET('Demandeurs de chaleur'!$C$7,10,A76,1,1))),\"Non\")","v":"Non"},{"$f":"IF(OR(F76='Listes de sélection'!$A$66),(IF(A76=\"\",\"\",OFFSET('Demandeurs de chaleur'!$C$7,11,A76,1,1))),\"Non\")","v":"Non"},{"$f":"IF(A76=\"\",\"\",IF(OFFSET('Demandeurs de chaleur'!$C$7,7,A76,1,1)=\"Oui\",0.97,1))","v":1},{"$f":"IF(A76=\"\",\"\",OFFSET('Demandeurs de chaleur'!$C$7,10,A76,1,1))","v":0}]
[69,"Demandeur de chaleur 70",{"$f":"IF(A77=\"\",\"\",OFFSET('Demandeurs de chaleur'!$C$7,2,A77,1,1))","v":0},{"$f":"IF(A77=\"\",\"\",OFFSET('Demandeurs de chaleur'!$C$7,30,A77,1,1))","v":0},{"$f":"IF(A77=\"\",\"\",OFFSET('Demandeurs de chaleur'!$C$7,5,A77,1,1))","v":0},{"$f":"IF(A77=\"\",\"\",OFFSET('Demandeurs de chaleur'!$C$7,6,A77,1,1))","v":0},{"$f":"IF(OR(F77='Listes de sélection'!$A$65,F77='Listes de sélection'!$A$66),(IF(A77=\"\",\"\",OFFSET('Demandeurs de chaleur'!$C$7,8,A77,1,1))),\"Non\")","v":"Non"},{"$f":"IF(OR(F77='Listes de sélection'!$A$65,F77='Listes de sélection'!$A$66),(IF(A77=\"\",\"\",OFFSET('Demandeurs de chaleur'!$C$7,9,A77,1,1))),\"Non\")","v":"Non"},{"$f":"IF(OR(F77='Listes de sélection'!$A$66),(IF(A77=\"\",\"\",OFFSET('Demandeurs de chaleur'!$C$7,10,A77,1,1))),\"Non\")","v":"Non"},{"$f":"IF(OR(F77='Listes de sélection'!$A$66),(IF(A77=\"\",\"\",OFFSET('Demandeurs de chaleur'!$C$7,11,A77,1,1))),\"Non\")","v":"Non"},{"$f":"IF(A77=\"\",\"\",IF(OFFSET('Demandeurs de chaleur'!$C$7,7,A77,1,1)=\"Oui\",0.97,1))","v":1},{"$f":"IF(A77=\"\",\"\",OFFSET('Demandeurs de chaleur'!$C$7,10,A77,1,1))","v":0}]
[70,"Demandeur de chaleur 71",{"$f":"IF(A78=\"\",\"\",OFFSET('Demandeurs de chaleur'!$C$7,2,A78,1,1))","v":0},{"$f":"IF(A78=\"\",\"\",OFFSET('Demandeurs de chaleur'!$C$7,30,A78,1,1))","v":0},{"$f":"IF(A78=\"\",\"\",OFFSET('Demandeurs de chaleur'!$C$7,5,A78,1,1))","v":0},{"$f":"IF(A78=\"\",\"\",OFFSET('Demandeurs de chaleur'!$C$7,6,A78,1,1))","v":0},{"$f":"IF(OR(F78='Listes de sélection'!$A$65,F78='Listes de sélection'!$A$66),(IF(A78=\"\",\"\",OFFSET('Demandeurs de chaleur'!$C$7,8,A78,1,1))),\"Non\")","v":"Non"},{"$f":"IF(OR(F78='Listes de sélection'!$A$65,F78='Listes de sélection'!$A$66),(IF(A78=\"\",\"\",OFFSET('Demandeurs de chaleur'!$C$7,9,A78,1,1))),\"Non\")","v":"Non"},{"$f":"IF(OR(F78='Listes de sélection'!$A$66),(IF(A78=\"\",\"\",OFFSET('Demandeurs de chaleur'!$C$7,10,A78,1,1))),\"Non\")","v":"Non"},{"$f":"IF(OR(F78='Listes de sélection'!$A$66),(IF(A78=\"\",\"\",OFFSET('Demandeurs de chaleur'!$C$7,11,A78,1,1))),\"Non\")","v":"Non"},{"$f":"IF(A78=\"\",\"\",IF(OFFSET('Demandeurs de chaleur'!$C$7,7,A78,1,1)=\"Oui\",0.97,1))","v":1},{"$f":"IF(A78=\"\",\"\",OFFSET('Demandeurs de chaleur'!$C$7,10,A78,1,1))","v":0}]
[71,"Demandeur de chaleur 72",{"$f":"IF(A79=\"\",\"\",OFFSET('Demandeurs de chaleur'!$C$7,2,A79,1,1))","v":0},{"$f":"IF(A79=\"\",\"\",OFFSET('Demandeurs de chaleur'!$C$7,30,A79,1,1))","v":0},{"$f":"IF(A79=\"\",\"\",OFFSET('Demandeurs de chaleur'!$C$7,5,A79,1,1))","v":0},{"$f":"IF(A79=\"\",\"\",OFFSET('Demandeurs de chaleur'!$C$7,6,A79,1,1))","v":0},{"$f":"IF(OR(F79='Listes de sélection'!$A$65,F79='Listes de sélection'!$A$66),(IF(A79=\"\",\"\",OFFSET('Demandeurs de chaleur'!$C$7,8,A79,1,1))),\"Non\")","v":"Non"},{"$f":"IF(OR(F79='Listes de sélection'!$A$65,F79='Listes de sélection'!$A$66),(IF(A79=\"\",\"\",OFFSET('Demandeurs de chaleur'!$C$7,9,A79,1,1))),\"Non\")","v":"Non"},{"$f":"IF(OR(F79='Listes de sélection'!$A$66),(IF(A79=\"\",\"\",OFFSET('Demandeurs de chaleur'!$C$7,10,A79,1,1))),\"Non\")","v":"Non"},{"$f":"IF(OR(F79='Listes de sélection'!$A$66),(IF(A79=\"\",\"\",OFFSET('Demandeurs de chaleur'!$C$7,11,A79,1,1))),\"Non\")","v":"Non"},{"$f":"IF(A79=\"\",\"\",IF(OFFSET('Demandeurs de chaleur'!$C$7,7,A79,1,1)=\"Oui\",0.97,1))","v":1},{"$f":"IF(A79=\"\",\"\",OFFSET('Demandeurs de chaleur'!$C$7,10,A79,1,1))","v":0}]
[72,"Demandeur de chaleur 73",{"$f":"IF(A80=\"\",\"\",OFFSET('Demandeurs de chaleur'!$C$7,2,A80,1,1))","v":0},{"$f":"IF(A80=\"\",\"\",OFFSET('Demandeurs de chaleur'!$C$7,30,A80,1,1))","v":0},{"$f":"IF(A80=\"\",\"\",OFFSET('Demandeurs de chaleur'!$C$7,5,A80,1,1))","v":0},{"$f":"IF(A80=\"\",\"\",OFFSET('Demandeurs de chaleur'!$C$7,6,A80,1,1))","v":0},{"$f":"IF(OR(F80='Listes de sélection'!$A$65,F80='Listes de sélection'!$A$66),(IF(A80=\"\",\"\",OFFSET('Demandeurs de chaleur'!$C$7,8,A80,1,1))),\"Non\")","v":"Non"},{"$f":"IF(OR(F80='Listes de sélection'!$A$65,F80='Listes de sélection'!$A$66),(IF(A80=\"\",\"\",OFFSET('Demandeurs de chaleur'!$C$7,9,A80,1,1))),\"Non\")","v":"Non"},{"$f":"IF(OR(F80='Listes de sélection'!$A$66),(IF(A80=\"\",\"\",OFFSET('Demandeurs de chaleur'!$C$7,10,A80,1,1))),\"Non\")","v":"Non"},{"$f":"IF(OR(F80='Listes de sélection'!$A$66),(IF(A80=\"\",\"\",OFFSET('Demandeurs de chaleur'!$C$7,11,A80,1,1))),\"Non\")","v":"Non"},{"$f":"IF(A80=\"\",\"\",IF(OFFSET('Demandeurs de chaleur'!$C$7,7,A80,1,1)=\"Oui\",0.97,1))","v":1},{"$f":"IF(A80=\"\",\"\",OFFSET('Demandeurs de chaleur'!$C$7,10,A80,1,1))","v":0}]
[73,"Demandeur de chaleur 74",{"$f":"IF(A81=\"\",\"\",OFFSET('Demandeurs de chaleur'!$C$7,2,A81,1,1))","v":0},{"$f":"IF(A81=\"\",\"\",OFFSET('Demandeurs de chaleur'!$C$7,30,A81,1,1))","v":0},{"$f":"IF(A81=\"\",\"\",OFFSET('Demandeurs de chaleur'!$C$7,5,A81,1,1))","v":0},{"$f":"IF(A81=\"\",\"\",OFFSET('Demandeurs de chaleur'!$C$7,6,A81,1,1))","v":0},{"$f":"IF(OR(F81='Listes de sélection'!$A$65,F81='Listes de sélection'!$A$66),(IF(A81=\"\",\"\",OFFSET('Demandeurs de chaleur'!$C$7,8,A81,1,1))),\"Non\")","v":"Non"},{"$f":"IF(OR(F81='Listes de sélection'!$A$65,F81='Listes de sélection'!$A$66),(IF(A81=\"\",\"\",OFFSET('Demandeurs de chaleur'!$C$7,9,A81,1,1))),\"Non\")","v":"Non"},{"$f":"IF(OR(F81='Listes de sélection'!$A$66),(IF(A81=\"\",\"\",OFFSET('Demandeurs de chaleur'!$C$7,10,A81,1,1))),\"Non\")","v":"Non"},{"$f":"IF(OR(F81='Listes de sélection'!$A$66),(IF(A81=\"\",\"\",OFFSET('Demandeurs de chaleur'!$C$7,11,A81,1,1))),\"Non\")","v":"Non"},{"$f":"IF(A81=\"\",\"\",IF(OFFSET('Demandeurs de chaleur'!$C$7,7,A81,1,1)=\"Oui\",0.97,1))","v":1},{"$f":"IF(A81=\"\",\"\",OFFSET('Demandeurs de chaleur'!$C$7,10,A81,1,1))","v":0}]
[74,"Demandeur de chaleur 75",{"$f":"IF(A82=\"\",\"\",OFFSET('Demandeurs de chaleur'!$C$7,2,A82,1,1))","v":0},{"$f":"IF(A82=\"\",\"\",OFFSET('Demandeurs de chaleur'!$C$7,30,A82,1,1))","v":0},{"$f":"IF(A82=\"\",\"\",OFFSET('Demandeurs de chaleur'!$C$7,5,A82,1,1))","v":0},{"$f":"IF(A82=\"\",\"\",OFFSET('Demandeurs de chaleur'!$C$7,6,A82,1,1))","v":0},{"$f":"IF(OR(F82='Listes de sélection'!$A$65,F82='Listes de sélection'!$A$66),(IF(A82=\"\",\"\",OFFSET('Demandeurs de chaleur'!$C$7,8,A82,1,1))),\"Non\")","v":"Non"},{"$f":"IF(OR(F82='Listes de sélection'!$A$65,F82='Listes de sélection'!$A$66),(IF(A82=\"\",\"\",OFFSET('Demandeurs de chaleur'!$C$7,9,A82,1,1))),\"Non\")","v":"Non"},{"$f":"IF(OR(F82='Listes de sélection'!$A$66),(IF(A82=\"\",\"\",OFFSET('Demandeurs de chaleur'!$C$7,10,A82,1,1))),\"Non\")","v":"Non"},{"$f":"IF(OR(F82='Listes de sélection'!$A$66),(IF(A82=\"\",\"\",OFFSET('Demandeurs de chaleur'!$C$7,11,A82,1,1))),\"Non\")","v":"Non"},{"$f":"IF(A82=\"\",\"\",IF(OFFSET('Demandeurs de chaleur'!$C$7,7,A82,1,1)=\"Oui\",0.97,1))","v":1},{"$f":"IF(A82=\"\",\"\",OFFSET('Demandeurs de chaleur'!$C$7,10,A82,1,1))","v":0}]
[75,"Demandeur de chaleur 76",{"$f":"IF(A83=\"\",\"\",OFFSET('Demandeurs de chaleur'!$C$7,2,A83,1,1))","v":0},{"$f":"IF(A83=\"\",\"\",OFFSET('Demandeurs de chaleur'!$C$7,30,A83,1,1))","v":0},{"$f":"IF(A83=\"\",\"\",OFFSET('Demandeurs de chaleur'!$C$7,5,A83,1,1))","v":0},{"$f":"IF(A83=\"\",\"\",OFFSET('Demandeurs de chaleur'!$C$7,6,A83,1,1))","v":0},{"$f":"IF(OR(F83='Listes de sélection'!$A$65,F83='Listes de sélection'!$A$66),(IF(A83=\"\",\"\",OFFSET('Demandeurs de chaleur'!$C$7,8,A83,1,1))),\"Non\")","v":"Non"},{"$f":"IF(OR(F83='Listes de sélection'!$A$65,F83='Listes de sélection'!$A$66),(IF(A83=\"\",\"\",OFFSET('Demandeurs de chaleur'!$C$7,9,A83,1,1))),\"Non\")","v":"Non"},{"$f":"IF(OR(F83='Listes de sélection'!$A$66),(IF(A83=\"\",\"\",OFFSET('Demandeurs de chaleur'!$C$7,10,A83,1,1))),\"Non\")","v":"Non"},{"$f":"IF(OR(F83='Listes de sélection'!$A$66),(IF(A83=\"\",\"\",OFFSET('Demandeurs de chaleur'!$C$7,11,A83,1,1))),\"Non\")","v":"Non"},{"$f":"IF(A83=\"\",\"\",IF(OFFSET('Demandeurs de chaleur'!$C$7,7,A83,1,1)=\"Oui\",0.97,1))","v":1},{"$f":"IF(A83=\"\",\"\",OFFSET('Demandeurs de chaleur'!$C$7,10,A83,1,1))","v":0}]
[76,"Demandeur de chaleur 77",{"$f":"IF(A84=\"\",\"\",OFFSET('Demandeurs de chaleur'!$C$7,2,A84,1,1))","v":0},{"$f":"IF(A84=\"\",\"\",OFFSET('Demandeurs de chaleur'!$C$7,30,A84,1,1))","v":0},{"$f":"IF(A84=\"\",\"\",OFFSET('Demandeurs de chaleur'!$C$7,5,A84,1,1))","v":0},{"$f":"IF(A84=\"\",\"\",OFFSET('Demandeurs de chaleur'!$C$7,6,A84,1,1))","v":0},{"$f":"IF(OR(F84='Listes de sélection'!$A$65,F84='Listes de sélection'!$A$66),(IF(A84=\"\",\"\",OFFSET('Demandeurs de chaleur'!$C$7,8,A84,1,1))),\"Non\")","v":"Non"},{"$f":"IF(OR(F84='Listes de sélection'!$A$65,F84='Listes de sélection'!$A$66),(IF(A84=\"\",\"\",OFFSET('Demandeurs de chaleur'!$C$7,9,A84,1,1))),\"Non\")","v":"Non"},{"$f":"IF(OR(F84='Listes de sélection'!$A$66),(IF(A84=\"\",\"\",OFFSET('Demandeurs de chaleur'!$C$7,10,A84,1,1))),\"Non\")","v":"Non"},{"$f":"IF(OR(F84='Listes de sélection'!$A$66),(IF(A84=\"\",\"\",OFFSET('Demandeurs de chaleur'!$C$7,11,A84,1,1))),\"Non\")","v":"Non"},{"$f":"IF(A84=\"\",\"\",IF(OFFSET('Demandeurs de chaleur'!$C$7,7,A84,1,1)=\"Oui\",0.97,1))","v":1},{"$f":"IF(A84=\"\",\"\",OFFSET('Demandeurs de chaleur'!$C$7,10,A84,1,1))","v":0}]
[77,"Demandeur de chaleur 78",{"$f":"IF(A85=\"\",\"\",OFFSET('Demandeurs de chaleur'!$C$7,2,A85,1,1))","v":0},{"$f":"IF(A85=\"\",\"\",OFFSET('Demandeurs de chaleur'!$C$7,30,A85,1,1))","v":0},{"$f":"IF(A85=\"\",\"\",OFFSET('Demandeurs de chaleur'!$C$7,5,A85,1,1))","v":0},{"$f":"IF(A85=\"\",\"\",OFFSET('Demandeurs de chaleur'!$C$7,6,A85,1,1))","v":0},{"$f":"IF(OR(F85='Listes de sélection'!$A$65,F85='Listes de sélection'!$A$66),(IF(A85=\"\",\"\",OFFSET('Demandeurs de chaleur'!$C$7,8,A85,1,1))),\"Non\")","v":"Non"},{"$f":"IF(OR(F85='Listes de sélection'!$A$65,F85='Listes de sélection'!$A$66),(IF(A85=\"\",\"\",OFFSET('Demandeurs de chaleur'!$C$7,9,A85,1,1))),\"Non\")","v":"Non"},{"$f":"IF(OR(F85='Listes de sélection'!$A$66),(IF(A85=\"\",\"\",OFFSET('Demandeurs de chaleur'!$C$7,10,A85,1,1))),\"Non\")","v":"Non"},{"$f":"IF(OR(F85='Listes de sélection'!$A$66),(IF(A85=\"\",\"\",OFFSET('Demandeurs de chaleur'!$C$7,11,A85,1,1))),\"Non\")","v":"Non"},{"$f":"IF(A85=\"\",\"\",IF(OFFSET('Demandeurs de chaleur'!$C$7,7,A85,1,1)=\"Oui\",0.97,1))","v":1},{"$f":"IF(A85=\"\",\"\",OFFSET('Demandeurs de chaleur'!$C$7,10,A85,1,1))","v":0}]
[78,"Demandeur de chaleur 79",{"$f":"IF(A86=\"\",\"\",OFFSET('Demandeurs de chaleur'!$C$7,2,A86,1,1))","v":0},{"$f":"IF(A86=\"\",\"\",OFFSET('Demandeurs de chaleur'!$C$7,30,A86,1,1))","v":0},{"$f":"IF(A86=\"\",\"\",OFFSET('Demandeurs de chaleur'!$C$7,5,A86,1,1))","v":0},{"$f":"IF(A86=\"\",\"\",OFFSET('Demandeurs de chaleur'!$C$7,6,A86,1,1))","v":0},{"$f":"IF(OR(F86='Listes de sélection'!$A$65,F86='Listes de sélection'!$A$66),(IF(A86=\"\",\"\",OFFSET('Demandeurs de chaleur'!$C$7,8,A86,1,1))),\"Non\")","v":"Non"},{"$f":"IF(OR(F86='Listes de sélection'!$A$65,F86='Listes de sélection'!$A$66),(IF(A86=\"\",\"\",OFFSET('Demandeurs de chaleur'!$C$7,9,A86,1,1))),\"Non\")","v":"Non"},{"$f":"IF(OR(F86='Listes de sélection'!$A$66),(IF(A86=\"\",\"\",OFFSET('Demandeurs de chaleur'!$C$7,10,A86,1,1))),\"Non\")","v":"Non"},{"$f":"IF(OR(F86='Listes de sélection'!$A$66),(IF(A86=\"\",\"\",OFFSET('Demandeurs de chaleur'!$C$7,11,A86,1,1))),\"Non\")","v":"Non"},{"$f":"IF(A86=\"\",\"\",IF(OFFSET('Demandeurs de chaleur'!$C$7,7,A86,1,1)=\"Oui\",0.97,1))","v":1},{"$f":"IF(A86=\"\",\"\",OFFSET('Demandeurs de chaleur'!$C$7,10,A86,1,1))","v":0}]
[79,"Demandeur de chaleur 80",{"$f":"IF(A87=\"\",\"\",OFFSET('Demandeurs de chaleur'!$C$7,2,A87,1,1))","v":0},{"$f":"IF(A87=\"\",\"\",OFFSET('Demandeurs de chaleur'!$C$7,30,A87,1,1))","v":0},{"$f":"IF(A87=\"\",\"\",OFFSET('Demandeurs de chaleur'!$C$7,5,A87,1,1))","v":0},{"$f":"IF(A87=\"\",\"\",OFFSET('Demandeurs de chaleur'!$C$7,6,A87,1,1))","v":0},{"$f":"IF(OR(F87='Listes de sélection'!$A$65,F87='Listes de sélection'!$A$66),(IF(A87=\"\",\"\",OFFSET('Demandeurs de chaleur'!$C$7,8,A87,1,1))),\"Non\")","v":"Non"},{"$f":"IF(OR(F87='Listes de sélection'!$A$65,F87='Listes de sélection'!$A$66),(IF(A87=\"\",\"\",OFFSET('Demandeurs de chaleur'!$C$7,9,A87,1,1))),\"Non\")","v":"Non"},{"$f":"IF(OR(F87='Listes de sélection'!$A$66),(IF(A87=\"\",\"\",OFFSET('Demandeurs de chaleur'!$C$7,10,A87,1,1))),\"Non\")","v":"Non"},{"$f":"IF(OR(F87='Listes de sélection'!$A$66),(IF(A87=\"\",\"\",OFFSET('Demandeurs de chaleur'!$C$7,11,A87,1,1))),\"Non\")","v":"Non"},{"$f":"IF(A87=\"\",\"\",IF(OFFSET('Demandeurs de chaleur'!$C$7,7,A87,1,1)=\"Oui\",0.97,1))","v":1},{"$f":"IF(A87=\"\",\"\",OFFSET('Demandeurs de chaleur'!$C$7,10,A87,1,1))","v":0}]
[80,"Demandeur de chaleur 81",{"$f":"IF(A88=\"\",\"\",OFFSET('Demandeurs de chaleur'!$C$7,2,A88,1,1))","v":0},{"$f":"IF(A88=\"\",\"\",OFFSET('Demandeurs de chaleur'!$C$7,30,A88,1,1))","v":0},{"$f":"IF(A88=\"\",\"\",OFFSET('Demandeurs de chaleur'!$C$7,5,A88,1,1))","v":0},{"$f":"IF(A88=\"\",\"\",OFFSET('Demandeurs de chaleur'!$C$7,6,A88,1,1))","v":0},{"$f":"IF(OR(F88='Listes de sélection'!$A$65,F88='Listes de sélection'!$A$66),(IF(A88=\"\",\"\",OFFSET('Demandeurs de chaleur'!$C$7,8,A88,1,1))),\"Non\")","v":"Non"},{"$f":"IF(OR(F88='Listes de sélection'!$A$65,F88='Listes de sélection'!$A$66),(IF(A88=\"\",\"\",OFFSET('Demandeurs de chaleur'!$C$7,9,A88,1,1))),\"Non\")","v":"Non"},{"$f":"IF(OR(F88='Listes de sélection'!$A$66),(IF(A88=\"\",\"\",OFFSET('Demandeurs de chaleur'!$C$7,10,A88,1,1))),\"Non\")","v":"Non"},{"$f":"IF(OR(F88='Listes de sélection'!$A$66),(IF(A88=\"\",\"\",OFFSET('Demandeurs de chaleur'!$C$7,11,A88,1,1))),\"Non\")","v":"Non"},{"$f":"IF(A88=\"\",\"\",IF(OFFSET('Demandeurs de chaleur'!$C$7,7,A88,1,1)=\"Oui\",0.97,1))","v":1},{"$f":"IF(A88=\"\",\"\",OFFSET('Demandeurs de chaleur'!$C$7,10,A88,1,1))","v":0}]
[81,"Demandeur de chaleur 82",{"$f":"IF(A89=\"\",\"\",OFFSET('Demandeurs de chaleur'!$C$7,2,A89,1,1))","v":0},{"$f":"IF(A89=\"\",\"\",OFFSET('Demandeurs de chaleur'!$C$7,30,A89,1,1))","v":0},{"$f":"IF(A89=\"\",\"\",OFFSET('Demandeurs de chaleur'!$C$7,5,A89,1,1))","v":0},{"$f":"IF(A89=\"\",\"\",OFFSET('Demandeurs de chaleur'!$C$7,6,A89,1,1))","v":0},{"$f":"IF(OR(F89='Listes de sélection'!$A$65,F89='Listes de sélection'!$A$66),(IF(A89=\"\",\"\",OFFSET('Demandeurs de chaleur'!$C$7,8,A89,1,1))),\"Non\")","v":"Non"},{"$f":"IF(OR(F89='Listes de sélection'!$A$65,F89='Listes de sélection'!$A$66),(IF(A89=\"\",\"\",OFFSET('Demandeurs de chaleur'!$C$7,9,A89,1,1))),\"Non\")","v":"Non"},{"$f":"IF(OR(F89='Listes de sélection'!$A$66),(IF(A89=\"\",\"\",OFFSET('Demandeurs de chaleur'!$C$7,10,A89,1,1))),\"Non\")","v":"Non"},{"$f":"IF(OR(F89='Listes de sélection'!$A$66),(IF(A89=\"\",\"\",OFFSET('Demandeurs de chaleur'!$C$7,11,A89,1,1))),\"Non\")","v":"Non"},{"$f":"IF(A89=\"\",\"\",IF(OFFSET('Demandeurs de chaleur'!$C$7,7,A89,1,1)=\"Oui\",0.97,1))","v":1},{"$f":"IF(A89=\"\",\"\",OFFSET('Demandeurs de chaleur'!$C$7,10,A89,1,1))","v":0}]
[82,"Demandeur de chaleur 83",{"$f":"IF(A90=\"\",\"\",OFFSET('Demandeurs de chaleur'!$C$7,2,A90,1,1))","v":0},{"$f":"IF(A90=\"\",\"\",OFFSET('Demandeurs de chaleur'!$C$7,30,A90,1,1))","v":0},{"$f":"IF(A90=\"\",\"\",OFFSET('Demandeurs de chaleur'!$C$7,5,A90,1,1))","v":0},{"$f":"IF(A90=\"\",\"\",OFFSET('Demandeurs de chaleur'!$C$7,6,A90,1,1))","v":0},{"$f":"IF(OR(F90='Listes de sélection'!$A$65,F90='Listes de sélection'!$A$66),(IF(A90=\"\",\"\",OFFSET('Demandeurs de chaleur'!$C$7,8,A90,1,1))),\"Non\")","v":"Non"},{"$f":"IF(OR(F90='Listes de sélection'!$A$65,F90='Listes de sélection'!$A$66),(IF(A90=\"\",\"\",OFFSET('Demandeurs de chaleur'!$C$7,9,A90,1,1))),\"Non\")","v":"Non"},{"$f":"IF(OR(F90='Listes de sélection'!$A$66),(IF(A90=\"\",\"\",OFFSET('Demandeurs de chaleur'!$C$7,10,A90,1,1))),\"Non\")","v":"Non"},{"$f":"IF(OR(F90='Listes de sélection'!$A$66),(IF(A90=\"\",\"\",OFFSET('Demandeurs de chaleur'!$C$7,11,A90,1,1))),\"Non\")","v":"Non"},{"$f":"IF(A90=\"\",\"\",IF(OFFSET('Demandeurs de chaleur'!$C$7,7,A90,1,1)=\"Oui\",0.97,1))","v":1},{"$f":"IF(A90=\"\",\"\",OFFSET('Demandeurs de chaleur'!$C$7,10,A90,1,1))","v":0}]
[83,"Demandeur de chaleur 84",{"$f":"IF(A91=\"\",\"\",OFFSET('Demandeurs de chaleur'!$C$7,2,A91,1,1))","v":0},{"$f":"IF(A91=\"\",\"\",OFFSET('Demandeurs de chaleur'!$C$7,30,A91,1,1))","v":0},{"$f":"IF(A91=\"\",\"\",OFFSET('Demandeurs de chaleur'!$C$7,5,A91,1,1))","v":0},{"$f":"IF(A91=\"\",\"\",OFFSET('Demandeurs de chaleur'!$C$7,6,A91,1,1))","v":0},{"$f":"IF(OR(F91='Listes de sélection'!$A$65,F91='Listes de sélection'!$A$66),(IF(A91=\"\",\"\",OFFSET('Demandeurs de chaleur'!$C$7,8,A91,1,1))),\"Non\")","v":"Non"},{"$f":"IF(OR(F91='Listes de sélection'!$A$65,F91='Listes de sélection'!$A$66),(IF(A91=\"\",\"\",OFFSET('Demandeurs de chaleur'!$C$7,9,A91,1,1))),\"Non\")","v":"Non"},{"$f":"IF(OR(F91='Listes de sélection'!$A$66),(IF(A91=\"\",\"\",OFFSET('Demandeurs de chaleur'!$C$7,10,A91,1,1))),\"Non\")","v":"Non"},{"$f":"IF(OR(F91='Listes de sélection'!$A$66),(IF(A91=\"\",\"\",OFFSET('Demandeurs de chaleur'!$C$7,11,A91,1,1))),\"Non\")","v":"Non"},{"$f":"IF(A91=\"\",\"\",IF(OFFSET('Demandeurs de chaleur'!$C$7,7,A91,1,1)=\"Oui\",0.97,1))","v":1},{"$f":"IF(A91=\"\",\"\",OFFSET('Demandeurs de chaleur'!$C$7,10,A91,1,1))","v":0}]
[84,"Demandeur de chaleur 85",{"$f":"IF(A92=\"\",\"\",OFFSET('Demandeurs de chaleur'!$C$7,2,A92,1,1))","v":0},{"$f":"IF(A92=\"\",\"\",OFFSET('Demandeurs de chaleur'!$C$7,30,A92,1,1))","v":0},{"$f":"IF(A92=\"\",\"\",OFFSET('Demandeurs de chaleur'!$C$7,5,A92,1,1))","v":0},{"$f":"IF(A92=\"\",\"\",OFFSET('Demandeurs de chaleur'!$C$7,6,A92,1,1))","v":0},{"$f":"IF(OR(F92='Listes de sélection'!$A$65,F92='Listes de sélection'!$A$66),(IF(A92=\"\",\"\",OFFSET('Demandeurs de chaleur'!$C$7,8,A92,1,1))),\"Non\")","v":"Non"},{"$f":"IF(OR(F92='Listes de sélection'!$A$65,F92='Listes de sélection'!$A$66),(IF(A92=\"\",\"\",OFFSET('Demandeurs de chaleur'!$C$7,9,A92,1,1))),\"Non\")","v":"Non"},{"$f":"IF(OR(F92='Listes de sélection'!$A$66),(IF(A92=\"\",\"\",OFFSET('Demandeurs de chaleur'!$C$7,10,A92,1,1))),\"Non\")","v":"Non"},{"$f":"IF(OR(F92='Listes de sélection'!$A$66),(IF(A92=\"\",\"\",OFFSET('Demandeurs de chaleur'!$C$7,11,A92,1,1))),\"Non\")","v":"Non"},{"$f":"IF(A92=\"\",\"\",IF(OFFSET('Demandeurs de chaleur'!$C$7,7,A92,1,1)=\"Oui\",0.97,1))","v":1},{"$f":"IF(A92=\"\",\"\",OFFSET('Demandeurs de chaleur'!$C$7,10,A92,1,1))","v":0}]
[85,"Demandeur de chaleur 86",{"$f":"IF(A93=\"\",\"\",OFFSET('Demandeurs de chaleur'!$C$7,2,A93,1,1))","v":0},{"$f":"IF(A93=\"\",\"\",OFFSET('Demandeurs de chaleur'!$C$7,30,A93,1,1))","v":0},{"$f":"IF(A93=\"\",\"\",OFFSET('Demandeurs de chaleur'!$C$7,5,A93,1,1))","v":0},{"$f":"IF(A93=\"\",\"\",OFFSET('Demandeurs de chaleur'!$C$7,6,A93,1,1))","v":0},{"$f":"IF(OR(F93='Listes de sélection'!$A$65,F93='Listes de sélection'!$A$66),(IF(A93=\"\",\"\",OFFSET('Demandeurs de chaleur'!$C$7,8,A93,1,1))),\"Non\")","v":"Non"},{"$f":"IF(OR(F93='Listes de sélection'!$A$65,F93='Listes de sélection'!$A$66),(IF(A93=\"\",\"\",OFFSET('Demandeurs de chaleur'!$C$7,9,A93,1,1))),\"Non\")","v":"Non"},{"$f":"IF(OR(F93='Listes de sélection'!$A$66),(IF(A93=\"\",\"\",OFFSET('Demandeurs de chaleur'!$C$7,10,A93,1,1))),\"Non\")","v":"Non"},{"$f":"IF(OR(F93='Listes de sélection'!$A$66),(IF(A93=\"\",\"\",OFFSET('Demandeurs de chaleur'!$C$7,11,A93,1,1))),\"Non\")","v":"Non"},{"$f":"IF(A93=\"\",\"\",IF(OFFSET('Demandeurs de chaleur'!$C$7,7,A93,1,1)=\"Oui\",0.97,1))","v":1},{"$f":"IF(A93=\"\",\"\",OFFSET('Demandeurs de chaleur'!$C$7,10,A93,1,1))","v":0}]
[86,"Demandeur de chaleur 87",{"$f":"IF(A94=\"\",\"\",OFFSET('Demandeurs de chaleur'!$C$7,2,A94,1,1))","v":0},{"$f":"IF(A94=\"\",\"\",OFFSET('Demandeurs de chaleur'!$C$7,30,A94,1,1))","v":0},{"$f":"IF(A94=\"\",\"\",OFFSET('Demandeurs de chaleur'!$C$7,5,A94,1,1))","v":0},{"$f":"IF(A94=\"\",\"\",OFFSET('Demandeurs de chaleur'!$C$7,6,A94,1,1))","v":0},{"$f":"IF(OR(F94='Listes de sélection'!$A$65,F94='Listes de sélection'!$A$66),(IF(A94=\"\",\"\",OFFSET('Demandeurs de chaleur'!$C$7,8,A94,1,1))),\"Non\")","v":"Non"},{"$f":"IF(OR(F94='Listes de sélection'!$A$65,F94='Listes de sélection'!$A$66),(IF(A94=\"\",\"\",OFFSET('Demandeurs de chaleur'!$C$7,9,A94,1,1))),\"Non\")","v":"Non"},{"$f":"IF(OR(F94='Listes de sélection'!$A$66),(IF(A94=\"\",\"\",OFFSET('Demandeurs de chaleur'!$C$7,10,A94,1,1))),\"Non\")","v":"Non"},{"$f":"IF(OR(F94='Listes de sélection'!$A$66),(IF(A94=\"\",\"\",OFFSET('Demandeurs de chaleur'!$C$7,11,A94,1,1))),\"Non\")","v":"Non"},{"$f":"IF(A94=\"\",\"\",IF(OFFSET('Demandeurs de chaleur'!$C$7,7,A94,1,1)=\"Oui\",0.97,1))","v":1},{"$f":"IF(A94=\"\",\"\",OFFSET('Demandeurs de chaleur'!$C$7,10,A94,1,1))","v":0}]
[87,"Demandeur de chaleur 88",{"$f":"IF(A95=\"\",\"\",OFFSET('Demandeurs de chaleur'!$C$7,2,A95,1,1))","v":0},{"$f":"IF(A95=\"\",\"\",OFFSET('Demandeurs de chaleur'!$C$7,30,A95,1,1))","v":0},{"$f":"IF(A95=\"\",\"\",OFFSET('Demandeurs de chaleur'!$C$7,5,A95,1,1))","v":0},{"$f":"IF(A95=\"\",\"\",OFFSET('Demandeurs de chaleur'!$C$7,6,A95,1,1))","v":0},{"$f":"IF(OR(F95='Listes de sélection'!$A$65,F95='Listes de sélection'!$A$66),(IF(A95=\"\",\"\",OFFSET('Demandeurs de chaleur'!$C$7,8,A95,1,1))),\"Non\")","v":"Non"},{"$f":"IF(OR(F95='Listes de sélection'!$A$65,F95='Listes de sélection'!$A$66),(IF(A95=\"\",\"\",OFFSET('Demandeurs de chaleur'!$C$7,9,A95,1,1))),\"Non\")","v":"Non"},{"$f":"IF(OR(F95='Listes de sélection'!$A$66),(IF(A95=\"\",\"\",OFFSET('Demandeurs de chaleur'!$C$7,10,A95,1,1))),\"Non\")","v":"Non"},{"$f":"IF(OR(F95='Listes de sélection'!$A$66),(IF(A95=\"\",\"\",OFFSET('Demandeurs de chaleur'!$C$7,11,A95,1,1))),\"Non\")","v":"Non"},{"$f":"IF(A95=\"\",\"\",IF(OFFSET('Demandeurs de chaleur'!$C$7,7,A95,1,1)=\"Oui\",0.97,1))","v":1},{"$f":"IF(A95=\"\",\"\",OFFSET('Demandeurs de chaleur'!$C$7,10,A95,1,1))","v":0}]
[88,"Demandeur de chaleur 89",{"$f":"IF(A96=\"\",\"\",OFFSET('Demandeurs de chaleur'!$C$7,2,A96,1,1))","v":0},{"$f":"IF(A96=\"\",\"\",OFFSET('Demandeurs de chaleur'!$C$7,30,A96,1,1))","v":0},{"$f":"IF(A96=\"\",\"\",OFFSET('Demandeurs de chaleur'!$C$7,5,A96,1,1))","v":0},{"$f":"IF(A96=\"\",\"\",OFFSET('Demandeurs de chaleur'!$C$7,6,A96,1,1))","v":0},{"$f":"IF(OR(F96='Listes de sélection'!$A$65,F96='Listes de sélection'!$A$66),(IF(A96=\"\",\"\",OFFSET('Demandeurs de chaleur'!$C$7,8,A96,1,1))),\"Non\")","v":"Non"},{"$f":"IF(OR(F96='Listes de sélection'!$A$65,F96='Listes de sélection'!$A$66),(IF(A96=\"\",\"\",OFFSET('Demandeurs de chaleur'!$C$7,9,A96,1,1))),\"Non\")","v":"Non"},{"$f":"IF(OR(F96='Listes de sélection'!$A$66),(IF(A96=\"\",\"\",OFFSET('Demandeurs de chaleur'!$C$7,10,A96,1,1))),\"Non\")","v":"Non"},{"$f":"IF(OR(F96='Listes de sélection'!$A$66),(IF(A96=\"\",\"\",OFFSET('Demandeurs de chaleur'!$C$7,11,A96,1,1))),\"Non\")","v":"Non"},{"$f":"IF(A96=\"\",\"\",IF(OFFSET('Demandeurs de chaleur'!$C$7,7,A96,1,1)=\"Oui\",0.97,1))","v":1},{"$f":"IF(A96=\"\",\"\",OFFSET('Demandeurs de chaleur'!$C$7,10,A96,1,1))","v":0}]
[89,"Demandeur de chaleur 90",{"$f":"IF(A97=\"\",\"\",OFFSET('Demandeurs de chaleur'!$C$7,2,A97,1,1))","v":0},{"$f":"IF(A97=\"\",\"\",OFFSET('Demandeurs de chaleur'!$C$7,30,A97,1,1))","v":0},{"$f":"IF(A97=\"\",\"\",OFFSET('Demandeurs de chaleur'!$C$7,5,A97,1,1))","v":0},{"$f":"IF(A97=\"\",\"\",OFFSET('Demandeurs de chaleur'!$C$7,6,A97,1,1))","v":0},{"$f":"IF(OR(F97='Listes de sélection'!$A$65,F97='Listes de sélection'!$A$66),(IF(A97=\"\",\"\",OFFSET('Demandeurs de chaleur'!$C$7,8,A97,1,1))),\"Non\")","v":"Non"},{"$f":"IF(OR(F97='Listes de sélection'!$A$65,F97='Listes de sélection'!$A$66),(IF(A97=\"\",\"\",OFFSET('Demandeurs de chaleur'!$C$7,9,A97,1,1))),\"Non\")","v":"Non"},{"$f":"IF(OR(F97='Listes de sélection'!$A$66),(IF(A97=\"\",\"\",OFFSET('Demandeurs de chaleur'!$C$7,10,A97,1,1))),\"Non\")","v":"Non"},{"$f":"IF(OR(F97='Listes de sélection'!$A$66),(IF(A97=\"\",\"\",OFFSET('Demandeurs de chaleur'!$C$7,11,A97,1,1))),\"Non\")","v":"Non"},{"$f":"IF(A97=\"\",\"\",IF(OFFSET('Demandeurs de chaleur'!$C$7,7,A97,1,1)=\"Oui\",0.97,1))","v":1},{"$f":"IF(A97=\"\",\"\",OFFSET('Demandeurs de chaleur'!$C$7,10,A97,1,1))","v":0}]
[90,"Demandeur de chaleur 91",{"$f":"IF(A98=\"\",\"\",OFFSET('Demandeurs de chaleur'!$C$7,2,A98,1,1))","v":0},{"$f":"IF(A98=\"\",\"\",OFFSET('Demandeurs de chaleur'!$C$7,30,A98,1,1))","v":0},{"$f":"IF(A98=\"\",\"\",OFFSET('Demandeurs de chaleur'!$C$7,5,A98,1,1))","v":0},{"$f":"IF(A98=\"\",\"\",OFFSET('Demandeurs de chaleur'!$C$7,6,A98,1,1))","v":0},{"$f":"IF(OR(F98='Listes de sélection'!$A$65,F98='Listes de sélection'!$A$66),(IF(A98=\"\",\"\",OFFSET('Demandeurs de chaleur'!$C$7,8,A98,1,1))),\"Non\")","v":"Non"},{"$f":"IF(OR(F98='Listes de sélection'!$A$65,F98='Listes de sélection'!$A$66),(IF(A98=\"\",\"\",OFFSET('Demandeurs de chaleur'!$C$7,9,A98,1,1))),\"Non\")","v":"Non"},{"$f":"IF(OR(F98='Listes de sélection'!$A$66),(IF(A98=\"\",\"\",OFFSET('Demandeurs de chaleur'!$C$7,10,A98,1,1))),\"Non\")","v":"Non"},{"$f":"IF(OR(F98='Listes de sélection'!$A$66),(IF(A98=\"\",\"\",OFFSET('Demandeurs de chaleur'!$C$7,11,A98,1,1))),\"Non\")","v":"Non"},{"$f":"IF(A98=\"\",\"\",IF(OFFSET('Demandeurs de chaleur'!$C$7,7,A98,1,1)=\"Oui\",0.97,1))","v":1},{"$f":"IF(A98=\"\",\"\",OFFSET('Demandeurs de chaleur'!$C$7,10,A98,1,1))","v":0}]
[91,"Demandeur de chaleur 92",{"$f":"IF(A99=\"\",\"\",OFFSET('Demandeurs de chaleur'!$C$7,2,A99,1,1))","v":0},{"$f":"IF(A99=\"\",\"\",OFFSET('Demandeurs de chaleur'!$C$7,30,A99,1,1))","v":0},{"$f":"IF(A99=\"\",\"\",OFFSET('Demandeurs de chaleur'!$C$7,5,A99,1,1))","v":0},{"$f":"IF(A99=\"\",\"\",OFFSET('Demandeurs de chaleur'!$C$7,6,A99,1,1))","v":0},{"$f":"IF(OR(F99='Listes de sélection'!$A$65,F99='Listes de sélection'!$A$66),(IF(A99=\"\",\"\",OFFSET('Demandeurs de chaleur'!$C$7,8,A99,1,1))),\"Non\")","v":"Non"},{"$f":"IF(OR(F99='Listes de sélection'!$A$65,F99='Listes de sélection'!$A$66),(IF(A99=\"\",\"\",OFFSET('Demandeurs de chaleur'!$C$7,9,A99,1,1))),\"Non\")","v":"Non"},{"$f":"IF(OR(F99='Listes de sélection'!$A$66),(IF(A99=\"\",\"\",OFFSET('Demandeurs de chaleur'!$C$7,10,A99,1,1))),\"Non\")","v":"Non"},{"$f":"IF(OR(F99='Listes de sélection'!$A$66),(IF(A99=\"\",\"\",OFFSET('Demandeurs de chaleur'!$C$7,11,A99,1,1))),\"Non\")","v":"Non"},{"$f":"IF(A99=\"\",\"\",IF(OFFSET('Demandeurs de chaleur'!$C$7,7,A99,1,1)=\"Oui\",0.97,1))","v":1},{"$f":"IF(A99=\"\",\"\",OFFSET('Demandeurs de chaleur'!$C$7,10,A99,1,1))","v":0}]
[92,"Demandeur de chaleur 93",{"$f":"IF(A100=\"\",\"\",OFFSET('Demandeurs de chaleur'!$C$7,2,A100,1,1))","v":0},{"$f":"IF(A100=\"\",\"\",OFFSET('Demandeurs de chaleur'!$C$7,30,A100,1,1))","v":0},{"$f":"IF(A100=\"\",\"\",OFFSET('Demandeurs de chaleur'!$C$7,5,A100,1,1))","v":0},{"$f":"IF(A100=\"\",\"\",OFFSET('Demandeurs de chaleur'!$C$7,6,A100,1,1))","v":0},{"$f":"IF(OR(F100='Listes de sélection'!$A$65,F100='Listes de sélection'!$A$66),(IF(A100=\"\",\"\",OFFSET('Demandeurs de chaleur'!$C$7,8,A100,1,1))),\"Non\")","v":"Non"},{"$f":"IF(OR(F100='Listes de sélection'!$A$65,F100='Listes de sélection'!$A$66),(IF(A100=\"\",\"\",OFFSET('Demandeurs de chaleur'!$C$7,9,A100,1,1))),\"Non\")","v":"Non"},{"$f":"IF(OR(F100='Listes de sélection'!$A$66),(IF(A100=\"\",\"\",OFFSET('Demandeurs de chaleur'!$C$7,10,A100,1,1))),\"Non\")","v":"Non"},{"$f":"IF(OR(F100='Listes de sélection'!$A$66),(IF(A100=\"\",\"\",OFFSET('Demandeurs de chaleur'!$C$7,11,A100,1,1))),\"Non\")","v":"Non"},{"$f":"IF(A100=\"\",\"\",IF(OFFSET('Demandeurs de chaleur'!$C$7,7,A100,1,1)=\"Oui\",0.97,1))","v":1},{"$f":"IF(A100=\"\",\"\",OFFSET('Demandeurs de chaleur'!$C$7,10,A100,1,1))","v":0}]
[93,"Demandeur de chaleur 94",{"$f":"IF(A101=\"\",\"\",OFFSET('Demandeurs de chaleur'!$C$7,2,A101,1,1))","v":0},{"$f":"IF(A101=\"\",\"\",OFFSET('Demandeurs de chaleur'!$C$7,30,A101,1,1))","v":0},{"$f":"IF(A101=\"\",\"\",OFFSET('Demandeurs de chaleur'!$C$7,5,A101,1,1))","v":0},{"$f":"IF(A101=\"\",\"\",OFFSET('Demandeurs de chaleur'!$C$7,6,A101,1,1))","v":0},{"$f":"IF(OR(F101='Listes de sélection'!$A$65,F101='Listes de sélection'!$A$66),(IF(A101=\"\",\"\",OFFSET('Demandeurs de chaleur'!$C$7,8,A101,1,1))),\"Non\")","v":"Non"},{"$f":"IF(OR(F101='Listes de sélection'!$A$65,F101='Listes de sélection'!$A$66),(IF(A101=\"\",\"\",OFFSET('Demandeurs de chaleur'!$C$7,9,A101,1,1))),\"Non\")","v":"Non"},{"$f":"IF(OR(F101='Listes de sélection'!$A$66),(IF(A101=\"\",\"\",OFFSET('Demandeurs de chaleur'!$C$7,10,A101,1,1))),\"Non\")","v":"Non"},{"$f":"IF(OR(F101='Listes de sélection'!$A$66),(IF(A101=\"\",\"\",OFFSET('Demandeurs de chaleur'!$C$7,11,A101,1,1))),\"Non\")","v":"Non"},{"$f":"IF(A101=\"\",\"\",IF(OFFSET('Demandeurs de chaleur'!$C$7,7,A101,1,1)=\"Oui\",0.97,1))","v":1},{"$f":"IF(A101=\"\",\"\",OFFSET('Demandeurs de chaleur'!$C$7,10,A101,1,1))","v":0}]
[94,"Demandeur de chaleur 95",{"$f":"IF(A102=\"\",\"\",OFFSET('Demandeurs de chaleur'!$C$7,2,A102,1,1))","v":0},{"$f":"IF(A102=\"\",\"\",OFFSET('Demandeurs de chaleur'!$C$7,30,A102,1,1))","v":0},{"$f":"IF(A102=\"\",\"\",OFFSET('Demandeurs de chaleur'!$C$7,5,A102,1,1))","v":0},{"$f":"IF(A102=\"\",\"\",OFFSET('Demandeurs de chaleur'!$C$7,6,A102,1,1))","v":0},{"$f":"IF(OR(F102='Listes de sélection'!$A$65,F102='Listes de sélection'!$A$66),(IF(A102=\"\",\"\",OFFSET('Demandeurs de chaleur'!$C$7,8,A102,1,1))),\"Non\")","v":"Non"},{"$f":"IF(OR(F102='Listes de sélection'!$A$65,F102='Listes de sélection'!$A$66),(IF(A102=\"\",\"\",OFFSET('Demandeurs de chaleur'!$C$7,9,A102,1,1))),\"Non\")","v":"Non"},{"$f":"IF(OR(F102='Listes de sélection'!$A$66),(IF(A102=\"\",\"\",OFFSET('Demandeurs de chaleur'!$C$7,10,A102,1,1))),\"Non\")","v":"Non"},{"$f":"IF(OR(F102='Listes de sélection'!$A$66),(IF(A102=\"\",\"\",OFFSET('Demandeurs de chaleur'!$C$7,11,A102,1,1))),\"Non\")","v":"Non"},{"$f":"IF(A102=\"\",\"\",IF(OFFSET('Demandeurs de chaleur'!$C$7,7,A102,1,1)=\"Oui\",0.97,1))","v":1},{"$f":"IF(A102=\"\",\"\",OFFSET('Demandeurs de chaleur'!$C$7,10,A102,1,1))","v":0}]
[95,"Demandeur de chaleur 96",{"$f":"IF(A103=\"\",\"\",OFFSET('Demandeurs de chaleur'!$C$7,2,A103,1,1))","v":0},{"$f":"IF(A103=\"\",\"\",OFFSET('Demandeurs de chaleur'!$C$7,30,A103,1,1))","v":0},{"$f":"IF(A103=\"\",\"\",OFFSET('Demandeurs de chaleur'!$C$7,5,A103,1,1))","v":0},{"$f":"IF(A103=\"\",\"\",OFFSET('Demandeurs de chaleur'!$C$7,6,A103,1,1))","v":0},{"$f":"IF(OR(F103='Listes de sélection'!$A$65,F103='Listes de sélection'!$A$66),(IF(A103=\"\",\"\",OFFSET('Demandeurs de chaleur'!$C$7,8,A103,1,1))),\"Non\")","v":"Non"},{"$f":"IF(OR(F103='Listes de sélection'!$A$65,F103='Listes de sélection'!$A$66),(IF(A103=\"\",\"\",OFFSET('Demandeurs de chaleur'!$C$7,9,A103,1,1))),\"Non\")","v":"Non"},{"$f":"IF(OR(F103='Listes de sélection'!$A$66),(IF(A103=\"\",\"\",OFFSET('Demandeurs de chaleur'!$C$7,10,A103,1,1))),\"Non\")","v":"Non"},{"$f":"IF(OR(F103='Listes de sélection'!$A$66),(IF(A103=\"\",\"\",OFFSET('Demandeurs de chaleur'!$C$7,11,A103,1,1))),\"Non\")","v":"Non"},{"$f":"IF(A103=\"\",\"\",IF(OFFSET('Demandeurs de chaleur'!$C$7,7,A103,1,1)=\"Oui\",0.97,1))","v":1},{"$f":"IF(A103=\"\",\"\",OFFSET('Demandeurs de chaleur'!$C$7,10,A103,1,1))","v":0}]
[96,{"$f":"\"Demandeur de chaleur \"&A104+1","v":"Demandeur de chaleur 97"},{"$f":"IF(A104=\"\",\"\",OFFSET('Demandeurs de chaleur'!$C$7,2,A104,1,1))","v":0},{"$f":"IF(A104=\"\",\"\",OFFSET('Demandeurs de chaleur'!$C$7,30,A104,1,1))","v":0},{"$f":"IF(A104=\"\",\"\",OFFSET('Demandeurs de chaleur'!$C$7,5,A104,1,1))","v":0},{"$f":"IF(A104=\"\",\"\",OFFSET('Demandeurs de chaleur'!$C$7,6,A104,1,1))","v":0},{"$f":"IF(OR(F104='Listes de sélection'!$A$65,F104='Listes de sélection'!$A$66),(IF(A104=\"\",\"\",OFFSET('Demandeurs de chaleur'!$C$7,8,A104,1,1))),\"Non\")","v":"Non"},{"$f":"IF(OR(F104='Listes de sélection'!$A$65,F104='Listes de sélection'!$A$66),(IF(A104=\"\",\"\",OFFSET('Demandeurs de chaleur'!$C$7,9,A104,1,1))),\"Non\")","v":"Non"},{"$f":"IF(OR(F104='Listes de sélection'!$A$66),(IF(A104=\"\",\"\",OFFSET('Demandeurs de chaleur'!$C$7,10,A104,1,1))),\"Non\")","v":"Non"},{"$f":"IF(OR(F104='Listes de sélection'!$A$66),(IF(A104=\"\",\"\",OFFSET('Demandeurs de chaleur'!$C$7,11,A104,1,1))),\"Non\")","v":"Non"},{"$f":"IF(A104=\"\",\"\",IF(OFFSET('Demandeurs de chaleur'!$C$7,7,A104,1,1)=\"Oui\",0.97,1))","v":1},{"$f":"IF(A104=\"\",\"\",OFFSET('Demandeurs de chaleur'!$C$7,10,A104,1,1))","v":0}]
[97,"Demandeur de chaleur 98",{"$f":"IF(A105=\"\",\"\",OFFSET('Demandeurs de chaleur'!$C$7,2,A105,1,1))","v":0},{"$f":"IF(A105=\"\",\"\",OFFSET('Demandeurs de chaleur'!$C$7,30,A105,1,1))","v":0},{"$f":"IF(A105=\"\",\"\",OFFSET('Demandeurs de chaleur'!$C$7,5,A105,1,1))","v":0},{"$f":"IF(A105=\"\",\"\",OFFSET('Demandeurs de chaleur'!$C$7,6,A105,1,1))","v":0},{"$f":"IF(OR(F105='Listes de sélection'!$A$65,F105='Listes de sélection'!$A$66),(IF(A105=\"\",\"\",OFFSET('Demandeurs de chaleur'!$C$7,8,A105,1,1))),\"Non\")","v":"Non"},{"$f":"IF(OR(F105='Listes de sélection'!$A$65,F105='Listes de sélection'!$A$66),(IF(A105=\"\",\"\",OFFSET('Demandeurs de chaleur'!$C$7,9,A105,1,1))),\"Non\")","v":"Non"},{"$f":"IF(OR(F105='Listes de sélection'!$A$66),(IF(A105=\"\",\"\",OFFSET('Demandeurs de chaleur'!$C$7,10,A105,1,1))),\"Non\")","v":"Non"},{"$f":"IF(OR(F105='Listes de sélection'!$A$66),(IF(A105=\"\",\"\",OFFSET('Demandeurs de chaleur'!$C$7,11,A105,1,1))),\"Non\")","v":"Non"},{"$f":"IF(A105=\"\",\"\",IF(OFFSET('Demandeurs de chaleur'!$C$7,7,A105,1,1)=\"Oui\",0.97,1))","v":1},{"$f":"IF(A105=\"\",\"\",OFFSET('Demandeurs de chaleur'!$C$7,10,A105,1,1))","v":0}]
[98,"Demandeur de chaleur 99",{"$f":"IF(A106=\"\",\"\",OFFSET('Demandeurs de chaleur'!$C$7,2,A106,1,1))","v":0},{"$f":"IF(A106=\"\",\"\",OFFSET('Demandeurs de chaleur'!$C$7,30,A106,1,1))","v":0},{"$f":"IF(A106=\"\",\"\",OFFSET('Demandeurs de chaleur'!$C$7,5,A106,1,1))","v":0},{"$f":"IF(A106=\"\",\"\",OFFSET('Demandeurs de chaleur'!$C$7,6,A106,1,1))","v":0},{"$f":"IF(OR(F106='Listes de sélection'!$A$65,F106='Listes de sélection'!$A$66),(IF(A106=\"\",\"\",OFFSET('Demandeurs de chaleur'!$C$7,8,A106,1,1))),\"Non\")","v":"Non"},{"$f":"IF(OR(F106='Listes de sélection'!$A$65,F106='Listes de sélection'!$A$66),(IF(A106=\"\",\"\",OFFSET('Demandeurs de chaleur'!$C$7,9,A106,1,1))),\"Non\")","v":"Non"},{"$f":"IF(OR(F106='Listes de sélection'!$A$66),(IF(A106=\"\",\"\",OFFSET('Demandeurs de chaleur'!$C$7,10,A106,1,1))),\"Non\")","v":"Non"},{"$f":"IF(OR(F106='Listes de sélection'!$A$66),(IF(A106=\"\",\"\",OFFSET('Demandeurs de chaleur'!$C$7,11,A106,1,1))),\"Non\")","v":"Non"},{"$f":"IF(A106=\"\",\"\",IF(OFFSET('Demandeurs de chaleur'!$C$7,7,A106,1,1)=\"Oui\",0.97,1))","v":1},{"$f":"IF(A106=\"\",\"\",OFFSET('Demandeurs de chaleur'!$C$7,10,A106,1,1))","v":0}]
[99,"Demandeur de chaleur 100",{"$f":"IF(A107=\"\",\"\",OFFSET('Demandeurs de chaleur'!$C$7,2,A107,1,1))","v":0},{"$f":"IF(A107=\"\",\"\",OFFSET('Demandeurs de chaleur'!$C$7,30,A107,1,1))","v":0},{"$f":"IF(A107=\"\",\"\",OFFSET('Demandeurs de chaleur'!$C$7,5,A107,1,1))","v":0},{"$f":"IF(A107=\"\",\"\",OFFSET('Demandeurs de chaleur'!$C$7,6,A107,1,1))","v":0},{"$f":"IF(OR(F107='Listes de sélection'!$A$65,F107='Listes de sélection'!$A$66),(IF(A107=\"\",\"\",OFFSET('Demandeurs de chaleur'!$C$7,8,A107,1,1))),\"Non\")","v":"Non"},{"$f":"IF(OR(F107='Listes de sélection'!$A$65,F107='Listes de sélection'!$A$66),(IF(A107=\"\",\"\",OFFSET('Demandeurs de chaleur'!$C$7,9,A107,1,1))),\"Non\")","v":"Non"},{"$f":"IF(OR(F107='Listes de sélection'!$A$66),(IF(A107=\"\",\"\",OFFSET('Demandeurs de chaleur'!$C$7,10,A107,1,1))),\"Non\")","v":"Non"},{"$f":"IF(OR(F107='Listes de sélection'!$A$66),(IF(A107=\"\",\"\",OFFSET('Demandeurs de chaleur'!$C$7,11,A107,1,1))),\"Non\")","v":"Non"},{"$f":"IF(A107=\"\",\"\",IF(OFFSET('Demandeurs de chaleur'!$C$7,7,A107,1,1)=\"Oui\",0.97,1))","v":1},{"$f":"IF(A107=\"\",\"\",OFFSET('Demandeurs de chaleur'!$C$7,10,A107,1,1))","v":0}]
[100,"Demandeur de chaleur 101",{"$f":"IF(A108=\"\",\"\",OFFSET('Demandeurs de chaleur'!$C$7,2,A108,1,1))","v":0},{"$f":"IF(A108=\"\",\"\",OFFSET('Demandeurs de chaleur'!$C$7,30,A108,1,1))","v":0},{"$f":"IF(A108=\"\",\"\",OFFSET('Demandeurs de chaleur'!$C$7,5,A108,1,1))","v":0},{"$f":"IF(A108=\"\",\"\",OFFSET('Demandeurs de chaleur'!$C$7,6,A108,1,1))","v":0},{"$f":"IF(OR(F108='Listes de sélection'!$A$65,F108='Listes de sélection'!$A$66),(IF(A108=\"\",\"\",OFFSET('Demandeurs de chaleur'!$C$7,8,A108,1,1))),\"Non\")","v":"Non"},{"$f":"IF(OR(F108='Listes de sélection'!$A$65,F108='Listes de sélection'!$A$66),(IF(A108=\"\",\"\",OFFSET('Demandeurs de chaleur'!$C$7,9,A108,1,1))),\"Non\")","v":"Non"},{"$f":"IF(OR(F108='Listes de sélection'!$A$66),(IF(A108=\"\",\"\",OFFSET('Demandeurs de chaleur'!$C$7,10,A108,1,1))),\"Non\")","v":"Non"},{"$f":"IF(OR(F108='Listes de sélection'!$A$66),(IF(A108=\"\",\"\",OFFSET('Demandeurs de chaleur'!$C$7,11,A108,1,1))),\"Non\")","v":"Non"},{"$f":"IF(A108=\"\",\"\",IF(OFFSET('Demandeurs de chaleur'!$C$7,7,A108,1,1)=\"Oui\",0.97,1))","v":1},{"$f":"IF(A108=\"\",\"\",OFFSET('Demandeurs de chaleur'!$C$7,10,A108,1,1))","v":0}]
[101,"Demandeur de chaleur 102",{"$f":"IF(A109=\"\",\"\",OFFSET('Demandeurs de chaleur'!$C$7,2,A109,1,1))","v":0},{"$f":"IF(A109=\"\",\"\",OFFSET('Demandeurs de chaleur'!$C$7,30,A109,1,1))","v":0},{"$f":"IF(A109=\"\",\"\",OFFSET('Demandeurs de chaleur'!$C$7,5,A109,1,1))","v":0},{"$f":"IF(A109=\"\",\"\",OFFSET('Demandeurs de chaleur'!$C$7,6,A109,1,1))","v":0},{"$f":"IF(OR(F109='Listes de sélection'!$A$65,F109='Listes de sélection'!$A$66),(IF(A109=\"\",\"\",OFFSET('Demandeurs de chaleur'!$C$7,8,A109,1,1))),\"Non\")","v":"Non"},{"$f":"IF(OR(F109='Listes de sélection'!$A$65,F109='Listes de sélection'!$A$66),(IF(A109=\"\",\"\",OFFSET('Demandeurs de chaleur'!$C$7,9,A109,1,1))),\"Non\")","v":"Non"},{"$f":"IF(OR(F109='Listes de sélection'!$A$66),(IF(A109=\"\",\"\",OFFSET('Demandeurs de chaleur'!$C$7,10,A109,1,1))),\"Non\")","v":"Non"},{"$f":"IF(OR(F109='Listes de sélection'!$A$66),(IF(A109=\"\",\"\",OFFSET('Demandeurs de chaleur'!$C$7,11,A109,1,1))),\"Non\")","v":"Non"},{"$f":"IF(A109=\"\",\"\",IF(OFFSET('Demandeurs de chaleur'!$C$7,7,A109,1,1)=\"Oui\",0.97,1))","v":1},{"$f":"IF(A109=\"\",\"\",OFFSET('Demandeurs de chaleur'!$C$7,10,A109,1,1))","v":0}]
[102,"Demandeur de chaleur 103",{"$f":"IF(A110=\"\",\"\",OFFSET('Demandeurs de chaleur'!$C$7,2,A110,1,1))","v":0},{"$f":"IF(A110=\"\",\"\",OFFSET('Demandeurs de chaleur'!$C$7,30,A110,1,1))","v":0},{"$f":"IF(A110=\"\",\"\",OFFSET('Demandeurs de chaleur'!$C$7,5,A110,1,1))","v":0},{"$f":"IF(A110=\"\",\"\",OFFSET('Demandeurs de chaleur'!$C$7,6,A110,1,1))","v":0},{"$f":"IF(OR(F110='Listes de sélection'!$A$65,F110='Listes de sélection'!$A$66),(IF(A110=\"\",\"\",OFFSET('Demandeurs de chaleur'!$C$7,8,A110,1,1))),\"Non\")","v":"Non"},{"$f":"IF(OR(F110='Listes de sélection'!$A$65,F110='Listes de sélection'!$A$66),(IF(A110=\"\",\"\",OFFSET('Demandeurs de chaleur'!$C$7,9,A110,1,1))),\"Non\")","v":"Non"},{"$f":"IF(OR(F110='Listes de sélection'!$A$66),(IF(A110=\"\",\"\",OFFSET('Demandeurs de chaleur'!$C$7,10,A110,1,1))),\"Non\")","v":"Non"},{"$f":"IF(OR(F110='Listes de sélection'!$A$66),(IF(A110=\"\",\"\",OFFSET('Demandeurs de chaleur'!$C$7,11,A110,1,1))),\"Non\")","v":"Non"},{"$f":"IF(A110=\"\",\"\",IF(OFFSET('Demandeurs de chaleur'!$C$7,7,A110,1,1)=\"Oui\",0.97,1))","v":1},{"$f":"IF(A110=\"\",\"\",OFFSET('Demandeurs de chaleur'!$C$7,10,A110,1,1))","v":0}]
[103,"Demandeur de chaleur 104",{"$f":"IF(A111=\"\",\"\",OFFSET('Demandeurs de chaleur'!$C$7,2,A111,1,1))","v":0},{"$f":"IF(A111=\"\",\"\",OFFSET('Demandeurs de chaleur'!$C$7,30,A111,1,1))","v":0},{"$f":"IF(A111=\"\",\"\",OFFSET('Demandeurs de chaleur'!$C$7,5,A111,1,1))","v":0},{"$f":"IF(A111=\"\",\"\",OFFSET('Demandeurs de chaleur'!$C$7,6,A111,1,1))","v":0},{"$f":"IF(OR(F111='Listes de sélection'!$A$65,F111='Listes de sélection'!$A$66),(IF(A111=\"\",\"\",OFFSET('Demandeurs de chaleur'!$C$7,8,A111,1,1))),\"Non\")","v":"Non"},{"$f":"IF(OR(F111='Listes de sélection'!$A$65,F111='Listes de sélection'!$A$66),(IF(A111=\"\",\"\",OFFSET('Demandeurs de chaleur'!$C$7,9,A111,1,1))),\"Non\")","v":"Non"},{"$f":"IF(OR(F111='Listes de sélection'!$A$66),(IF(A111=\"\",\"\",OFFSET('Demandeurs de chaleur'!$C$7,10,A111,1,1))),\"Non\")","v":"Non"},{"$f":"IF(OR(F111='Listes de sélection'!$A$66),(IF(A111=\"\",\"\",OFFSET('Demandeurs de chaleur'!$C$7,11,A111,1,1))),\"Non\")","v":"Non"},{"$f":"IF(A111=\"\",\"\",IF(OFFSET('Demandeurs de chaleur'!$C$7,7,A111,1,1)=\"Oui\",0.97,1))","v":1},{"$f":"IF(A111=\"\",\"\",OFFSET('Demandeurs de chaleur'!$C$7,10,A111,1,1))","v":0}]
[104,"Demandeur de chaleur 105",{"$f":"IF(A112=\"\",\"\",OFFSET('Demandeurs de chaleur'!$C$7,2,A112,1,1))","v":0},{"$f":"IF(A112=\"\",\"\",OFFSET('Demandeurs de chaleur'!$C$7,30,A112,1,1))","v":0},{"$f":"IF(A112=\"\",\"\",OFFSET('Demandeurs de chaleur'!$C$7,5,A112,1,1))","v":0},{"$f":"IF(A112=\"\",\"\",OFFSET('Demandeurs de chaleur'!$C$7,6,A112,1,1))","v":0},{"$f":"IF(OR(F112='Listes de sélection'!$A$65,F112='Listes de sélection'!$A$66),(IF(A112=\"\",\"\",OFFSET('Demandeurs de chaleur'!$C$7,8,A112,1,1))),\"Non\")","v":"Non"},{"$f":"IF(OR(F112='Listes de sélection'!$A$65,F112='Listes de sélection'!$A$66),(IF(A112=\"\",\"\",OFFSET('Demandeurs de chaleur'!$C$7,9,A112,1,1))),\"Non\")","v":"Non"},{"$f":"IF(OR(F112='Listes de sélection'!$A$66),(IF(A112=\"\",\"\",OFFSET('Demandeurs de chaleur'!$C$7,10,A112,1,1))),\"Non\")","v":"Non"},{"$f":"IF(OR(F112='Listes de sélection'!$A$66),(IF(A112=\"\",\"\",OFFSET('Demandeurs de chaleur'!$C$7,11,A112,1,1))),\"Non\")","v":"Non"},{"$f":"IF(A112=\"\",\"\",IF(OFFSET('Demandeurs de chaleur'!$C$7,7,A112,1,1)=\"Oui\",0.97,1))","v":1},{"$f":"IF(A112=\"\",\"\",OFFSET('Demandeurs de chaleur'!$C$7,10,A112,1,1))","v":0}]
[105,"Demandeur de chaleur 106",{"$f":"IF(A113=\"\",\"\",OFFSET('Demandeurs de chaleur'!$C$7,2,A113,1,1))","v":0},{"$f":"IF(A113=\"\",\"\",OFFSET('Demandeurs de chaleur'!$C$7,30,A113,1,1))","v":0},{"$f":"IF(A113=\"\",\"\",OFFSET('Demandeurs de chaleur'!$C$7,5,A113,1,1))","v":0},{"$f":"IF(A113=\"\",\"\",OFFSET('Demandeurs de chaleur'!$C$7,6,A113,1,1))","v":0},{"$f":"IF(OR(F113='Listes de sélection'!$A$65,F113='Listes de sélection'!$A$66),(IF(A113=\"\",\"\",OFFSET('Demandeurs de chaleur'!$C$7,8,A113,1,1))),\"Non\")","v":"Non"},{"$f":"IF(OR(F113='Listes de sélection'!$A$65,F113='Listes de sélection'!$A$66),(IF(A113=\"\",\"\",OFFSET('Demandeurs de chaleur'!$C$7,9,A113,1,1))),\"Non\")","v":"Non"},{"$f":"IF(OR(F113='Listes de sélection'!$A$66),(IF(A113=\"\",\"\",OFFSET('Demandeurs de chaleur'!$C$7,10,A113,1,1))),\"Non\")","v":"Non"},{"$f":"IF(OR(F113='Listes de sélection'!$A$66),(IF(A113=\"\",\"\",OFFSET('Demandeurs de chaleur'!$C$7,11,A113,1,1))),\"Non\")","v":"Non"},{"$f":"IF(A113=\"\",\"\",IF(OFFSET('Demandeurs de chaleur'!$C$7,7,A113,1,1)=\"Oui\",0.97,1))","v":1},{"$f":"IF(A113=\"\",\"\",OFFSET('Demandeurs de chaleur'!$C$7,10,A113,1,1))","v":0}]
[106,"Demandeur de chaleur 107",{"$f":"IF(A114=\"\",\"\",OFFSET('Demandeurs de chaleur'!$C$7,2,A114,1,1))","v":0},{"$f":"IF(A114=\"\",\"\",OFFSET('Demandeurs de chaleur'!$C$7,30,A114,1,1))","v":0},{"$f":"IF(A114=\"\",\"\",OFFSET('Demandeurs de chaleur'!$C$7,5,A114,1,1))","v":0},{"$f":"IF(A114=\"\",\"\",OFFSET('Demandeurs de chaleur'!$C$7,6,A114,1,1))","v":0},{"$f":"IF(OR(F114='Listes de sélection'!$A$65,F114='Listes de sélection'!$A$66),(IF(A114=\"\",\"\",OFFSET('Demandeurs de chaleur'!$C$7,8,A114,1,1))),\"Non\")","v":"Non"},{"$f":"IF(OR(F114='Listes de sélection'!$A$65,F114='Listes de sélection'!$A$66),(IF(A114=\"\",\"\",OFFSET('Demandeurs de chaleur'!$C$7,9,A114,1,1))),\"Non\")","v":"Non"},{"$f":"IF(OR(F114='Listes de sélection'!$A$66),(IF(A114=\"\",\"\",OFFSET('Demandeurs de chaleur'!$C$7,10,A114,1,1))),\"Non\")","v":"Non"},{"$f":"IF(OR(F114='Listes de sélection'!$A$66),(IF(A114=\"\",\"\",OFFSET('Demandeurs de chaleur'!$C$7,11,A114,1,1))),\"Non\")","v":"Non"},{"$f":"IF(A114=\"\",\"\",IF(OFFSET('Demandeurs de chaleur'!$C$7,7,A114,1,1)=\"Oui\",0.97,1))","v":1},{"$f":"IF(A114=\"\",\"\",OFFSET('Demandeurs de chaleur'!$C$7,10,A114,1,1))","v":0}]
[107,"Demandeur de chaleur 108",{"$f":"IF(A115=\"\",\"\",OFFSET('Demandeurs de chaleur'!$C$7,2,A115,1,1))","v":0},{"$f":"IF(A115=\"\",\"\",OFFSET('Demandeurs de chaleur'!$C$7,30,A115,1,1))","v":0},{"$f":"IF(A115=\"\",\"\",OFFSET('Demandeurs de chaleur'!$C$7,5,A115,1,1))","v":0},{"$f":"IF(A115=\"\",\"\",OFFSET('Demandeurs de chaleur'!$C$7,6,A115,1,1))","v":0},{"$f":"IF(OR(F115='Listes de sélection'!$A$65,F115='Listes de sélection'!$A$66),(IF(A115=\"\",\"\",OFFSET('Demandeurs de chaleur'!$C$7,8,A115,1,1))),\"Non\")","v":"Non"},{"$f":"IF(OR(F115='Listes de sélection'!$A$65,F115='Listes de sélection'!$A$66),(IF(A115=\"\",\"\",OFFSET('Demandeurs de chaleur'!$C$7,9,A115,1,1))),\"Non\")","v":"Non"},{"$f":"IF(OR(F115='Listes de sélection'!$A$66),(IF(A115=\"\",\"\",OFFSET('Demandeurs de chaleur'!$C$7,10,A115,1,1))),\"Non\")","v":"Non"},{"$f":"IF(OR(F115='Listes de sélection'!$A$66),(IF(A115=\"\",\"\",OFFSET('Demandeurs de chaleur'!$C$7,11,A115,1,1))),\"Non\")","v":"Non"},{"$f":"IF(A115=\"\",\"\",IF(OFFSET('Demandeurs de chaleur'!$C$7,7,A115,1,1)=\"Oui\",0.97,1))","v":1},{"$f":"IF(A115=\"\",\"\",OFFSET('Demandeurs de chaleur'!$C$7,10,A115,1,1))","v":0}]
[108,"Demandeur de chaleur 109",{"$f":"IF(A116=\"\",\"\",OFFSET('Demandeurs de chaleur'!$C$7,2,A116,1,1))","v":0},{"$f":"IF(A116=\"\",\"\",OFFSET('Demandeurs de chaleur'!$C$7,30,A116,1,1))","v":0},{"$f":"IF(A116=\"\",\"\",OFFSET('Demandeurs de chaleur'!$C$7,5,A116,1,1))","v":0},{"$f":"IF(A116=\"\",\"\",OFFSET('Demandeurs de chaleur'!$C$7,6,A116,1,1))","v":0},{"$f":"IF(OR(F116='Listes de sélection'!$A$65,F116='Listes de sélection'!$A$66),(IF(A116=\"\",\"\",OFFSET('Demandeurs de chaleur'!$C$7,8,A116,1,1))),\"Non\")","v":"Non"},{"$f":"IF(OR(F116='Listes de sélection'!$A$65,F116='Listes de sélection'!$A$66),(IF(A116=\"\",\"\",OFFSET('Demandeurs de chaleur'!$C$7,9,A116,1,1))),\"Non\")","v":"Non"},{"$f":"IF(OR(F116='Listes de sélection'!$A$66),(IF(A116=\"\",\"\",OFFSET('Demandeurs de chaleur'!$C$7,10,A116,1,1))),\"Non\")","v":"Non"},{"$f":"IF(OR(F116='Listes de sélection'!$A$66),(IF(A116=\"\",\"\",OFFSET('Demandeurs de chaleur'!$C$7,11,A116,1,1))),\"Non\")","v":"Non"},{"$f":"IF(A116=\"\",\"\",IF(OFFSET('Demandeurs de chaleur'!$C$7,7,A116,1,1)=\"Oui\",0.97,1))","v":1},{"$f":"IF(A116=\"\",\"\",OFFSET('Demandeurs de chaleur'!$C$7,10,A116,1,1))","v":0}]
[109,"Demandeur de chaleur 110",{"$f":"IF(A117=\"\",\"\",OFFSET('Demandeurs de chaleur'!$C$7,2,A117,1,1))","v":0},{"$f":"IF(A117=\"\",\"\",OFFSET('Demandeurs de chaleur'!$C$7,30,A117,1,1))","v":0},{"$f":"IF(A117=\"\",\"\",OFFSET('Demandeurs de chaleur'!$C$7,5,A117,1,1))","v":0},{"$f":"IF(A117=\"\",\"\",OFFSET('Demandeurs de chaleur'!$C$7,6,A117,1,1))","v":0},{"$f":"IF(OR(F117='Listes de sélection'!$A$65,F117='Listes de sélection'!$A$66),(IF(A117=\"\",\"\",OFFSET('Demandeurs de chaleur'!$C$7,8,A117,1,1))),\"Non\")","v":"Non"},{"$f":"IF(OR(F117='Listes de sélection'!$A$65,F117='Listes de sélection'!$A$66),(IF(A117=\"\",\"\",OFFSET('Demandeurs de chaleur'!$C$7,9,A117,1,1))),\"Non\")","v":"Non"},{"$f":"IF(OR(F117='Listes de sélection'!$A$66),(IF(A117=\"\",\"\",OFFSET('Demandeurs de chaleur'!$C$7,10,A117,1,1))),\"Non\")","v":"Non"},{"$f":"IF(OR(F117='Listes de sélection'!$A$66),(IF(A117=\"\",\"\",OFFSET('Demandeurs de chaleur'!$C$7,11,A117,1,1))),\"Non\")","v":"Non"},{"$f":"IF(A117=\"\",\"\",IF(OFFSET('Demandeurs de chaleur'!$C$7,7,A117,1,1)=\"Oui\",0.97,1))","v":1},{"$f":"IF(A117=\"\",\"\",OFFSET('Demandeurs de chaleur'!$C$7,10,A117,1,1))","v":0}]
[110,"Demandeur de chaleur 111",{"$f":"IF(A118=\"\",\"\",OFFSET('Demandeurs de chaleur'!$C$7,2,A118,1,1))","v":0},{"$f":"IF(A118=\"\",\"\",OFFSET('Demandeurs de chaleur'!$C$7,30,A118,1,1))","v":0},{"$f":"IF(A118=\"\",\"\",OFFSET('Demandeurs de chaleur'!$C$7,5,A118,1,1))","v":0},{"$f":"IF(A118=\"\",\"\",OFFSET('Demandeurs de chaleur'!$C$7,6,A118,1,1))","v":0},{"$f":"IF(OR(F118='Listes de sélection'!$A$65,F118='Listes de sélection'!$A$66),(IF(A118=\"\",\"\",OFFSET('Demandeurs de chaleur'!$C$7,8,A118,1,1))),\"Non\")","v":"Non"},{"$f":"IF(OR(F118='Listes de sélection'!$A$65,F118='Listes de sélection'!$A$66),(IF(A118=\"\",\"\",OFFSET('Demandeurs de chaleur'!$C$7,9,A118,1,1))),\"Non\")","v":"Non"},{"$f":"IF(OR(F118='Listes de sélection'!$A$66),(IF(A118=\"\",\"\",OFFSET('Demandeurs de chaleur'!$C$7,10,A118,1,1))),\"Non\")","v":"Non"},{"$f":"IF(OR(F118='Listes de sélection'!$A$66),(IF(A118=\"\",\"\",OFFSET('Demandeurs de chaleur'!$C$7,11,A118,1,1))),\"Non\")","v":"Non"},{"$f":"IF(A118=\"\",\"\",IF(OFFSET('Demandeurs de chaleur'!$C$7,7,A118,1,1)=\"Oui\",0.97,1))","v":1},{"$f":"IF(A118=\"\",\"\",OFFSET('Demandeurs de chaleur'!$C$7,10,A118,1,1))","v":0}]
[111,"Demandeur de chaleur 112",{"$f":"IF(A119=\"\",\"\",OFFSET('Demandeurs de chaleur'!$C$7,2,A119,1,1))","v":0},{"$f":"IF(A119=\"\",\"\",OFFSET('Demandeurs de chaleur'!$C$7,30,A119,1,1))","v":0},{"$f":"IF(A119=\"\",\"\",OFFSET('Demandeurs de chaleur'!$C$7,5,A119,1,1))","v":0},{"$f":"IF(A119=\"\",\"\",OFFSET('Demandeurs de chaleur'!$C$7,6,A119,1,1))","v":0},{"$f":"IF(OR(F119='Listes de sélection'!$A$65,F119='Listes de sélection'!$A$66),(IF(A119=\"\",\"\",OFFSET('Demandeurs de chaleur'!$C$7,8,A119,1,1))),\"Non\")","v":"Non"},{"$f":"IF(OR(F119='Listes de sélection'!$A$65,F119='Listes de sélection'!$A$66),(IF(A119=\"\",\"\",OFFSET('Demandeurs de chaleur'!$C$7,9,A119,1,1))),\"Non\")","v":"Non"},{"$f":"IF(OR(F119='Listes de sélection'!$A$66),(IF(A119=\"\",\"\",OFFSET('Demandeurs de chaleur'!$C$7,10,A119,1,1))),\"Non\")","v":"Non"},{"$f":"IF(OR(F119='Listes de sélection'!$A$66),(IF(A119=\"\",\"\",OFFSET('Demandeurs de chaleur'!$C$7,11,A119,1,1))),\"Non\")","v":"Non"},{"$f":"IF(A119=\"\",\"\",IF(OFFSET('Demandeurs de chaleur'!$C$7,7,A119,1,1)=\"Oui\",0.97,1))","v":1},{"$f":"IF(A119=\"\",\"\",OFFSET('Demandeurs de chaleur'!$C$7,10,A119,1,1))","v":0}]
[112,"Demandeur de chaleur 113",{"$f":"IF(A120=\"\",\"\",OFFSET('Demandeurs de chaleur'!$C$7,2,A120,1,1))","v":0},{"$f":"IF(A120=\"\",\"\",OFFSET('Demandeurs de chaleur'!$C$7,30,A120,1,1))","v":0},{"$f":"IF(A120=\"\",\"\",OFFSET('Demandeurs de chaleur'!$C$7,5,A120,1,1))","v":0},{"$f":"IF(A120=\"\",\"\",OFFSET('Demandeurs de chaleur'!$C$7,6,A120,1,1))","v":0},{"$f":"IF(OR(F120='Listes de sélection'!$A$65,F120='Listes de sélection'!$A$66),(IF(A120=\"\",\"\",OFFSET('Demandeurs de chaleur'!$C$7,8,A120,1,1))),\"Non\")","v":"Non"},{"$f":"IF(OR(F120='Listes de sélection'!$A$65,F120='Listes de sélection'!$A$66),(IF(A120=\"\",\"\",OFFSET('Demandeurs de chaleur'!$C$7,9,A120,1,1))),\"Non\")","v":"Non"},{"$f":"IF(OR(F120='Listes de sélection'!$A$66),(IF(A120=\"\",\"\",OFFSET('Demandeurs de chaleur'!$C$7,10,A120,1,1))),\"Non\")","v":"Non"},{"$f":"IF(OR(F120='Listes de sélection'!$A$66),(IF(A120=\"\",\"\",OFFSET('Demandeurs de chaleur'!$C$7,11,A120,1,1))),\"Non\")","v":"Non"},{"$f":"IF(A120=\"\",\"\",IF(OFFSET('Demandeurs de chaleur'!$C$7,7,A120,1,1)=\"Oui\",0.97,1))","v":1},{"$f":"IF(A120=\"\",\"\",OFFSET('Demandeurs de chaleur'!$C$7,10,A120,1,1))","v":0}]
[113,"Demandeur de chaleur 114",{"$f":"IF(A121=\"\",\"\",OFFSET('Demandeurs de chaleur'!$C$7,2,A121,1,1))","v":0},{"$f":"IF(A121=\"\",\"\",OFFSET('Demandeurs de chaleur'!$C$7,30,A121,1,1))","v":0},{"$f":"IF(A121=\"\",\"\",OFFSET('Demandeurs de chaleur'!$C$7,5,A121,1,1))","v":0},{"$f":"IF(A121=\"\",\"\",OFFSET('Demandeurs de chaleur'!$C$7,6,A121,1,1))","v":0},{"$f":"IF(OR(F121='Listes de sélection'!$A$65,F121='Listes de sélection'!$A$66),(IF(A121=\"\",\"\",OFFSET('Demandeurs de chaleur'!$C$7,8,A121,1,1))),\"Non\")","v":"Non"},{"$f":"IF(OR(F121='Listes de sélection'!$A$65,F121='Listes de sélection'!$A$66),(IF(A121=\"\",\"\",OFFSET('Demandeurs de chaleur'!$C$7,9,A121,1,1))),\"Non\")","v":"Non"},{"$f":"IF(OR(F121='Listes de sélection'!$A$66),(IF(A121=\"\",\"\",OFFSET('Demandeurs de chaleur'!$C$7,10,A121,1,1))),\"Non\")","v":"Non"},{"$f":"IF(OR(F121='Listes de sélection'!$A$66),(IF(A121=\"\",\"\",OFFSET('Demandeurs de chaleur'!$C$7,11,A121,1,1))),\"Non\")","v":"Non"},{"$f":"IF(A121=\"\",\"\",IF(OFFSET('Demandeurs de chaleur'!$C$7,7,A121,1,1)=\"Oui\",0.97,1))","v":1},{"$f":"IF(A121=\"\",\"\",OFFSET('Demandeurs de chaleur'!$C$7,10,A121,1,1))","v":0}]
[114,"Demandeur de chaleur 115",{"$f":"IF(A122=\"\",\"\",OFFSET('Demandeurs de chaleur'!$C$7,2,A122,1,1))","v":0},{"$f":"IF(A122=\"\",\"\",OFFSET('Demandeurs de chaleur'!$C$7,30,A122,1,1))","v":0},{"$f":"IF(A122=\"\",\"\",OFFSET('Demandeurs de chaleur'!$C$7,5,A122,1,1))","v":0},{"$f":"IF(A122=\"\",\"\",OFFSET('Demandeurs de chaleur'!$C$7,6,A122,1,1))","v":0},{"$f":"IF(OR(F122='Listes de sélection'!$A$65,F122='Listes de sélection'!$A$66),(IF(A122=\"\",\"\",OFFSET('Demandeurs de chaleur'!$C$7,8,A122,1,1))),\"Non\")","v":"Non"},{"$f":"IF(OR(F122='Listes de sélection'!$A$65,F122='Listes de sélection'!$A$66),(IF(A122=\"\",\"\",OFFSET('Demandeurs de chaleur'!$C$7,9,A122,1,1))),\"Non\")","v":"Non"},{"$f":"IF(OR(F122='Listes de sélection'!$A$66),(IF(A122=\"\",\"\",OFFSET('Demandeurs de chaleur'!$C$7,10,A122,1,1))),\"Non\")","v":"Non"},{"$f":"IF(OR(F122='Listes de sélection'!$A$66),(IF(A122=\"\",\"\",OFFSET('Demandeurs de chaleur'!$C$7,11,A122,1,1))),\"Non\")","v":"Non"},{"$f":"IF(A122=\"\",\"\",IF(OFFSET('Demandeurs de chaleur'!$C$7,7,A122,1,1)=\"Oui\",0.97,1))","v":1},{"$f":"IF(A122=\"\",\"\",OFFSET('Demandeurs de chaleur'!$C$7,10,A122,1,1))","v":0}]
[115,"Demandeur de chaleur 116",{"$f":"IF(A123=\"\",\"\",OFFSET('Demandeurs de chaleur'!$C$7,2,A123,1,1))","v":0},{"$f":"IF(A123=\"\",\"\",OFFSET('Demandeurs de chaleur'!$C$7,30,A123,1,1))","v":0},{"$f":"IF(A123=\"\",\"\",OFFSET('Demandeurs de chaleur'!$C$7,5,A123,1,1))","v":0},{"$f":"IF(A123=\"\",\"\",OFFSET('Demandeurs de chaleur'!$C$7,6,A123,1,1))","v":0},{"$f":"IF(OR(F123='Listes de sélection'!$A$65,F123='Listes de sélection'!$A$66),(IF(A123=\"\",\"\",OFFSET('Demandeurs de chaleur'!$C$7,8,A123,1,1))),\"Non\")","v":"Non"},{"$f":"IF(OR(F123='Listes de sélection'!$A$65,F123='Listes de sélection'!$A$66),(IF(A123=\"\",\"\",OFFSET('Demandeurs de chaleur'!$C$7,9,A123,1,1))),\"Non\")","v":"Non"},{"$f":"IF(OR(F123='Listes de sélection'!$A$66),(IF(A123=\"\",\"\",OFFSET('Demandeurs de chaleur'!$C$7,10,A123,1,1))),\"Non\")","v":"Non"},{"$f":"IF(OR(F123='Listes de sélection'!$A$66),(IF(A123=\"\",\"\",OFFSET('Demandeurs de chaleur'!$C$7,11,A123,1,1))),\"Non\")","v":"Non"},{"$f":"IF(A123=\"\",\"\",IF(OFFSET('Demandeurs de chaleur'!$C$7,7,A123,1,1)=\"Oui\",0.97,1))","v":1},{"$f":"IF(A123=\"\",\"\",OFFSET('Demandeurs de chaleur'!$C$7,10,A123,1,1))","v":0}]
[116,"Demandeur de chaleur 117",{"$f":"IF(A124=\"\",\"\",OFFSET('Demandeurs de chaleur'!$C$7,2,A124,1,1))","v":0},{"$f":"IF(A124=\"\",\"\",OFFSET('Demandeurs de chaleur'!$C$7,30,A124,1,1))","v":0},{"$f":"IF(A124=\"\",\"\",OFFSET('Demandeurs de chaleur'!$C$7,5,A124,1,1))","v":0},{"$f":"IF(A124=\"\",\"\",OFFSET('Demandeurs de chaleur'!$C$7,6,A124,1,1))","v":0},{"$f":"IF(OR(F124='Listes de sélection'!$A$65,F124='Listes de sélection'!$A$66),(IF(A124=\"\",\"\",OFFSET('Demandeurs de chaleur'!$C$7,8,A124,1,1))),\"Non\")","v":"Non"},{"$f":"IF(OR(F124='Listes de sélection'!$A$65,F124='Listes de sélection'!$A$66),(IF(A124=\"\",\"\",OFFSET('Demandeurs de chaleur'!$C$7,9,A124,1,1))),\"Non\")","v":"Non"},{"$f":"IF(OR(F124='Listes de sélection'!$A$66),(IF(A124=\"\",\"\",OFFSET('Demandeurs de chaleur'!$C$7,10,A124,1,1))),\"Non\")","v":"Non"},{"$f":"IF(OR(F124='Listes de sélection'!$A$66),(IF(A124=\"\",\"\",OFFSET('Demandeurs de chaleur'!$C$7,11,A124,1,1))),\"Non\")","v":"Non"},{"$f":"IF(A124=\"\",\"\",IF(OFFSET('Demandeurs de chaleur'!$C$7,7,A124,1,1)=\"Oui\",0.97,1))","v":1},{"$f":"IF(A124=\"\",\"\",OFFSET('Demandeurs de chaleur'!$C$7,10,A124,1,1))","v":0}]
[117,"Demandeur de chaleur 118",{"$f":"IF(A125=\"\",\"\",OFFSET('Demandeurs de chaleur'!$C$7,2,A125,1,1))","v":0},{"$f":"IF(A125=\"\",\"\",OFFSET('Demandeurs de chaleur'!$C$7,30,A125,1,1))","v":0},{"$f":"IF(A125=\"\",\"\",OFFSET('Demandeurs de chaleur'!$C$7,5,A125,1,1))","v":0},{"$f":"IF(A125=\"\",\"\",OFFSET('Demandeurs de chaleur'!$C$7,6,A125,1,1))","v":0},{"$f":"IF(OR(F125='Listes de sélection'!$A$65,F125='Listes de sélection'!$A$66),(IF(A125=\"\",\"\",OFFSET('Demandeurs de chaleur'!$C$7,8,A125,1,1))),\"Non\")","v":"Non"},{"$f":"IF(OR(F125='Listes de sélection'!$A$65,F125='Listes de sélection'!$A$66),(IF(A125=\"\",\"\",OFFSET('Demandeurs de chaleur'!$C$7,9,A125,1,1))),\"Non\")","v":"Non"},{"$f":"IF(OR(F125='Listes de sélection'!$A$66),(IF(A125=\"\",\"\",OFFSET('Demandeurs de chaleur'!$C$7,10,A125,1,1))),\"Non\")","v":"Non"},{"$f":"IF(OR(F125='Listes de sélection'!$A$66),(IF(A125=\"\",\"\",OFFSET('Demandeurs de chaleur'!$C$7,11,A125,1,1))),\"Non\")","v":"Non"},{"$f":"IF(A125=\"\",\"\",IF(OFFSET('Demandeurs de chaleur'!$C$7,7,A125,1,1)=\"Oui\",0.97,1))","v":1},{"$f":"IF(A125=\"\",\"\",OFFSET('Demandeurs de chaleur'!$C$7,10,A125,1,1))","v":0}]
[118,"Demandeur de chaleur 119",{"$f":"IF(A126=\"\",\"\",OFFSET('Demandeurs de chaleur'!$C$7,2,A126,1,1))","v":0},{"$f":"IF(A126=\"\",\"\",OFFSET('Demandeurs de chaleur'!$C$7,30,A126,1,1))","v":0},{"$f":"IF(A126=\"\",\"\",OFFSET('Demandeurs de chaleur'!$C$7,5,A126,1,1))","v":0},{"$f":"IF(A126=\"\",\"\",OFFSET('Demandeurs de chaleur'!$C$7,6,A126,1,1))","v":0},{"$f":"IF(OR(F126='Listes de sélection'!$A$65,F126='Listes de sélection'!$A$66),(IF(A126=\"\",\"\",OFFSET('Demandeurs de chaleur'!$C$7,8,A126,1,1))),\"Non\")","v":"Non"},{"$f":"IF(OR(F126='Listes de sélection'!$A$65,F126='Listes de sélection'!$A$66),(IF(A126=\"\",\"\",OFFSET('Demandeurs de chaleur'!$C$7,9,A126,1,1))),\"Non\")","v":"Non"},{"$f":"IF(OR(F126='Listes de sélection'!$A$66),(IF(A126=\"\",\"\",OFFSET('Demandeurs de chaleur'!$C$7,10,A126,1,1))),\"Non\")","v":"Non"},{"$f":"IF(OR(F126='Listes de sélection'!$A$66),(IF(A126=\"\",\"\",OFFSET('Demandeurs de chaleur'!$C$7,11,A126,1,1))),\"Non\")","v":"Non"},{"$f":"IF(A126=\"\",\"\",IF(OFFSET('Demandeurs de chaleur'!$C$7,7,A126,1,1)=\"Oui\",0.97,1))","v":1},{"$f":"IF(A126=\"\",\"\",OFFSET('Demandeurs de chaleur'!$C$7,10,A126,1,1))","v":0}]
[119,"Demandeur de chaleur 120",{"$f":"IF(A127=\"\",\"\",OFFSET('Demandeurs de chaleur'!$C$7,2,A127,1,1))","v":0},{"$f":"IF(A127=\"\",\"\",OFFSET('Demandeurs de chaleur'!$C$7,30,A127,1,1))","v":0},{"$f":"IF(A127=\"\",\"\",OFFSET('Demandeurs de chaleur'!$C$7,5,A127,1,1))","v":0},{"$f":"IF(A127=\"\",\"\",OFFSET('Demandeurs de chaleur'!$C$7,6,A127,1,1))","v":0},{"$f":"IF(OR(F127='Listes de sélection'!$A$65,F127='Listes de sélection'!$A$66),(IF(A127=\"\",\"\",OFFSET('Demandeurs de chaleur'!$C$7,8,A127,1,1))),\"Non\")","v":"Non"},{"$f":"IF(OR(F127='Listes de sélection'!$A$65,F127='Listes de sélection'!$A$66),(IF(A127=\"\",\"\",OFFSET('Demandeurs de chaleur'!$C$7,9,A127,1,1))),\"Non\")","v":"Non"},{"$f":"IF(OR(F127='Listes de sélection'!$A$66),(IF(A127=\"\",\"\",OFFSET('Demandeurs de chaleur'!$C$7,10,A127,1,1))),\"Non\")","v":"Non"},{"$f":"IF(OR(F127='Listes de sélection'!$A$66),(IF(A127=\"\",\"\",OFFSET('Demandeurs de chaleur'!$C$7,11,A127,1,1))),\"Non\")","v":"Non"},{"$f":"IF(A127=\"\",\"\",IF(OFFSET('Demandeurs de chaleur'!$C$7,7,A127,1,1)=\"Oui\",0.97,1))","v":1},{"$f":"IF(A127=\"\",\"\",OFFSET('Demandeurs de chaleur'!$C$7,10,A127,1,1))","v":0}]
[120,"Demandeur de chaleur 121",{"$f":"IF(A128=\"\",\"\",OFFSET('Demandeurs de chaleur'!$C$7,2,A128,1,1))","v":0},{"$f":"IF(A128=\"\",\"\",OFFSET('Demandeurs de chaleur'!$C$7,30,A128,1,1))","v":0},{"$f":"IF(A128=\"\",\"\",OFFSET('Demandeurs de chaleur'!$C$7,5,A128,1,1))","v":0},{"$f":"IF(A128=\"\",\"\",OFFSET('Demandeurs de chaleur'!$C$7,6,A128,1,1))","v":0},{"$f":"IF(OR(F128='Listes de sélection'!$A$65,F128='Listes de sélection'!$A$66),(IF(A128=\"\",\"\",OFFSET('Demandeurs de chaleur'!$C$7,8,A128,1,1))),\"Non\")","v":"Non"},{"$f":"IF(OR(F128='Listes de sélection'!$A$65,F128='Listes de sélection'!$A$66),(IF(A128=\"\",\"\",OFFSET('Demandeurs de chaleur'!$C$7,9,A128,1,1))),\"Non\")","v":"Non"},{"$f":"IF(OR(F128='Listes de sélection'!$A$66),(IF(A128=\"\",\"\",OFFSET('Demandeurs de chaleur'!$C$7,10,A128,1,1))),\"Non\")","v":"Non"},{"$f":"IF(OR(F128='Listes de sélection'!$A$66),(IF(A128=\"\",\"\",OFFSET('Demandeurs de chaleur'!$C$7,11,A128,1,1))),\"Non\")","v":"Non"},{"$f":"IF(A128=\"\",\"\",IF(OFFSET('Demandeurs de chaleur'!$C$7,7,A128,1,1)=\"Oui\",0.97,1))","v":1},{"$f":"IF(A128=\"\",\"\",OFFSET('Demandeurs de chaleur'!$C$7,10,A128,1,1))","v":0}]
[121,"Demandeur de chaleur 122",{"$f":"IF(A129=\"\",\"\",OFFSET('Demandeurs de chaleur'!$C$7,2,A129,1,1))","v":0},{"$f":"IF(A129=\"\",\"\",OFFSET('Demandeurs de chaleur'!$C$7,30,A129,1,1))","v":0},{"$f":"IF(A129=\"\",\"\",OFFSET('Demandeurs de chaleur'!$C$7,5,A129,1,1))","v":0},{"$f":"IF(A129=\"\",\"\",OFFSET('Demandeurs de chaleur'!$C$7,6,A129,1,1))","v":0},{"$f":"IF(OR(F129='Listes de sélection'!$A$65,F129='Listes de sélection'!$A$66),(IF(A129=\"\",\"\",OFFSET('Demandeurs de chaleur'!$C$7,8,A129,1,1))),\"Non\")","v":"Non"},{"$f":"IF(OR(F129='Listes de sélection'!$A$65,F129='Listes de sélection'!$A$66),(IF(A129=\"\",\"\",OFFSET('Demandeurs de chaleur'!$C$7,9,A129,1,1))),\"Non\")","v":"Non"},{"$f":"IF(OR(F129='Listes de sélection'!$A$66),(IF(A129=\"\",\"\",OFFSET('Demandeurs de chaleur'!$C$7,10,A129,1,1))),\"Non\")","v":"Non"},{"$f":"IF(OR(F129='Listes de sélection'!$A$66),(IF(A129=\"\",\"\",OFFSET('Demandeurs de chaleur'!$C$7,11,A129,1,1))),\"Non\")","v":"Non"},{"$f":"IF(A129=\"\",\"\",IF(OFFSET('Demandeurs de chaleur'!$C$7,7,A129,1,1)=\"Oui\",0.97,1))","v":1},{"$f":"IF(A129=\"\",\"\",OFFSET('Demandeurs de chaleur'!$C$7,10,A129,1,1))","v":0}]
[122,"Demandeur de chaleur 123",{"$f":"IF(A130=\"\",\"\",OFFSET('Demandeurs de chaleur'!$C$7,2,A130,1,1))","v":0},{"$f":"IF(A130=\"\",\"\",OFFSET('Demandeurs de chaleur'!$C$7,30,A130,1,1))","v":0},{"$f":"IF(A130=\"\",\"\",OFFSET('Demandeurs de chaleur'!$C$7,5,A130,1,1))","v":0},{"$f":"IF(A130=\"\",\"\",OFFSET('Demandeurs de chaleur'!$C$7,6,A130,1,1))","v":0},{"$f":"IF(OR(F130='Listes de sélection'!$A$65,F130='Listes de sélection'!$A$66),(IF(A130=\"\",\"\",OFFSET('Demandeurs de chaleur'!$C$7,8,A130,1,1))),\"Non\")","v":"Non"},{"$f":"IF(OR(F130='Listes de sélection'!$A$65,F130='Listes de sélection'!$A$66),(IF(A130=\"\",\"\",OFFSET('Demandeurs de chaleur'!$C$7,9,A130,1,1))),\"Non\")","v":"Non"},{"$f":"IF(OR(F130='Listes de sélection'!$A$66),(IF(A130=\"\",\"\",OFFSET('Demandeurs de chaleur'!$C$7,10,A130,1,1))),\"Non\")","v":"Non"},{"$f":"IF(OR(F130='Listes de sélection'!$A$66),(IF(A130=\"\",\"\",OFFSET('Demandeurs de chaleur'!$C$7,11,A130,1,1))),\"Non\")","v":"Non"},{"$f":"IF(A130=\"\",\"\",IF(OFFSET('Demandeurs de chaleur'!$C$7,7,A130,1,1)=\"Oui\",0.97,1))","v":1},{"$f":"IF(A130=\"\",\"\",OFFSET('Demandeurs de chaleur'!$C$7,10,A130,1,1))","v":0}]
[123,"Demandeur de chaleur 124",{"$f":"IF(A131=\"\",\"\",OFFSET('Demandeurs de chaleur'!$C$7,2,A131,1,1))","v":0},{"$f":"IF(A131=\"\",\"\",OFFSET('Demandeurs de chaleur'!$C$7,30,A131,1,1))","v":0},{"$f":"IF(A131=\"\",\"\",OFFSET('Demandeurs de chaleur'!$C$7,5,A131,1,1))","v":0},{"$f":"IF(A131=\"\",\"\",OFFSET('Demandeurs de chaleur'!$C$7,6,A131,1,1))","v":0},{"$f":"IF(OR(F131='Listes de sélection'!$A$65,F131='Listes de sélection'!$A$66),(IF(A131=\"\",\"\",OFFSET('Demandeurs de chaleur'!$C$7,8,A131,1,1))),\"Non\")","v":"Non"},{"$f":"IF(OR(F131='Listes de sélection'!$A$65,F131='Listes de sélection'!$A$66),(IF(A131=\"\",\"\",OFFSET('Demandeurs de chaleur'!$C$7,9,A131,1,1))),\"Non\")","v":"Non"},{"$f":"IF(OR(F131='Listes de sélection'!$A$66),(IF(A131=\"\",\"\",OFFSET('Demandeurs de chaleur'!$C$7,10,A131,1,1))),\"Non\")","v":"Non"},{"$f":"IF(OR(F131='Listes de sélection'!$A$66),(IF(A131=\"\",\"\",OFFSET('Demandeurs de chaleur'!$C$7,11,A131,1,1))),\"Non\")","v":"Non"},{"$f":"IF(A131=\"\",\"\",IF(OFFSET('Demandeurs de chaleur'!$C$7,7,A131,1,1)=\"Oui\",0.97,1))","v":1},{"$f":"IF(A131=\"\",\"\",OFFSET('Demandeurs de chaleur'!$C$7,10,A131,1,1))","v":0}]
[124,"Demandeur de chaleur 125",{"$f":"IF(A132=\"\",\"\",OFFSET('Demandeurs de chaleur'!$C$7,2,A132,1,1))","v":0},{"$f":"IF(A132=\"\",\"\",OFFSET('Demandeurs de chaleur'!$C$7,30,A132,1,1))","v":0},{"$f":"IF(A132=\"\",\"\",OFFSET('Demandeurs de chaleur'!$C$7,5,A132,1,1))","v":0},{"$f":"IF(A132=\"\",\"\",OFFSET('Demandeurs de chaleur'!$C$7,6,A132,1,1))","v":0},{"$f":"IF(OR(F132='Listes de sélection'!$A$65,F132='Listes de sélection'!$A$66),(IF(A132=\"\",\"\",OFFSET('Demandeurs de chaleur'!$C$7,8,A132,1,1))),\"Non\")","v":"Non"},{"$f":"IF(OR(F132='Listes de sélection'!$A$65,F132='Listes de sélection'!$A$66),(IF(A132=\"\",\"\",OFFSET('Demandeurs de chaleur'!$C$7,9,A132,1,1))),\"Non\")","v":"Non"},{"$f":"IF(OR(F132='Listes de sélection'!$A$66),(IF(A132=\"\",\"\",OFFSET('Demandeurs de chaleur'!$C$7,10,A132,1,1))),\"Non\")","v":"Non"},{"$f":"IF(OR(F132='Listes de sélection'!$A$66),(IF(A132=\"\",\"\",OFFSET('Demandeurs de chaleur'!$C$7,11,A132,1,1))),\"Non\")","v":"Non"},{"$f":"IF(A132=\"\",\"\",IF(OFFSET('Demandeurs de chaleur'!$C$7,7,A132,1,1)=\"Oui\",0.97,1))","v":1},{"$f":"IF(A132=\"\",\"\",OFFSET('Demandeurs de chaleur'!$C$7,10,A132,1,1))","v":0}]
[125,"Demandeur de chaleur 126",{"$f":"IF(A133=\"\",\"\",OFFSET('Demandeurs de chaleur'!$C$7,2,A133,1,1))","v":0},{"$f":"IF(A133=\"\",\"\",OFFSET('Demandeurs de chaleur'!$C$7,30,A133,1,1))","v":0},{"$f":"IF(A133=\"\",\"\",OFFSET('Demandeurs de chaleur'!$C$7,5,A133,1,1))","v":0},{"$f":"IF(A133=\"\",\"\",OFFSET('Demandeurs de chaleur'!$C$7,6,A133,1,1))","v":0},{"$f":"IF(OR(F133='Listes de sélection'!$A$65,F133='Listes de sélection'!$A$66),(IF(A133=\"\",\"\",OFFSET('Demandeurs de chaleur'!$C$7,8,A133,1,1))),\"Non\")","v":"Non"},{"$f":"IF(OR(F133='Listes de sélection'!$A$65,F133='Listes de sélection'!$A$66),(IF(A133=\"\",\"\",OFFSET('Demandeurs de chaleur'!$C$7,9,A133,1,1))),\"Non\")","v":"Non"},{"$f":"IF(OR(F133='Listes de sélection'!$A$66),(IF(A133=\"\",\"\",OFFSET('Demandeurs de chaleur'!$C$7,10,A133,1,1))),\"Non\")","v":"Non"},{"$f":"IF(OR(F133='Listes de sélection'!$A$66),(IF(A133=\"\",\"\",OFFSET('Demandeurs de chaleur'!$C$7,11,A133,1,1))),\"Non\")","v":"Non"},{"$f":"IF(A133=\"\",\"\",IF(OFFSET('Demandeurs de chaleur'!$C$7,7,A133,1,1)=\"Oui\",0.97,1))","v":1},{"$f":"IF(A133=\"\",\"\",OFFSET('Demandeurs de chaleur'!$C$7,10,A133,1,1))","v":0}]
[126,"Demandeur de chaleur 127",{"$f":"IF(A134=\"\",\"\",OFFSET('Demandeurs de chaleur'!$C$7,2,A134,1,1))","v":0},{"$f":"IF(A134=\"\",\"\",OFFSET('Demandeurs de chaleur'!$C$7,30,A134,1,1))","v":0},{"$f":"IF(A134=\"\",\"\",OFFSET('Demandeurs de chaleur'!$C$7,5,A134,1,1))","v":0},{"$f":"IF(A134=\"\",\"\",OFFSET('Demandeurs de chaleur'!$C$7,6,A134,1,1))","v":0},{"$f":"IF(OR(F134='Listes de sélection'!$A$65,F134='Listes de sélection'!$A$66),(IF(A134=\"\",\"\",OFFSET('Demandeurs de chaleur'!$C$7,8,A134,1,1))),\"Non\")","v":"Non"},{"$f":"IF(OR(F134='Listes de sélection'!$A$65,F134='Listes de sélection'!$A$66),(IF(A134=\"\",\"\",OFFSET('Demandeurs de chaleur'!$C$7,9,A134,1,1))),\"Non\")","v":"Non"},{"$f":"IF(OR(F134='Listes de sélection'!$A$66),(IF(A134=\"\",\"\",OFFSET('Demandeurs de chaleur'!$C$7,10,A134,1,1))),\"Non\")","v":"Non"},{"$f":"IF(OR(F134='Listes de sélection'!$A$66),(IF(A134=\"\",\"\",OFFSET('Demandeurs de chaleur'!$C$7,11,A134,1,1))),\"Non\")","v":"Non"},{"$f":"IF(A134=\"\",\"\",IF(OFFSET('Demandeurs de chaleur'!$C$7,7,A134,1,1)=\"Oui\",0.97,1))","v":1},{"$f":"IF(A134=\"\",\"\",OFFSET('Demandeurs de chaleur'!$C$7,10,A134,1,1))","v":0}]
[127,"Demandeur de chaleur 128",{"$f":"IF(A135=\"\",\"\",OFFSET('Demandeurs de chaleur'!$C$7,2,A135,1,1))","v":0},{"$f":"IF(A135=\"\",\"\",OFFSET('Demandeurs de chaleur'!$C$7,30,A135,1,1))","v":0},{"$f":"IF(A135=\"\",\"\",OFFSET('Demandeurs de chaleur'!$C$7,5,A135,1,1))","v":0},{"$f":"IF(A135=\"\",\"\",OFFSET('Demandeurs de chaleur'!$C$7,6,A135,1,1))","v":0},{"$f":"IF(OR(F135='Listes de sélection'!$A$65,F135='Listes de sélection'!$A$66),(IF(A135=\"\",\"\",OFFSET('Demandeurs de chaleur'!$C$7,8,A135,1,1))),\"Non\")","v":"Non"},{"$f":"IF(OR(F135='Listes de sélection'!$A$65,F135='Listes de sélection'!$A$66),(IF(A135=\"\",\"\",OFFSET('Demandeurs de chaleur'!$C$7,9,A135,1,1))),\"Non\")","v":"Non"},{"$f":"IF(OR(F135='Listes de sélection'!$A$66),(IF(A135=\"\",\"\",OFFSET('Demandeurs de chaleur'!$C$7,10,A135,1,1))),\"Non\")","v":"Non"},{"$f":"IF(OR(F135='Listes de sélection'!$A$66),(IF(A135=\"\",\"\",OFFSET('Demandeurs de chaleur'!$C$7,11,A135,1,1))),\"Non\")","v":"Non"},{"$f":"IF(A135=\"\",\"\",IF(OFFSET('Demandeurs de chaleur'!$C$7,7,A135,1,1)=\"Oui\",0.97,1))","v":1},{"$f":"IF(A135=\"\",\"\",OFFSET('Demandeurs de chaleur'!$C$7,10,A135,1,1))","v":0}]
[128,{"$f":"\"Demandeur de chaleur \"&A136+1","v":"Demandeur de chaleur 129"},{"$f":"IF(A136=\"\",\"\",OFFSET('Demandeurs de chaleur'!$C$7,2,A136,1,1))","v":0},{"$f":"IF(A136=\"\",\"\",OFFSET('Demandeurs de chaleur'!$C$7,30,A136,1,1))","v":0},{"$f":"IF(A136=\"\",\"\",OFFSET('Demandeurs de chaleur'!$C$7,5,A136,1,1))","v":0},{"$f":"IF(A136=\"\",\"\",OFFSET('Demandeurs de chaleur'!$C$7,6,A136,1,1))","v":0},{"$f":"IF(OR(F136='Listes de sélection'!$A$65,F136='Listes de sélection'!$A$66),(IF(A136=\"\",\"\",OFFSET('Demandeurs de chaleur'!$C$7,8,A136,1,1))),\"Non\")","v":"Non"},{"$f":"IF(OR(F136='Listes de sélection'!$A$65,F136='Listes de sélection'!$A$66),(IF(A136=\"\",\"\",OFFSET('Demandeurs de chaleur'!$C$7,9,A136,1,1))),\"Non\")","v":"Non"},{"$f":"IF(OR(F136='Listes de sélection'!$A$66),(IF(A136=\"\",\"\",OFFSET('Demandeurs de chaleur'!$C$7,10,A136,1,1))),\"Non\")","v":"Non"},{"$f":"IF(OR(F136='Listes de sélection'!$A$66),(IF(A136=\"\",\"\",OFFSET('Demandeurs de chaleur'!$C$7,11,A136,1,1))),\"Non\")","v":"Non"},{"$f":"IF(A136=\"\",\"\",IF(OFFSET('Demandeurs de chaleur'!$C$7,7,A136,1,1)=\"Oui\",0.97,1))","v":1},{"$f":"IF(A136=\"\",\"\",OFFSET('Demandeurs de chaleur'!$C$7,10,A136,1,1))","v":0}]
[129,"Demandeur de chaleur 130",{"$f":"IF(A137=\"\",\"\",OFFSET('Demandeurs de chaleur'!$C$7,2,A137,1,1))","v":0},{"$f":"IF(A137=\"\",\"\",OFFSET('Demandeurs de chaleur'!$C$7,30,A137,1,1))","v":0},{"$f":"IF(A137=\"\",\"\",OFFSET('Demandeurs de chaleur'!$C$7,5,A137,1,1))","v":0},{"$f":"IF(A137=\"\",\"\",OFFSET('Demandeurs de chaleur'!$C$7,6,A137,1,1))","v":0},{"$f":"IF(OR(F137='Listes de sélection'!$A$65,F137='Listes de sélection'!$A$66),(IF(A137=\"\",\"\",OFFSET('Demandeurs de chaleur'!$C$7,8,A137,1,1))),\"Non\")","v":"Non"},{"$f":"IF(OR(F137='Listes de sélection'!$A$65,F137='Listes de sélection'!$A$66),(IF(A137=\"\",\"\",OFFSET('Demandeurs de chaleur'!$C$7,9,A137,1,1))),\"Non\")","v":"Non"},{"$f":"IF(OR(F137='Listes de sélection'!$A$66),(IF(A137=\"\",\"\",OFFSET('Demandeurs de chaleur'!$C$7,10,A137,1,1))),\"Non\")","v":"Non"},{"$f":"IF(OR(F137='Listes de sélection'!$A$66),(IF(A137=\"\",\"\",OFFSET('Demandeurs de chaleur'!$C$7,11,A137,1,1))),\"Non\")","v":"Non"},{"$f":"IF(A137=\"\",\"\",IF(OFFSET('Demandeurs de chaleur'!$C$7,7,A137,1,1)=\"Oui\",0.97,1))","v":1},{"$f":"IF(A137=\"\",\"\",OFFSET('Demandeurs de chaleur'!$C$7,10,A137,1,1))","v":0}]
[130,"Demandeur de chaleur 131",{"$f":"IF(A138=\"\",\"\",OFFSET('Demandeurs de chaleur'!$C$7,2,A138,1,1))","v":0},{"$f":"IF(A138=\"\",\"\",OFFSET('Demandeurs de chaleur'!$C$7,30,A138,1,1))","v":0},{"$f":"IF(A138=\"\",\"\",OFFSET('Demandeurs de chaleur'!$C$7,5,A138,1,1))","v":0},{"$f":"IF(A138=\"\",\"\",OFFSET('Demandeurs de chaleur'!$C$7,6,A138,1,1))","v":0},{"$f":"IF(OR(F138='Listes de sélection'!$A$65,F138='Listes de sélection'!$A$66),(IF(A138=\"\",\"\",OFFSET('Demandeurs de chaleur'!$C$7,8,A138,1,1))),\"Non\")","v":"Non"},{"$f":"IF(OR(F138='Listes de sélection'!$A$65,F138='Listes de sélection'!$A$66),(IF(A138=\"\",\"\",OFFSET('Demandeurs de chaleur'!$C$7,9,A138,1,1))),\"Non\")","v":"Non"},{"$f":"IF(OR(F138='Listes de sélection'!$A$66),(IF(A138=\"\",\"\",OFFSET('Demandeurs de chaleur'!$C$7,10,A138,1,1))),\"Non\")","v":"Non"},{"$f":"IF(OR(F138='Listes de sélection'!$A$66),(IF(A138=\"\",\"\",OFFSET('Demandeurs de chaleur'!$C$7,11,A138,1,1))),\"Non\")","v":"Non"},{"$f":"IF(A138=\"\",\"\",IF(OFFSET('Demandeurs de chaleur'!$C$7,7,A138,1,1)=\"Oui\",0.97,1))","v":1},{"$f":"IF(A138=\"\",\"\",OFFSET('Demandeurs de chaleur'!$C$7,10,A138,1,1))","v":0}]
[{"$f":"A138+1","v":131},"Demandeur de chaleur 132",{"$f":"IF(A139=\"\",\"\",OFFSET('Demandeurs de chaleur'!$C$7,2,A139,1,1))","v":0},{"$f":"IF(A139=\"\",\"\",OFFSET('Demandeurs de chaleur'!$C$7,30,A139,1,1))","v":0},{"$f":"IF(A139=\"\",\"\",OFFSET('Demandeurs de chaleur'!$C$7,5,A139,1,1))","v":0},{"$f":"IF(A139=\"\",\"\",OFFSET('Demandeurs de chaleur'!$C$7,6,A139,1,1))","v":0},{"$f":"IF(OR(F139='Listes de sélection'!$A$65,F139='Listes de sélection'!$A$66),(IF(A139=\"\",\"\",OFFSET('Demandeurs de chaleur'!$C$7,8,A139,1,1))),\"Non\")","v":"Non"},{"$f":"IF(OR(F139='Listes de sélection'!$A$65,F139='Listes de sélection'!$A$66),(IF(A139=\"\",\"\",OFFSET('Demandeurs de chaleur'!$C$7,9,A139,1,1))),\"Non\")","v":"Non"},{"$f":"IF(OR(F139='Listes de sélection'!$A$66),(IF(A139=\"\",\"\",OFFSET('Demandeurs de chaleur'!$C$7,10,A139,1,1))),\"Non\")","v":"Non"},{"$f":"IF(OR(F139='Listes de sélection'!$A$66),(IF(A139=\"\",\"\",OFFSET('Demandeurs de chaleur'!$C$7,11,A139,1,1))),\"Non\")","v":"Non"},{"$f":"IF(A139=\"\",\"\",IF(OFFSET('Demandeurs de chaleur'!$C$7,7,A139,1,1)=\"Oui\",0.97,1))","v":1},{"$f":"IF(A139=\"\",\"\",OFFSET('Demandeurs de chaleur'!$C$7,10,A139,1,1))","v":0}]
[132,"Demandeur de chaleur 133",{"$f":"IF(A140=\"\",\"\",OFFSET('Demandeurs de chaleur'!$C$7,2,A140,1,1))","v":0},{"$f":"IF(A140=\"\",\"\",OFFSET('Demandeurs de chaleur'!$C$7,30,A140,1,1))","v":0},{"$f":"IF(A140=\"\",\"\",OFFSET('Demandeurs de chaleur'!$C$7,5,A140,1,1))","v":0},{"$f":"IF(A140=\"\",\"\",OFFSET('Demandeurs de chaleur'!$C$7,6,A140,1,1))","v":0},{"$f":"IF(OR(F140='Listes de sélection'!$A$65,F140='Listes de sélection'!$A$66),(IF(A140=\"\",\"\",OFFSET('Demandeurs de chaleur'!$C$7,8,A140,1,1))),\"Non\")","v":"Non"},{"$f":"IF(OR(F140='Listes de sélection'!$A$65,F140='Listes de sélection'!$A$66),(IF(A140=\"\",\"\",OFFSET('Demandeurs de chaleur'!$C$7,9,A140,1,1))),\"Non\")","v":"Non"},{"$f":"IF(OR(F140='Listes de sélection'!$A$66),(IF(A140=\"\",\"\",OFFSET('Demandeurs de chaleur'!$C$7,10,A140,1,1))),\"Non\")","v":"Non"},{"$f":"IF(OR(F140='Listes de sélection'!$A$66),(IF(A140=\"\",\"\",OFFSET('Demandeurs de chaleur'!$C$7,11,A140,1,1))),\"Non\")","v":"Non"},{"$f":"IF(A140=\"\",\"\",IF(OFFSET('Demandeurs de chaleur'!$C$7,7,A140,1,1)=\"Oui\",0.97,1))","v":1},{"$f":"IF(A140=\"\",\"\",OFFSET('Demandeurs de chaleur'!$C$7,10,A140,1,1))","v":0}]
[133,"Demandeur de chaleur 134",{"$f":"IF(A141=\"\",\"\",OFFSET('Demandeurs de chaleur'!$C$7,2,A141,1,1))","v":0},{"$f":"IF(A141=\"\",\"\",OFFSET('Demandeurs de chaleur'!$C$7,30,A141,1,1))","v":0},{"$f":"IF(A141=\"\",\"\",OFFSET('Demandeurs de chaleur'!$C$7,5,A141,1,1))","v":0},{"$f":"IF(A141=\"\",\"\",OFFSET('Demandeurs de chaleur'!$C$7,6,A141,1,1))","v":0},{"$f":"IF(OR(F141='Listes de sélection'!$A$65,F141='Listes de sélection'!$A$66),(IF(A141=\"\",\"\",OFFSET('Demandeurs de chaleur'!$C$7,8,A141,1,1))),\"Non\")","v":"Non"},{"$f":"IF(OR(F141='Listes de sélection'!$A$65,F141='Listes de sélection'!$A$66),(IF(A141=\"\",\"\",OFFSET('Demandeurs de chaleur'!$C$7,9,A141,1,1))),\"Non\")","v":"Non"},{"$f":"IF(OR(F141='Listes de sélection'!$A$66),(IF(A141=\"\",\"\",OFFSET('Demandeurs de chaleur'!$C$7,10,A141,1,1))),\"Non\")","v":"Non"},{"$f":"IF(OR(F141='Listes de sélection'!$A$66),(IF(A141=\"\",\"\",OFFSET('Demandeurs de chaleur'!$C$7,11,A141,1,1))),\"Non\")","v":"Non"},{"$f":"IF(A141=\"\",\"\",IF(OFFSET('Demandeurs de chaleur'!$C$7,7,A141,1,1)=\"Oui\",0.97,1))","v":1},{"$f":"IF(A141=\"\",\"\",OFFSET('Demandeurs de chaleur'!$C$7,10,A141,1,1))","v":0}]
[134,"Demandeur de chaleur 135",{"$f":"IF(A142=\"\",\"\",OFFSET('Demandeurs de chaleur'!$C$7,2,A142,1,1))","v":0},{"$f":"IF(A142=\"\",\"\",OFFSET('Demandeurs de chaleur'!$C$7,30,A142,1,1))","v":0},{"$f":"IF(A142=\"\",\"\",OFFSET('Demandeurs de chaleur'!$C$7,5,A142,1,1))","v":0},{"$f":"IF(A142=\"\",\"\",OFFSET('Demandeurs de chaleur'!$C$7,6,A142,1,1))","v":0},{"$f":"IF(OR(F142='Listes de sélection'!$A$65,F142='Listes de sélection'!$A$66),(IF(A142=\"\",\"\",OFFSET('Demandeurs de chaleur'!$C$7,8,A142,1,1))),\"Non\")","v":"Non"},{"$f":"IF(OR(F142='Listes de sélection'!$A$65,F142='Listes de sélection'!$A$66),(IF(A142=\"\",\"\",OFFSET('Demandeurs de chaleur'!$C$7,9,A142,1,1))),\"Non\")","v":"Non"},{"$f":"IF(OR(F142='Listes de sélection'!$A$66),(IF(A142=\"\",\"\",OFFSET('Demandeurs de chaleur'!$C$7,10,A142,1,1))),\"Non\")","v":"Non"},{"$f":"IF(OR(F142='Listes de sélection'!$A$66),(IF(A142=\"\",\"\",OFFSET('Demandeurs de chaleur'!$C$7,11,A142,1,1))),\"Non\")","v":"Non"},{"$f":"IF(A142=\"\",\"\",IF(OFFSET('Demandeurs de chaleur'!$C$7,7,A142,1,1)=\"Oui\",0.97,1))","v":1},{"$f":"IF(A142=\"\",\"\",OFFSET('Demandeurs de chaleur'!$C$7,10,A142,1,1))","v":0}]
[135,"Demandeur de chaleur 136",{"$f":"IF(A143=\"\",\"\",OFFSET('Demandeurs de chaleur'!$C$7,2,A143,1,1))","v":0},{"$f":"IF(A143=\"\",\"\",OFFSET('Demandeurs de chaleur'!$C$7,30,A143,1,1))","v":0},{"$f":"IF(A143=\"\",\"\",OFFSET('Demandeurs de chaleur'!$C$7,5,A143,1,1))","v":0},{"$f":"IF(A143=\"\",\"\",OFFSET('Demandeurs de chaleur'!$C$7,6,A143,1,1))","v":0},{"$f":"IF(OR(F143='Listes de sélection'!$A$65,F143='Listes de sélection'!$A$66),(IF(A143=\"\",\"\",OFFSET('Demandeurs de chaleur'!$C$7,8,A143,1,1))),\"Non\")","v":"Non"},{"$f":"IF(OR(F143='Listes de sélection'!$A$65,F143='Listes de sélection'!$A$66),(IF(A143=\"\",\"\",OFFSET('Demandeurs de chaleur'!$C$7,9,A143,1,1))),\"Non\")","v":"Non"},{"$f":"IF(OR(F143='Listes de sélection'!$A$66),(IF(A143=\"\",\"\",OFFSET('Demandeurs de chaleur'!$C$7,10,A143,1,1))),\"Non\")","v":"Non"},{"$f":"IF(OR(F143='Listes de sélection'!$A$66),(IF(A143=\"\",\"\",OFFSET('Demandeurs de chaleur'!$C$7,11,A143,1,1))),\"Non\")","v":"Non"},{"$f":"IF(A143=\"\",\"\",IF(OFFSET('Demandeurs de chaleur'!$C$7,7,A143,1,1)=\"Oui\",0.97,1))","v":1},{"$f":"IF(A143=\"\",\"\",OFFSET('Demandeurs de chaleur'!$C$7,10,A143,1,1))","v":0}]
[136,"Demandeur de chaleur 137",{"$f":"IF(A144=\"\",\"\",OFFSET('Demandeurs de chaleur'!$C$7,2,A144,1,1))","v":0},{"$f":"IF(A144=\"\",\"\",OFFSET('Demandeurs de chaleur'!$C$7,30,A144,1,1))","v":0},{"$f":"IF(A144=\"\",\"\",OFFSET('Demandeurs de chaleur'!$C$7,5,A144,1,1))","v":0},{"$f":"IF(A144=\"\",\"\",OFFSET('Demandeurs de chaleur'!$C$7,6,A144,1,1))","v":0},{"$f":"IF(OR(F144='Listes de sélection'!$A$65,F144='Listes de sélection'!$A$66),(IF(A144=\"\",\"\",OFFSET('Demandeurs de chaleur'!$C$7,8,A144,1,1))),\"Non\")","v":"Non"},{"$f":"IF(OR(F144='Listes de sélection'!$A$65,F144='Listes de sélection'!$A$66),(IF(A144=\"\",\"\",OFFSET('Demandeurs de chaleur'!$C$7,9,A144,1,1))),\"Non\")","v":"Non"},{"$f":"IF(OR(F144='Listes de sélection'!$A$66),(IF(A144=\"\",\"\",OFFSET('Demandeurs de chaleur'!$C$7,10,A144,1,1))),\"Non\")","v":"Non"},{"$f":"IF(OR(F144='Listes de sélection'!$A$66),(IF(A144=\"\",\"\",OFFSET('Demandeurs de chaleur'!$C$7,11,A144,1,1))),\"Non\")","v":"Non"},{"$f":"IF(A144=\"\",\"\",IF(OFFSET('Demandeurs de chaleur'!$C$7,7,A144,1,1)=\"Oui\",0.97,1))","v":1},{"$f":"IF(A144=\"\",\"\",OFFSET('Demandeurs de chaleur'!$C$7,10,A144,1,1))","v":0}]
[137,"Demandeur de chaleur 138",{"$f":"IF(A145=\"\",\"\",OFFSET('Demandeurs de chaleur'!$C$7,2,A145,1,1))","v":0},{"$f":"IF(A145=\"\",\"\",OFFSET('Demandeurs de chaleur'!$C$7,30,A145,1,1))","v":0},{"$f":"IF(A145=\"\",\"\",OFFSET('Demandeurs de chaleur'!$C$7,5,A145,1,1))","v":0},{"$f":"IF(A145=\"\",\"\",OFFSET('Demandeurs de chaleur'!$C$7,6,A145,1,1))","v":0},{"$f":"IF(OR(F145='Listes de sélection'!$A$65,F145='Listes de sélection'!$A$66),(IF(A145=\"\",\"\",OFFSET('Demandeurs de chaleur'!$C$7,8,A145,1,1))),\"Non\")","v":"Non"},{"$f":"IF(OR(F145='Listes de sélection'!$A$65,F145='Listes de sélection'!$A$66),(IF(A145=\"\",\"\",OFFSET('Demandeurs de chaleur'!$C$7,9,A145,1,1))),\"Non\")","v":"Non"},{"$f":"IF(OR(F145='Listes de sélection'!$A$66),(IF(A145=\"\",\"\",OFFSET('Demandeurs de chaleur'!$C$7,10,A145,1,1))),\"Non\")","v":"Non"},{"$f":"IF(OR(F145='Listes de sélection'!$A$66),(IF(A145=\"\",\"\",OFFSET('Demandeurs de chaleur'!$C$7,11,A145,1,1))),\"Non\")","v":"Non"},{"$f":"IF(A145=\"\",\"\",IF(OFFSET('Demandeurs de chaleur'!$C$7,7,A145,1,1)=\"Oui\",0.97,1))","v":1},{"$f":"IF(A145=\"\",\"\",OFFSET('Demandeurs de chaleur'!$C$7,10,A145,1,1))","v":0}]
[138,"Demandeur de chaleur 139",{"$f":"IF(A146=\"\",\"\",OFFSET('Demandeurs de chaleur'!$C$7,2,A146,1,1))","v":0},{"$f":"IF(A146=\"\",\"\",OFFSET('Demandeurs de chaleur'!$C$7,30,A146,1,1))","v":0},{"$f":"IF(A146=\"\",\"\",OFFSET('Demandeurs de chaleur'!$C$7,5,A146,1,1))","v":0},{"$f":"IF(A146=\"\",\"\",OFFSET('Demandeurs de chaleur'!$C$7,6,A146,1,1))","v":0},{"$f":"IF(OR(F146='Listes de sélection'!$A$65,F146='Listes de sélection'!$A$66),(IF(A146=\"\",\"\",OFFSET('Demandeurs de chaleur'!$C$7,8,A146,1,1))),\"Non\")","v":"Non"},{"$f":"IF(OR(F146='Listes de sélection'!$A$65,F146='Listes de sélection'!$A$66),(IF(A146=\"\",\"\",OFFSET('Demandeurs de chaleur'!$C$7,9,A146,1,1))),\"Non\")","v":"Non"},{"$f":"IF(OR(F146='Listes de sélection'!$A$66),(IF(A146=\"\",\"\",OFFSET('Demandeurs de chaleur'!$C$7,10,A146,1,1))),\"Non\")","v":"Non"},{"$f":"IF(OR(F146='Listes de sélection'!$A$66),(IF(A146=\"\",\"\",OFFSET('Demandeurs de chaleur'!$C$7,11,A146,1,1))),\"Non\")","v":"Non"},{"$f":"IF(A146=\"\",\"\",IF(OFFSET('Demandeurs de chaleur'!$C$7,7,A146,1,1)=\"Oui\",0.97,1))","v":1},{"$f":"IF(A146=\"\",\"\",OFFSET('Demandeurs de chaleur'!$C$7,10,A146,1,1))","v":0}]
[139,"Demandeur de chaleur 140",{"$f":"IF(A147=\"\",\"\",OFFSET('Demandeurs de chaleur'!$C$7,2,A147,1,1))","v":0},{"$f":"IF(A147=\"\",\"\",OFFSET('Demandeurs de chaleur'!$C$7,30,A147,1,1))","v":0},{"$f":"IF(A147=\"\",\"\",OFFSET('Demandeurs de chaleur'!$C$7,5,A147,1,1))","v":0},{"$f":"IF(A147=\"\",\"\",OFFSET('Demandeurs de chaleur'!$C$7,6,A147,1,1))","v":0},{"$f":"IF(OR(F147='Listes de sélection'!$A$65,F147='Listes de sélection'!$A$66),(IF(A147=\"\",\"\",OFFSET('Demandeurs de chaleur'!$C$7,8,A147,1,1))),\"Non\")","v":"Non"},{"$f":"IF(OR(F147='Listes de sélection'!$A$65,F147='Listes de sélection'!$A$66),(IF(A147=\"\",\"\",OFFSET('Demandeurs de chaleur'!$C$7,9,A147,1,1))),\"Non\")","v":"Non"},{"$f":"IF(OR(F147='Listes de sélection'!$A$66),(IF(A147=\"\",\"\",OFFSET('Demandeurs de chaleur'!$C$7,10,A147,1,1))),\"Non\")","v":"Non"},{"$f":"IF(OR(F147='Listes de sélection'!$A$66),(IF(A147=\"\",\"\",OFFSET('Demandeurs de chaleur'!$C$7,11,A147,1,1))),\"Non\")","v":"Non"},{"$f":"IF(A147=\"\",\"\",IF(OFFSET('Demandeurs de chaleur'!$C$7,7,A147,1,1)=\"Oui\",0.97,1))","v":1},{"$f":"IF(A147=\"\",\"\",OFFSET('Demandeurs de chaleur'!$C$7,10,A147,1,1))","v":0}]
[140,"Demandeur de chaleur 141",{"$f":"IF(A148=\"\",\"\",OFFSET('Demandeurs de chaleur'!$C$7,2,A148,1,1))","v":0},{"$f":"IF(A148=\"\",\"\",OFFSET('Demandeurs de chaleur'!$C$7,30,A148,1,1))","v":0},{"$f":"IF(A148=\"\",\"\",OFFSET('Demandeurs de chaleur'!$C$7,5,A148,1,1))","v":0},{"$f":"IF(A148=\"\",\"\",OFFSET('Demandeurs de chaleur'!$C$7,6,A148,1,1))","v":0},{"$f":"IF(OR(F148='Listes de sélection'!$A$65,F148='Listes de sélection'!$A$66),(IF(A148=\"\",\"\",OFFSET('Demandeurs de chaleur'!$C$7,8,A148,1,1))),\"Non\")","v":"Non"},{"$f":"IF(OR(F148='Listes de sélection'!$A$65,F148='Listes de sélection'!$A$66),(IF(A148=\"\",\"\",OFFSET('Demandeurs de chaleur'!$C$7,9,A148,1,1))),\"Non\")","v":"Non"},{"$f":"IF(OR(F148='Listes de sélection'!$A$66),(IF(A148=\"\",\"\",OFFSET('Demandeurs de chaleur'!$C$7,10,A148,1,1))),\"Non\")","v":"Non"},{"$f":"IF(OR(F148='Listes de sélection'!$A$66),(IF(A148=\"\",\"\",OFFSET('Demandeurs de chaleur'!$C$7,11,A148,1,1))),\"Non\")","v":"Non"},{"$f":"IF(A148=\"\",\"\",IF(OFFSET('Demandeurs de chaleur'!$C$7,7,A148,1,1)=\"Oui\",0.97,1))","v":1},{"$f":"IF(A148=\"\",\"\",OFFSET('Demandeurs de chaleur'!$C$7,10,A148,1,1))","v":0}]
[141,"Demandeur de chaleur 142",{"$f":"IF(A149=\"\",\"\",OFFSET('Demandeurs de chaleur'!$C$7,2,A149,1,1))","v":0},{"$f":"IF(A149=\"\",\"\",OFFSET('Demandeurs de chaleur'!$C$7,30,A149,1,1))","v":0},{"$f":"IF(A149=\"\",\"\",OFFSET('Demandeurs de chaleur'!$C$7,5,A149,1,1))","v":0},{"$f":"IF(A149=\"\",\"\",OFFSET('Demandeurs de chaleur'!$C$7,6,A149,1,1))","v":0},{"$f":"IF(OR(F149='Listes de sélection'!$A$65,F149='Listes de sélection'!$A$66),(IF(A149=\"\",\"\",OFFSET('Demandeurs de chaleur'!$C$7,8,A149,1,1))),\"Non\")","v":"Non"},{"$f":"IF(OR(F149='Listes de sélection'!$A$65,F149='Listes de sélection'!$A$66),(IF(A149=\"\",\"\",OFFSET('Demandeurs de chaleur'!$C$7,9,A149,1,1))),\"Non\")","v":"Non"},{"$f":"IF(OR(F149='Listes de sélection'!$A$66),(IF(A149=\"\",\"\",OFFSET('Demandeurs de chaleur'!$C$7,10,A149,1,1))),\"Non\")","v":"Non"},{"$f":"IF(OR(F149='Listes de sélection'!$A$66),(IF(A149=\"\",\"\",OFFSET('Demandeurs de chaleur'!$C$7,11,A149,1,1))),\"Non\")","v":"Non"},{"$f":"IF(A149=\"\",\"\",IF(OFFSET('Demandeurs de chaleur'!$C$7,7,A149,1,1)=\"Oui\",0.97,1))","v":1},{"$f":"IF(A149=\"\",\"\",OFFSET('Demandeurs de chaleur'!$C$7,10,A149,1,1))","v":0}]
[142,"Demandeur de chaleur 143",{"$f":"IF(A150=\"\",\"\",OFFSET('Demandeurs de chaleur'!$C$7,2,A150,1,1))","v":0},{"$f":"IF(A150=\"\",\"\",OFFSET('Demandeurs de chaleur'!$C$7,30,A150,1,1))","v":0},{"$f":"IF(A150=\"\",\"\",OFFSET('Demandeurs de chaleur'!$C$7,5,A150,1,1))","v":0},{"$f":"IF(A150=\"\",\"\",OFFSET('Demandeurs de chaleur'!$C$7,6,A150,1,1))","v":0},{"$f":"IF(OR(F150='Listes de sélection'!$A$65,F150='Listes de sélection'!$A$66),(IF(A150=\"\",\"\",OFFSET('Demandeurs de chaleur'!$C$7,8,A150,1,1))),\"Non\")","v":"Non"},{"$f":"IF(OR(F150='Listes de sélection'!$A$65,F150='Listes de sélection'!$A$66),(IF(A150=\"\",\"\",OFFSET('Demandeurs de chaleur'!$C$7,9,A150,1,1))),\"Non\")","v":"Non"},{"$f":"IF(OR(F150='Listes de sélection'!$A$66),(IF(A150=\"\",\"\",OFFSET('Demandeurs de chaleur'!$C$7,10,A150,1,1))),\"Non\")","v":"Non"},{"$f":"IF(OR(F150='Listes de sélection'!$A$66),(IF(A150=\"\",\"\",OFFSET('Demandeurs de chaleur'!$C$7,11,A150,1,1))),\"Non\")","v":"Non"},{"$f":"IF(A150=\"\",\"\",IF(OFFSET('Demandeurs de chaleur'!$C$7,7,A150,1,1)=\"Oui\",0.97,1))","v":1},{"$f":"IF(A150=\"\",\"\",OFFSET('Demandeurs de chaleur'!$C$7,10,A150,1,1))","v":0}]
[143,"Demandeur de chaleur 144",{"$f":"IF(A151=\"\",\"\",OFFSET('Demandeurs de chaleur'!$C$7,2,A151,1,1))","v":0},{"$f":"IF(A151=\"\",\"\",OFFSET('Demandeurs de chaleur'!$C$7,30,A151,1,1))","v":0},{"$f":"IF(A151=\"\",\"\",OFFSET('Demandeurs de chaleur'!$C$7,5,A151,1,1))","v":0},{"$f":"IF(A151=\"\",\"\",OFFSET('Demandeurs de chaleur'!$C$7,6,A151,1,1))","v":0},{"$f":"IF(OR(F151='Listes de sélection'!$A$65,F151='Listes de sélection'!$A$66),(IF(A151=\"\",\"\",OFFSET('Demandeurs de chaleur'!$C$7,8,A151,1,1))),\"Non\")","v":"Non"},{"$f":"IF(OR(F151='Listes de sélection'!$A$65,F151='Listes de sélection'!$A$66),(IF(A151=\"\",\"\",OFFSET('Demandeurs de chaleur'!$C$7,9,A151,1,1))),\"Non\")","v":"Non"},{"$f":"IF(OR(F151='Listes de sélection'!$A$66),(IF(A151=\"\",\"\",OFFSET('Demandeurs de chaleur'!$C$7,10,A151,1,1))),\"Non\")","v":"Non"},{"$f":"IF(OR(F151='Listes de sélection'!$A$66),(IF(A151=\"\",\"\",OFFSET('Demandeurs de chaleur'!$C$7,11,A151,1,1))),\"Non\")","v":"Non"},{"$f":"IF(A151=\"\",\"\",IF(OFFSET('Demandeurs de chaleur'!$C$7,7,A151,1,1)=\"Oui\",0.97,1))","v":1},{"$f":"IF(A151=\"\",\"\",OFFSET('Demandeurs de chaleur'!$C$7,10,A151,1,1))","v":0}]
[144,"Demandeur de chaleur 145",{"$f":"IF(A152=\"\",\"\",OFFSET('Demandeurs de chaleur'!$C$7,2,A152,1,1))","v":0},{"$f":"IF(A152=\"\",\"\",OFFSET('Demandeurs de chaleur'!$C$7,30,A152,1,1))","v":0},{"$f":"IF(A152=\"\",\"\",OFFSET('Demandeurs de chaleur'!$C$7,5,A152,1,1))","v":0},{"$f":"IF(A152=\"\",\"\",OFFSET('Demandeurs de chaleur'!$C$7,6,A152,1,1))","v":0},{"$f":"IF(OR(F152='Listes de sélection'!$A$65,F152='Listes de sélection'!$A$66),(IF(A152=\"\",\"\",OFFSET('Demandeurs de chaleur'!$C$7,8,A152,1,1))),\"Non\")","v":"Non"},{"$f":"IF(OR(F152='Listes de sélection'!$A$65,F152='Listes de sélection'!$A$66),(IF(A152=\"\",\"\",OFFSET('Demandeurs de chaleur'!$C$7,9,A152,1,1))),\"Non\")","v":"Non"},{"$f":"IF(OR(F152='Listes de sélection'!$A$66),(IF(A152=\"\",\"\",OFFSET('Demandeurs de chaleur'!$C$7,10,A152,1,1))),\"Non\")","v":"Non"},{"$f":"IF(OR(F152='Listes de sélection'!$A$66),(IF(A152=\"\",\"\",OFFSET('Demandeurs de chaleur'!$C$7,11,A152,1,1))),\"Non\")","v":"Non"},{"$f":"IF(A152=\"\",\"\",IF(OFFSET('Demandeurs de chaleur'!$C$7,7,A152,1,1)=\"Oui\",0.97,1))","v":1},{"$f":"IF(A152=\"\",\"\",OFFSET('Demandeurs de chaleur'!$C$7,10,A152,1,1))","v":0}]
[145,"Demandeur de chaleur 146",{"$f":"IF(A153=\"\",\"\",OFFSET('Demandeurs de chaleur'!$C$7,2,A153,1,1))","v":0},{"$f":"IF(A153=\"\",\"\",OFFSET('Demandeurs de chaleur'!$C$7,30,A153,1,1))","v":0},{"$f":"IF(A153=\"\",\"\",OFFSET('Demandeurs de chaleur'!$C$7,5,A153,1,1))","v":0},{"$f":"IF(A153=\"\",\"\",OFFSET('Demandeurs de chaleur'!$C$7,6,A153,1,1))","v":0},{"$f":"IF(OR(F153='Listes de sélection'!$A$65,F153='Listes de sélection'!$A$66),(IF(A153=\"\",\"\",OFFSET('Demandeurs de chaleur'!$C$7,8,A153,1,1))),\"Non\")","v":"Non"},{"$f":"IF(OR(F153='Listes de sélection'!$A$65,F153='Listes de sélection'!$A$66),(IF(A153=\"\",\"\",OFFSET('Demandeurs de chaleur'!$C$7,9,A153,1,1))),\"Non\")","v":"Non"},{"$f":"IF(OR(F153='Listes de sélection'!$A$66),(IF(A153=\"\",\"\",OFFSET('Demandeurs de chaleur'!$C$7,10,A153,1,1))),\"Non\")","v":"Non"},{"$f":"IF(OR(F153='Listes de sélection'!$A$66),(IF(A153=\"\",\"\",OFFSET('Demandeurs de chaleur'!$C$7,11,A153,1,1))),\"Non\")","v":"Non"},{"$f":"IF(A153=\"\",\"\",IF(OFFSET('Demandeurs de chaleur'!$C$7,7,A153,1,1)=\"Oui\",0.97,1))","v":1},{"$f":"IF(A153=\"\",\"\",OFFSET('Demandeurs de chaleur'!$C$7,10,A153,1,1))","v":0}]
[146,"Demandeur de chaleur 147",{"$f":"IF(A154=\"\",\"\",OFFSET('Demandeurs de chaleur'!$C$7,2,A154,1,1))","v":0},{"$f":"IF(A154=\"\",\"\",OFFSET('Demandeurs de chaleur'!$C$7,30,A154,1,1))","v":0},{"$f":"IF(A154=\"\",\"\",OFFSET('Demandeurs de chaleur'!$C$7,5,A154,1,1))","v":0},{"$f":"IF(A154=\"\",\"\",OFFSET('Demandeurs de chaleur'!$C$7,6,A154,1,1))","v":0},{"$f":"IF(OR(F154='Listes de sélection'!$A$65,F154='Listes de sélection'!$A$66),(IF(A154=\"\",\"\",OFFSET('Demandeurs de chaleur'!$C$7,8,A154,1,1))),\"Non\")","v":"Non"},{"$f":"IF(OR(F154='Listes de sélection'!$A$65,F154='Listes de sélection'!$A$66),(IF(A154=\"\",\"\",OFFSET('Demandeurs de chaleur'!$C$7,9,A154,1,1))),\"Non\")","v":"Non"},{"$f":"IF(OR(F154='Listes de sélection'!$A$66),(IF(A154=\"\",\"\",OFFSET('Demandeurs de chaleur'!$C$7,10,A154,1,1))),\"Non\")","v":"Non"},{"$f":"IF(OR(F154='Listes de sélection'!$A$66),(IF(A154=\"\",\"\",OFFSET('Demandeurs de chaleur'!$C$7,11,A154,1,1))),\"Non\")","v":"Non"},{"$f":"IF(A154=\"\",\"\",IF(OFFSET('Demandeurs de chaleur'!$C$7,7,A154,1,1)=\"Oui\",0.97,1))","v":1},{"$f":"IF(A154=\"\",\"\",OFFSET('Demandeurs de chaleur'!$C$7,10,A154,1,1))","v":0}]
[147,"Demandeur de chaleur 148",{"$f":"IF(A155=\"\",\"\",OFFSET('Demandeurs de chaleur'!$C$7,2,A155,1,1))","v":0},{"$f":"IF(A155=\"\",\"\",OFFSET('Demandeurs de chaleur'!$C$7,30,A155,1,1))","v":0},{"$f":"IF(A155=\"\",\"\",OFFSET('Demandeurs de chaleur'!$C$7,5,A155,1,1))","v":0},{"$f":"IF(A155=\"\",\"\",OFFSET('Demandeurs de chaleur'!$C$7,6,A155,1,1))","v":0},{"$f":"IF(OR(F155='Listes de sélection'!$A$65,F155='Listes de sélection'!$A$66),(IF(A155=\"\",\"\",OFFSET('Demandeurs de chaleur'!$C$7,8,A155,1,1))),\"Non\")","v":"Non"},{"$f":"IF(OR(F155='Listes de sélection'!$A$65,F155='Listes de sélection'!$A$66),(IF(A155=\"\",\"\",OFFSET('Demandeurs de chaleur'!$C$7,9,A155,1,1))),\"Non\")","v":"Non"},{"$f":"IF(OR(F155='Listes de sélection'!$A$66),(IF(A155=\"\",\"\",OFFSET('Demandeurs de chaleur'!$C$7,10,A155,1,1))),\"Non\")","v":"Non"},{"$f":"IF(OR(F155='Listes de sélection'!$A$66),(IF(A155=\"\",\"\",OFFSET('Demandeurs de chaleur'!$C$7,11,A155,1,1))),\"Non\")","v":"Non"},{"$f":"IF(A155=\"\",\"\",IF(OFFSET('Demandeurs de chaleur'!$C$7,7,A155,1,1)=\"Oui\",0.97,1))","v":1},{"$f":"IF(A155=\"\",\"\",OFFSET('Demandeurs de chaleur'!$C$7,10,A155,1,1))","v":0}]
[148,"Demandeur de chaleur 149",{"$f":"IF(A156=\"\",\"\",OFFSET('Demandeurs de chaleur'!$C$7,2,A156,1,1))","v":0},{"$f":"IF(A156=\"\",\"\",OFFSET('Demandeurs de chaleur'!$C$7,30,A156,1,1))","v":0},{"$f":"IF(A156=\"\",\"\",OFFSET('Demandeurs de chaleur'!$C$7,5,A156,1,1))","v":0},{"$f":"IF(A156=\"\",\"\",OFFSET('Demandeurs de chaleur'!$C$7,6,A156,1,1))","v":0},{"$f":"IF(OR(F156='Listes de sélection'!$A$65,F156='Listes de sélection'!$A$66),(IF(A156=\"\",\"\",OFFSET('Demandeurs de chaleur'!$C$7,8,A156,1,1))),\"Non\")","v":"Non"},{"$f":"IF(OR(F156='Listes de sélection'!$A$65,F156='Listes de sélection'!$A$66),(IF(A156=\"\",\"\",OFFSET('Demandeurs de chaleur'!$C$7,9,A156,1,1))),\"Non\")","v":"Non"},{"$f":"IF(OR(F156='Listes de sélection'!$A$66),(IF(A156=\"\",\"\",OFFSET('Demandeurs de chaleur'!$C$7,10,A156,1,1))),\"Non\")","v":"Non"},{"$f":"IF(OR(F156='Listes de sélection'!$A$66),(IF(A156=\"\",\"\",OFFSET('Demandeurs de chaleur'!$C$7,11,A156,1,1))),\"Non\")","v":"Non"},{"$f":"IF(A156=\"\",\"\",IF(OFFSET('Demandeurs de chaleur'!$C$7,7,A156,1,1)=\"Oui\",0.97,1))","v":1},{"$f":"IF(A156=\"\",\"\",OFFSET('Demandeurs de chaleur'!$C$7,10,A156,1,1))","v":0}]
[149,"Demandeur de chaleur 150",{"$f":"IF(A157=\"\",\"\",OFFSET('Demandeurs de chaleur'!$C$7,2,A157,1,1))","v":0},{"$f":"IF(A157=\"\",\"\",OFFSET('Demandeurs de chaleur'!$C$7,30,A157,1,1))","v":0},{"$f":"IF(A157=\"\",\"\",OFFSET('Demandeurs de chaleur'!$C$7,5,A157,1,1))","v":0},{"$f":"IF(A157=\"\",\"\",OFFSET('Demandeurs de chaleur'!$C$7,6,A157,1,1))","v":0},{"$f":"IF(OR(F157='Listes de sélection'!$A$65,F157='Listes de sélection'!$A$66),(IF(A157=\"\",\"\",OFFSET('Demandeurs de chaleur'!$C$7,8,A157,1,1))),\"Non\")","v":"Non"},{"$f":"IF(OR(F157='Listes de sélection'!$A$65,F157='Listes de sélection'!$A$66),(IF(A157=\"\",\"\",OFFSET('Demandeurs de chaleur'!$C$7,9,A157,1,1))),\"Non\")","v":"Non"},{"$f":"IF(OR(F157='Listes de sélection'!$A$66),(IF(A157=\"\",\"\",OFFSET('Demandeurs de chaleur'!$C$7,10,A157,1,1))),\"Non\")","v":"Non"},{"$f":"IF(OR(F157='Listes de sélection'!$A$66),(IF(A157=\"\",\"\",OFFSET('Demandeurs de chaleur'!$C$7,11,A157,1,1))),\"Non\")","v":"Non"},{"$f":"IF(A157=\"\",\"\",IF(OFFSET('Demandeurs de chaleur'!$C$7,7,A157,1,1)=\"Oui\",0.97,1))","v":1},{"$f":"IF(A157=\"\",\"\",OFFSET('Demandeurs de chaleur'!$C$7,10,A157,1,1))","v":0}]
[150,"Demandeur de chaleur 151",{"$f":"IF(A158=\"\",\"\",OFFSET('Demandeurs de chaleur'!$C$7,2,A158,1,1))","v":0},{"$f":"IF(A158=\"\",\"\",OFFSET('Demandeurs de chaleur'!$C$7,30,A158,1,1))","v":0},{"$f":"IF(A158=\"\",\"\",OFFSET('Demandeurs de chaleur'!$C$7,5,A158,1,1))","v":0},{"$f":"IF(A158=\"\",\"\",OFFSET('Demandeurs de chaleur'!$C$7,6,A158,1,1))","v":0},{"$f":"IF(OR(F158='Listes de sélection'!$A$65,F158='Listes de sélection'!$A$66),(IF(A158=\"\",\"\",OFFSET('Demandeurs de chaleur'!$C$7,8,A158,1,1))),\"Non\")","v":"Non"},{"$f":"IF(OR(F158='Listes de sélection'!$A$65,F158='Listes de sélection'!$A$66),(IF(A158=\"\",\"\",OFFSET('Demandeurs de chaleur'!$C$7,9,A158,1,1))),\"Non\")","v":"Non"},{"$f":"IF(OR(F158='Listes de sélection'!$A$66),(IF(A158=\"\",\"\",OFFSET('Demandeurs de chaleur'!$C$7,10,A158,1,1))),\"Non\")","v":"Non"},{"$f":"IF(OR(F158='Listes de sélection'!$A$66),(IF(A158=\"\",\"\",OFFSET('Demandeurs de chaleur'!$C$7,11,A158,1,1))),\"Non\")","v":"Non"},{"$f":"IF(A158=\"\",\"\",IF(OFFSET('Demandeurs de chaleur'!$C$7,7,A158,1,1)=\"Oui\",0.97,1))","v":1},{"$f":"IF(A158=\"\",\"\",OFFSET('Demandeurs de chaleur'!$C$7,10,A158,1,1))","v":0}]
[151,"Demandeur de chaleur 152",{"$f":"IF(A159=\"\",\"\",OFFSET('Demandeurs de chaleur'!$C$7,2,A159,1,1))","v":0},{"$f":"IF(A159=\"\",\"\",OFFSET('Demandeurs de chaleur'!$C$7,30,A159,1,1))","v":0},{"$f":"IF(A159=\"\",\"\",OFFSET('Demandeurs de chaleur'!$C$7,5,A159,1,1))","v":0},{"$f":"IF(A159=\"\",\"\",OFFSET('Demandeurs de chaleur'!$C$7,6,A159,1,1))","v":0},{"$f":"IF(OR(F159='Listes de sélection'!$A$65,F159='Listes de sélection'!$A$66),(IF(A159=\"\",\"\",OFFSET('Demandeurs de chaleur'!$C$7,8,A159,1,1))),\"Non\")","v":"Non"},{"$f":"IF(OR(F159='Listes de sélection'!$A$65,F159='Listes de sélection'!$A$66),(IF(A159=\"\",\"\",OFFSET('Demandeurs de chaleur'!$C$7,9,A159,1,1))),\"Non\")","v":"Non"},{"$f":"IF(OR(F159='Listes de sélection'!$A$66),(IF(A159=\"\",\"\",OFFSET('Demandeurs de chaleur'!$C$7,10,A159,1,1))),\"Non\")","v":"Non"},{"$f":"IF(OR(F159='Listes de sélection'!$A$66),(IF(A159=\"\",\"\",OFFSET('Demandeurs de chaleur'!$C$7,11,A159,1,1))),\"Non\")","v":"Non"},{"$f":"IF(A159=\"\",\"\",IF(OFFSET('Demandeurs de chaleur'!$C$7,7,A159,1,1)=\"Oui\",0.97,1))","v":1},{"$f":"IF(A159=\"\",\"\",OFFSET('Demandeurs de chaleur'!$C$7,10,A159,1,1))","v":0}]
[152,"Demandeur de chaleur 153",{"$f":"IF(A160=\"\",\"\",OFFSET('Demandeurs de chaleur'!$C$7,2,A160,1,1))","v":0},{"$f":"IF(A160=\"\",\"\",OFFSET('Demandeurs de chaleur'!$C$7,30,A160,1,1))","v":0},{"$f":"IF(A160=\"\",\"\",OFFSET('Demandeurs de chaleur'!$C$7,5,A160,1,1))","v":0},{"$f":"IF(A160=\"\",\"\",OFFSET('Demandeurs de chaleur'!$C$7,6,A160,1,1))","v":0},{"$f":"IF(OR(F160='Listes de sélection'!$A$65,F160='Listes de sélection'!$A$66),(IF(A160=\"\",\"\",OFFSET('Demandeurs de chaleur'!$C$7,8,A160,1,1))),\"Non\")","v":"Non"},{"$f":"IF(OR(F160='Listes de sélection'!$A$65,F160='Listes de sélection'!$A$66),(IF(A160=\"\",\"\",OFFSET('Demandeurs de chaleur'!$C$7,9,A160,1,1))),\"Non\")","v":"Non"},{"$f":"IF(OR(F160='Listes de sélection'!$A$66),(IF(A160=\"\",\"\",OFFSET('Demandeurs de chaleur'!$C$7,10,A160,1,1))),\"Non\")","v":"Non"},{"$f":"IF(OR(F160='Listes de sélection'!$A$66),(IF(A160=\"\",\"\",OFFSET('Demandeurs de chaleur'!$C$7,11,A160,1,1))),\"Non\")","v":"Non"},{"$f":"IF(A160=\"\",\"\",IF(OFFSET('Demandeurs de chaleur'!$C$7,7,A160,1,1)=\"Oui\",0.97,1))","v":1},{"$f":"IF(A160=\"\",\"\",OFFSET('Demandeurs de chaleur'!$C$7,10,A160,1,1))","v":0}]
[153,"Demandeur de chaleur 154",{"$f":"IF(A161=\"\",\"\",OFFSET('Demandeurs de chaleur'!$C$7,2,A161,1,1))","v":0},{"$f":"IF(A161=\"\",\"\",OFFSET('Demandeurs de chaleur'!$C$7,30,A161,1,1))","v":0},{"$f":"IF(A161=\"\",\"\",OFFSET('Demandeurs de chaleur'!$C$7,5,A161,1,1))","v":0},{"$f":"IF(A161=\"\",\"\",OFFSET('Demandeurs de chaleur'!$C$7,6,A161,1,1))","v":0},{"$f":"IF(OR(F161='Listes de sélection'!$A$65,F161='Listes de sélection'!$A$66),(IF(A161=\"\",\"\",OFFSET('Demandeurs de chaleur'!$C$7,8,A161,1,1))),\"Non\")","v":"Non"},{"$f":"IF(OR(F161='Listes de sélection'!$A$65,F161='Listes de sélection'!$A$66),(IF(A161=\"\",\"\",OFFSET('Demandeurs de chaleur'!$C$7,9,A161,1,1))),\"Non\")","v":"Non"},{"$f":"IF(OR(F161='Listes de sélection'!$A$66),(IF(A161=\"\",\"\",OFFSET('Demandeurs de chaleur'!$C$7,10,A161,1,1))),\"Non\")","v":"Non"},{"$f":"IF(OR(F161='Listes de sélection'!$A$66),(IF(A161=\"\",\"\",OFFSET('Demandeurs de chaleur'!$C$7,11,A161,1,1))),\"Non\")","v":"Non"},{"$f":"IF(A161=\"\",\"\",IF(OFFSET('Demandeurs de chaleur'!$C$7,7,A161,1,1)=\"Oui\",0.97,1))","v":1},{"$f":"IF(A161=\"\",\"\",OFFSET('Demandeurs de chaleur'!$C$7,10,A161,1,1))","v":0}]
[154,"Demandeur de chaleur 155",{"$f":"IF(A162=\"\",\"\",OFFSET('Demandeurs de chaleur'!$C$7,2,A162,1,1))","v":0},{"$f":"IF(A162=\"\",\"\",OFFSET('Demandeurs de chaleur'!$C$7,30,A162,1,1))","v":0},{"$f":"IF(A162=\"\",\"\",OFFSET('Demandeurs de chaleur'!$C$7,5,A162,1,1))","v":0},{"$f":"IF(A162=\"\",\"\",OFFSET('Demandeurs de chaleur'!$C$7,6,A162,1,1))","v":0},{"$f":"IF(OR(F162='Listes de sélection'!$A$65,F162='Listes de sélection'!$A$66),(IF(A162=\"\",\"\",OFFSET('Demandeurs de chaleur'!$C$7,8,A162,1,1))),\"Non\")","v":"Non"},{"$f":"IF(OR(F162='Listes de sélection'!$A$65,F162='Listes de sélection'!$A$66),(IF(A162=\"\",\"\",OFFSET('Demandeurs de chaleur'!$C$7,9,A162,1,1))),\"Non\")","v":"Non"},{"$f":"IF(OR(F162='Listes de sélection'!$A$66),(IF(A162=\"\",\"\",OFFSET('Demandeurs de chaleur'!$C$7,10,A162,1,1))),\"Non\")","v":"Non"},{"$f":"IF(OR(F162='Listes de sélection'!$A$66),(IF(A162=\"\",\"\",OFFSET('Demandeurs de chaleur'!$C$7,11,A162,1,1))),\"Non\")","v":"Non"},{"$f":"IF(A162=\"\",\"\",IF(OFFSET('Demandeurs de chaleur'!$C$7,7,A162,1,1)=\"Oui\",0.97,1))","v":1},{"$f":"IF(A162=\"\",\"\",OFFSET('Demandeurs de chaleur'!$C$7,10,A162,1,1))","v":0}]
[155,"Demandeur de chaleur 156",{"$f":"IF(A163=\"\",\"\",OFFSET('Demandeurs de chaleur'!$C$7,2,A163,1,1))","v":0},{"$f":"IF(A163=\"\",\"\",OFFSET('Demandeurs de chaleur'!$C$7,30,A163,1,1))","v":0},{"$f":"IF(A163=\"\",\"\",OFFSET('Demandeurs de chaleur'!$C$7,5,A163,1,1))","v":0},{"$f":"IF(A163=\"\",\"\",OFFSET('Demandeurs de chaleur'!$C$7,6,A163,1,1))","v":0},{"$f":"IF(OR(F163='Listes de sélection'!$A$65,F163='Listes de sélection'!$A$66),(IF(A163=\"\",\"\",OFFSET('Demandeurs de chaleur'!$C$7,8,A163,1,1))),\"Non\")","v":"Non"},{"$f":"IF(OR(F163='Listes de sélection'!$A$65,F163='Listes de sélection'!$A$66),(IF(A163=\"\",\"\",OFFSET('Demandeurs de chaleur'!$C$7,9,A163,1,1))),\"Non\")","v":"Non"},{"$f":"IF(OR(F163='Listes de sélection'!$A$66),(IF(A163=\"\",\"\",OFFSET('Demandeurs de chaleur'!$C$7,10,A163,1,1))),\"Non\")","v":"Non"},{"$f":"IF(OR(F163='Listes de sélection'!$A$66),(IF(A163=\"\",\"\",OFFSET('Demandeurs de chaleur'!$C$7,11,A163,1,1))),\"Non\")","v":"Non"},{"$f":"IF(A163=\"\",\"\",IF(OFFSET('Demandeurs de chaleur'!$C$7,7,A163,1,1)=\"Oui\",0.97,1))","v":1},{"$f":"IF(A163=\"\",\"\",OFFSET('Demandeurs de chaleur'!$C$7,10,A163,1,1))","v":0}]
[156,"Demandeur de chaleur 157",{"$f":"IF(A164=\"\",\"\",OFFSET('Demandeurs de chaleur'!$C$7,2,A164,1,1))","v":0},{"$f":"IF(A164=\"\",\"\",OFFSET('Demandeurs de chaleur'!$C$7,30,A164,1,1))","v":0},{"$f":"IF(A164=\"\",\"\",OFFSET('Demandeurs de chaleur'!$C$7,5,A164,1,1))","v":0},{"$f":"IF(A164=\"\",\"\",OFFSET('Demandeurs de chaleur'!$C$7,6,A164,1,1))","v":0},{"$f":"IF(OR(F164='Listes de sélection'!$A$65,F164='Listes de sélection'!$A$66),(IF(A164=\"\",\"\",OFFSET('Demandeurs de chaleur'!$C$7,8,A164,1,1))),\"Non\")","v":"Non"},{"$f":"IF(OR(F164='Listes de sélection'!$A$65,F164='Listes de sélection'!$A$66),(IF(A164=\"\",\"\",OFFSET('Demandeurs de chaleur'!$C$7,9,A164,1,1))),\"Non\")","v":"Non"},{"$f":"IF(OR(F164='Listes de sélection'!$A$66),(IF(A164=\"\",\"\",OFFSET('Demandeurs de chaleur'!$C$7,10,A164,1,1))),\"Non\")","v":"Non"},{"$f":"IF(OR(F164='Listes de sélection'!$A$66),(IF(A164=\"\",\"\",OFFSET('Demandeurs de chaleur'!$C$7,11,A164,1,1))),\"Non\")","v":"Non"},{"$f":"IF(A164=\"\",\"\",IF(OFFSET('Demandeurs de chaleur'!$C$7,7,A164,1,1)=\"Oui\",0.97,1))","v":1},{"$f":"IF(A164=\"\",\"\",OFFSET('Demandeurs de chaleur'!$C$7,10,A164,1,1))","v":0}]
[157,"Demandeur de chaleur 158",{"$f":"IF(A165=\"\",\"\",OFFSET('Demandeurs de chaleur'!$C$7,2,A165,1,1))","v":0},{"$f":"IF(A165=\"\",\"\",OFFSET('Demandeurs de chaleur'!$C$7,30,A165,1,1))","v":0},{"$f":"IF(A165=\"\",\"\",OFFSET('Demandeurs de chaleur'!$C$7,5,A165,1,1))","v":0},{"$f":"IF(A165=\"\",\"\",OFFSET('Demandeurs de chaleur'!$C$7,6,A165,1,1))","v":0},{"$f":"IF(OR(F165='Listes de sélection'!$A$65,F165='Listes de sélection'!$A$66),(IF(A165=\"\",\"\",OFFSET('Demandeurs de chaleur'!$C$7,8,A165,1,1))),\"Non\")","v":"Non"},{"$f":"IF(OR(F165='Listes de sélection'!$A$65,F165='Listes de sélection'!$A$66),(IF(A165=\"\",\"\",OFFSET('Demandeurs de chaleur'!$C$7,9,A165,1,1))),\"Non\")","v":"Non"},{"$f":"IF(OR(F165='Listes de sélection'!$A$66),(IF(A165=\"\",\"\",OFFSET('Demandeurs de chaleur'!$C$7,10,A165,1,1))),\"Non\")","v":"Non"},{"$f":"IF(OR(F165='Listes de sélection'!$A$66),(IF(A165=\"\",\"\",OFFSET('Demandeurs de chaleur'!$C$7,11,A165,1,1))),\"Non\")","v":"Non"},{"$f":"IF(A165=\"\",\"\",IF(OFFSET('Demandeurs de chaleur'!$C$7,7,A165,1,1)=\"Oui\",0.97,1))","v":1},{"$f":"IF(A165=\"\",\"\",OFFSET('Demandeurs de chaleur'!$C$7,10,A165,1,1))","v":0}]
[158,"Demandeur de chaleur 159",{"$f":"IF(A166=\"\",\"\",OFFSET('Demandeurs de chaleur'!$C$7,2,A166,1,1))","v":0},{"$f":"IF(A166=\"\",\"\",OFFSET('Demandeurs de chaleur'!$C$7,30,A166,1,1))","v":0},{"$f":"IF(A166=\"\",\"\",OFFSET('Demandeurs de chaleur'!$C$7,5,A166,1,1))","v":0},{"$f":"IF(A166=\"\",\"\",OFFSET('Demandeurs de chaleur'!$C$7,6,A166,1,1))","v":0},{"$f":"IF(OR(F166='Listes de sélection'!$A$65,F166='Listes de sélection'!$A$66),(IF(A166=\"\",\"\",OFFSET('Demandeurs de chaleur'!$C$7,8,A166,1,1))),\"Non\")","v":"Non"},{"$f":"IF(OR(F166='Listes de sélection'!$A$65,F166='Listes de sélection'!$A$66),(IF(A166=\"\",\"\",OFFSET('Demandeurs de chaleur'!$C$7,9,A166,1,1))),\"Non\")","v":"Non"},{"$f":"IF(OR(F166='Listes de sélection'!$A$66),(IF(A166=\"\",\"\",OFFSET('Demandeurs de chaleur'!$C$7,10,A166,1,1))),\"Non\")","v":"Non"},{"$f":"IF(OR(F166='Listes de sélection'!$A$66),(IF(A166=\"\",\"\",OFFSET('Demandeurs de chaleur'!$C$7,11,A166,1,1))),\"Non\")","v":"Non"},{"$f":"IF(A166=\"\",\"\",IF(OFFSET('Demandeurs de chaleur'!$C$7,7,A166,1,1)=\"Oui\",0.97,1))","v":1},{"$f":"IF(A166=\"\",\"\",OFFSET('Demandeurs de chaleur'!$C$7,10,A166,1,1))","v":0}]
[159,"Demandeur de chaleur 160",{"$f":"IF(A167=\"\",\"\",OFFSET('Demandeurs de chaleur'!$C$7,2,A167,1,1))","v":0},{"$f":"IF(A167=\"\",\"\",OFFSET('Demandeurs de chaleur'!$C$7,30,A167,1,1))","v":0},{"$f":"IF(A167=\"\",\"\",OFFSET('Demandeurs de chaleur'!$C$7,5,A167,1,1))","v":0},{"$f":"IF(A167=\"\",\"\",OFFSET('Demandeurs de chaleur'!$C$7,6,A167,1,1))","v":0},{"$f":"IF(OR(F167='Listes de sélection'!$A$65,F167='Listes de sélection'!$A$66),(IF(A167=\"\",\"\",OFFSET('Demandeurs de chaleur'!$C$7,8,A167,1,1))),\"Non\")","v":"Non"},{"$f":"IF(OR(F167='Listes de sélection'!$A$65,F167='Listes de sélection'!$A$66),(IF(A167=\"\",\"\",OFFSET('Demandeurs de chaleur'!$C$7,9,A167,1,1))),\"Non\")","v":"Non"},{"$f":"IF(OR(F167='Listes de sélection'!$A$66),(IF(A167=\"\",\"\",OFFSET('Demandeurs de chaleur'!$C$7,10,A167,1,1))),\"Non\")","v":"Non"},{"$f":"IF(OR(F167='Listes de sélection'!$A$66),(IF(A167=\"\",\"\",OFFSET('Demandeurs de chaleur'!$C$7,11,A167,1,1))),\"Non\")","v":"Non"},{"$f":"IF(A167=\"\",\"\",IF(OFFSET('Demandeurs de chaleur'!$C$7,7,A167,1,1)=\"Oui\",0.97,1))","v":1},{"$f":"IF(A167=\"\",\"\",OFFSET('Demandeurs de chaleur'!$C$7,10,A167,1,1))","v":0}]
[160,{"$f":"\"Demandeur de chaleur \"&A168+1","v":"Demandeur de chaleur 161"},{"$f":"IF(A168=\"\",\"\",OFFSET('Demandeurs de chaleur'!$C$7,2,A168,1,1))","v":0},{"$f":"IF(A168=\"\",\"\",OFFSET('Demandeurs de chaleur'!$C$7,30,A168,1,1))","v":0},{"$f":"IF(A168=\"\",\"\",OFFSET('Demandeurs de chaleur'!$C$7,5,A168,1,1))","v":0},{"$f":"IF(A168=\"\",\"\",OFFSET('Demandeurs de chaleur'!$C$7,6,A168,1,1))","v":0},{"$f":"IF(OR(F168='Listes de sélection'!$A$65,F168='Listes de sélection'!$A$66),(IF(A168=\"\",\"\",OFFSET('Demandeurs de chaleur'!$C$7,8,A168,1,1))),\"Non\")","v":"Non"},{"$f":"IF(OR(F168='Listes de sélection'!$A$65,F168='Listes de sélection'!$A$66),(IF(A168=\"\",\"\",OFFSET('Demandeurs de chaleur'!$C$7,9,A168,1,1))),\"Non\")","v":"Non"},{"$f":"IF(OR(F168='Listes de sélection'!$A$66),(IF(A168=\"\",\"\",OFFSET('Demandeurs de chaleur'!$C$7,10,A168,1,1))),\"Non\")","v":"Non"},{"$f":"IF(OR(F168='Listes de sélection'!$A$66),(IF(A168=\"\",\"\",OFFSET('Demandeurs de chaleur'!$C$7,11,A168,1,1))),\"Non\")","v":"Non"},{"$f":"IF(A168=\"\",\"\",IF(OFFSET('Demandeurs de chaleur'!$C$7,7,A168,1,1)=\"Oui\",0.97,1))","v":1},{"$f":"IF(A168=\"\",\"\",OFFSET('Demandeurs de chaleur'!$C$7,10,A168,1,1))","v":0}]
[161,"Demandeur de chaleur 162",{"$f":"IF(A169=\"\",\"\",OFFSET('Demandeurs de chaleur'!$C$7,2,A169,1,1))","v":0},{"$f":"IF(A169=\"\",\"\",OFFSET('Demandeurs de chaleur'!$C$7,30,A169,1,1))","v":0},{"$f":"IF(A169=\"\",\"\",OFFSET('Demandeurs de chaleur'!$C$7,5,A169,1,1))","v":0},{"$f":"IF(A169=\"\",\"\",OFFSET('Demandeurs de chaleur'!$C$7,6,A169,1,1))","v":0},{"$f":"IF(OR(F169='Listes de sélection'!$A$65,F169='Listes de sélection'!$A$66),(IF(A169=\"\",\"\",OFFSET('Demandeurs de chaleur'!$C$7,8,A169,1,1))),\"Non\")","v":"Non"},{"$f":"IF(OR(F169='Listes de sélection'!$A$65,F169='Listes de sélection'!$A$66),(IF(A169=\"\",\"\",OFFSET('Demandeurs de chaleur'!$C$7,9,A169,1,1))),\"Non\")","v":"Non"},{"$f":"IF(OR(F169='Listes de sélection'!$A$66),(IF(A169=\"\",\"\",OFFSET('Demandeurs de chaleur'!$C$7,10,A169,1,1))),\"Non\")","v":"Non"},{"$f":"IF(OR(F169='Listes de sélection'!$A$66),(IF(A169=\"\",\"\",OFFSET('Demandeurs de chaleur'!$C$7,11,A169,1,1))),\"Non\")","v":"Non"},{"$f":"IF(A169=\"\",\"\",IF(OFFSET('Demandeurs de chaleur'!$C$7,7,A169,1,1)=\"Oui\",0.97,1))","v":1},{"$f":"IF(A169=\"\",\"\",OFFSET('Demandeurs de chaleur'!$C$7,10,A169,1,1))","v":0}]
[162,"Demandeur de chaleur 163",{"$f":"IF(A170=\"\",\"\",OFFSET('Demandeurs de chaleur'!$C$7,2,A170,1,1))","v":0},{"$f":"IF(A170=\"\",\"\",OFFSET('Demandeurs de chaleur'!$C$7,30,A170,1,1))","v":0},{"$f":"IF(A170=\"\",\"\",OFFSET('Demandeurs de chaleur'!$C$7,5,A170,1,1))","v":0},{"$f":"IF(A170=\"\",\"\",OFFSET('Demandeurs de chaleur'!$C$7,6,A170,1,1))","v":0},{"$f":"IF(OR(F170='Listes de sélection'!$A$65,F170='Listes de sélection'!$A$66),(IF(A170=\"\",\"\",OFFSET('Demandeurs de chaleur'!$C$7,8,A170,1,1))),\"Non\")","v":"Non"},{"$f":"IF(OR(F170='Listes de sélection'!$A$65,F170='Listes de sélection'!$A$66),(IF(A170=\"\",\"\",OFFSET('Demandeurs de chaleur'!$C$7,9,A170,1,1))),\"Non\")","v":"Non"},{"$f":"IF(OR(F170='Listes de sélection'!$A$66),(IF(A170=\"\",\"\",OFFSET('Demandeurs de chaleur'!$C$7,10,A170,1,1))),\"Non\")","v":"Non"},{"$f":"IF(OR(F170='Listes de sélection'!$A$66),(IF(A170=\"\",\"\",OFFSET('Demandeurs de chaleur'!$C$7,11,A170,1,1))),\"Non\")","v":"Non"},{"$f":"IF(A170=\"\",\"\",IF(OFFSET('Demandeurs de chaleur'!$C$7,7,A170,1,1)=\"Oui\",0.97,1))","v":1},{"$f":"IF(A170=\"\",\"\",OFFSET('Demandeurs de chaleur'!$C$7,10,A170,1,1))","v":0}]
[163,"Demandeur de chaleur 164",{"$f":"IF(A171=\"\",\"\",OFFSET('Demandeurs de chaleur'!$C$7,2,A171,1,1))","v":0},{"$f":"IF(A171=\"\",\"\",OFFSET('Demandeurs de chaleur'!$C$7,30,A171,1,1))","v":0},{"$f":"IF(A171=\"\",\"\",OFFSET('Demandeurs de chaleur'!$C$7,5,A171,1,1))","v":0},{"$f":"IF(A171=\"\",\"\",OFFSET('Demandeurs de chaleur'!$C$7,6,A171,1,1))","v":0},{"$f":"IF(OR(F171='Listes de sélection'!$A$65,F171='Listes de sélection'!$A$66),(IF(A171=\"\",\"\",OFFSET('Demandeurs de chaleur'!$C$7,8,A171,1,1))),\"Non\")","v":"Non"},{"$f":"IF(OR(F171='Listes de sélection'!$A$65,F171='Listes de sélection'!$A$66),(IF(A171=\"\",\"\",OFFSET('Demandeurs de chaleur'!$C$7,9,A171,1,1))),\"Non\")","v":"Non"},{"$f":"IF(OR(F171='Listes de sélection'!$A$66),(IF(A171=\"\",\"\",OFFSET('Demandeurs de chaleur'!$C$7,10,A171,1,1))),\"Non\")","v":"Non"},{"$f":"IF(OR(F171='Listes de sélection'!$A$66),(IF(A171=\"\",\"\",OFFSET('Demandeurs de chaleur'!$C$7,11,A171,1,1))),\"Non\")","v":"Non"},{"$f":"IF(A171=\"\",\"\",IF(OFFSET('Demandeurs de chaleur'!$C$7,7,A171,1,1)=\"Oui\",0.97,1))","v":1},{"$f":"IF(A171=\"\",\"\",OFFSET('Demandeurs de chaleur'!$C$7,10,A171,1,1))","v":0}]
[164,"Demandeur de chaleur 165",{"$f":"IF(A172=\"\",\"\",OFFSET('Demandeurs de chaleur'!$C$7,2,A172,1,1))","v":0},{"$f":"IF(A172=\"\",\"\",OFFSET('Demandeurs de chaleur'!$C$7,30,A172,1,1))","v":0},{"$f":"IF(A172=\"\",\"\",OFFSET('Demandeurs de chaleur'!$C$7,5,A172,1,1))","v":0},{"$f":"IF(A172=\"\",\"\",OFFSET('Demandeurs de chaleur'!$C$7,6,A172,1,1))","v":0},{"$f":"IF(OR(F172='Listes de sélection'!$A$65,F172='Listes de sélection'!$A$66),(IF(A172=\"\",\"\",OFFSET('Demandeurs de chaleur'!$C$7,8,A172,1,1))),\"Non\")","v":"Non"},{"$f":"IF(OR(F172='Listes de sélection'!$A$65,F172='Listes de sélection'!$A$66),(IF(A172=\"\",\"\",OFFSET('Demandeurs de chaleur'!$C$7,9,A172,1,1))),\"Non\")","v":"Non"},{"$f":"IF(OR(F172='Listes de sélection'!$A$66),(IF(A172=\"\",\"\",OFFSET('Demandeurs de chaleur'!$C$7,10,A172,1,1))),\"Non\")","v":"Non"},{"$f":"IF(OR(F172='Listes de sélection'!$A$66),(IF(A172=\"\",\"\",OFFSET('Demandeurs de chaleur'!$C$7,11,A172,1,1))),\"Non\")","v":"Non"},{"$f":"IF(A172=\"\",\"\",IF(OFFSET('Demandeurs de chaleur'!$C$7,7,A172,1,1)=\"Oui\",0.97,1))","v":1},{"$f":"IF(A172=\"\",\"\",OFFSET('Demandeurs de chaleur'!$C$7,10,A172,1,1))","v":0}]
[165,"Demandeur de chaleur 166",{"$f":"IF(A173=\"\",\"\",OFFSET('Demandeurs de chaleur'!$C$7,2,A173,1,1))","v":0},{"$f":"IF(A173=\"\",\"\",OFFSET('Demandeurs de chaleur'!$C$7,30,A173,1,1))","v":0},{"$f":"IF(A173=\"\",\"\",OFFSET('Demandeurs de chaleur'!$C$7,5,A173,1,1))","v":0},{"$f":"IF(A173=\"\",\"\",OFFSET('Demandeurs de chaleur'!$C$7,6,A173,1,1))","v":0},{"$f":"IF(OR(F173='Listes de sélection'!$A$65,F173='Listes de sélection'!$A$66),(IF(A173=\"\",\"\",OFFSET('Demandeurs de chaleur'!$C$7,8,A173,1,1))),\"Non\")","v":"Non"},{"$f":"IF(OR(F173='Listes de sélection'!$A$65,F173='Listes de sélection'!$A$66),(IF(A173=\"\",\"\",OFFSET('Demandeurs de chaleur'!$C$7,9,A173,1,1))),\"Non\")","v":"Non"},{"$f":"IF(OR(F173='Listes de sélection'!$A$66),(IF(A173=\"\",\"\",OFFSET('Demandeurs de chaleur'!$C$7,10,A173,1,1))),\"Non\")","v":"Non"},{"$f":"IF(OR(F173='Listes de sélection'!$A$66),(IF(A173=\"\",\"\",OFFSET('Demandeurs de chaleur'!$C$7,11,A173,1,1))),\"Non\")","v":"Non"},{"$f":"IF(A173=\"\",\"\",IF(OFFSET('Demandeurs de chaleur'!$C$7,7,A173,1,1)=\"Oui\",0.97,1))","v":1},{"$f":"IF(A173=\"\",\"\",OFFSET('Demandeurs de chaleur'!$C$7,10,A173,1,1))","v":0}]
[166,"Demandeur de chaleur 167",{"$f":"IF(A174=\"\",\"\",OFFSET('Demandeurs de chaleur'!$C$7,2,A174,1,1))","v":0},{"$f":"IF(A174=\"\",\"\",OFFSET('Demandeurs de chaleur'!$C$7,30,A174,1,1))","v":0},{"$f":"IF(A174=\"\",\"\",OFFSET('Demandeurs de chaleur'!$C$7,5,A174,1,1))","v":0},{"$f":"IF(A174=\"\",\"\",OFFSET('Demandeurs de chaleur'!$C$7,6,A174,1,1))","v":0},{"$f":"IF(OR(F174='Listes de sélection'!$A$65,F174='Listes de sélection'!$A$66),(IF(A174=\"\",\"\",OFFSET('Demandeurs de chaleur'!$C$7,8,A174,1,1))),\"Non\")","v":"Non"},{"$f":"IF(OR(F174='Listes de sélection'!$A$65,F174='Listes de sélection'!$A$66),(IF(A174=\"\",\"\",OFFSET('Demandeurs de chaleur'!$C$7,9,A174,1,1))),\"Non\")","v":"Non"},{"$f":"IF(OR(F174='Listes de sélection'!$A$66),(IF(A174=\"\",\"\",OFFSET('Demandeurs de chaleur'!$C$7,10,A174,1,1))),\"Non\")","v":"Non"},{"$f":"IF(OR(F174='Listes de sélection'!$A$66),(IF(A174=\"\",\"\",OFFSET('Demandeurs de chaleur'!$C$7,11,A174,1,1))),\"Non\")","v":"Non"},{"$f":"IF(A174=\"\",\"\",IF(OFFSET('Demandeurs de chaleur'!$C$7,7,A174,1,1)=\"Oui\",0.97,1))","v":1},{"$f":"IF(A174=\"\",\"\",OFFSET('Demandeurs de chaleur'!$C$7,10,A174,1,1))","v":0}]
[167,"Demandeur de chaleur 168",{"$f":"IF(A175=\"\",\"\",OFFSET('Demandeurs de chaleur'!$C$7,2,A175,1,1))","v":0},{"$f":"IF(A175=\"\",\"\",OFFSET('Demandeurs de chaleur'!$C$7,30,A175,1,1))","v":0},{"$f":"IF(A175=\"\",\"\",OFFSET('Demandeurs de chaleur'!$C$7,5,A175,1,1))","v":0},{"$f":"IF(A175=\"\",\"\",OFFSET('Demandeurs de chaleur'!$C$7,6,A175,1,1))","v":0},{"$f":"IF(OR(F175='Listes de sélection'!$A$65,F175='Listes de sélection'!$A$66),(IF(A175=\"\",\"\",OFFSET('Demandeurs de chaleur'!$C$7,8,A175,1,1))),\"Non\")","v":"Non"},{"$f":"IF(OR(F175='Listes de sélection'!$A$65,F175='Listes de sélection'!$A$66),(IF(A175=\"\",\"\",OFFSET('Demandeurs de chaleur'!$C$7,9,A175,1,1))),\"Non\")","v":"Non"},{"$f":"IF(OR(F175='Listes de sélection'!$A$66),(IF(A175=\"\",\"\",OFFSET('Demandeurs de chaleur'!$C$7,10,A175,1,1))),\"Non\")","v":"Non"},{"$f":"IF(OR(F175='Listes de sélection'!$A$66),(IF(A175=\"\",\"\",OFFSET('Demandeurs de chaleur'!$C$7,11,A175,1,1))),\"Non\")","v":"Non"},{"$f":"IF(A175=\"\",\"\",IF(OFFSET('Demandeurs de chaleur'!$C$7,7,A175,1,1)=\"Oui\",0.97,1))","v":1},{"$f":"IF(A175=\"\",\"\",OFFSET('Demandeurs de chaleur'!$C$7,10,A175,1,1))","v":0}]
[168,"Demandeur de chaleur 169",{"$f":"IF(A176=\"\",\"\",OFFSET('Demandeurs de chaleur'!$C$7,2,A176,1,1))","v":0},{"$f":"IF(A176=\"\",\"\",OFFSET('Demandeurs de chaleur'!$C$7,30,A176,1,1))","v":0},{"$f":"IF(A176=\"\",\"\",OFFSET('Demandeurs de chaleur'!$C$7,5,A176,1,1))","v":0},{"$f":"IF(A176=\"\",\"\",OFFSET('Demandeurs de chaleur'!$C$7,6,A176,1,1))","v":0},{"$f":"IF(OR(F176='Listes de sélection'!$A$65,F176='Listes de sélection'!$A$66),(IF(A176=\"\",\"\",OFFSET('Demandeurs de chaleur'!$C$7,8,A176,1,1))),\"Non\")","v":"Non"},{"$f":"IF(OR(F176='Listes de sélection'!$A$65,F176='Listes de sélection'!$A$66),(IF(A176=\"\",\"\",OFFSET('Demandeurs de chaleur'!$C$7,9,A176,1,1))),\"Non\")","v":"Non"},{"$f":"IF(OR(F176='Listes de sélection'!$A$66),(IF(A176=\"\",\"\",OFFSET('Demandeurs de chaleur'!$C$7,10,A176,1,1))),\"Non\")","v":"Non"},{"$f":"IF(OR(F176='Listes de sélection'!$A$66),(IF(A176=\"\",\"\",OFFSET('Demandeurs de chaleur'!$C$7,11,A176,1,1))),\"Non\")","v":"Non"},{"$f":"IF(A176=\"\",\"\",IF(OFFSET('Demandeurs de chaleur'!$C$7,7,A176,1,1)=\"Oui\",0.97,1))","v":1},{"$f":"IF(A176=\"\",\"\",OFFSET('Demandeurs de chaleur'!$C$7,10,A176,1,1))","v":0}]
[169,"Demandeur de chaleur 170",{"$f":"IF(A177=\"\",\"\",OFFSET('Demandeurs de chaleur'!$C$7,2,A177,1,1))","v":0},{"$f":"IF(A177=\"\",\"\",OFFSET('Demandeurs de chaleur'!$C$7,30,A177,1,1))","v":0},{"$f":"IF(A177=\"\",\"\",OFFSET('Demandeurs de chaleur'!$C$7,5,A177,1,1))","v":0},{"$f":"IF(A177=\"\",\"\",OFFSET('Demandeurs de chaleur'!$C$7,6,A177,1,1))","v":0},{"$f":"IF(OR(F177='Listes de sélection'!$A$65,F177='Listes de sélection'!$A$66),(IF(A177=\"\",\"\",OFFSET('Demandeurs de chaleur'!$C$7,8,A177,1,1))),\"Non\")","v":"Non"},{"$f":"IF(OR(F177='Listes de sélection'!$A$65,F177='Listes de sélection'!$A$66),(IF(A177=\"\",\"\",OFFSET('Demandeurs de chaleur'!$C$7,9,A177,1,1))),\"Non\")","v":"Non"},{"$f":"IF(OR(F177='Listes de sélection'!$A$66),(IF(A177=\"\",\"\",OFFSET('Demandeurs de chaleur'!$C$7,10,A177,1,1))),\"Non\")","v":"Non"},{"$f":"IF(OR(F177='Listes de sélection'!$A$66),(IF(A177=\"\",\"\",OFFSET('Demandeurs de chaleur'!$C$7,11,A177,1,1))),\"Non\")","v":"Non"},{"$f":"IF(A177=\"\",\"\",IF(OFFSET('Demandeurs de chaleur'!$C$7,7,A177,1,1)=\"Oui\",0.97,1))","v":1},{"$f":"IF(A177=\"\",\"\",OFFSET('Demandeurs de chaleur'!$C$7,10,A177,1,1))","v":0}]
[170,"Demandeur de chaleur 171",{"$f":"IF(A178=\"\",\"\",OFFSET('Demandeurs de chaleur'!$C$7,2,A178,1,1))","v":0},{"$f":"IF(A178=\"\",\"\",OFFSET('Demandeurs de chaleur'!$C$7,30,A178,1,1))","v":0},{"$f":"IF(A178=\"\",\"\",OFFSET('Demandeurs de chaleur'!$C$7,5,A178,1,1))","v":0},{"$f":"IF(A178=\"\",\"\",OFFSET('Demandeurs de chaleur'!$C$7,6,A178,1,1))","v":0},{"$f":"IF(OR(F178='Listes de sélection'!$A$65,F178='Listes de sélection'!$A$66),(IF(A178=\"\",\"\",OFFSET('Demandeurs de chaleur'!$C$7,8,A178,1,1))),\"Non\")","v":"Non"},{"$f":"IF(OR(F178='Listes de sélection'!$A$65,F178='Listes de sélection'!$A$66),(IF(A178=\"\",\"\",OFFSET('Demandeurs de chaleur'!$C$7,9,A178,1,1))),\"Non\")","v":"Non"},{"$f":"IF(OR(F178='Listes de sélection'!$A$66),(IF(A178=\"\",\"\",OFFSET('Demandeurs de chaleur'!$C$7,10,A178,1,1))),\"Non\")","v":"Non"},{"$f":"IF(OR(F178='Listes de sélection'!$A$66),(IF(A178=\"\",\"\",OFFSET('Demandeurs de chaleur'!$C$7,11,A178,1,1))),\"Non\")","v":"Non"},{"$f":"IF(A178=\"\",\"\",IF(OFFSET('Demandeurs de chaleur'!$C$7,7,A178,1,1)=\"Oui\",0.97,1))","v":1},{"$f":"IF(A178=\"\",\"\",OFFSET('Demandeurs de chaleur'!$C$7,10,A178,1,1))","v":0}]
[171,"Demandeur de chaleur 172",{"$f":"IF(A179=\"\",\"\",OFFSET('Demandeurs de chaleur'!$C$7,2,A179,1,1))","v":0},{"$f":"IF(A179=\"\",\"\",OFFSET('Demandeurs de chaleur'!$C$7,30,A179,1,1))","v":0},{"$f":"IF(A179=\"\",\"\",OFFSET('Demandeurs de chaleur'!$C$7,5,A179,1,1))","v":0},{"$f":"IF(A179=\"\",\"\",OFFSET('Demandeurs de chaleur'!$C$7,6,A179,1,1))","v":0},{"$f":"IF(OR(F179='Listes de sélection'!$A$65,F179='Listes de sélection'!$A$66),(IF(A179=\"\",\"\",OFFSET('Demandeurs de chaleur'!$C$7,8,A179,1,1))),\"Non\")","v":"Non"},{"$f":"IF(OR(F179='Listes de sélection'!$A$65,F179='Listes de sélection'!$A$66),(IF(A179=\"\",\"\",OFFSET('Demandeurs de chaleur'!$C$7,9,A179,1,1))),\"Non\")","v":"Non"},{"$f":"IF(OR(F179='Listes de sélection'!$A$66),(IF(A179=\"\",\"\",OFFSET('Demandeurs de chaleur'!$C$7,10,A179,1,1))),\"Non\")","v":"Non"},{"$f":"IF(OR(F179='Listes de sélection'!$A$66),(IF(A179=\"\",\"\",OFFSET('Demandeurs de chaleur'!$C$7,11,A179,1,1))),\"Non\")","v":"Non"},{"$f":"IF(A179=\"\",\"\",IF(OFFSET('Demandeurs de chaleur'!$C$7,7,A179,1,1)=\"Oui\",0.97,1))","v":1},{"$f":"IF(A179=\"\",\"\",OFFSET('Demandeurs de chaleur'!$C$7,10,A179,1,1))","v":0}]
[172,"Demandeur de chaleur 173",{"$f":"IF(A180=\"\",\"\",OFFSET('Demandeurs de chaleur'!$C$7,2,A180,1,1))","v":0},{"$f":"IF(A180=\"\",\"\",OFFSET('Demandeurs de chaleur'!$C$7,30,A180,1,1))","v":0},{"$f":"IF(A180=\"\",\"\",OFFSET('Demandeurs de chaleur'!$C$7,5,A180,1,1))","v":0},{"$f":"IF(A180=\"\",\"\",OFFSET('Demandeurs de chaleur'!$C$7,6,A180,1,1))","v":0},{"$f":"IF(OR(F180='Listes de sélection'!$A$65,F180='Listes de sélection'!$A$66),(IF(A180=\"\",\"\",OFFSET('Demandeurs de chaleur'!$C$7,8,A180,1,1))),\"Non\")","v":"Non"},{"$f":"IF(OR(F180='Listes de sélection'!$A$65,F180='Listes de sélection'!$A$66),(IF(A180=\"\",\"\",OFFSET('Demandeurs de chaleur'!$C$7,9,A180,1,1))),\"Non\")","v":"Non"},{"$f":"IF(OR(F180='Listes de sélection'!$A$66),(IF(A180=\"\",\"\",OFFSET('Demandeurs de chaleur'!$C$7,10,A180,1,1))),\"Non\")","v":"Non"},{"$f":"IF(OR(F180='Listes de sélection'!$A$66),(IF(A180=\"\",\"\",OFFSET('Demandeurs de chaleur'!$C$7,11,A180,1,1))),\"Non\")","v":"Non"},{"$f":"IF(A180=\"\",\"\",IF(OFFSET('Demandeurs de chaleur'!$C$7,7,A180,1,1)=\"Oui\",0.97,1))","v":1},{"$f":"IF(A180=\"\",\"\",OFFSET('Demandeurs de chaleur'!$C$7,10,A180,1,1))","v":0}]
[173,"Demandeur de chaleur 174",{"$f":"IF(A181=\"\",\"\",OFFSET('Demandeurs de chaleur'!$C$7,2,A181,1,1))","v":0},{"$f":"IF(A181=\"\",\"\",OFFSET('Demandeurs de chaleur'!$C$7,30,A181,1,1))","v":0},{"$f":"IF(A181=\"\",\"\",OFFSET('Demandeurs de chaleur'!$C$7,5,A181,1,1))","v":0},{"$f":"IF(A181=\"\",\"\",OFFSET('Demandeurs de chaleur'!$C$7,6,A181,1,1))","v":0},{"$f":"IF(OR(F181='Listes de sélection'!$A$65,F181='Listes de sélection'!$A$66),(IF(A181=\"\",\"\",OFFSET('Demandeurs de chaleur'!$C$7,8,A181,1,1))),\"Non\")","v":"Non"},{"$f":"IF(OR(F181='Listes de sélection'!$A$65,F181='Listes de sélection'!$A$66),(IF(A181=\"\",\"\",OFFSET('Demandeurs de chaleur'!$C$7,9,A181,1,1))),\"Non\")","v":"Non"},{"$f":"IF(OR(F181='Listes de sélection'!$A$66),(IF(A181=\"\",\"\",OFFSET('Demandeurs de chaleur'!$C$7,10,A181,1,1))),\"Non\")","v":"Non"},{"$f":"IF(OR(F181='Listes de sélection'!$A$66),(IF(A181=\"\",\"\",OFFSET('Demandeurs de chaleur'!$C$7,11,A181,1,1))),\"Non\")","v":"Non"},{"$f":"IF(A181=\"\",\"\",IF(OFFSET('Demandeurs de chaleur'!$C$7,7,A181,1,1)=\"Oui\",0.97,1))","v":1},{"$f":"IF(A181=\"\",\"\",OFFSET('Demandeurs de chaleur'!$C$7,10,A181,1,1))","v":0}]
[174,"Demandeur de chaleur 175",{"$f":"IF(A182=\"\",\"\",OFFSET('Demandeurs de chaleur'!$C$7,2,A182,1,1))","v":0},{"$f":"IF(A182=\"\",\"\",OFFSET('Demandeurs de chaleur'!$C$7,30,A182,1,1))","v":0},{"$f":"IF(A182=\"\",\"\",OFFSET('Demandeurs de chaleur'!$C$7,5,A182,1,1))","v":0},{"$f":"IF(A182=\"\",\"\",OFFSET('Demandeurs de chaleur'!$C$7,6,A182,1,1))","v":0},{"$f":"IF(OR(F182='Listes de sélection'!$A$65,F182='Listes de sélection'!$A$66),(IF(A182=\"\",\"\",OFFSET('Demandeurs de chaleur'!$C$7,8,A182,1,1))),\"Non\")","v":"Non"},{"$f":"IF(OR(F182='Listes de sélection'!$A$65,F182='Listes de sélection'!$A$66),(IF(A182=\"\",\"\",OFFSET('Demandeurs de chaleur'!$C$7,9,A182,1,1))),\"Non\")","v":"Non"},{"$f":"IF(OR(F182='Listes de sélection'!$A$66),(IF(A182=\"\",\"\",OFFSET('Demandeurs de chaleur'!$C$7,10,A182,1,1))),\"Non\")","v":"Non"},{"$f":"IF(OR(F182='Listes de sélection'!$A$66),(IF(A182=\"\",\"\",OFFSET('Demandeurs de chaleur'!$C$7,11,A182,1,1))),\"Non\")","v":"Non"},{"$f":"IF(A182=\"\",\"\",IF(OFFSET('Demandeurs de chaleur'!$C$7,7,A182,1,1)=\"Oui\",0.97,1))","v":1},{"$f":"IF(A182=\"\",\"\",OFFSET('Demandeurs de chaleur'!$C$7,10,A182,1,1))","v":0}]
[175,"Demandeur de chaleur 176",{"$f":"IF(A183=\"\",\"\",OFFSET('Demandeurs de chaleur'!$C$7,2,A183,1,1))","v":0},{"$f":"IF(A183=\"\",\"\",OFFSET('Demandeurs de chaleur'!$C$7,30,A183,1,1))","v":0},{"$f":"IF(A183=\"\",\"\",OFFSET('Demandeurs de chaleur'!$C$7,5,A183,1,1))","v":0},{"$f":"IF(A183=\"\",\"\",OFFSET('Demandeurs de chaleur'!$C$7,6,A183,1,1))","v":0},{"$f":"IF(OR(F183='Listes de sélection'!$A$65,F183='Listes de sélection'!$A$66),(IF(A183=\"\",\"\",OFFSET('Demandeurs de chaleur'!$C$7,8,A183,1,1))),\"Non\")","v":"Non"},{"$f":"IF(OR(F183='Listes de sélection'!$A$65,F183='Listes de sélection'!$A$66),(IF(A183=\"\",\"\",OFFSET('Demandeurs de chaleur'!$C$7,9,A183,1,1))),\"Non\")","v":"Non"},{"$f":"IF(OR(F183='Listes de sélection'!$A$66),(IF(A183=\"\",\"\",OFFSET('Demandeurs de chaleur'!$C$7,10,A183,1,1))),\"Non\")","v":"Non"},{"$f":"IF(OR(F183='Listes de sélection'!$A$66),(IF(A183=\"\",\"\",OFFSET('Demandeurs de chaleur'!$C$7,11,A183,1,1))),\"Non\")","v":"Non"},{"$f":"IF(A183=\"\",\"\",IF(OFFSET('Demandeurs de chaleur'!$C$7,7,A183,1,1)=\"Oui\",0.97,1))","v":1},{"$f":"IF(A183=\"\",\"\",OFFSET('Demandeurs de chaleur'!$C$7,10,A183,1,1))","v":0}]
[176,"Demandeur de chaleur 177",{"$f":"IF(A184=\"\",\"\",OFFSET('Demandeurs de chaleur'!$C$7,2,A184,1,1))","v":0},{"$f":"IF(A184=\"\",\"\",OFFSET('Demandeurs de chaleur'!$C$7,30,A184,1,1))","v":0},{"$f":"IF(A184=\"\",\"\",OFFSET('Demandeurs de chaleur'!$C$7,5,A184,1,1))","v":0},{"$f":"IF(A184=\"\",\"\",OFFSET('Demandeurs de chaleur'!$C$7,6,A184,1,1))","v":0},{"$f":"IF(OR(F184='Listes de sélection'!$A$65,F184='Listes de sélection'!$A$66),(IF(A184=\"\",\"\",OFFSET('Demandeurs de chaleur'!$C$7,8,A184,1,1))),\"Non\")","v":"Non"},{"$f":"IF(OR(F184='Listes de sélection'!$A$65,F184='Listes de sélection'!$A$66),(IF(A184=\"\",\"\",OFFSET('Demandeurs de chaleur'!$C$7,9,A184,1,1))),\"Non\")","v":"Non"},{"$f":"IF(OR(F184='Listes de sélection'!$A$66),(IF(A184=\"\",\"\",OFFSET('Demandeurs de chaleur'!$C$7,10,A184,1,1))),\"Non\")","v":"Non"},{"$f":"IF(OR(F184='Listes de sélection'!$A$66),(IF(A184=\"\",\"\",OFFSET('Demandeurs de chaleur'!$C$7,11,A184,1,1))),\"Non\")","v":"Non"},{"$f":"IF(A184=\"\",\"\",IF(OFFSET('Demandeurs de chaleur'!$C$7,7,A184,1,1)=\"Oui\",0.97,1))","v":1},{"$f":"IF(A184=\"\",\"\",OFFSET('Demandeurs de chaleur'!$C$7,10,A184,1,1))","v":0}]
[177,"Demandeur de chaleur 178",{"$f":"IF(A185=\"\",\"\",OFFSET('Demandeurs de chaleur'!$C$7,2,A185,1,1))","v":0},{"$f":"IF(A185=\"\",\"\",OFFSET('Demandeurs de chaleur'!$C$7,30,A185,1,1))","v":0},{"$f":"IF(A185=\"\",\"\",OFFSET('Demandeurs de chaleur'!$C$7,5,A185,1,1))","v":0},{"$f":"IF(A185=\"\",\"\",OFFSET('Demandeurs de chaleur'!$C$7,6,A185,1,1))","v":0},{"$f":"IF(OR(F185='Listes de sélection'!$A$65,F185='Listes de sélection'!$A$66),(IF(A185=\"\",\"\",OFFSET('Demandeurs de chaleur'!$C$7,8,A185,1,1))),\"Non\")","v":"Non"},{"$f":"IF(OR(F185='Listes de sélection'!$A$65,F185='Listes de sélection'!$A$66),(IF(A185=\"\",\"\",OFFSET('Demandeurs de chaleur'!$C$7,9,A185,1,1))),\"Non\")","v":"Non"},{"$f":"IF(OR(F185='Listes de sélection'!$A$66),(IF(A185=\"\",\"\",OFFSET('Demandeurs de chaleur'!$C$7,10,A185,1,1))),\"Non\")","v":"Non"},{"$f":"IF(OR(F185='Listes de sélection'!$A$66),(IF(A185=\"\",\"\",OFFSET('Demandeurs de chaleur'!$C$7,11,A185,1,1))),\"Non\")","v":"Non"},{"$f":"IF(A185=\"\",\"\",IF(OFFSET('Demandeurs de chaleur'!$C$7,7,A185,1,1)=\"Oui\",0.97,1))","v":1},{"$f":"IF(A185=\"\",\"\",OFFSET('Demandeurs de chaleur'!$C$7,10,A185,1,1))","v":0}]
[178,"Demandeur de chaleur 179",{"$f":"IF(A186=\"\",\"\",OFFSET('Demandeurs de chaleur'!$C$7,2,A186,1,1))","v":0},{"$f":"IF(A186=\"\",\"\",OFFSET('Demandeurs de chaleur'!$C$7,30,A186,1,1))","v":0},{"$f":"IF(A186=\"\",\"\",OFFSET('Demandeurs de chaleur'!$C$7,5,A186,1,1))","v":0},{"$f":"IF(A186=\"\",\"\",OFFSET('Demandeurs de chaleur'!$C$7,6,A186,1,1))","v":0},{"$f":"IF(OR(F186='Listes de sélection'!$A$65,F186='Listes de sélection'!$A$66),(IF(A186=\"\",\"\",OFFSET('Demandeurs de chaleur'!$C$7,8,A186,1,1))),\"Non\")","v":"Non"},{"$f":"IF(OR(F186='Listes de sélection'!$A$65,F186='Listes de sélection'!$A$66),(IF(A186=\"\",\"\",OFFSET('Demandeurs de chaleur'!$C$7,9,A186,1,1))),\"Non\")","v":"Non"},{"$f":"IF(OR(F186='Listes de sélection'!$A$66),(IF(A186=\"\",\"\",OFFSET('Demandeurs de chaleur'!$C$7,10,A186,1,1))),\"Non\")","v":"Non"},{"$f":"IF(OR(F186='Listes de sélection'!$A$66),(IF(A186=\"\",\"\",OFFSET('Demandeurs de chaleur'!$C$7,11,A186,1,1))),\"Non\")","v":"Non"},{"$f":"IF(A186=\"\",\"\",IF(OFFSET('Demandeurs de chaleur'!$C$7,7,A186,1,1)=\"Oui\",0.97,1))","v":1},{"$f":"IF(A186=\"\",\"\",OFFSET('Demandeurs de chaleur'!$C$7,10,A186,1,1))","v":0}]
[179,"Demandeur de chaleur 180",{"$f":"IF(A187=\"\",\"\",OFFSET('Demandeurs de chaleur'!$C$7,2,A187,1,1))","v":0},{"$f":"IF(A187=\"\",\"\",OFFSET('Demandeurs de chaleur'!$C$7,30,A187,1,1))","v":0},{"$f":"IF(A187=\"\",\"\",OFFSET('Demandeurs de chaleur'!$C$7,5,A187,1,1))","v":0},{"$f":"IF(A187=\"\",\"\",OFFSET('Demandeurs de chaleur'!$C$7,6,A187,1,1))","v":0},{"$f":"IF(OR(F187='Listes de sélection'!$A$65,F187='Listes de sélection'!$A$66),(IF(A187=\"\",\"\",OFFSET('Demandeurs de chaleur'!$C$7,8,A187,1,1))),\"Non\")","v":"Non"},{"$f":"IF(OR(F187='Listes de sélection'!$A$65,F187='Listes de sélection'!$A$66),(IF(A187=\"\",\"\",OFFSET('Demandeurs de chaleur'!$C$7,9,A187,1,1))),\"Non\")","v":"Non"},{"$f":"IF(OR(F187='Listes de sélection'!$A$66),(IF(A187=\"\",\"\",OFFSET('Demandeurs de chaleur'!$C$7,10,A187,1,1))),\"Non\")","v":"Non"},{"$f":"IF(OR(F187='Listes de sélection'!$A$66),(IF(A187=\"\",\"\",OFFSET('Demandeurs de chaleur'!$C$7,11,A187,1,1))),\"Non\")","v":"Non"},{"$f":"IF(A187=\"\",\"\",IF(OFFSET('Demandeurs de chaleur'!$C$7,7,A187,1,1)=\"Oui\",0.97,1))","v":1},{"$f":"IF(A187=\"\",\"\",OFFSET('Demandeurs de chaleur'!$C$7,10,A187,1,1))","v":0}]
[180,"Demandeur de chaleur 181",{"$f":"IF(A188=\"\",\"\",OFFSET('Demandeurs de chaleur'!$C$7,2,A188,1,1))","v":0},{"$f":"IF(A188=\"\",\"\",OFFSET('Demandeurs de chaleur'!$C$7,30,A188,1,1))","v":0},{"$f":"IF(A188=\"\",\"\",OFFSET('Demandeurs de chaleur'!$C$7,5,A188,1,1))","v":0},{"$f":"IF(A188=\"\",\"\",OFFSET('Demandeurs de chaleur'!$C$7,6,A188,1,1))","v":0},{"$f":"IF(OR(F188='Listes de sélection'!$A$65,F188='Listes de sélection'!$A$66),(IF(A188=\"\",\"\",OFFSET('Demandeurs de chaleur'!$C$7,8,A188,1,1))),\"Non\")","v":"Non"},{"$f":"IF(OR(F188='Listes de sélection'!$A$65,F188='Listes de sélection'!$A$66),(IF(A188=\"\",\"\",OFFSET('Demandeurs de chaleur'!$C$7,9,A188,1,1))),\"Non\")","v":"Non"},{"$f":"IF(OR(F188='Listes de sélection'!$A$66),(IF(A188=\"\",\"\",OFFSET('Demandeurs de chaleur'!$C$7,10,A188,1,1))),\"Non\")","v":"Non"},{"$f":"IF(OR(F188='Listes de sélection'!$A$66),(IF(A188=\"\",\"\",OFFSET('Demandeurs de chaleur'!$C$7,11,A188,1,1))),\"Non\")","v":"Non"},{"$f":"IF(A188=\"\",\"\",IF(OFFSET('Demandeurs de chaleur'!$C$7,7,A188,1,1)=\"Oui\",0.97,1))","v":1},{"$f":"IF(A188=\"\",\"\",OFFSET('Demandeurs de chaleur'!$C$7,10,A188,1,1))","v":0}]
[181,"Demandeur de chaleur 182",{"$f":"IF(A189=\"\",\"\",OFFSET('Demandeurs de chaleur'!$C$7,2,A189,1,1))","v":0},{"$f":"IF(A189=\"\",\"\",OFFSET('Demandeurs de chaleur'!$C$7,30,A189,1,1))","v":0},{"$f":"IF(A189=\"\",\"\",OFFSET('Demandeurs de chaleur'!$C$7,5,A189,1,1))","v":0},{"$f":"IF(A189=\"\",\"\",OFFSET('Demandeurs de chaleur'!$C$7,6,A189,1,1))","v":0},{"$f":"IF(OR(F189='Listes de sélection'!$A$65,F189='Listes de sélection'!$A$66),(IF(A189=\"\",\"\",OFFSET('Demandeurs de chaleur'!$C$7,8,A189,1,1))),\"Non\")","v":"Non"},{"$f":"IF(OR(F189='Listes de sélection'!$A$65,F189='Listes de sélection'!$A$66),(IF(A189=\"\",\"\",OFFSET('Demandeurs de chaleur'!$C$7,9,A189,1,1))),\"Non\")","v":"Non"},{"$f":"IF(OR(F189='Listes de sélection'!$A$66),(IF(A189=\"\",\"\",OFFSET('Demandeurs de chaleur'!$C$7,10,A189,1,1))),\"Non\")","v":"Non"},{"$f":"IF(OR(F189='Listes de sélection'!$A$66),(IF(A189=\"\",\"\",OFFSET('Demandeurs de chaleur'!$C$7,11,A189,1,1))),\"Non\")","v":"Non"},{"$f":"IF(A189=\"\",\"\",IF(OFFSET('Demandeurs de chaleur'!$C$7,7,A189,1,1)=\"Oui\",0.97,1))","v":1},{"$f":"IF(A189=\"\",\"\",OFFSET('Demandeurs de chaleur'!$C$7,10,A189,1,1))","v":0}]
[182,"Demandeur de chaleur 183",{"$f":"IF(A190=\"\",\"\",OFFSET('Demandeurs de chaleur'!$C$7,2,A190,1,1))","v":0},{"$f":"IF(A190=\"\",\"\",OFFSET('Demandeurs de chaleur'!$C$7,30,A190,1,1))","v":0},{"$f":"IF(A190=\"\",\"\",OFFSET('Demandeurs de chaleur'!$C$7,5,A190,1,1))","v":0},{"$f":"IF(A190=\"\",\"\",OFFSET('Demandeurs de chaleur'!$C$7,6,A190,1,1))","v":0},{"$f":"IF(OR(F190='Listes de sélection'!$A$65,F190='Listes de sélection'!$A$66),(IF(A190=\"\",\"\",OFFSET('Demandeurs de chaleur'!$C$7,8,A190,1,1))),\"Non\")","v":"Non"},{"$f":"IF(OR(F190='Listes de sélection'!$A$65,F190='Listes de sélection'!$A$66),(IF(A190=\"\",\"\",OFFSET('Demandeurs de chaleur'!$C$7,9,A190,1,1))),\"Non\")","v":"Non"},{"$f":"IF(OR(F190='Listes de sélection'!$A$66),(IF(A190=\"\",\"\",OFFSET('Demandeurs de chaleur'!$C$7,10,A190,1,1))),\"Non\")","v":"Non"},{"$f":"IF(OR(F190='Listes de sélection'!$A$66),(IF(A190=\"\",\"\",OFFSET('Demandeurs de chaleur'!$C$7,11,A190,1,1))),\"Non\")","v":"Non"},{"$f":"IF(A190=\"\",\"\",IF(OFFSET('Demandeurs de chaleur'!$C$7,7,A190,1,1)=\"Oui\",0.97,1))","v":1},{"$f":"IF(A190=\"\",\"\",OFFSET('Demandeurs de chaleur'!$C$7,10,A190,1,1))","v":0}]
[183,"Demandeur de chaleur 184",{"$f":"IF(A191=\"\",\"\",OFFSET('Demandeurs de chaleur'!$C$7,2,A191,1,1))","v":0},{"$f":"IF(A191=\"\",\"\",OFFSET('Demandeurs de chaleur'!$C$7,30,A191,1,1))","v":0},{"$f":"IF(A191=\"\",\"\",OFFSET('Demandeurs de chaleur'!$C$7,5,A191,1,1))","v":0},{"$f":"IF(A191=\"\",\"\",OFFSET('Demandeurs de chaleur'!$C$7,6,A191,1,1))","v":0},{"$f":"IF(OR(F191='Listes de sélection'!$A$65,F191='Listes de sélection'!$A$66),(IF(A191=\"\",\"\",OFFSET('Demandeurs de chaleur'!$C$7,8,A191,1,1))),\"Non\")","v":"Non"},{"$f":"IF(OR(F191='Listes de sélection'!$A$65,F191='Listes de sélection'!$A$66),(IF(A191=\"\",\"\",OFFSET('Demandeurs de chaleur'!$C$7,9,A191,1,1))),\"Non\")","v":"Non"},{"$f":"IF(OR(F191='Listes de sélection'!$A$66),(IF(A191=\"\",\"\",OFFSET('Demandeurs de chaleur'!$C$7,10,A191,1,1))),\"Non\")","v":"Non"},{"$f":"IF(OR(F191='Listes de sélection'!$A$66),(IF(A191=\"\",\"\",OFFSET('Demandeurs de chaleur'!$C$7,11,A191,1,1))),\"Non\")","v":"Non"},{"$f":"IF(A191=\"\",\"\",IF(OFFSET('Demandeurs de chaleur'!$C$7,7,A191,1,1)=\"Oui\",0.97,1))","v":1},{"$f":"IF(A191=\"\",\"\",OFFSET('Demandeurs de chaleur'!$C$7,10,A191,1,1))","v":0}]
[184,"Demandeur de chaleur 185",{"$f":"IF(A192=\"\",\"\",OFFSET('Demandeurs de chaleur'!$C$7,2,A192,1,1))","v":0},{"$f":"IF(A192=\"\",\"\",OFFSET('Demandeurs de chaleur'!$C$7,30,A192,1,1))","v":0},{"$f":"IF(A192=\"\",\"\",OFFSET('Demandeurs de chaleur'!$C$7,5,A192,1,1))","v":0},{"$f":"IF(A192=\"\",\"\",OFFSET('Demandeurs de chaleur'!$C$7,6,A192,1,1))","v":0},{"$f":"IF(OR(F192='Listes de sélection'!$A$65,F192='Listes de sélection'!$A$66),(IF(A192=\"\",\"\",OFFSET('Demandeurs de chaleur'!$C$7,8,A192,1,1))),\"Non\")","v":"Non"},{"$f":"IF(OR(F192='Listes de sélection'!$A$65,F192='Listes de sélection'!$A$66),(IF(A192=\"\",\"\",OFFSET('Demandeurs de chaleur'!$C$7,9,A192,1,1))),\"Non\")","v":"Non"},{"$f":"IF(OR(F192='Listes de sélection'!$A$66),(IF(A192=\"\",\"\",OFFSET('Demandeurs de chaleur'!$C$7,10,A192,1,1))),\"Non\")","v":"Non"},{"$f":"IF(OR(F192='Listes de sélection'!$A$66),(IF(A192=\"\",\"\",OFFSET('Demandeurs de chaleur'!$C$7,11,A192,1,1))),\"Non\")","v":"Non"},{"$f":"IF(A192=\"\",\"\",IF(OFFSET('Demandeurs de chaleur'!$C$7,7,A192,1,1)=\"Oui\",0.97,1))","v":1},{"$f":"IF(A192=\"\",\"\",OFFSET('Demandeurs de chaleur'!$C$7,10,A192,1,1))","v":0}]
[185,"Demandeur de chaleur 186",{"$f":"IF(A193=\"\",\"\",OFFSET('Demandeurs de chaleur'!$C$7,2,A193,1,1))","v":0},{"$f":"IF(A193=\"\",\"\",OFFSET('Demandeurs de chaleur'!$C$7,30,A193,1,1))","v":0},{"$f":"IF(A193=\"\",\"\",OFFSET('Demandeurs de chaleur'!$C$7,5,A193,1,1))","v":0},{"$f":"IF(A193=\"\",\"\",OFFSET('Demandeurs de chaleur'!$C$7,6,A193,1,1))","v":0},{"$f":"IF(OR(F193='Listes de sélection'!$A$65,F193='Listes de sélection'!$A$66),(IF(A193=\"\",\"\",OFFSET('Demandeurs de chaleur'!$C$7,8,A193,1,1))),\"Non\")","v":"Non"},{"$f":"IF(OR(F193='Listes de sélection'!$A$65,F193='Listes de sélection'!$A$66),(IF(A193=\"\",\"\",OFFSET('Demandeurs de chaleur'!$C$7,9,A193,1,1))),\"Non\")","v":"Non"},{"$f":"IF(OR(F193='Listes de sélection'!$A$66),(IF(A193=\"\",\"\",OFFSET('Demandeurs de chaleur'!$C$7,10,A193,1,1))),\"Non\")","v":"Non"},{"$f":"IF(OR(F193='Listes de sélection'!$A$66),(IF(A193=\"\",\"\",OFFSET('Demandeurs de chaleur'!$C$7,11,A193,1,1))),\"Non\")","v":"Non"},{"$f":"IF(A193=\"\",\"\",IF(OFFSET('Demandeurs de chaleur'!$C$7,7,A193,1,1)=\"Oui\",0.97,1))","v":1},{"$f":"IF(A193=\"\",\"\",OFFSET('Demandeurs de chaleur'!$C$7,10,A193,1,1))","v":0}]
[186,"Demandeur de chaleur 187",{"$f":"IF(A194=\"\",\"\",OFFSET('Demandeurs de chaleur'!$C$7,2,A194,1,1))","v":0},{"$f":"IF(A194=\"\",\"\",OFFSET('Demandeurs de chaleur'!$C$7,30,A194,1,1))","v":0},{"$f":"IF(A194=\"\",\"\",OFFSET('Demandeurs de chaleur'!$C$7,5,A194,1,1))","v":0},{"$f":"IF(A194=\"\",\"\",OFFSET('Demandeurs de chaleur'!$C$7,6,A194,1,1))","v":0},{"$f":"IF(OR(F194='Listes de sélection'!$A$65,F194='Listes de sélection'!$A$66),(IF(A194=\"\",\"\",OFFSET('Demandeurs de chaleur'!$C$7,8,A194,1,1))),\"Non\")","v":"Non"},{"$f":"IF(OR(F194='Listes de sélection'!$A$65,F194='Listes de sélection'!$A$66),(IF(A194=\"\",\"\",OFFSET('Demandeurs de chaleur'!$C$7,9,A194,1,1))),\"Non\")","v":"Non"},{"$f":"IF(OR(F194='Listes de sélection'!$A$66),(IF(A194=\"\",\"\",OFFSET('Demandeurs de chaleur'!$C$7,10,A194,1,1))),\"Non\")","v":"Non"},{"$f":"IF(OR(F194='Listes de sélection'!$A$66),(IF(A194=\"\",\"\",OFFSET('Demandeurs de chaleur'!$C$7,11,A194,1,1))),\"Non\")","v":"Non"},{"$f":"IF(A194=\"\",\"\",IF(OFFSET('Demandeurs de chaleur'!$C$7,7,A194,1,1)=\"Oui\",0.97,1))","v":1},{"$f":"IF(A194=\"\",\"\",OFFSET('Demandeurs de chaleur'!$C$7,10,A194,1,1))","v":0}]
[187,"Demandeur de chaleur 188",{"$f":"IF(A195=\"\",\"\",OFFSET('Demandeurs de chaleur'!$C$7,2,A195,1,1))","v":0},{"$f":"IF(A195=\"\",\"\",OFFSET('Demandeurs de chaleur'!$C$7,30,A195,1,1))","v":0},{"$f":"IF(A195=\"\",\"\",OFFSET('Demandeurs de chaleur'!$C$7,5,A195,1,1))","v":0},{"$f":"IF(A195=\"\",\"\",OFFSET('Demandeurs de chaleur'!$C$7,6,A195,1,1))","v":0},{"$f":"IF(OR(F195='Listes de sélection'!$A$65,F195='Listes de sélection'!$A$66),(IF(A195=\"\",\"\",OFFSET('Demandeurs de chaleur'!$C$7,8,A195,1,1))),\"Non\")","v":"Non"},{"$f":"IF(OR(F195='Listes de sélection'!$A$65,F195='Listes de sélection'!$A$66),(IF(A195=\"\",\"\",OFFSET('Demandeurs de chaleur'!$C$7,9,A195,1,1))),\"Non\")","v":"Non"},{"$f":"IF(OR(F195='Listes de sélection'!$A$66),(IF(A195=\"\",\"\",OFFSET('Demandeurs de chaleur'!$C$7,10,A195,1,1))),\"Non\")","v":"Non"},{"$f":"IF(OR(F195='Listes de sélection'!$A$66),(IF(A195=\"\",\"\",OFFSET('Demandeurs de chaleur'!$C$7,11,A195,1,1))),\"Non\")","v":"Non"},{"$f":"IF(A195=\"\",\"\",IF(OFFSET('Demandeurs de chaleur'!$C$7,7,A195,1,1)=\"Oui\",0.97,1))","v":1},{"$f":"IF(A195=\"\",\"\",OFFSET('Demandeurs de chaleur'!$C$7,10,A195,1,1))","v":0}]
[188,"Demandeur de chaleur 189",{"$f":"IF(A196=\"\",\"\",OFFSET('Demandeurs de chaleur'!$C$7,2,A196,1,1))","v":0},{"$f":"IF(A196=\"\",\"\",OFFSET('Demandeurs de chaleur'!$C$7,30,A196,1,1))","v":0},{"$f":"IF(A196=\"\",\"\",OFFSET('Demandeurs de chaleur'!$C$7,5,A196,1,1))","v":0},{"$f":"IF(A196=\"\",\"\",OFFSET('Demandeurs de chaleur'!$C$7,6,A196,1,1))","v":0},{"$f":"IF(OR(F196='Listes de sélection'!$A$65,F196='Listes de sélection'!$A$66),(IF(A196=\"\",\"\",OFFSET('Demandeurs de chaleur'!$C$7,8,A196,1,1))),\"Non\")","v":"Non"},{"$f":"IF(OR(F196='Listes de sélection'!$A$65,F196='Listes de sélection'!$A$66),(IF(A196=\"\",\"\",OFFSET('Demandeurs de chaleur'!$C$7,9,A196,1,1))),\"Non\")","v":"Non"},{"$f":"IF(OR(F196='Listes de sélection'!$A$66),(IF(A196=\"\",\"\",OFFSET('Demandeurs de chaleur'!$C$7,10,A196,1,1))),\"Non\")","v":"Non"},{"$f":"IF(OR(F196='Listes de sélection'!$A$66),(IF(A196=\"\",\"\",OFFSET('Demandeurs de chaleur'!$C$7,11,A196,1,1))),\"Non\")","v":"Non"},{"$f":"IF(A196=\"\",\"\",IF(OFFSET('Demandeurs de chaleur'!$C$7,7,A196,1,1)=\"Oui\",0.97,1))","v":1},{"$f":"IF(A196=\"\",\"\",OFFSET('Demandeurs de chaleur'!$C$7,10,A196,1,1))","v":0}]
[189,"Demandeur de chaleur 190",{"$f":"IF(A197=\"\",\"\",OFFSET('Demandeurs de chaleur'!$C$7,2,A197,1,1))","v":0},{"$f":"IF(A197=\"\",\"\",OFFSET('Demandeurs de chaleur'!$C$7,30,A197,1,1))","v":0},{"$f":"IF(A197=\"\",\"\",OFFSET('Demandeurs de chaleur'!$C$7,5,A197,1,1))","v":0},{"$f":"IF(A197=\"\",\"\",OFFSET('Demandeurs de chaleur'!$C$7,6,A197,1,1))","v":0},{"$f":"IF(OR(F197='Listes de sélection'!$A$65,F197='Listes de sélection'!$A$66),(IF(A197=\"\",\"\",OFFSET('Demandeurs de chaleur'!$C$7,8,A197,1,1))),\"Non\")","v":"Non"},{"$f":"IF(OR(F197='Listes de sélection'!$A$65,F197='Listes de sélection'!$A$66),(IF(A197=\"\",\"\",OFFSET('Demandeurs de chaleur'!$C$7,9,A197,1,1))),\"Non\")","v":"Non"},{"$f":"IF(OR(F197='Listes de sélection'!$A$66),(IF(A197=\"\",\"\",OFFSET('Demandeurs de chaleur'!$C$7,10,A197,1,1))),\"Non\")","v":"Non"},{"$f":"IF(OR(F197='Listes de sélection'!$A$66),(IF(A197=\"\",\"\",OFFSET('Demandeurs de chaleur'!$C$7,11,A197,1,1))),\"Non\")","v":"Non"},{"$f":"IF(A197=\"\",\"\",IF(OFFSET('Demandeurs de chaleur'!$C$7,7,A197,1,1)=\"Oui\",0.97,1))","v":1},{"$f":"IF(A197=\"\",\"\",OFFSET('Demandeurs de chaleur'!$C$7,10,A197,1,1))","v":0}]
[190,"Demandeur de chaleur 191",{"$f":"IF(A198=\"\",\"\",OFFSET('Demandeurs de chaleur'!$C$7,2,A198,1,1))","v":0},{"$f":"IF(A198=\"\",\"\",OFFSET('Demandeurs de chaleur'!$C$7,30,A198,1,1))","v":0},{"$f":"IF(A198=\"\",\"\",OFFSET('Demandeurs de chaleur'!$C$7,5,A198,1,1))","v":0},{"$f":"IF(A198=\"\",\"\",OFFSET('Demandeurs de chaleur'!$C$7,6,A198,1,1))","v":0},{"$f":"IF(OR(F198='Listes de sélection'!$A$65,F198='Listes de sélection'!$A$66),(IF(A198=\"\",\"\",OFFSET('Demandeurs de chaleur'!$C$7,8,A198,1,1))),\"Non\")","v":"Non"},{"$f":"IF(OR(F198='Listes de sélection'!$A$65,F198='Listes de sélection'!$A$66),(IF(A198=\"\",\"\",OFFSET('Demandeurs de chaleur'!$C$7,9,A198,1,1))),\"Non\")","v":"Non"},{"$f":"IF(OR(F198='Listes de sélection'!$A$66),(IF(A198=\"\",\"\",OFFSET('Demandeurs de chaleur'!$C$7,10,A198,1,1))),\"Non\")","v":"Non"},{"$f":"IF(OR(F198='Listes de sélection'!$A$66),(IF(A198=\"\",\"\",OFFSET('Demandeurs de chaleur'!$C$7,11,A198,1,1))),\"Non\")","v":"Non"},{"$f":"IF(A198=\"\",\"\",IF(OFFSET('Demandeurs de chaleur'!$C$7,7,A198,1,1)=\"Oui\",0.97,1))","v":1},{"$f":"IF(A198=\"\",\"\",OFFSET('Demandeurs de chaleur'!$C$7,10,A198,1,1))","v":0}]
[191,"Demandeur de chaleur 192",{"$f":"IF(A199=\"\",\"\",OFFSET('Demandeurs de chaleur'!$C$7,2,A199,1,1))","v":0},{"$f":"IF(A199=\"\",\"\",OFFSET('Demandeurs de chaleur'!$C$7,30,A199,1,1))","v":0},{"$f":"IF(A199=\"\",\"\",OFFSET('Demandeurs de chaleur'!$C$7,5,A199,1,1))","v":0},{"$f":"IF(A199=\"\",\"\",OFFSET('Demandeurs de chaleur'!$C$7,6,A199,1,1))","v":0},{"$f":"IF(OR(F199='Listes de sélection'!$A$65,F199='Listes de sélection'!$A$66),(IF(A199=\"\",\"\",OFFSET('Demandeurs de chaleur'!$C$7,8,A199,1,1))),\"Non\")","v":"Non"},{"$f":"IF(OR(F199='Listes de sélection'!$A$65,F199='Listes de sélection'!$A$66),(IF(A199=\"\",\"\",OFFSET('Demandeurs de chaleur'!$C$7,9,A199,1,1))),\"Non\")","v":"Non"},{"$f":"IF(OR(F199='Listes de sélection'!$A$66),(IF(A199=\"\",\"\",OFFSET('Demandeurs de chaleur'!$C$7,10,A199,1,1))),\"Non\")","v":"Non"},{"$f":"IF(OR(F199='Listes de sélection'!$A$66),(IF(A199=\"\",\"\",OFFSET('Demandeurs de chaleur'!$C$7,11,A199,1,1))),\"Non\")","v":"Non"},{"$f":"IF(A199=\"\",\"\",IF(OFFSET('Demandeurs de chaleur'!$C$7,7,A199,1,1)=\"Oui\",0.97,1))","v":1},{"$f":"IF(A199=\"\",\"\",OFFSET('Demandeurs de chaleur'!$C$7,10,A199,1,1))","v":0}]
[192,{"$f":"\"Demandeur de chaleur \"&A200+1","v":"Demandeur de chaleur 193"},{"$f":"IF(A200=\"\",\"\",OFFSET('Demandeurs de chaleur'!$C$7,2,A200,1,1))","v":0},{"$f":"IF(A200=\"\",\"\",OFFSET('Demandeurs de chaleur'!$C$7,30,A200,1,1))","v":0},{"$f":"IF(A200=\"\",\"\",OFFSET('Demandeurs de chaleur'!$C$7,5,A200,1,1))","v":0},{"$f":"IF(A200=\"\",\"\",OFFSET('Demandeurs de chaleur'!$C$7,6,A200,1,1))","v":0},{"$f":"IF(OR(F200='Listes de sélection'!$A$65,F200='Listes de sélection'!$A$66),(IF(A200=\"\",\"\",OFFSET('Demandeurs de chaleur'!$C$7,8,A200,1,1))),\"Non\")","v":"Non"},{"$f":"IF(OR(F200='Listes de sélection'!$A$65,F200='Listes de sélection'!$A$66),(IF(A200=\"\",\"\",OFFSET('Demandeurs de chaleur'!$C$7,9,A200,1,1))),\"Non\")","v":"Non"},{"$f":"IF(OR(F200='Listes de sélection'!$A$66),(IF(A200=\"\",\"\",OFFSET('Demandeurs de chaleur'!$C$7,10,A200,1,1))),\"Non\")","v":"Non"},{"$f":"IF(OR(F200='Listes de sélection'!$A$66),(IF(A200=\"\",\"\",OFFSET('Demandeurs de chaleur'!$C$7,11,A200,1,1))),\"Non\")","v":"Non"},{"$f":"IF(A200=\"\",\"\",IF(OFFSET('Demandeurs de chaleur'!$C$7,7,A200,1,1)=\"Oui\",0.97,1))","v":1},{"$f":"IF(A200=\"\",\"\",OFFSET('Demandeurs de chaleur'!$C$7,10,A200,1,1))","v":0}]
[193,"Demandeur de chaleur 194",{"$f":"IF(A201=\"\",\"\",OFFSET('Demandeurs de chaleur'!$C$7,2,A201,1,1))","v":0},{"$f":"IF(A201=\"\",\"\",OFFSET('Demandeurs de chaleur'!$C$7,30,A201,1,1))","v":0},{"$f":"IF(A201=\"\",\"\",OFFSET('Demandeurs de chaleur'!$C$7,5,A201,1,1))","v":0},{"$f":"IF(A201=\"\",\"\",OFFSET('Demandeurs de chaleur'!$C$7,6,A201,1,1))","v":0},{"$f":"IF(OR(F201='Listes de sélection'!$A$65,F201='Listes de sélection'!$A$66),(IF(A201=\"\",\"\",OFFSET('Demandeurs de chaleur'!$C$7,8,A201,1,1))),\"Non\")","v":"Non"},{"$f":"IF(OR(F201='Listes de sélection'!$A$65,F201='Listes de sélection'!$A$66),(IF(A201=\"\",\"\",OFFSET('Demandeurs de chaleur'!$C$7,9,A201,1,1))),\"Non\")","v":"Non"},{"$f":"IF(OR(F201='Listes de sélection'!$A$66),(IF(A201=\"\",\"\",OFFSET('Demandeurs de chaleur'!$C$7,10,A201,1,1))),\"Non\")","v":"Non"},{"$f":"IF(OR(F201='Listes de sélection'!$A$66),(IF(A201=\"\",\"\",OFFSET('Demandeurs de chaleur'!$C$7,11,A201,1,1))),\"Non\")","v":"Non"},{"$f":"IF(A201=\"\",\"\",IF(OFFSET('Demandeurs de chaleur'!$C$7,7,A201,1,1)=\"Oui\",0.97,1))","v":1},{"$f":"IF(A201=\"\",\"\",OFFSET('Demandeurs de chaleur'!$C$7,10,A201,1,1))","v":0}]
[194,"Demandeur de chaleur 195",{"$f":"IF(A202=\"\",\"\",OFFSET('Demandeurs de chaleur'!$C$7,2,A202,1,1))","v":0},{"$f":"IF(A202=\"\",\"\",OFFSET('Demandeurs de chaleur'!$C$7,30,A202,1,1))","v":0},{"$f":"IF(A202=\"\",\"\",OFFSET('Demandeurs de chaleur'!$C$7,5,A202,1,1))","v":0},{"$f":"IF(A202=\"\",\"\",OFFSET('Demandeurs de chaleur'!$C$7,6,A202,1,1))","v":0},{"$f":"IF(OR(F202='Listes de sélection'!$A$65,F202='Listes de sélection'!$A$66),(IF(A202=\"\",\"\",OFFSET('Demandeurs de chaleur'!$C$7,8,A202,1,1))),\"Non\")","v":"Non"},{"$f":"IF(OR(F202='Listes de sélection'!$A$65,F202='Listes de sélection'!$A$66),(IF(A202=\"\",\"\",OFFSET('Demandeurs de chaleur'!$C$7,9,A202,1,1))),\"Non\")","v":"Non"},{"$f":"IF(OR(F202='Listes de sélection'!$A$66),(IF(A202=\"\",\"\",OFFSET('Demandeurs de chaleur'!$C$7,10,A202,1,1))),\"Non\")","v":"Non"},{"$f":"IF(OR(F202='Listes de sélection'!$A$66),(IF(A202=\"\",\"\",OFFSET('Demandeurs de chaleur'!$C$7,11,A202,1,1))),\"Non\")","v":"Non"},{"$f":"IF(A202=\"\",\"\",IF(OFFSET('Demandeurs de chaleur'!$C$7,7,A202,1,1)=\"Oui\",0.97,1))","v":1},{"$f":"IF(A202=\"\",\"\",OFFSET('Demandeurs de chaleur'!$C$7,10,A202,1,1))","v":0}]
[{"$f":"A202+1","v":195},"Demandeur de chaleur 196",{"$f":"IF(A203=\"\",\"\",OFFSET('Demandeurs de chaleur'!$C$7,2,A203,1,1))","v":0},{"$f":"IF(A203=\"\",\"\",OFFSET('Demandeurs de chaleur'!$C$7,30,A203,1,1))","v":0},{"$f":"IF(A203=\"\",\"\",OFFSET('Demandeurs de chaleur'!$C$7,5,A203,1,1))","v":0},{"$f":"IF(A203=\"\",\"\",OFFSET('Demandeurs de chaleur'!$C$7,6,A203,1,1))","v":0},{"$f":"IF(OR(F203='Listes de sélection'!$A$65,F203='Listes de sélection'!$A$66),(IF(A203=\"\",\"\",OFFSET('Demandeurs de chaleur'!$C$7,8,A203,1,1))),\"Non\")","v":"Non"},{"$f":"IF(OR(F203='Listes de sélection'!$A$65,F203='Listes de sélection'!$A$66),(IF(A203=\"\",\"\",OFFSET('Demandeurs de chaleur'!$C$7,9,A203,1,1))),\"Non\")","v":"Non"},{"$f":"IF(OR(F203='Listes de sélection'!$A$66),(IF(A203=\"\",\"\",OFFSET('Demandeurs de chaleur'!$C$7,10,A203,1,1))),\"Non\")","v":"Non"},{"$f":"IF(OR(F203='Listes de sélection'!$A$66),(IF(A203=\"\",\"\",OFFSET('Demandeurs de chaleur'!$C$7,11,A203,1,1))),\"Non\")","v":"Non"},{"$f":"IF(A203=\"\",\"\",IF(OFFSET('Demandeurs de chaleur'!$C$7,7,A203,1,1)=\"Oui\",0.97,1))","v":1},{"$f":"IF(A203=\"\",\"\",OFFSET('Demandeurs de chaleur'!$C$7,10,A203,1,1))","v":0}]
[196,"Demandeur de chaleur 197",{"$f":"IF(A204=\"\",\"\",OFFSET('Demandeurs de chaleur'!$C$7,2,A204,1,1))","v":0},{"$f":"IF(A204=\"\",\"\",OFFSET('Demandeurs de chaleur'!$C$7,30,A204,1,1))","v":0},{"$f":"IF(A204=\"\",\"\",OFFSET('Demandeurs de chaleur'!$C$7,5,A204,1,1))","v":0},{"$f":"IF(A204=\"\",\"\",OFFSET('Demandeurs de chaleur'!$C$7,6,A204,1,1))","v":0},{"$f":"IF(OR(F204='Listes de sélection'!$A$65,F204='Listes de sélection'!$A$66),(IF(A204=\"\",\"\",OFFSET('Demandeurs de chaleur'!$C$7,8,A204,1,1))),\"Non\")","v":"Non"},{"$f":"IF(OR(F204='Listes de sélection'!$A$65,F204='Listes de sélection'!$A$66),(IF(A204=\"\",\"\",OFFSET('Demandeurs de chaleur'!$C$7,9,A204,1,1))),\"Non\")","v":"Non"},{"$f":"IF(OR(F204='Listes de sélection'!$A$66),(IF(A204=\"\",\"\",OFFSET('Demandeurs de chaleur'!$C$7,10,A204,1,1))),\"Non\")","v":"Non"},{"$f":"IF(OR(F204='Listes de sélection'!$A$66),(IF(A204=\"\",\"\",OFFSET('Demandeurs de chaleur'!$C$7,11,A204,1,1))),\"Non\")","v":"Non"},{"$f":"IF(A204=\"\",\"\",IF(OFFSET('Demandeurs de chaleur'!$C$7,7,A204,1,1)=\"Oui\",0.97,1))","v":1},{"$f":"IF(A204=\"\",\"\",OFFSET('Demandeurs de chaleur'!$C$7,10,A204,1,1))","v":0}]
[197,"Demandeur de chaleur 198",{"$f":"IF(A205=\"\",\"\",OFFSET('Demandeurs de chaleur'!$C$7,2,A205,1,1))","v":0},{"$f":"IF(A205=\"\",\"\",OFFSET('Demandeurs de chaleur'!$C$7,30,A205,1,1))","v":0},{"$f":"IF(A205=\"\",\"\",OFFSET('Demandeurs de chaleur'!$C$7,5,A205,1,1))","v":0},{"$f":"IF(A205=\"\",\"\",OFFSET('Demandeurs de chaleur'!$C$7,6,A205,1,1))","v":0},{"$f":"IF(OR(F205='Listes de sélection'!$A$65,F205='Listes de sélection'!$A$66),(IF(A205=\"\",\"\",OFFSET('Demandeurs de chaleur'!$C$7,8,A205,1,1))),\"Non\")","v":"Non"},{"$f":"IF(OR(F205='Listes de sélection'!$A$65,F205='Listes de sélection'!$A$66),(IF(A205=\"\",\"\",OFFSET('Demandeurs de chaleur'!$C$7,9,A205,1,1))),\"Non\")","v":"Non"},{"$f":"IF(OR(F205='Listes de sélection'!$A$66),(IF(A205=\"\",\"\",OFFSET('Demandeurs de chaleur'!$C$7,10,A205,1,1))),\"Non\")","v":"Non"},{"$f":"IF(OR(F205='Listes de sélection'!$A$66),(IF(A205=\"\",\"\",OFFSET('Demandeurs de chaleur'!$C$7,11,A205,1,1))),\"Non\")","v":"Non"},{"$f":"IF(A205=\"\",\"\",IF(OFFSET('Demandeurs de chaleur'!$C$7,7,A205,1,1)=\"Oui\",0.97,1))","v":1},{"$f":"IF(A205=\"\",\"\",OFFSET('Demandeurs de chaleur'!$C$7,10,A205,1,1))","v":0}]
[198,"Demandeur de chaleur 199",{"$f":"IF(A206=\"\",\"\",OFFSET('Demandeurs de chaleur'!$C$7,2,A206,1,1))","v":0},{"$f":"IF(A206=\"\",\"\",OFFSET('Demandeurs de chaleur'!$C$7,30,A206,1,1))","v":0},{"$f":"IF(A206=\"\",\"\",OFFSET('Demandeurs de chaleur'!$C$7,5,A206,1,1))","v":0},{"$f":"IF(A206=\"\",\"\",OFFSET('Demandeurs de chaleur'!$C$7,6,A206,1,1))","v":0},{"$f":"IF(OR(F206='Listes de sélection'!$A$65,F206='Listes de sélection'!$A$66),(IF(A206=\"\",\"\",OFFSET('Demandeurs de chaleur'!$C$7,8,A206,1,1))),\"Non\")","v":"Non"},{"$f":"IF(OR(F206='Listes de sélection'!$A$65,F206='Listes de sélection'!$A$66),(IF(A206=\"\",\"\",OFFSET('Demandeurs de chaleur'!$C$7,9,A206,1,1))),\"Non\")","v":"Non"},{"$f":"IF(OR(F206='Listes de sélection'!$A$66),(IF(A206=\"\",\"\",OFFSET('Demandeurs de chaleur'!$C$7,10,A206,1,1))),\"Non\")","v":"Non"},{"$f":"IF(OR(F206='Listes de sélection'!$A$66),(IF(A206=\"\",\"\",OFFSET('Demandeurs de chaleur'!$C$7,11,A206,1,1))),\"Non\")","v":"Non"},{"$f":"IF(A206=\"\",\"\",IF(OFFSET('Demandeurs de chaleur'!$C$7,7,A206,1,1)=\"Oui\",0.97,1))","v":1},{"$f":"IF(A206=\"\",\"\",OFFSET('Demandeurs de chaleur'!$C$7,10,A206,1,1))","v":0}]
[199,"Demandeur de chaleur 200",{"$f":"IF(A207=\"\",\"\",OFFSET('Demandeurs de chaleur'!$C$7,2,A207,1,1))","v":0},{"$f":"IF(A207=\"\",\"\",OFFSET('Demandeurs de chaleur'!$C$7,30,A207,1,1))","v":0},{"$f":"IF(A207=\"\",\"\",OFFSET('Demandeurs de chaleur'!$C$7,5,A207,1,1))","v":0},{"$f":"IF(A207=\"\",\"\",OFFSET('Demandeurs de chaleur'!$C$7,6,A207,1,1))","v":0},{"$f":"IF(OR(F207='Listes de sélection'!$A$65,F207='Listes de sélection'!$A$66),(IF(A207=\"\",\"\",OFFSET('Demandeurs de chaleur'!$C$7,8,A207,1,1))),\"Non\")","v":"Non"},{"$f":"IF(OR(F207='Listes de sélection'!$A$65,F207='Listes de sélection'!$A$66),(IF(A207=\"\",\"\",OFFSET('Demandeurs de chaleur'!$C$7,9,A207,1,1))),\"Non\")","v":"Non"},{"$f":"IF(OR(F207='Listes de sélection'!$A$66),(IF(A207=\"\",\"\",OFFSET('Demandeurs de chaleur'!$C$7,10,A207,1,1))),\"Non\")","v":"Non"},{"$f":"IF(OR(F207='Listes de sélection'!$A$66),(IF(A207=\"\",\"\",OFFSET('Demandeurs de chaleur'!$C$7,11,A207,1,1))),\"Non\")","v":"Non"},{"$f":"IF(A207=\"\",\"\",IF(OFFSET('Demandeurs de chaleur'!$C$7,7,A207,1,1)=\"Oui\",0.97,1))","v":1},{"$f":"IF(A207=\"\",\"\",OFFSET('Demandeurs de chaleur'!$C$7,10,A207,1,1))","v":0}]

{"sheet":"Qlossdist,dh","index":13,"n_rows":57,"n_cols":3,"rows_kept":57,"cut":false,"hidden":true,"merged":[[1,1,1,2],[2,1,2,2],[4,1,4,2],[5,1,5,2]]}
[null,"Déperditions de chaleur linéaires"]
[]
[null,"1. Quantité de chaleur perdue annuellement dans le système de fourniture de chaleur, en raison des déperditions de chaleur linéaires"]
[null,"Qlossdist,dh [MJ]",{"$f":"'Déperditions linéaires'!B4","v":0}]
[]
["Masquer","2. Déperditions de chaleur mensuelles du segment de conduite j"]
[null,"Nom","Qdistr,heat,netw,n,a [MJ]"]
[0,{"$f":"\"Segment \"&A8+1","v":"Segment 1"},{"$f":"OFFSET('Déperditions linéaires'!$C$25,0,'Qlossdist,dh'!A8,1,1)","v":0}]
[{"$f":"A8+1","v":1},"Segment 2",{"$f":"OFFSET('Déperditions linéaires'!$C$25,0,'Qlossdist,dh'!A9,1,1)","v":0}]
[2,"Segment 3",{"$f":"OFFSET('Déperditions linéaires'!$C$25,0,'Qlossdist,dh'!A10,1,1)","v":0}]
[3,"Segment 4",{"$f":"OFFSET('Déperditions linéaires'!$C$25,0,'Qlossdist,dh'!A11,1,1)","v":0}]
[4,"Segment 5",{"$f":"OFFSET('Déperditions linéaires'!$C$25,0,'Qlossdist,dh'!A12,1,1)","v":0}]
[5,"Segment 6",{"$f":"OFFSET('Déperditions linéaires'!$C$25,0,'Qlossdist,dh'!A13,1,1)","v":0}]
[6,"Segment 7",{"$f":"OFFSET('Déperditions linéaires'!$C$25,0,'Qlossdist,dh'!A14,1,1)","v":0}]
[7,"Segment 8",{"$f":"OFFSET('Déperditions linéaires'!$C$25,0,'Qlossdist,dh'!A15,1,1)","v":0}]
[8,{"$f":"\"Segment \"&A16+1","v":"Segment 9"},{"$f":"OFFSET('Déperditions linéaires'!$C$25,0,'Qlossdist,dh'!A16,1,1)","v":0}]
[9,"Segment 10",{"$f":"OFFSET('Déperditions linéaires'!$C$25,0,'Qlossdist,dh'!A17,1,1)","v":0}]
[10,"Segment 11",{"$f":"OFFSET('Déperditions linéaires'!$C$25,0,'Qlossdist,dh'!A18,1,1)","v":0}]
[11,"Segment 12",{"$f":"OFFSET('Déperditions linéaires'!$C$25,0,'Qlossdist,dh'!A19,1,1)","v":0}]
[12,"Segment 13",{"$f":"OFFSET('Déperditions linéaires'!$C$25,0,'Qlossdist,dh'!A20,1,1)","v":0}]
[13,"Segment 14",{"$f":"OFFSET('Déperditions linéaires'!$C$25,0,'Qlossdist,dh'!A21,1,1)","v":0}]
[14,"Segment 15",{"$f":"OFFSET('Déperditions linéaires'!$C$25,0,'Qlossdist,dh'!A22,1,1)","v":0}]
[15,"Segment 16",{"$f":"OFFSET('Déperditions linéaires'!$C$25,0,'Qlossdist,dh'!A23,1,1)","v":0}]
[16,"Segment 17",{"$f":"OFFSET('Déperditions linéaires'!$C$25,0,'Qlossdist,dh'!A24,1,1)","v":0}]
[17,"Segment 18",{"$f":"OFFSET('Déperditions linéaires'!$C$25,0,'Qlossdist,dh'!A25,1,1)","v":0}]
[18,"Segment 19",{"$f":"OFFSET('Déperditions linéaires'!$C$25,0,'Qlossdist,dh'!A26,1,1)","v":0}]
[19,"Segment 20",{"$f":"OFFSET('Déperditions linéaires'!$C$25,0,'Qlossdist,dh'!A27,1,1)","v":0}]
[20,"Segment 21",{"$f":"OFFSET('Déperditions linéaires'!$C$25,0,'Qlossdist,dh'!A28,1,1)","v":0}]
[21,"Segment 22",{"$f":"OFFSET('Déperditions linéaires'!$C$25,0,'Qlossdist,dh'!A29,1,1)","v":0}]
[22,"Segment 23",{"$f":"OFFSET('Déperditions linéaires'!$C$25,0,'Qlossdist,dh'!A30,1,1)","v":0}]
[23,"Segment 24",{"$f":"OFFSET('Déperditions linéaires'!$C$25,0,'Qlossdist,dh'!A31,1,1)","v":0}]
[24,"Segment 25",{"$f":"OFFSET('Déperditions linéaires'!$C$25,0,'Qlossdist,dh'!A32,1,1)","v":0}]
[25,"Segment 26",{"$f":"OFFSET('Déperditions linéaires'!$C$25,0,'Qlossdist,dh'!A33,1,1)","v":0}]
[26,"Segment 27",{"$f":"OFFSET('Déperditions linéaires'!$C$25,0,'Qlossdist,dh'!A34,1,1)","v":0}]
[27,"Segment 28",{"$f":"OFFSET('Déperditions linéaires'!$C$25,0,'Qlossdist,dh'!A35,1,1)","v":0}]
[28,"Segment 29",{"$f":"OFFSET('Déperditions linéaires'!$C$25,0,'Qlossdist,dh'!A36,1,1)","v":0}]
[29,"Segment 30",{"$f":"OFFSET('Déperditions linéaires'!$C$25,0,'Qlossdist,dh'!A37,1,1)","v":0}]
[30,"Segment 31",{"$f":"OFFSET('Déperditions linéaires'!$C$25,0,'Qlossdist,dh'!A38,1,1)","v":0}]
[31,"Segment 32",{"$f":"OFFSET('Déperditions linéaires'!$C$25,0,'Qlossdist,dh'!A39,1,1)","v":0}]
[32,"Segment 33",{"$f":"OFFSET('Déperditions linéaires'!$C$25,0,'Qlossdist,dh'!A40,1,1)","v":0}]
[33,"Segment 34",{"$f":"OFFSET('Déperditions linéaires'!$C$25,0,'Qlossdist,dh'!A41,1,1)","v":0}]
[34,"Segment 35",{"$f":"OFFSET('Déperditions linéaires'!$C$25,0,'Qlossdist,dh'!A42,1,1)","v":0}]
[35,"Segment 36",{"$f":"OFFSET('Déperditions linéaires'!$C$25,0,'Qlossdist,dh'!A43,1,1)","v":0}]
[36,"Segment 37",{"$f":"OFFSET('Déperditions linéaires'!$C$25,0,'Qlossdist,dh'!A44,1,1)","v":0}]
[37,"Segment 38",{"$f":"OFFSET('Déperditions linéaires'!$C$25,0,'Qlossdist,dh'!A45,1,1)","v":0}]
[38,"Segment 39",{"$f":"OFFSET('Déperditions linéaires'!$C$25,0,'Qlossdist,dh'!A46,1,1)","v":0}]
[39,"Segment 40",{"$f":"OFFSET('Déperditions linéaires'!$C$25,0,'Qlossdist,dh'!A47,1,1)","v":0}]
[40,"Segment 41",{"$f":"OFFSET('Déperditions linéaires'!$C$25,0,'Qlossdist,dh'!A48,1,1)","v":0}]
[41,"Segment 42",{"$f":"OFFSET('Déperditions linéaires'!$C$25,0,'Qlossdist,dh'!A49,1,1)","v":0}]
[42,"Segment 43",{"$f":"OFFSET('Déperditions linéaires'!$C$25,0,'Qlossdist,dh'!A50,1,1)","v":0}]
[43,"Segment 44",{"$f":"OFFSET('Déperditions linéaires'!$C$25,0,'Qlossdist,dh'!A51,1,1)","v":0}]
[44,"Segment 45",{"$f":"OFFSET('Déperditions linéaires'!$C$25,0,'Qlossdist,dh'!A52,1,1)","v":0}]
[45,"Segment 46",{"$f":"OFFSET('Déperditions linéaires'!$C$25,0,'Qlossdist,dh'!A53,1,1)","v":0}]
[46,"Segment 47",{"$f":"OFFSET('Déperditions linéaires'!$C$25,0,'Qlossdist,dh'!A54,1,1)","v":0}]
[47,"Segment 48",{"$f":"OFFSET('Déperditions linéaires'!$C$25,0,'Qlossdist,dh'!A55,1,1)","v":0}]
[48,"Segment 49",{"$f":"OFFSET('Déperditions linéaires'!$C$25,0,'Qlossdist,dh'!A56,1,1)","v":0}]
[49,"Segment 50",{"$f":"OFFSET('Déperditions linéaires'!$C$25,0,'Qlossdist,dh'!A57,1,1)","v":0}]